{"text_format":"1","workbook":"xlsx","n_sheets":10,"sheets":["Disclaimer","Control","Spectrum","Assessment","Stats","Search","Identify","Plots","Plot by keV","PeakList"],"not_rendered":{"charts":10,"images":0,"macros":1,"external_links":0,"defined_names":12,"comments":0,"pivot_tables":0},"unopened":[],"bounds":{"document_bytes":16777216,"sheet_cells":100000,"rows_first":2000,"rows_last":500,"rows_between":2000,"halvings":0,"cell_chars":16384,"cell_head_chars":4096},"cells_cut":0,"cells_raw":0,"read":"whole","date_system":"1900"}

{"sheet":"Disclaimer","index":0,"n_rows":8,"n_cols":2,"rows_kept":8,"cut":false,"hidden":false,"merged":[[6,1,6,8],[7,1,7,8]]}
[]
[null,"Disclaimer"]
[null,{"$f":"CELL(\"filename\",B2)","v":"C:\\&Temp Files\\SpecMaker 2025 Plus\\[SpecMaker 2025 Plus.xlsm]Disclaimer"}]
[null,"Spreadsheet prepared by Dr. Gordon Gilmore "]
[null,"01/08/2009 updated 7/1/2024"]
[]
[null,"These worksheets are provided in good faith for for the convenience of gamma spectrometrists and readers of Practical Gamma-Ray Spectrometry."]
[null," The author cannot be held responsible for any inconvenience or loss of any kind arising from the use of these spreadsheets or the conclusions drawn from them."]

{"sheet":"Control","index":1,"n_rows":58,"n_cols":20,"rows_kept":58,"cut":false,"hidden":false,"merged":[[31,2,31,3],[15,2,15,3],[5,6,5,9],[6,15,6,16],[30,2,30,3],[13,2,13,3],[16,2,16,4]]}
[]
[null,"SpecMaker - Create Test Spectrum"]
[null,{"$f":"CELL(\"filename\",B2)","v":"C:\\&Temp Files\\SpecMaker 2025 Plus\\[SpecMaker 2025 Plus.xlsm]Control"}]
[null,"Spreadsheet prepared by Dr. Gordon Gilmore"]
[]
[null,"Control Data",null,null,null,null,"Peak List",null,null,null,null,null,null,null,null,"Number of Peaks:",{"$f":"COUNT(H9:H58)","v":0},null,"RMS diff:",{"$f":"SQRT(SUMSQ(T9:T58)/Q6)","v":{"$error":"#DIV/0!"}}]
[null,"Spectrum Size:",{"$f":"VLOOKUP(D43,$C$45:$D$49,2)","v":8192},"channels",null,null,null,"Energy","Peak Area","Position","FWHM","Peak width",null,null,null,"Created"]
[null,"Maximum Energy:",{"$f":"IF(C21<>\"\",$C$20+C7*$C$21+$C$22*C7^2,\"\")","v":2428.4315118789673},"keV",null,null,null,"(keV)","(counts)","(Channel)","(keV)","(Channels)","sigma","ymax","2s^2","Centroid","Count","Midpt","halfwidth","Cent diffs"]
[null,"Background at Channel 2:",2000,"counts",null,null,1,null,null,{"$f":"IF(H9<>\"\",IF(H9>$C$8,\"OFF SCALE\",1/((-$C$21-SQRT($C$21^2-4*($C$20-H9)*$C$22))/(2*($C$20-H9)))),\"\")","v":""},{"$f":"IF(H9<>\"\",IF(H9<>511,($C$24*H9+$C$23+H9^2*$C$25),$C$50*$C$24*H9+$C$23+H9^2*$C$25),\"\")","v":""},{"$f":"IF(H9<>\"\",ROUND(2*K9*$C$27/$C$21/2.355,0),\"\")","v":""},{"$f":"K9/2.355/$C$21","v":{"$error":"#VALUE!"}},{"$f":"I9/(M9*SQRT(2*PI()))","v":{"$error":"#VALUE!"}},{"$f":"2*M9^2","v":{"$error":"#VALUE!"}},null,null,351,4,{"$f":"IF(P9<>\"\",P9-J9,\"\")","v":""}]
[null,{"$f":"CONCATENATE(\"Background at Channel \",C7,\":\")","v":"Background at Channel 8192:"},2000,"counts",null,null,{"$f":"1+G9","v":2},null,null,"","","",{"$f":"K10/2.355/$C$21","v":{"$error":"#VALUE!"}},{"$f":"I10/(M10*SQRT(2*PI()))","v":{"$error":"#VALUE!"}},{"$f":"2*M10^2","v":{"$error":"#VALUE!"}},null,null,469,4,{"$f":"IF(P10<>\"\",P10-J10,\"\")","v":""}]
[null,{"$f":"IF(C12<>3,\"Background Gradient:\", \"Decay Factor:\")","v":"Background Gradient:"},{"$f":"IF(C12<>3,(C10-C9)/(C7-2),-LN(C10/C9)/C7)","v":0},null,null,null,{"$f":"1+G10","v":3},null,null,"","","",{"$error":"#VALUE!"},{"$error":"#VALUE!"},{"$error":"#VALUE!"},null,null,621,4,{"$f":"IF(P11<>\"\",P11-J11,\"\")","v":""}]
[null,null,5,null,null,null,4,null,null,"","","",{"$error":"#VALUE!"},{"$error":"#VALUE!"},{"$error":"#VALUE!"},null,null,756,4,""]
[null,"OR      ",null,null,null,null,5,null,null,"","","",{"$error":"#VALUE!"},{"$error":"#VALUE!"},{"$error":"#VALUE!"},null,null,890,4,""]
[null,"Background Spectrum Filename:",null,null,".CHN",null,6,null,null,"","","",{"$error":"#VALUE!"},{"$error":"#VALUE!"},{"$error":"#VALUE!"},null,null,1059,4,""]
[null,null,{"$f":"IF(C14<>\"\",\"Mathematical Continuum Disabled\",\"\")","v":""},null,null,null,7,null,null,"","","",{"$error":"#VALUE!"},{"$error":"#VALUE!"},{"$error":"#VALUE!"},null,null,1177,5,""]
[null,"Working Folder:","c:\\&temp files",null,null,null,8,null,null,"","","",{"$error":"#VALUE!"},{"$error":"#VALUE!"},{"$error":"#VALUE!"},null,null,1295,5,""]
[null,null,null,null,null,null,9,null,null,"","","",{"$error":"#VALUE!"},{"$error":"#VALUE!"},{"$error":"#VALUE!"},null,null,1430,5,""]
[null,null,null,null,null,null,10,null,null,"","","",{"$error":"#VALUE!"},{"$error":"#VALUE!"},{"$error":"#VALUE!"},null,null,1548,5,""]
[null,"Calibration Data",null,null,null,null,11,null,null,{"$f":"IF(H19<>\"\",IF(H19>$C$8,\"OFF SCALE\",1/((-$C$21-SQRT($C$21^2-4*($C$20-H19)*$C$22))/(2*($C$20-H19)))),\"\")","v":""},{"$f":"IF(H19<>\"\",IF(H19<>511,($C$24*H19+$C$23+H19^2*$C$25),$C$50*$C$24*H19+$C$23+H19^2*$C$25),\"\")","v":""},{"$f":"IF(H19<>\"\",ROUND(2*K19*$C$27/$C$21/2.355,0),\"\")","v":""},{"$error":"#VALUE!"},{"$error":"#VALUE!"},{"$error":"#VALUE!"},null,null,1699,5,""]
[null,"Energy Intercept:",-4.0904712677001953,"keV",null,null,{"$f":"1+G19","v":12},null,null,{"$f":"IF(H20<>\"\",IF(H20>$C$8,\"OFF SCALE\",1/((-$C$21-SQRT($C$21^2-4*($C$20-H20)*$C$22))/(2*($C$20-H20)))),\"\")","v":""},"","",{"$error":"#VALUE!"},{"$error":"#VALUE!"},{"$error":"#VALUE!"},null,null,1834,5,""]
[null,"Energy scale:",0.29654699563980103,"keV/ch",null,null,13,null,null,"","","",{"$error":"#VALUE!"},{"$error":"#VALUE!"},{"$error":"#VALUE!"},null,null,1952,5,""]
[null,"Energy Quad Factor:",4.7817749759815342E-8,"keV/ch2 ",null,null,14,null,null,"","","",{"$error":"#VALUE!"},{"$error":"#VALUE!"},{"$error":"#VALUE!"},null,null,2104,5,""]
[null,"Width Intercept:",0.76357990503311157,"keV",null,null,15,null,null,"","","",{"$error":"#VALUE!"},{"$error":"#VALUE!"},{"$error":"#VALUE!"},null,null,2272,6,""]
[null,"Width scale:",9.1325311223044991E-4,"keV/ch",null,null,16,null,null,"","","",{"$error":"#VALUE!"},{"$error":"#VALUE!"},{"$error":"#VALUE!"},null,null,2373,6,""]
[null,"Width Quad Factor:",-9.4315595333682722E-8,"keV/ch2 ",null,null,17,null,null,"","","",{"$f":"K25/2.355/$C$21","v":{"$error":"#VALUE!"}},{"$f":"I25/(M25*SQRT(2*PI()))","v":{"$error":"#VALUE!"}},{"$f":"2*M25^2","v":{"$error":"#VALUE!"}},null,null,2508,6,""]
[null,"Peak Coverage:",0.995,null,null,null,18,null,null,"","","",{"$error":"#VALUE!"},{"$error":"#VALUE!"},{"$error":"#VALUE!"},null,null,2643,6,""]
[null,"Full-width:",{"$f":"NORMSINV((1+C26)/2)","v":2.8070337683438114},"Std. Unc.",null,null,19,null,null,"","","",{"$error":"#VALUE!"},{"$error":"#VALUE!"},{"$error":"#VALUE!"},null,null,2778,6,""]
[null,null,null,null,null,null,20,null,null,"","","",{"$error":"#VALUE!"},{"$error":"#VALUE!"},{"$error":"#VALUE!"},null,null,2946,6,""]
[null,"Spectrum Information",null,null,null,null,21,null,null,"","","",{"$error":"#VALUE!"},{"$error":"#VALUE!"},{"$error":"#VALUE!"},null,null,3047,6,""]
[null,"Live time of Count:",200000,"seconds",null,null,22,null,null,"","","",{"$error":"#VALUE!"},{"$error":"#VALUE!"},{"$error":"#VALUE!"},null,null,3182,6,""]
[null,"Output Spectrum Filename:",null,null,".CHN",null,23,null,null,"","","",{"$error":"#VALUE!"},{"$error":"#VALUE!"},{"$error":"#VALUE!"},null,null,3317,7,""]
[null,"Spectrum Description:",null,null,null,null,24,null,null,"","","",{"$error":"#VALUE!"},{"$error":"#VALUE!"},{"$error":"#VALUE!"},null,null,3451,7,""]
[null,null,null,null,null,null,25,null,null,"","","",{"$error":"#VALUE!"},{"$error":"#VALUE!"},{"$error":"#VALUE!"},null,null,3620,7,""]
[null,"For Interest",null,null,null,null,26,null,null,"","","",{"$error":"#VALUE!"},{"$error":"#VALUE!"},{"$error":"#VALUE!"},null,null,3721,7,""]
[null,null,"This Detector Resolution at 1332.5 keV:",{"$f":"C23+C24*1332.5+1332.5^2*C25","v":1.8130270323129949},"keV",null,27,null,null,"","","",{"$error":"#VALUE!"},{"$error":"#VALUE!"},{"$error":"#VALUE!"},null,null,3856,7,""]
[null,null,"Typical Resolution at 1332.5 keV:",1.8,"keV",null,28,null,null,"","","",{"$error":"#VALUE!"},{"$error":"#VALUE!"},{"$error":"#VALUE!"},null,null,3990,7,""]
[null,"Resolution at this keV:",511,{"$f":"IF(C37<>511,C23+C24*C37+C37^2*C25,C50*(C23+C24*C37+C37^2*C25))","v":2.4112489256274898},"keV",null,29,null,null,"","","",{"$error":"#VALUE!"},{"$error":"#VALUE!"},{"$error":"#VALUE!"},null,null,4125,7,""]
[null,null,{"$f":"CONCATENATE(\"Peak Width at  \",C37,\" keV:\")","v":"Peak Width at  511 keV:"},{"$f":"IF(C37<>\"\",ROUND(2*D37*$C$27/$C$21/2.355,0),\"\")","v":19},"ch",null,30,null,null,"","","",{"$error":"#VALUE!"},{"$error":"#VALUE!"},{"$error":"#VALUE!"},null,null,4260,7,""]
[null,null,{"$f":"CONCATENATE(\"Peak Position at \",C37, \" keV:\")","v":"Peak Position at 511 keV:"},{"$f":"IF(C37<>\"\",IF(C37>$C$8,\"OFF SCALE\",1/((-$C$21-SQRT($C$21^2-4*($C$20-C37)*$C$22))/(2*($C$20-C37)))),\"\")","v":1736.4744606947097},"ch",null,31,null,null,"","","",{"$error":"#VALUE!"},{"$error":"#VALUE!"},{"$error":"#VALUE!"},null,null,4394,7,""]
[null,null,{"$f":"CONCATENATE(\"Critical Limit at \",C37, \" keV:\")","v":"Critical Limit at 511 keV:"},{"$f":"IF(C37<>\"\",ROUND(1.645*SQRT(VLOOKUP((D39-D38),Spectrum!A2:B8191,2)*(1+D38/10)),0),\"\")","v":38},"cts",null,32,null,null,"","","",{"$error":"#VALUE!"},{"$error":"#VALUE!"},{"$error":"#VALUE!"},null,null,4529,8,""]
[null,null,null,null,null,null,33,null,null,"","","",{"$error":"#VALUE!"},{"$error":"#VALUE!"},{"$error":"#VALUE!"},null,null,4698,8,""]
[null,"Background Mode",null,"Spec Sizes",null,null,34,null,null,"","","",{"$error":"#VALUE!"},{"$error":"#VALUE!"},{"$error":"#VALUE!"},null,null,4799,8,""]
[null,null,null,8192,null,null,35,null,null,"","","",{"$error":"#VALUE!"},{"$error":"#VALUE!"},{"$error":"#VALUE!"},null,null,5001,8,""]
[null,null,null," ",null,null,36,null,null,"","","",{"$error":"#VALUE!"},{"$error":"#VALUE!"},{"$error":"#VALUE!"},null,null,5068,8,""]
[1,"Unscattered",1,512,null,null,37,null,null,"","","",{"$error":"#VALUE!"},{"$error":"#VALUE!"},{"$error":"#VALUE!"},null,null,5203,8,""]
[2,"Linear",2,1024,null,null,38,null,null,"","","",{"$error":"#VALUE!"},{"$error":"#VALUE!"},{"$error":"#VALUE!"},null,null,5337,8,""]
[3,"Exponential",3,2048,null,null,39,null,null,"","","",{"$error":"#VALUE!"},{"$error":"#VALUE!"},{"$error":"#VALUE!"},null,null,5489,8,""]
[4,"Linear Flat",4,4096,null,null,40,null,null,"","","",{"$error":"#VALUE!"},{"$error":"#VALUE!"},{"$error":"#VALUE!"},null,null,5606,8,""]
[5,"Spectrum",5,8192,null,null,41,null,null,"","","",{"$error":"#VALUE!"},{"$error":"#VALUE!"},{"$error":"#VALUE!"},null,null,5741,8,""]
[null,"511 width factor:",2,null,null,null,42,null,null,"","","",{"$error":"#VALUE!"},{"$error":"#VALUE!"},{"$error":"#VALUE!"},null,null,5876,9,""]
[null,null,null,null,null,null,43,null,null,"","","",{"$error":"#VALUE!"},{"$error":"#VALUE!"},{"$error":"#VALUE!"},null,null,6010,9,""]
[null,null,null,null,null,null,44,null,null,"","","",{"$error":"#VALUE!"},{"$error":"#VALUE!"},{"$error":"#VALUE!"},null,null,6145,9,""]
[null,null,null,null,null,null,45,null,null,"","","",{"$error":"#VALUE!"},{"$error":"#VALUE!"},{"$error":"#VALUE!"},null,null,6280,9,""]
[null,null,null,null,null,null,46,null,null,"","","",{"$error":"#VALUE!"},{"$error":"#VALUE!"},{"$error":"#VALUE!"},null,null,6414,9,""]
[null,null,null,null,null,null,47,null,null,"","","",{"$error":"#VALUE!"},{"$error":"#VALUE!"},{"$error":"#VALUE!"},null,null,6549,9,""]
[null,null,null,null,null,null,48,null,null,"","","",{"$error":"#VALUE!"},{"$error":"#VALUE!"},{"$error":"#VALUE!"},null,null,6683,9,""]
[null,null,null,null,null,null,49,null,null,"","","",{"$error":"#VALUE!"},{"$error":"#VALUE!"},{"$error":"#VALUE!"},null,null,6818,9,""]
[null,null,null,null,null,null,50,null,null,"","","",{"$error":"#VALUE!"},{"$error":"#VALUE!"},{"$error":"#VALUE!"},null,null,6953,9,""]

{"sheet":"Spectrum","index":2,"n_rows":8212,"n_cols":13,"rows_kept":4500,"cut":true,"hidden":false,"merged":[],"bounds":{"rows_first":2000,"rows_last":500,"rows_between":2000,"halvings":0}}
["Channel Number","Original Channel Contents","Scattered Channel Contents","Peak Counts",null,null,null,null,null,null,31,{"$f":"IF(K1<>0,ROUND(K1+NORMSINV(RAND())*SQRT(K1),0))","v":30},"Channel Energy keV"]
[2,0,0,null,null,null,"Format of CHN files",null,null,{"$f":"NOW()","v":"2025-03-17T11:53:13.590"},null,null,{"$f":"Control!$C$20+Control!$C$21*A2+Control!$C$22*A2^2","v":-3.4973770851495942}]
[3,0,0,null,null,null,null,null,null,null,null,null,{"$f":"Control!$C$20+Control!$C$21*A3+Control!$C$22*A3^2","v":-3.2008298504210444}]
[4,0,0,null,null,null,0,2,"Marker",-1,null,null,{"$f":"Control!$C$20+Control!$C$21*A4+Control!$C$22*A4^2","v":-2.9042825200569951}]
[5,0,0,null,null,null,2,2,"MCA number",0,null,null,{"$f":"Control!$C$20+Control!$C$21*A5+Control!$C$22*A5^2","v":-2.6077350940574462}]
[6,0,0,null,null,null,4,2,"Segment",1,null,null,{"$f":"Control!$C$20+Control!$C$21*A6+Control!$C$22*A6^2","v":-2.3111875724223978}]
[7,0,0,null,null,null,6,2,"ASCII Seconds",{"$f":"UPPER(TEXT(NOW(),\"ss\"))","v":"14"},null,null,{"$f":"Control!$C$20+Control!$C$21*A7+Control!$C$22*A7^2","v":-2.0146399551518499}]
[8,0,0,null,null,null,8,4,"RT in 1/50s units",{"$f":"Control!C30*50","v":10000000},{"$f":"J8/50","v":200000},"s",{"$f":"Control!$C$20+Control!$C$21*A8+Control!$C$22*A8^2","v":-1.7180922422458025}]
[9,0,0,null,null,null,12,4,"LT in 1/50s units",{"$f":"J8","v":10000000},{"$f":"J9/50","v":200000},"s",{"$f":"Control!$C$20+Control!$C$21*A9+Control!$C$22*A9^2","v":-1.4215444337042555}]
[10,0,0,null,null,null,16,8,"Date SOC",{"$f":"TEXT(NOW(),\"ddmmmyy\")","v":"17Mar25"},null,null,{"$f":"Control!$C$20+Control!$C$21*A10+Control!$C$22*A10^2","v":-1.1249965295272091}]
[11,0,0,null,null,null,24,4,"Time SOC",{"$f":"UPPER(TEXT(NOW(),\"hhmmyy\"))","v":"115325"},null,null,{"$f":"Control!$C$20+Control!$C$21*A11+Control!$C$22*A11^2","v":-0.8284485297146631}]
[12,0,0,null,null,null,28,2,"Channel offset",0,null,null,{"$f":"Control!$C$20+Control!$C$21*A12+Control!$C$22*A12^2","v":-0.53190043426661759}]
[13,0,0,null,null,null,30,2,"Spectrum Size",{"$f":"Control!C7","v":8192},null,null,{"$f":"Control!$C$20+Control!$C$21*A13+Control!$C$22*A13^2","v":-0.23535224318307257}]
[14,0,0,null,null,null,null,null,null,null,null,null,{"$f":"Control!$C$20+Control!$C$21*A14+Control!$C$22*A14^2","v":6.1196043535971967E-2}]
[15,0,0,null,null,null,0,2,"Marker",-102,null,null,{"$f":"Control!$C$20+Control!$C$21*A15+Control!$C$22*A15^2","v":0.35774442589051603}]
[16,0,0,null,null,null,2,2,"Reserved",null,null,null,{"$f":"Control!$C$20+Control!$C$21*A16+Control!$C$22*A16^2","v":0.65429290388055961}]
[17,0,0,null,null,null,4,4,"En int",{"$f":"Control!C20","v":-4.0904712677001953},"keV",null,{"$f":"Control!$C$20+Control!$C$21*A17+Control!$C$22*A17^2","v":0.95084147750610271}]
[18,0,0,null,null,null,8,4,"En grad",{"$f":"Control!C21","v":0.29654699563980103},"keV/ch",null,{"$f":"Control!$C$20+Control!$C$21*A18+Control!$C$22*A18^2","v":1.2473901467671453}]
[19,0,0,null,null,null,12,4,"En Quad",{"$f":"Control!C22","v":4.7817749759815342E-8},null,null,{"$f":"Control!$C$20+Control!$C$21*A19+Control!$C$22*A19^2","v":1.5439389116636875}]
[20,0,0,null,null,null,16,4,"Width Int",{"$f":"Control!C23/J18","v":2.5749035271312923},"ch",null,{"$f":"Control!$C$20+Control!$C$21*A20+Control!$C$22*A20^2","v":1.8404877721957291}]
[21,0,0,null,null,null,20,4,"Width Grad",{"$f":"Control!C24","v":9.1325311223044991E-4},"ch/ch",null,{"$f":"Control!$C$20+Control!$C$21*A21+Control!$C$22*A21^2","v":2.1370367283632703}]
[22,0,0,null,null,null,24,4,"Width Quad",{"$f":"Control!C25*J18","v":-2.7969006438182848E-8},null,null,{"$f":"Control!$C$20+Control!$C$21*A22+Control!$C$22*A22^2","v":2.433585780166311}]
[23,0,0,null,null,null,256,1,"Length of descr",{"$f":"LEN(J24)","v":26},null,null,{"$f":"Control!$C$20+Control!$C$21*A23+Control!$C$22*A23^2","v":2.7301349276048512}]
[24,0,0,null,null,null,257,63,"Det Descr","SpecMaker Virtual Detector",null,null,{"$f":"Control!$C$20+Control!$C$21*A24+Control!$C$22*A24^2","v":3.026684170678891}]
[25,0,0,null,null,null,320,1,"Length of descr",{"$f":"LEN(J26)","v":20},null,null,{"$f":"Control!$C$20+Control!$C$21*A25+Control!$C$22*A25^2","v":3.3232335093884302}]
[26,0,0,null,null,null,321,63,"Sample Descr",{"$f":"IF(Control!C32=\"\",\"\",Control!C32)","v":"200kbgd-Recal2+50Pks"},null,null,{"$f":"Control!$C$20+Control!$C$21*A26+Control!$C$22*A26^2","v":3.619782943733469}]
[27,0,0,null,null,null,384,128,"Reserved",null,null,null,{"$f":"Control!$C$20+Control!$C$21*A27+Control!$C$22*A27^2","v":3.9163324737140073}]
[28,0,0,null,null,null,null,null,null,null,null,null,{"$f":"Control!$C$20+Control!$C$21*A28+Control!$C$22*A28^2","v":4.2128820993300451}]
[29,0,0,null,null,null,null,null,"Filepath",{"$f":"CONCATENATE(Control!C16,\"\\\",Control!C31,\".chn\")","v":"c:\\&temp files\\200kbgd-Recal2+50Pks.chn"},null,null,{"$f":"Control!$C$20+Control!$C$21*A29+Control!$C$22*A29^2","v":4.5094318205815824}]
[30,0,0,null,null,null,null,null,"Background",{"$f":"IF(Control!C14<>\"\",CONCATENATE(Control!C16,\"\\\",Control!C14:C14,\".chn\"),\"\")","v":"c:\\&temp files\\200kbgd-Recal2.chn"},null,null,{"$f":"Control!$C$20+Control!$C$21*A30+Control!$C$22*A30^2","v":4.8059816374686193}]
[31,0,0,null,null,null,null,null,"Csv file:",{"$f":"CONCATENATE(Control!C16,\"\\\",Control!C31,\".csv\")","v":"c:\\&temp files\\200kbgd-Recal2+50Pks.csv"},null,null,{"$f":"Control!$C$20+Control!$C$21*A31+Control!$C$22*A31^2","v":5.1025315499911557}]
[32,0,0,null,null,null,null,null,null,null,null,null,{"$f":"Control!$C$20+Control!$C$21*A32+Control!$C$22*A32^2","v":5.3990815581491916}]
[33,0,0,null,null,null,null,null,null,null,null,null,{"$f":"Control!$C$20+Control!$C$21*A33+Control!$C$22*A33^2","v":5.695631661942727}]
[34,0,0,null,null,null,null,null,null,null,null,null,{"$f":"Control!$C$20+Control!$C$21*A34+Control!$C$22*A34^2","v":5.9921818613717619}]
[35,0,0,null,null,null,null,null,null,null,null,null,{"$f":"Control!$C$20+Control!$C$21*A35+Control!$C$22*A35^2","v":6.2887321564362963}]
[36,0,0,null,null,null,null,null,null,null,null,null,{"$f":"Control!$C$20+Control!$C$21*A36+Control!$C$22*A36^2","v":6.5852825471363303}]
[37,0,0,null,null,null,null,null,null,null,null,null,{"$f":"Control!$C$20+Control!$C$21*A37+Control!$C$22*A37^2","v":6.8818330334718638}]
[38,0,0,null,null,null,null,null,null,null,null,null,{"$f":"Control!$C$20+Control!$C$21*A38+Control!$C$22*A38^2","v":7.1783836154428968}]
[39,0,0,null,null,null,null,null,null,null,null,null,{"$f":"Control!$C$20+Control!$C$21*A39+Control!$C$22*A39^2","v":7.4749342930494294}]
[40,0,0,null,null,null,null,null,null,null,null,null,{"$f":"Control!$C$20+Control!$C$21*A40+Control!$C$22*A40^2","v":7.7714850662914614}]
[41,0,0,null,null,null,null,null,null,null,null,null,{"$f":"Control!$C$20+Control!$C$21*A41+Control!$C$22*A41^2","v":8.068035935168993}]
[42,0,0,null,null,null,null,null,null,null,null,null,{"$f":"Control!$C$20+Control!$C$21*A42+Control!$C$22*A42^2","v":8.3645868996820241}]
[43,0,0,null,null,null,null,null,null,null,null,null,{"$f":"Control!$C$20+Control!$C$21*A43+Control!$C$22*A43^2","v":8.6611379598305547}]
[44,0,0,null,null,null,null,null,null,null,null,null,{"$f":"Control!$C$20+Control!$C$21*A44+Control!$C$22*A44^2","v":8.9576891156145848}]
[45,0,0,null,null,null,null,null,null,null,null,null,{"$f":"Control!$C$20+Control!$C$21*A45+Control!$C$22*A45^2","v":9.2542403670341145}]
[46,0,0,null,null,null,null,null,null,null,null,null,{"$f":"Control!$C$20+Control!$C$21*A46+Control!$C$22*A46^2","v":9.5507917140891436}]
[47,0,0,null,null,null,null,null,null,null,null,null,{"$f":"Control!$C$20+Control!$C$21*A47+Control!$C$22*A47^2","v":9.8473431567796723}]
[48,0,0,null,null,null,null,null,null,null,null,null,{"$f":"Control!$C$20+Control!$C$21*A48+Control!$C$22*A48^2","v":10.143894695105701}]
[49,0,0,null,null,null,null,null,null,null,null,null,{"$f":"Control!$C$20+Control!$C$21*A49+Control!$C$22*A49^2","v":10.440446329067228}]
[50,0,0,null,null,null,null,null,null,null,null,null,{"$f":"Control!$C$20+Control!$C$21*A50+Control!$C$22*A50^2","v":10.736998058664255}]
[51,0,0,null,null,null,null,null,null,null,null,null,{"$f":"Control!$C$20+Control!$C$21*A51+Control!$C$22*A51^2","v":11.033549883896782}]
[52,5,5,null,null,null,null,null,null,null,null,null,{"$f":"Control!$C$20+Control!$C$21*A52+Control!$C$22*A52^2","v":11.330101804764809}]
[53,91,91,null,null,null,null,null,null,null,null,null,{"$f":"Control!$C$20+Control!$C$21*A53+Control!$C$22*A53^2","v":11.626653821268334}]
[54,531,531,null,null,null,null,null,null,null,null,null,{"$f":"Control!$C$20+Control!$C$21*A54+Control!$C$22*A54^2","v":11.92320593340736}]
[55,1327,1327,null,null,null,null,null,null,null,null,null,{"$f":"Control!$C$20+Control!$C$21*A55+Control!$C$22*A55^2","v":12.219758141181885}]
[56,2322,2322,null,null,null,null,null,null,null,null,null,{"$f":"Control!$C$20+Control!$C$21*A56+Control!$C$22*A56^2","v":12.516310444591909}]
[57,2965,2965,null,null,null,null,null,null,null,null,null,{"$f":"Control!$C$20+Control!$C$21*A57+Control!$C$22*A57^2","v":12.812862843637433}]
[58,2764,2764,null,null,null,null,null,null,null,null,null,{"$f":"Control!$C$20+Control!$C$21*A58+Control!$C$22*A58^2","v":13.109415338318456}]
[59,1890,1890,null,null,null,null,null,null,null,null,null,{"$f":"Control!$C$20+Control!$C$21*A59+Control!$C$22*A59^2","v":13.405967928634979}]
[60,1236,1236,null,null,null,null,null,null,null,null,null,{"$f":"Control!$C$20+Control!$C$21*A60+Control!$C$22*A60^2","v":13.702520614587002}]
[61,1000,1000,null,null,null,null,null,null,null,null,null,{"$f":"Control!$C$20+Control!$C$21*A61+Control!$C$22*A61^2","v":13.999073396174524}]
[62,1043,1043,null,null,null,null,null,null,null,null,null,{"$f":"Control!$C$20+Control!$C$21*A62+Control!$C$22*A62^2","v":14.295626273397545}]
[63,1080,1080,null,null,null,null,null,null,null,null,null,{"$f":"Control!$C$20+Control!$C$21*A63+Control!$C$22*A63^2","v":14.592179246256066}]
[64,1151,1151,null,null,null,null,null,null,null,null,null,{"$f":"Control!$C$20+Control!$C$21*A64+Control!$C$22*A64^2","v":14.888732314750087}]
[65,1427,1427,null,null,null,null,null,null,null,null,null,{"$f":"Control!$C$20+Control!$C$21*A65+Control!$C$22*A65^2","v":15.185285478879607}]
[66,1909,1909,null,null,null,null,null,null,null,null,null,{"$f":"Control!$C$20+Control!$C$21*A66+Control!$C$22*A66^2","v":15.481838738644626}]
[67,2745,2745,null,null,null,null,null,null,null,null,null,{"$f":"Control!$C$20+Control!$C$21*A67+Control!$C$22*A67^2","v":15.778392094045145}]
[68,4008,4008,null,null,null,null,null,null,null,null,null,{"$f":"Control!$C$20+Control!$C$21*A68+Control!$C$22*A68^2","v":16.074945545081164}]
[69,4318,4318,null,null,null,null,null,null,null,null,null,{"$f":"Control!$C$20+Control!$C$21*A69+Control!$C$22*A69^2","v":16.371499091752682}]
[70,3101,3101,null,null,null,null,null,null,null,null,null,{"$f":"Control!$C$20+Control!$C$21*A70+Control!$C$22*A70^2","v":16.6680527340597}]
[71,1945,1945,null,null,null,null,null,null,null,null,null,{"$f":"Control!$C$20+Control!$C$21*A71+Control!$C$22*A71^2","v":16.964606472002217}]
[72,1310,1310,null,null,null,null,null,null,null,null,null,{"$f":"Control!$C$20+Control!$C$21*A72+Control!$C$22*A72^2","v":17.261160305580233}]
[73,1020,1020,null,null,null,null,null,null,null,null,null,{"$f":"Control!$C$20+Control!$C$21*A73+Control!$C$22*A73^2","v":17.55771423479375}]
[74,951,951,null,null,null,null,null,null,null,null,null,{"$f":"Control!$C$20+Control!$C$21*A74+Control!$C$22*A74^2","v":17.854268259642765}]
[75,879,879,null,null,null,null,null,null,null,null,null,{"$f":"Control!$C$20+Control!$C$21*A75+Control!$C$22*A75^2","v":18.150822380127281}]
[76,908,908,null,null,null,null,null,null,null,null,null,{"$f":"Control!$C$20+Control!$C$21*A76+Control!$C$22*A76^2","v":18.447376596247295}]
[77,1166,1166,null,null,null,null,null,null,null,null,null,{"$f":"Control!$C$20+Control!$C$21*A77+Control!$C$22*A77^2","v":18.74393090800281}]
[78,1584,1584,null,null,null,null,null,{"$f":"C78-E78","v":1584},null,null,null,{"$f":"Control!$C$20+Control!$C$21*A78+Control!$C$22*A78^2","v":19.040485315393823}]
[79,1495,1495,null,null,null,null,null,{"$f":"C79-E79","v":1495},null,null,null,{"$f":"Control!$C$20+Control!$C$21*A79+Control!$C$22*A79^2","v":19.337039818420337}]
[80,1252,1252,null,null,null,null,null,null,null,null,null,{"$f":"Control!$C$20+Control!$C$21*A80+Control!$C$22*A80^2","v":19.63359441708235}]
[81,1074,1074,null,null,null,null,null,null,null,null,null,{"$f":"Control!$C$20+Control!$C$21*A81+Control!$C$22*A81^2","v":19.930149111379862}]
[82,971,971,null,null,null,null,null,null,null,null,null,{"$f":"Control!$C$20+Control!$C$21*A82+Control!$C$22*A82^2","v":20.226703901312874}]
[83,807,807,null,null,null,null,null,null,null,null,null,{"$f":"Control!$C$20+Control!$C$21*A83+Control!$C$22*A83^2","v":20.523258786881385}]
[84,711,711,null,null,null,null,null,null,null,null,null,{"$f":"Control!$C$20+Control!$C$21*A84+Control!$C$22*A84^2","v":20.819813768085396}]
[85,697,697,null,null,null,null,null,null,null,null,null,{"$f":"Control!$C$20+Control!$C$21*A85+Control!$C$22*A85^2","v":21.116368844924907}]
[86,681,681,null,null,null,null,null,null,null,null,null,{"$f":"Control!$C$20+Control!$C$21*A86+Control!$C$22*A86^2","v":21.412924017399916}]
[87,674,674,null,null,null,null,null,null,null,null,null,{"$f":"Control!$C$20+Control!$C$21*A87+Control!$C$22*A87^2","v":21.709479285510426}]
[88,686,686,null,null,null,null,null,null,null,null,null,{"$f":"Control!$C$20+Control!$C$21*A88+Control!$C$22*A88^2","v":22.006034649256435}]
[89,629,629,null,null,null,null,null,null,null,null,null,{"$f":"Control!$C$20+Control!$C$21*A89+Control!$C$22*A89^2","v":22.302590108637943}]
[90,633,633,null,null,null,null,null,null,null,null,null,{"$f":"Control!$C$20+Control!$C$21*A90+Control!$C$22*A90^2","v":22.599145663654951}]
[91,624,624,null,null,null,null,null,null,null,null,null,{"$f":"Control!$C$20+Control!$C$21*A91+Control!$C$22*A91^2","v":22.895701314307459}]
[92,596,596,null,null,null,null,null,null,null,null,null,{"$f":"Control!$C$20+Control!$C$21*A92+Control!$C$22*A92^2","v":23.192257060595466}]
[93,630,630,null,null,null,null,null,null,null,null,null,{"$f":"Control!$C$20+Control!$C$21*A93+Control!$C$22*A93^2","v":23.488812902518973}]
[94,710,710,null,null,null,null,null,null,null,null,null,{"$f":"Control!$C$20+Control!$C$21*A94+Control!$C$22*A94^2","v":23.785368840077979}]
[95,802,802,null,null,null,null,null,null,null,null,null,{"$f":"Control!$C$20+Control!$C$21*A95+Control!$C$22*A95^2","v":24.081924873272484}]
[96,843,843,null,null,null,null,null,null,null,null,null,{"$f":"Control!$C$20+Control!$C$21*A96+Control!$C$22*A96^2","v":24.37848100210249}]
[97,726,726,null,null,null,null,null,null,null,null,null,{"$f":"Control!$C$20+Control!$C$21*A97+Control!$C$22*A97^2","v":24.675037226567994}]
[98,657,657,null,null,null,null,null,null,null,null,null,{"$f":"Control!$C$20+Control!$C$21*A98+Control!$C$22*A98^2","v":24.971593546668998}]
[99,643,643,null,null,null,null,null,null,null,null,null,{"$f":"Control!$C$20+Control!$C$21*A99+Control!$C$22*A99^2","v":25.268149962405502}]
[100,770,770,null,null,null,null,null,null,null,null,null,{"$f":"Control!$C$20+Control!$C$21*A100+Control!$C$22*A100^2","v":25.564706473777505}]
[101,883,883,null,null,null,null,null,null,null,null,null,{"$f":"Control!$C$20+Control!$C$21*A101+Control!$C$22*A101^2","v":25.861263080785008}]
[102,752,752,null,null,null,null,null,null,null,null,null,{"$f":"Control!$C$20+Control!$C$21*A102+Control!$C$22*A102^2","v":26.15781978342801}]
[103,632,632,null,null,null,null,null,null,null,null,null,{"$f":"Control!$C$20+Control!$C$21*A103+Control!$C$22*A103^2","v":26.454376581706512}]
[104,619,619,null,null,null,null,null,null,null,null,null,{"$f":"Control!$C$20+Control!$C$21*A104+Control!$C$22*A104^2","v":26.750933475620513}]
[105,597,597,null,null,null,null,null,null,null,null,null,{"$f":"Control!$C$20+Control!$C$21*A105+Control!$C$22*A105^2","v":27.047490465170014}]
[106,648,648,null,null,null,null,null,null,null,null,null,{"$f":"Control!$C$20+Control!$C$21*A106+Control!$C$22*A106^2","v":27.344047550355015}]
[107,645,645,null,null,null,null,null,null,null,null,null,{"$f":"Control!$C$20+Control!$C$21*A107+Control!$C$22*A107^2","v":27.640604731175515}]
[108,595,595,null,null,null,null,null,null,null,null,null,{"$f":"Control!$C$20+Control!$C$21*A108+Control!$C$22*A108^2","v":27.937162007631514}]
[109,542,542,null,null,null,null,null,null,null,null,null,{"$f":"Control!$C$20+Control!$C$21*A109+Control!$C$22*A109^2","v":28.233719379723013}]
[110,607,607,null,null,null,null,null,null,null,null,null,{"$f":"Control!$C$20+Control!$C$21*A110+Control!$C$22*A110^2","v":28.530276847450011}]
[111,554,554,null,null,null,null,null,null,null,null,null,{"$f":"Control!$C$20+Control!$C$21*A111+Control!$C$22*A111^2","v":28.826834410812509}]
[112,555,555,null,null,null,null,null,null,null,null,null,{"$f":"Control!$C$20+Control!$C$21*A112+Control!$C$22*A112^2","v":29.123392069810507}]
[113,550,550,null,null,null,null,null,null,null,null,null,{"$f":"Control!$C$20+Control!$C$21*A113+Control!$C$22*A113^2","v":29.419949824444004}]
[114,521,521,null,null,null,null,null,null,null,null,null,{"$f":"Control!$C$20+Control!$C$21*A114+Control!$C$22*A114^2","v":29.716507674713}]
[115,568,568,null,null,null,null,null,null,null,null,null,{"$f":"Control!$C$20+Control!$C$21*A115+Control!$C$22*A115^2","v":30.013065620617496}]
[116,544,544,null,null,null,null,null,null,null,null,null,{"$f":"Control!$C$20+Control!$C$21*A116+Control!$C$22*A116^2","v":30.309623662157492}]
[117,557,557,null,null,null,null,null,null,null,null,null,{"$f":"Control!$C$20+Control!$C$21*A117+Control!$C$22*A117^2","v":30.606181799332987}]
[118,550,550,null,null,null,null,null,null,null,null,null,{"$f":"Control!$C$20+Control!$C$21*A118+Control!$C$22*A118^2","v":30.902740032143981}]
[119,526,526,null,null,null,null,null,null,null,null,null,{"$f":"Control!$C$20+Control!$C$21*A119+Control!$C$22*A119^2","v":31.199298360590475}]
[120,538,538,null,null,null,null,null,null,null,null,null,{"$f":"Control!$C$20+Control!$C$21*A120+Control!$C$22*A120^2","v":31.495856784672469}]
[121,536,536,null,null,null,null,null,null,null,null,null,{"$f":"Control!$C$20+Control!$C$21*A121+Control!$C$22*A121^2","v":31.792415304389962}]
[122,529,529,null,null,null,null,null,null,null,null,null,{"$f":"Control!$C$20+Control!$C$21*A122+Control!$C$22*A122^2","v":32.088973919742955}]
[123,511,511,null,null,null,null,null,null,null,null,null,{"$f":"Control!$C$20+Control!$C$21*A123+Control!$C$22*A123^2","v":32.385532630731447}]
[124,548,548,null,null,null,null,null,null,null,null,null,{"$f":"Control!$C$20+Control!$C$21*A124+Control!$C$22*A124^2","v":32.682091437355439}]
[125,567,567,null,null,null,null,null,null,null,null,null,{"$f":"Control!$C$20+Control!$C$21*A125+Control!$C$22*A125^2","v":32.97865033961493}]
[126,516,516,null,null,null,null,null,null,null,null,null,{"$f":"Control!$C$20+Control!$C$21*A126+Control!$C$22*A126^2","v":33.275209337509921}]
[127,543,543,null,null,null,null,null,null,null,null,null,{"$f":"Control!$C$20+Control!$C$21*A127+Control!$C$22*A127^2","v":33.571768431040411}]
[128,515,515,null,null,null,null,null,null,null,null,null,{"$f":"Control!$C$20+Control!$C$21*A128+Control!$C$22*A128^2","v":33.868327620206401}]
[129,532,532,null,null,null,null,null,null,null,null,null,{"$f":"Control!$C$20+Control!$C$21*A129+Control!$C$22*A129^2","v":34.16488690500789}]
[130,525,525,null,null,null,null,null,null,null,null,null,{"$f":"Control!$C$20+Control!$C$21*A130+Control!$C$22*A130^2","v":34.461446285444879}]
[131,524,524,null,null,null,null,null,null,null,null,null,{"$f":"Control!$C$20+Control!$C$21*A131+Control!$C$22*A131^2","v":34.758005761517367}]
[132,526,526,null,null,null,null,null,null,null,null,null,{"$f":"Control!$C$20+Control!$C$21*A132+Control!$C$22*A132^2","v":35.054565333225355}]
[133,519,519,null,null,null,null,null,null,null,null,null,{"$f":"Control!$C$20+Control!$C$21*A133+Control!$C$22*A133^2","v":35.351125000568842}]
[134,513,513,null,null,null,null,null,null,null,null,null,{"$f":"Control!$C$20+Control!$C$21*A134+Control!$C$22*A134^2","v":35.647684763547829}]
[135,508,508,null,null,null,null,null,null,null,null,null,{"$f":"Control!$C$20+Control!$C$21*A135+Control!$C$22*A135^2","v":35.944244622162316}]
[136,508,508,null,null,null,null,null,null,null,null,null,{"$f":"Control!$C$20+Control!$C$21*A136+Control!$C$22*A136^2","v":36.240804576412302}]
[137,530,530,null,null,null,null,null,null,null,null,null,{"$f":"Control!$C$20+Control!$C$21*A137+Control!$C$22*A137^2","v":36.537364626297787}]
[138,492,492,null,null,null,null,null,null,null,null,null,{"$f":"Control!$C$20+Control!$C$21*A138+Control!$C$22*A138^2","v":36.833924771818772}]
[139,538,538,null,null,null,null,null,null,null,null,null,{"$f":"Control!$C$20+Control!$C$21*A139+Control!$C$22*A139^2","v":37.130485012975257}]
[140,545,545,null,null,null,null,null,null,null,null,null,{"$f":"Control!$C$20+Control!$C$21*A140+Control!$C$22*A140^2","v":37.427045349767241}]
[141,534,534,null,null,null,null,null,null,null,null,null,{"$f":"Control!$C$20+Control!$C$21*A141+Control!$C$22*A141^2","v":37.723605782194724}]
[142,500,500,null,null,null,null,null,null,null,null,null,{"$f":"Control!$C$20+Control!$C$21*A142+Control!$C$22*A142^2","v":38.020166310257707}]
[143,504,504,null,null,null,null,null,null,null,null,null,{"$f":"Control!$C$20+Control!$C$21*A143+Control!$C$22*A143^2","v":38.31672693395619}]
[144,538,538,null,null,null,null,null,null,null,null,null,{"$f":"Control!$C$20+Control!$C$21*A144+Control!$C$22*A144^2","v":38.613287653290172}]
[145,503,503,null,null,null,null,null,null,null,null,null,{"$f":"Control!$C$20+Control!$C$21*A145+Control!$C$22*A145^2","v":38.909848468259653}]
[146,495,495,null,null,null,null,null,null,null,null,null,{"$f":"Control!$C$20+Control!$C$21*A146+Control!$C$22*A146^2","v":39.206409378864635}]
[147,536,536,null,null,null,null,null,null,null,null,null,{"$f":"Control!$C$20+Control!$C$21*A147+Control!$C$22*A147^2","v":39.502970385105115}]
[148,533,533,null,null,null,null,null,null,null,null,null,{"$f":"Control!$C$20+Control!$C$21*A148+Control!$C$22*A148^2","v":39.799531486981095}]
[149,599,599,null,null,null,null,null,null,null,null,null,{"$f":"Control!$C$20+Control!$C$21*A149+Control!$C$22*A149^2","v":40.096092684492575}]
[150,524,524,null,null,null,null,null,null,null,null,null,{"$f":"Control!$C$20+Control!$C$21*A150+Control!$C$22*A150^2","v":40.392653977639554}]
[151,519,519,null,null,null,null,null,null,null,null,null,{"$f":"Control!$C$20+Control!$C$21*A151+Control!$C$22*A151^2","v":40.689215366422033}]
[152,522,522,null,null,null,null,null,null,null,null,null,{"$f":"Control!$C$20+Control!$C$21*A152+Control!$C$22*A152^2","v":40.985776850840011}]
[153,513,513,null,null,null,null,null,null,null,null,null,{"$f":"Control!$C$20+Control!$C$21*A153+Control!$C$22*A153^2","v":41.282338430893489}]
[154,534,534,null,null,null,null,null,null,null,null,null,{"$f":"Control!$C$20+Control!$C$21*A154+Control!$C$22*A154^2","v":41.578900106582466}]
[155,549,549,null,null,null,null,null,null,null,null,null,{"$f":"Control!$C$20+Control!$C$21*A155+Control!$C$22*A155^2","v":41.875461877906943}]
[156,557,557,null,null,null,null,null,null,null,null,null,{"$f":"Control!$C$20+Control!$C$21*A156+Control!$C$22*A156^2","v":42.17202374486692}]
[157,519,519,null,null,null,null,null,null,null,null,null,{"$f":"Control!$C$20+Control!$C$21*A157+Control!$C$22*A157^2","v":42.468585707462395}]
[158,505,505,null,null,null,null,null,null,null,null,null,{"$f":"Control!$C$20+Control!$C$21*A158+Control!$C$22*A158^2","v":42.765147765693371}]
[159,553,553,null,null,null,null,null,null,null,null,null,{"$f":"Control!$C$20+Control!$C$21*A159+Control!$C$22*A159^2","v":43.061709919559846}]
[160,504,504,null,null,null,null,null,null,null,null,null,{"$f":"Control!$C$20+Control!$C$21*A160+Control!$C$22*A160^2","v":43.35827216906182}]
[161,520,520,null,null,null,null,null,null,null,null,null,{"$f":"Control!$C$20+Control!$C$21*A161+Control!$C$22*A161^2","v":43.654834514199294}]
[162,550,550,null,null,null,null,null,null,null,null,null,{"$f":"Control!$C$20+Control!$C$21*A162+Control!$C$22*A162^2","v":43.951396954972267}]
[163,507,507,null,null,null,null,null,null,null,null,null,{"$f":"Control!$C$20+Control!$C$21*A163+Control!$C$22*A163^2","v":44.24795949138074}]
[164,527,527,null,null,null,null,null,null,null,null,null,{"$f":"Control!$C$20+Control!$C$21*A164+Control!$C$22*A164^2","v":44.544522123424713}]
[165,529,529,null,null,null,null,null,null,null,null,null,{"$f":"Control!$C$20+Control!$C$21*A165+Control!$C$22*A165^2","v":44.841084851104185}]
[166,535,535,null,null,null,null,null,null,null,null,null,{"$f":"Control!$C$20+Control!$C$21*A166+Control!$C$22*A166^2","v":45.137647674419156}]
[167,474,474,null,null,null,null,null,null,null,null,null,{"$f":"Control!$C$20+Control!$C$21*A167+Control!$C$22*A167^2","v":45.434210593369627}]
[168,540,540,null,null,null,null,null,null,null,null,null,{"$f":"Control!$C$20+Control!$C$21*A168+Control!$C$22*A168^2","v":45.730773607955598}]
[169,628,628,null,null,null,null,null,null,null,null,null,{"$f":"Control!$C$20+Control!$C$21*A169+Control!$C$22*A169^2","v":46.027336718177068}]
[170,923,923,null,null,null,null,null,null,null,null,null,{"$f":"Control!$C$20+Control!$C$21*A170+Control!$C$22*A170^2","v":46.323899924034038}]
[171,1588,1588,null,null,null,null,null,null,null,null,null,{"$f":"Control!$C$20+Control!$C$21*A171+Control!$C$22*A171^2","v":46.620463225526507}]
[172,1402,1402,null,null,null,null,null,null,null,null,null,{"$f":"Control!$C$20+Control!$C$21*A172+Control!$C$22*A172^2","v":46.917026622654475}]
[173,963,963,null,null,null,null,null,null,null,null,null,{"$f":"Control!$C$20+Control!$C$21*A173+Control!$C$22*A173^2","v":47.213590115417944}]
[174,576,576,null,null,null,null,null,null,null,null,null,{"$f":"Control!$C$20+Control!$C$21*A174+Control!$C$22*A174^2","v":47.510153703816911}]
[175,493,493,null,null,null,null,null,null,null,null,null,{"$f":"Control!$C$20+Control!$C$21*A175+Control!$C$22*A175^2","v":47.806717387851378}]
[176,483,483,null,null,null,null,null,null,null,null,null,{"$f":"Control!$C$20+Control!$C$21*A176+Control!$C$22*A176^2","v":48.103281167521345}]
[177,509,509,null,null,null,null,null,null,null,null,null,{"$f":"Control!$C$20+Control!$C$21*A177+Control!$C$22*A177^2","v":48.399845042826811}]
[178,530,530,null,null,null,null,null,null,null,null,null,{"$f":"Control!$C$20+Control!$C$21*A178+Control!$C$22*A178^2","v":48.696409013767777}]
[179,463,463,null,null,null,null,null,null,null,null,null,{"$f":"Control!$C$20+Control!$C$21*A179+Control!$C$22*A179^2","v":48.992973080344242}]
[180,537,537,null,null,null,null,null,null,null,null,null,{"$f":"Control!$C$20+Control!$C$21*A180+Control!$C$22*A180^2","v":49.289537242556207}]
[181,601,601,null,null,null,null,null,null,null,null,null,{"$f":"Control!$C$20+Control!$C$21*A181+Control!$C$22*A181^2","v":49.586101500403672}]
[182,609,609,null,null,null,null,null,null,null,null,null,{"$f":"Control!$C$20+Control!$C$21*A182+Control!$C$22*A182^2","v":49.882665853886635}]
[183,525,525,null,null,null,null,null,null,null,null,null,{"$f":"Control!$C$20+Control!$C$21*A183+Control!$C$22*A183^2","v":50.179230303005099}]
[184,570,570,null,null,null,null,null,null,null,null,null,{"$f":"Control!$C$20+Control!$C$21*A184+Control!$C$22*A184^2","v":50.475794847759062}]
[185,552,552,null,null,null,null,null,null,null,null,null,{"$f":"Control!$C$20+Control!$C$21*A185+Control!$C$22*A185^2","v":50.772359488148524}]
[186,570,570,null,null,null,null,null,null,null,null,null,{"$f":"Control!$C$20+Control!$C$21*A186+Control!$C$22*A186^2","v":51.068924224173486}]
[187,552,552,null,null,null,null,null,null,null,null,null,{"$f":"Control!$C$20+Control!$C$21*A187+Control!$C$22*A187^2","v":51.365489055833947}]
[188,528,528,null,null,null,null,null,null,null,null,null,{"$f":"Control!$C$20+Control!$C$21*A188+Control!$C$22*A188^2","v":51.662053983129908}]
[189,564,564,null,null,null,null,null,null,null,null,null,{"$f":"Control!$C$20+Control!$C$21*A189+Control!$C$22*A189^2","v":51.958619006061369}]
[190,571,571,null,null,null,null,null,null,null,null,null,{"$f":"Control!$C$20+Control!$C$21*A190+Control!$C$22*A190^2","v":52.255184124628329}]
[191,564,564,null,null,null,null,null,null,null,null,null,{"$f":"Control!$C$20+Control!$C$21*A191+Control!$C$22*A191^2","v":52.551749338830788}]
[192,557,557,null,null,null,null,null,null,null,null,null,{"$f":"Control!$C$20+Control!$C$21*A192+Control!$C$22*A192^2","v":52.848314648668747}]
[193,680,680,null,null,null,null,null,null,null,null,null,{"$f":"Control!$C$20+Control!$C$21*A193+Control!$C$22*A193^2","v":53.144880054142206}]
[194,751,751,null,null,null,null,null,null,null,null,null,{"$f":"Control!$C$20+Control!$C$21*A194+Control!$C$22*A194^2","v":53.441445555251164}]
[195,681,681,null,null,null,null,null,null,null,null,null,{"$f":"Control!$C$20+Control!$C$21*A195+Control!$C$22*A195^2","v":53.738011151995622}]
[196,615,615,null,null,null,null,null,null,null,null,null,{"$f":"Control!$C$20+Control!$C$21*A196+Control!$C$22*A196^2","v":54.034576844375579}]
[197,530,530,null,null,null,null,null,null,null,null,null,{"$f":"Control!$C$20+Control!$C$21*A197+Control!$C$22*A197^2","v":54.331142632391035}]
[198,588,588,null,null,null,null,null,null,null,null,null,{"$f":"Control!$C$20+Control!$C$21*A198+Control!$C$22*A198^2","v":54.627708516041992}]
[199,573,573,null,null,null,null,null,null,null,null,null,{"$f":"Control!$C$20+Control!$C$21*A199+Control!$C$22*A199^2","v":54.924274495328447}]
[200,580,580,null,null,null,null,null,null,null,null,null,{"$f":"Control!$C$20+Control!$C$21*A200+Control!$C$22*A200^2","v":55.220840570250402}]
[201,534,534,null,null,null,null,null,null,null,null,null,{"$f":"Control!$C$20+Control!$C$21*A201+Control!$C$22*A201^2","v":55.517406740807857}]
[202,571,571,null,null,null,null,null,null,null,null,null,{"$f":"Control!$C$20+Control!$C$21*A202+Control!$C$22*A202^2","v":55.813973007000811}]
[203,571,571,null,null,null,null,null,null,null,null,null,{"$f":"Control!$C$20+Control!$C$21*A203+Control!$C$22*A203^2","v":56.110539368829265}]
[204,585,585,null,null,null,null,null,null,null,null,null,{"$f":"Control!$C$20+Control!$C$21*A204+Control!$C$22*A204^2","v":56.407105826293218}]
[205,589,589,null,null,null,null,null,null,null,null,null,{"$f":"Control!$C$20+Control!$C$21*A205+Control!$C$22*A205^2","v":56.703672379392671}]
[206,579,579,null,null,null,null,null,null,null,null,null,{"$f":"Control!$C$20+Control!$C$21*A206+Control!$C$22*A206^2","v":57.000239028127623}]
[207,568,568,null,null,null,null,null,null,null,null,null,{"$f":"Control!$C$20+Control!$C$21*A207+Control!$C$22*A207^2","v":57.296805772498075}]
[208,595,595,null,null,null,null,null,null,null,null,null,{"$f":"Control!$C$20+Control!$C$21*A208+Control!$C$22*A208^2","v":57.593372612504027}]
[209,616,616,null,null,null,null,null,null,null,null,null,{"$f":"Control!$C$20+Control!$C$21*A209+Control!$C$22*A209^2","v":57.889939548145477}]
[210,595,595,null,null,null,null,null,null,null,null,null,{"$f":"Control!$C$20+Control!$C$21*A210+Control!$C$22*A210^2","v":58.186506579422428}]
[211,588,588,null,null,null,null,null,null,null,null,null,{"$f":"Control!$C$20+Control!$C$21*A211+Control!$C$22*A211^2","v":58.483073706334878}]
[212,593,593,null,null,null,null,null,null,null,null,null,{"$f":"Control!$C$20+Control!$C$21*A212+Control!$C$22*A212^2","v":58.779640928882827}]
[213,599,599,null,null,null,null,null,null,null,null,null,{"$f":"Control!$C$20+Control!$C$21*A213+Control!$C$22*A213^2","v":59.076208247066276}]
[214,657,657,null,null,null,null,null,null,null,null,null,{"$f":"Control!$C$20+Control!$C$21*A214+Control!$C$22*A214^2","v":59.372775660885225}]
[215,750,750,null,null,null,null,null,null,null,null,null,{"$f":"Control!$C$20+Control!$C$21*A215+Control!$C$22*A215^2","v":59.669343170339673}]
[216,749,749,null,null,null,null,null,null,null,null,null,{"$f":"Control!$C$20+Control!$C$21*A216+Control!$C$22*A216^2","v":59.96591077542962}]
[217,660,660,null,null,null,null,null,null,null,null,null,{"$f":"Control!$C$20+Control!$C$21*A217+Control!$C$22*A217^2","v":60.262478476155067}]
[218,648,648,null,null,null,null,null,null,null,null,null,{"$f":"Control!$C$20+Control!$C$21*A218+Control!$C$22*A218^2","v":60.559046272516014}]
[219,636,636,null,null,null,null,null,null,null,null,null,{"$f":"Control!$C$20+Control!$C$21*A219+Control!$C$22*A219^2","v":60.85561416451246}]
[220,649,649,null,null,null,null,null,null,null,null,null,{"$f":"Control!$C$20+Control!$C$21*A220+Control!$C$22*A220^2","v":61.152182152144405}]
[221,629,629,null,null,null,null,null,null,null,null,null,{"$f":"Control!$C$20+Control!$C$21*A221+Control!$C$22*A221^2","v":61.44875023541185}]
[222,677,677,null,null,null,null,null,null,null,null,null,{"$f":"Control!$C$20+Control!$C$21*A222+Control!$C$22*A222^2","v":61.745318414314795}]
[223,670,670,null,null,null,null,null,null,null,null,null,{"$f":"Control!$C$20+Control!$C$21*A223+Control!$C$22*A223^2","v":62.041886688853239}]
[224,618,618,null,null,null,null,null,null,null,null,null,{"$f":"Control!$C$20+Control!$C$21*A224+Control!$C$22*A224^2","v":62.338455059027183}]
[225,752,752,null,null,null,null,null,null,null,null,null,{"$f":"Control!$C$20+Control!$C$21*A225+Control!$C$22*A225^2","v":62.635023524836626}]
[226,1177,1177,null,null,null,null,null,null,null,null,null,{"$f":"Control!$C$20+Control!$C$21*A226+Control!$C$22*A226^2","v":62.931592086281569}]
[227,2275,2275,null,null,null,null,null,null,null,null,null,{"$f":"Control!$C$20+Control!$C$21*A227+Control!$C$22*A227^2","v":63.228160743362011}]
[228,3032,3032,null,null,null,null,null,null,null,null,null,{"$f":"Control!$C$20+Control!$C$21*A228+Control!$C$22*A228^2","v":63.524729496077953}]
[229,2184,2184,null,null,null,null,null,null,null,null,null,{"$f":"Control!$C$20+Control!$C$21*A229+Control!$C$22*A229^2","v":63.821298344429394}]
[230,1135,1135,null,null,null,null,null,null,null,null,null,{"$f":"Control!$C$20+Control!$C$21*A230+Control!$C$22*A230^2","v":64.117867288416335}]
[231,723,723,null,null,null,null,null,null,null,null,null,{"$f":"Control!$C$20+Control!$C$21*A231+Control!$C$22*A231^2","v":64.414436328038775}]
[232,662,662,null,null,null,null,null,null,null,null,null,{"$f":"Control!$C$20+Control!$C$21*A232+Control!$C$22*A232^2","v":64.711005463296715}]
[233,633,633,null,null,null,null,null,null,null,null,null,{"$f":"Control!$C$20+Control!$C$21*A233+Control!$C$22*A233^2","v":65.007574694190154}]
[234,673,673,null,null,null,null,null,null,null,null,null,{"$f":"Control!$C$20+Control!$C$21*A234+Control!$C$22*A234^2","v":65.304144020719093}]
[235,662,662,null,null,null,null,null,null,null,null,null,{"$f":"Control!$C$20+Control!$C$21*A235+Control!$C$22*A235^2","v":65.600713442883531}]
[236,701,701,null,null,null,null,null,null,null,null,null,{"$f":"Control!$C$20+Control!$C$21*A236+Control!$C$22*A236^2","v":65.897282960683469}]
[237,691,691,null,null,null,null,null,null,null,null,null,{"$f":"Control!$C$20+Control!$C$21*A237+Control!$C$22*A237^2","v":66.193852574118907}]
[238,693,693,null,null,null,null,null,null,null,null,null,{"$f":"Control!$C$20+Control!$C$21*A238+Control!$C$22*A238^2","v":66.490422283189844}]
[239,730,730,null,null,null,null,null,null,null,null,null,{"$f":"Control!$C$20+Control!$C$21*A239+Control!$C$22*A239^2","v":66.78699208789628}]
[240,742,742,null,null,null,null,null,null,null,null,null,{"$f":"Control!$C$20+Control!$C$21*A240+Control!$C$22*A240^2","v":67.083561988238216}]
[241,672,672,null,null,null,null,null,null,null,null,null,{"$f":"Control!$C$20+Control!$C$21*A241+Control!$C$22*A241^2","v":67.380131984215652}]
[242,697,697,null,null,null,null,null,null,null,null,null,{"$f":"Control!$C$20+Control!$C$21*A242+Control!$C$22*A242^2","v":67.676702075828587}]
[243,629,629,null,null,null,null,null,null,null,null,null,{"$f":"Control!$C$20+Control!$C$21*A243+Control!$C$22*A243^2","v":67.973272263077021}]
[244,643,643,null,null,null,null,null,null,null,null,null,{"$f":"Control!$C$20+Control!$C$21*A244+Control!$C$22*A244^2","v":68.269842545960955}]
[245,692,692,null,null,null,null,null,null,null,null,null,{"$f":"Control!$C$20+Control!$C$21*A245+Control!$C$22*A245^2","v":68.566412924480389}]
[246,651,651,null,null,null,null,null,null,null,null,null,{"$f":"Control!$C$20+Control!$C$21*A246+Control!$C$22*A246^2","v":68.862983398635322}]
[247,689,689,null,null,null,null,null,null,null,null,null,{"$f":"Control!$C$20+Control!$C$21*A247+Control!$C$22*A247^2","v":69.159553968425755}]
[248,681,681,null,null,null,null,null,null,null,null,null,{"$f":"Control!$C$20+Control!$C$21*A248+Control!$C$22*A248^2","v":69.456124633851687}]
[249,660,660,null,null,null,null,null,null,null,null,null,{"$f":"Control!$C$20+Control!$C$21*A249+Control!$C$22*A249^2","v":69.752695394913118}]
[250,707,707,null,null,null,null,null,null,null,null,null,{"$f":"Control!$C$20+Control!$C$21*A250+Control!$C$22*A250^2","v":70.049266251610049}]
[251,656,656,null,null,null,null,null,null,null,null,null,{"$f":"Control!$C$20+Control!$C$21*A251+Control!$C$22*A251^2","v":70.34583720394248}]
[252,686,686,null,null,null,null,null,null,null,null,null,{"$f":"Control!$C$20+Control!$C$21*A252+Control!$C$22*A252^2","v":70.64240825191041}]
[253,699,699,null,null,null,null,null,null,null,null,null,{"$f":"Control!$C$20+Control!$C$21*A253+Control!$C$22*A253^2","v":70.93897939551384}]
[254,697,697,null,null,null,null,null,null,null,null,null,{"$f":"Control!$C$20+Control!$C$21*A254+Control!$C$22*A254^2","v":71.235550634752769}]
[255,721,721,null,null,null,null,null,null,null,null,null,{"$f":"Control!$C$20+Control!$C$21*A255+Control!$C$22*A255^2","v":71.532121969627198}]
[256,644,644,null,null,null,null,null,null,null,null,null,{"$f":"Control!$C$20+Control!$C$21*A256+Control!$C$22*A256^2","v":71.828693400137126}]
[257,716,716,null,null,null,null,null,null,null,null,null,{"$f":"Control!$C$20+Control!$C$21*A257+Control!$C$22*A257^2","v":72.125264926282554}]
[258,768,768,null,null,null,null,null,null,null,null,null,{"$f":"Control!$C$20+Control!$C$21*A258+Control!$C$22*A258^2","v":72.421836548063482}]
[259,957,957,null,null,null,null,null,null,null,null,null,{"$f":"Control!$C$20+Control!$C$21*A259+Control!$C$22*A259^2","v":72.718408265479908}]
[260,1045,1045,null,null,null,null,null,null,null,null,null,{"$f":"Control!$C$20+Control!$C$21*A260+Control!$C$22*A260^2","v":73.014980078531835}]
[261,1036,1036,null,null,null,null,null,null,null,null,null,{"$f":"Control!$C$20+Control!$C$21*A261+Control!$C$22*A261^2","v":73.311551987219261}]
[262,859,859,null,null,null,null,null,null,null,null,null,{"$f":"Control!$C$20+Control!$C$21*A262+Control!$C$22*A262^2","v":73.608123991542186}]
[263,780,780,null,null,null,null,null,null,null,null,null,{"$f":"Control!$C$20+Control!$C$21*A263+Control!$C$22*A263^2","v":73.904696091500611}]
[264,862,862,null,null,null,null,null,null,null,null,null,{"$f":"Control!$C$20+Control!$C$21*A264+Control!$C$22*A264^2","v":74.201268287094535}]
[265,1225,1225,null,null,null,null,null,null,null,null,null,{"$f":"Control!$C$20+Control!$C$21*A265+Control!$C$22*A265^2","v":74.497840578323959}]
[266,1979,1979,null,null,null,null,null,null,null,null,null,{"$f":"Control!$C$20+Control!$C$21*A266+Control!$C$22*A266^2","v":74.794412965188883}]
[267,2566,2566,null,null,null,null,null,null,null,null,null,{"$f":"Control!$C$20+Control!$C$21*A267+Control!$C$22*A267^2","v":75.090985447689306}]
[268,2090,2090,null,null,null,null,null,null,null,null,null,{"$f":"Control!$C$20+Control!$C$21*A268+Control!$C$22*A268^2","v":75.387558025825228}]
[269,1238,1238,null,null,null,null,null,null,null,null,null,{"$f":"Control!$C$20+Control!$C$21*A269+Control!$C$22*A269^2","v":75.684130699596651}]
[270,758,758,null,null,null,null,null,null,null,null,null,{"$f":"Control!$C$20+Control!$C$21*A270+Control!$C$22*A270^2","v":75.980703469003572}]
[271,727,727,null,null,null,null,null,null,null,null,null,{"$f":"Control!$C$20+Control!$C$21*A271+Control!$C$22*A271^2","v":76.277276334045993}]
[272,908,908,null,null,null,null,null,null,null,null,null,{"$f":"Control!$C$20+Control!$C$21*A272+Control!$C$22*A272^2","v":76.573849294723914}]
[273,1710,1710,null,null,null,null,null,null,null,null,null,{"$f":"Control!$C$20+Control!$C$21*A273+Control!$C$22*A273^2","v":76.870422351037334}]
[274,2576,2576,null,null,null,null,null,null,null,null,null,{"$f":"Control!$C$20+Control!$C$21*A274+Control!$C$22*A274^2","v":77.166995502986254}]
[275,2669,2669,null,null,null,null,null,null,null,null,null,{"$f":"Control!$C$20+Control!$C$21*A275+Control!$C$22*A275^2","v":77.463568750570673}]
[276,1717,1717,null,null,null,null,null,null,null,null,null,{"$f":"Control!$C$20+Control!$C$21*A276+Control!$C$22*A276^2","v":77.760142093790591}]
[277,930,930,null,null,null,null,null,null,null,null,null,{"$f":"Control!$C$20+Control!$C$21*A277+Control!$C$22*A277^2","v":78.05671553264601}]
[278,626,626,null,null,null,null,null,null,null,null,null,{"$f":"Control!$C$20+Control!$C$21*A278+Control!$C$22*A278^2","v":78.353289067136927}]
[279,588,588,null,null,null,null,null,null,null,null,null,{"$f":"Control!$C$20+Control!$C$21*A279+Control!$C$22*A279^2","v":78.649862697263345}]
[280,627,627,null,null,null,null,null,null,null,null,null,{"$f":"Control!$C$20+Control!$C$21*A280+Control!$C$22*A280^2","v":78.946436423025261}]
[281,691,691,null,null,null,null,null,null,null,null,null,{"$f":"Control!$C$20+Control!$C$21*A281+Control!$C$22*A281^2","v":79.243010244422678}]
[282,715,715,null,null,null,null,null,null,null,null,null,{"$f":"Control!$C$20+Control!$C$21*A282+Control!$C$22*A282^2","v":79.539584161455593}]
[283,723,723,null,null,null,null,null,null,null,null,null,{"$f":"Control!$C$20+Control!$C$21*A283+Control!$C$22*A283^2","v":79.836158174124009}]
[284,642,642,null,null,null,null,null,null,null,null,null,{"$f":"Control!$C$20+Control!$C$21*A284+Control!$C$22*A284^2","v":80.132732282427924}]
[285,609,609,null,null,null,null,null,null,null,null,null,{"$f":"Control!$C$20+Control!$C$21*A285+Control!$C$22*A285^2","v":80.429306486367338}]
[286,600,600,null,null,null,null,null,null,null,null,null,{"$f":"Control!$C$20+Control!$C$21*A286+Control!$C$22*A286^2","v":80.725880785942252}]
[287,652,652,null,null,null,null,null,null,null,null,null,{"$f":"Control!$C$20+Control!$C$21*A287+Control!$C$22*A287^2","v":81.022455181152665}]
[288,728,728,null,null,null,null,null,null,null,null,null,{"$f":"Control!$C$20+Control!$C$21*A288+Control!$C$22*A288^2","v":81.319029671998578}]
[289,645,645,null,null,null,null,null,null,null,null,null,{"$f":"Control!$C$20+Control!$C$21*A289+Control!$C$22*A289^2","v":81.615604258479991}]
[290,664,664,null,null,null,null,null,null,null,null,null,{"$f":"Control!$C$20+Control!$C$21*A290+Control!$C$22*A290^2","v":81.912178940596903}]
[291,595,595,null,null,null,null,null,null,null,null,null,{"$f":"Control!$C$20+Control!$C$21*A291+Control!$C$22*A291^2","v":82.208753718349314}]
[292,649,649,null,null,null,null,null,null,null,null,null,{"$f":"Control!$C$20+Control!$C$21*A292+Control!$C$22*A292^2","v":82.505328591737225}]
[293,629,629,null,null,null,null,null,null,null,null,null,{"$f":"Control!$C$20+Control!$C$21*A293+Control!$C$22*A293^2","v":82.801903560760636}]
[294,604,604,null,null,null,null,null,null,null,null,null,{"$f":"Control!$C$20+Control!$C$21*A294+Control!$C$22*A294^2","v":83.098478625419546}]
[295,678,678,null,null,null,null,null,null,null,null,null,{"$f":"Control!$C$20+Control!$C$21*A295+Control!$C$22*A295^2","v":83.395053785713955}]
[296,723,723,null,null,null,null,null,null,null,null,null,{"$f":"Control!$C$20+Control!$C$21*A296+Control!$C$22*A296^2","v":83.691629041643864}]
[297,905,905,null,null,null,null,null,null,null,null,null,{"$f":"Control!$C$20+Control!$C$21*A297+Control!$C$22*A297^2","v":83.988204393209273}]
[298,1033,1033,null,null,null,null,null,null,null,null,null,{"$f":"Control!$C$20+Control!$C$21*A298+Control!$C$22*A298^2","v":84.284779840410181}]
[299,1192,1192,null,null,null,null,null,null,null,null,null,{"$f":"Control!$C$20+Control!$C$21*A299+Control!$C$22*A299^2","v":84.581355383246589}]
[300,1165,1165,null,null,null,null,null,null,null,null,null,{"$f":"Control!$C$20+Control!$C$21*A300+Control!$C$22*A300^2","v":84.877931021718496}]
[301,1059,1059,null,null,null,null,null,null,null,null,null,{"$f":"Control!$C$20+Control!$C$21*A301+Control!$C$22*A301^2","v":85.174506755825902}]
[302,842,842,null,null,null,null,null,null,null,null,null,{"$f":"Control!$C$20+Control!$C$21*A302+Control!$C$22*A302^2","v":85.471082585568809}]
[303,752,752,null,null,null,null,null,null,null,null,null,{"$f":"Control!$C$20+Control!$C$21*A303+Control!$C$22*A303^2","v":85.767658510947214}]
[304,600,600,null,null,null,null,null,null,null,null,null,{"$f":"Control!$C$20+Control!$C$21*A304+Control!$C$22*A304^2","v":86.06423453196112}]
[305,564,564,null,null,null,null,null,null,null,null,null,{"$f":"Control!$C$20+Control!$C$21*A305+Control!$C$22*A305^2","v":86.360810648610524}]
[306,730,730,null,null,null,null,null,null,null,null,null,{"$f":"Control!$C$20+Control!$C$21*A306+Control!$C$22*A306^2","v":86.657386860895429}]
[307,933,933,null,null,null,null,null,null,null,null,null,{"$f":"Control!$C$20+Control!$C$21*A307+Control!$C$22*A307^2","v":86.953963168815832}]
[308,1122,1122,null,null,null,null,null,null,null,null,null,{"$f":"Control!$C$20+Control!$C$21*A308+Control!$C$22*A308^2","v":87.250539572371736}]
[309,1427,1427,null,null,null,null,null,null,null,null,null,{"$f":"Control!$C$20+Control!$C$21*A309+Control!$C$22*A309^2","v":87.547116071563138}]
[310,1117,1117,null,null,null,null,null,null,null,null,null,{"$f":"Control!$C$20+Control!$C$21*A310+Control!$C$22*A310^2","v":87.843692666390041}]
[311,792,792,null,null,null,null,null,null,null,null,null,{"$f":"Control!$C$20+Control!$C$21*A311+Control!$C$22*A311^2","v":88.140269356852443}]
[312,652,652,null,null,null,null,null,null,null,null,null,{"$f":"Control!$C$20+Control!$C$21*A312+Control!$C$22*A312^2","v":88.436846142950344}]
[313,551,551,null,null,null,null,null,null,null,null,null,{"$f":"Control!$C$20+Control!$C$21*A313+Control!$C$22*A313^2","v":88.733423024683745}]
[314,587,587,null,null,null,null,null,null,null,null,null,{"$f":"Control!$C$20+Control!$C$21*A314+Control!$C$22*A314^2","v":89.030000002052645}]
[315,645,645,null,null,null,null,null,null,null,null,null,{"$f":"Control!$C$20+Control!$C$21*A315+Control!$C$22*A315^2","v":89.326577075057045}]
[316,689,689,null,null,null,null,null,null,null,null,null,{"$f":"Control!$C$20+Control!$C$21*A316+Control!$C$22*A316^2","v":89.623154243696945}]
[317,942,942,null,null,null,null,null,null,null,null,null,{"$f":"Control!$C$20+Control!$C$21*A317+Control!$C$22*A317^2","v":89.919731507972344}]
[318,967,967,null,null,null,null,null,null,null,null,null,{"$f":"Control!$C$20+Control!$C$21*A318+Control!$C$22*A318^2","v":90.216308867883242}]
[319,830,830,null,null,null,null,null,null,null,null,null,{"$f":"Control!$C$20+Control!$C$21*A319+Control!$C$22*A319^2","v":90.51288632342964}]
[320,670,670,null,null,null,null,null,null,null,null,null,{"$f":"Control!$C$20+Control!$C$21*A320+Control!$C$22*A320^2","v":90.809463874611538}]
[321,533,533,null,null,null,null,null,null,null,null,null,{"$f":"Control!$C$20+Control!$C$21*A321+Control!$C$22*A321^2","v":91.106041521428935}]
[322,564,564,null,null,null,null,null,null,null,null,null,{"$f":"Control!$C$20+Control!$C$21*A322+Control!$C$22*A322^2","v":91.402619263881832}]
[323,566,566,null,null,null,null,null,null,null,null,null,{"$f":"Control!$C$20+Control!$C$21*A323+Control!$C$22*A323^2","v":91.699197101970228}]
[324,914,914,null,null,null,null,null,null,null,null,null,{"$f":"Control!$C$20+Control!$C$21*A324+Control!$C$22*A324^2","v":91.995775035694123}]
[325,1731,1731,null,null,null,null,null,null,null,null,null,{"$f":"Control!$C$20+Control!$C$21*A325+Control!$C$22*A325^2","v":92.292353065053518}]
[326,2846,2846,null,null,null,null,null,null,null,null,null,{"$f":"Control!$C$20+Control!$C$21*A326+Control!$C$22*A326^2","v":92.588931190048413}]
[327,3107,3107,null,null,null,null,null,null,null,null,null,{"$f":"Control!$C$20+Control!$C$21*A327+Control!$C$22*A327^2","v":92.885509410678807}]
[328,2642,2642,null,null,null,null,null,null,null,null,null,{"$f":"Control!$C$20+Control!$C$21*A328+Control!$C$22*A328^2","v":93.182087726944701}]
[329,1644,1644,null,null,null,null,null,null,null,null,null,{"$f":"Control!$C$20+Control!$C$21*A329+Control!$C$22*A329^2","v":93.478666138846094}]
[330,1010,1010,null,null,null,null,null,null,null,null,null,{"$f":"Control!$C$20+Control!$C$21*A330+Control!$C$22*A330^2","v":93.775244646382987}]
[331,724,724,null,null,null,null,null,null,null,null,null,{"$f":"Control!$C$20+Control!$C$21*A331+Control!$C$22*A331^2","v":94.071823249555379}]
[332,601,601,null,null,null,null,null,null,null,null,null,{"$f":"Control!$C$20+Control!$C$21*A332+Control!$C$22*A332^2","v":94.368401948363271}]
[333,591,591,null,null,null,null,null,null,null,null,null,{"$f":"Control!$C$20+Control!$C$21*A333+Control!$C$22*A333^2","v":94.664980742806662}]
[334,623,623,null,null,null,null,null,null,null,null,null,{"$f":"Control!$C$20+Control!$C$21*A334+Control!$C$22*A334^2","v":94.961559632885553}]
[335,600,600,null,null,null,null,null,null,null,null,null,{"$f":"Control!$C$20+Control!$C$21*A335+Control!$C$22*A335^2","v":95.258138618599943}]
[336,524,524,null,null,null,null,null,null,null,null,null,{"$f":"Control!$C$20+Control!$C$21*A336+Control!$C$22*A336^2","v":95.554717699949833}]
[337,503,503,null,null,null,null,null,null,null,null,null,{"$f":"Control!$C$20+Control!$C$21*A337+Control!$C$22*A337^2","v":95.851296876935223}]
[338,504,504,null,null,null,null,null,null,null,null,null,{"$f":"Control!$C$20+Control!$C$21*A338+Control!$C$22*A338^2","v":96.147876149556112}]
[339,528,528,null,null,null,null,null,null,null,null,null,{"$f":"Control!$C$20+Control!$C$21*A339+Control!$C$22*A339^2","v":96.4444555178125}]
[340,527,527,null,null,null,null,null,null,null,null,null,{"$f":"Control!$C$20+Control!$C$21*A340+Control!$C$22*A340^2","v":96.741034981704388}]
[341,509,509,null,null,null,null,null,null,null,null,null,{"$f":"Control!$C$20+Control!$C$21*A341+Control!$C$22*A341^2","v":97.037614541231775}]
[342,512,512,null,null,null,null,null,null,null,null,null,{"$f":"Control!$C$20+Control!$C$21*A342+Control!$C$22*A342^2","v":97.334194196394662}]
[343,524,524,null,null,null,null,null,null,null,null,null,{"$f":"Control!$C$20+Control!$C$21*A343+Control!$C$22*A343^2","v":97.630773947193049}]
[344,538,538,null,null,null,null,null,null,null,null,null,{"$f":"Control!$C$20+Control!$C$21*A344+Control!$C$22*A344^2","v":97.927353793626935}]
[345,551,551,null,null,null,null,null,null,null,null,null,{"$f":"Control!$C$20+Control!$C$21*A345+Control!$C$22*A345^2","v":98.22393373569632}]
[346,645,645,null,null,null,null,null,null,null,null,null,{"$f":"Control!$C$20+Control!$C$21*A346+Control!$C$22*A346^2","v":98.520513773401206}]
[347,551,574,16,null,null,null,null,null,null,null,null,{"$f":"Control!$C$20+Control!$C$21*A347+Control!$C$22*A347^2","v":98.81709390674159}]
[348,700,696,165,null,null,null,null,null,null,null,null,{"$f":"Control!$C$20+Control!$C$21*A348+Control!$C$22*A348^2","v":99.113674135717474}]
[349,1405,1381,870,null,null,null,null,null,null,null,null,{"$f":"Control!$C$20+Control!$C$21*A349+Control!$C$22*A349^2","v":99.410254460328858}]
[350,2888,2843,2353,null,null,null,null,null,null,null,null,{"$f":"Control!$C$20+Control!$C$21*A350+Control!$C$22*A350^2","v":99.706834880575741}]
[351,3797,3917,3262,null,null,null,null,null,null,null,null,{"$f":"Control!$C$20+Control!$C$21*A351+Control!$C$22*A351^2","v":100.00341539645812}]
[352,2852,2861,2317,null,null,null,null,null,null,null,null,{"$f":"Control!$C$20+Control!$C$21*A352+Control!$C$22*A352^2","v":100.29999600797601}]
[353,1378,1454,843,null,null,null,null,null,null,null,null,{"$f":"Control!$C$20+Control!$C$21*A353+Control!$C$22*A353^2","v":100.59657671512939}]
[354,692,698,157,null,null,null,null,null,null,null,null,{"$f":"Control!$C$20+Control!$C$21*A354+Control!$C$22*A354^2","v":100.89315751791827}]
[355,550,499,15,null,null,null,null,null,null,null,null,{"$f":"Control!$C$20+Control!$C$21*A355+Control!$C$22*A355^2","v":101.18973841634265}]
[356,507,507,null,null,null,null,null,null,null,null,null,{"$f":"Control!$C$20+Control!$C$21*A356+Control!$C$22*A356^2","v":101.48631941040253}]
[357,471,471,null,null,null,null,null,null,null,null,null,{"$f":"Control!$C$20+Control!$C$21*A357+Control!$C$22*A357^2","v":101.78290050009791}]
[358,487,487,null,null,null,null,null,null,null,null,null,{"$f":"Control!$C$20+Control!$C$21*A358+Control!$C$22*A358^2","v":102.07948168542879}]
[359,483,483,null,null,null,null,null,null,null,null,null,{"$f":"Control!$C$20+Control!$C$21*A359+Control!$C$22*A359^2","v":102.37606296639517}]
[360,501,501,null,null,null,null,null,null,null,null,null,{"$f":"Control!$C$20+Control!$C$21*A360+Control!$C$22*A360^2","v":102.67264434299705}]
[361,499,499,null,null,null,null,null,null,null,null,null,{"$f":"Control!$C$20+Control!$C$21*A361+Control!$C$22*A361^2","v":102.96922581523442}]
[362,513,513,null,null,null,null,null,null,null,null,null,{"$f":"Control!$C$20+Control!$C$21*A362+Control!$C$22*A362^2","v":103.2658073831073}]
[363,517,517,null,null,null,null,null,null,null,null,null,{"$f":"Control!$C$20+Control!$C$21*A363+Control!$C$22*A363^2","v":103.56238904661568}]
[364,485,485,null,null,null,null,null,null,null,null,null,{"$f":"Control!$C$20+Control!$C$21*A364+Control!$C$22*A364^2","v":103.85897080575955}]
[365,532,532,null,null,null,null,null,null,null,null,null,{"$f":"Control!$C$20+Control!$C$21*A365+Control!$C$22*A365^2","v":104.15555266053893}]
[366,514,514,null,null,null,null,null,null,null,null,null,{"$f":"Control!$C$20+Control!$C$21*A366+Control!$C$22*A366^2","v":104.45213461095381}]
[367,542,542,null,null,null,null,null,null,null,null,null,{"$f":"Control!$C$20+Control!$C$21*A367+Control!$C$22*A367^2","v":104.74871665700418}]
[368,526,526,null,null,null,null,null,null,null,null,null,{"$f":"Control!$C$20+Control!$C$21*A368+Control!$C$22*A368^2","v":105.04529879869006}]
[369,569,569,null,null,null,null,null,null,null,null,null,{"$f":"Control!$C$20+Control!$C$21*A369+Control!$C$22*A369^2","v":105.34188103601143}]
[370,564,564,null,null,null,null,null,null,null,null,null,{"$f":"Control!$C$20+Control!$C$21*A370+Control!$C$22*A370^2","v":105.6384633689683}]
[371,601,601,null,null,null,null,null,null,null,null,null,{"$f":"Control!$C$20+Control!$C$21*A371+Control!$C$22*A371^2","v":105.93504579756068}]
[372,565,565,null,null,null,null,null,null,null,null,null,{"$f":"Control!$C$20+Control!$C$21*A372+Control!$C$22*A372^2","v":106.23162832178855}]
[373,546,546,null,null,null,null,null,null,null,null,null,{"$f":"Control!$C$20+Control!$C$21*A373+Control!$C$22*A373^2","v":106.52821094165192}]
[374,507,507,null,null,null,null,null,null,null,null,null,{"$f":"Control!$C$20+Control!$C$21*A374+Control!$C$22*A374^2","v":106.82479365715079}]
[375,513,513,null,null,null,null,null,null,null,null,null,{"$f":"Control!$C$20+Control!$C$21*A375+Control!$C$22*A375^2","v":107.12137646828516}]
[376,514,514,null,null,null,null,null,null,null,null,null,{"$f":"Control!$C$20+Control!$C$21*A376+Control!$C$22*A376^2","v":107.41795937505503}]
[377,523,523,null,null,null,null,null,null,null,null,null,{"$f":"Control!$C$20+Control!$C$21*A377+Control!$C$22*A377^2","v":107.7145423774604}]
[378,515,515,null,null,null,null,null,null,null,null,null,{"$f":"Control!$C$20+Control!$C$21*A378+Control!$C$22*A378^2","v":108.01112547550127}]
[379,543,543,null,null,null,null,null,null,null,null,null,{"$f":"Control!$C$20+Control!$C$21*A379+Control!$C$22*A379^2","v":108.30770866917764}]
[380,526,526,null,null,null,null,null,null,null,null,null,{"$f":"Control!$C$20+Control!$C$21*A380+Control!$C$22*A380^2","v":108.60429195848951}]
[381,575,575,null,null,null,null,null,null,null,null,null,{"$f":"Control!$C$20+Control!$C$21*A381+Control!$C$22*A381^2","v":108.90087534343688}]
[382,578,578,null,null,null,null,null,null,null,null,null,{"$f":"Control!$C$20+Control!$C$21*A382+Control!$C$22*A382^2","v":109.19745882401975}]
[383,551,551,null,null,null,null,null,null,null,null,null,{"$f":"Control!$C$20+Control!$C$21*A383+Control!$C$22*A383^2","v":109.49404240023811}]
[384,501,501,null,null,null,null,null,null,null,null,null,{"$f":"Control!$C$20+Control!$C$21*A384+Control!$C$22*A384^2","v":109.79062607209198}]
[385,515,515,null,null,null,null,null,null,null,null,null,{"$f":"Control!$C$20+Control!$C$21*A385+Control!$C$22*A385^2","v":110.08720983958135}]
[386,576,576,null,null,null,null,null,null,null,null,null,{"$f":"Control!$C$20+Control!$C$21*A386+Control!$C$22*A386^2","v":110.38379370270621}]
[387,524,524,null,null,null,null,null,null,null,null,null,{"$f":"Control!$C$20+Control!$C$21*A387+Control!$C$22*A387^2","v":110.68037766146658}]
[388,532,532,null,null,null,null,null,null,null,null,null,{"$f":"Control!$C$20+Control!$C$21*A388+Control!$C$22*A388^2","v":110.97696171586244}]
[389,544,544,null,null,null,null,null,null,null,null,null,{"$f":"Control!$C$20+Control!$C$21*A389+Control!$C$22*A389^2","v":111.27354586589381}]
[390,558,558,null,null,null,null,null,null,null,null,null,{"$f":"Control!$C$20+Control!$C$21*A390+Control!$C$22*A390^2","v":111.57013011156067}]
[391,504,504,null,null,null,null,null,null,null,null,null,{"$f":"Control!$C$20+Control!$C$21*A391+Control!$C$22*A391^2","v":111.86671445286304}]
[392,557,557,null,null,null,null,null,null,null,null,null,{"$f":"Control!$C$20+Control!$C$21*A392+Control!$C$22*A392^2","v":112.1632988898009}]
[393,600,600,null,null,null,null,null,null,null,null,null,{"$f":"Control!$C$20+Control!$C$21*A393+Control!$C$22*A393^2","v":112.45988342237426}]
[394,662,662,null,null,null,null,null,null,null,null,null,{"$f":"Control!$C$20+Control!$C$21*A394+Control!$C$22*A394^2","v":112.75646805058312}]
[395,639,639,null,null,null,null,null,null,null,null,null,{"$f":"Control!$C$20+Control!$C$21*A395+Control!$C$22*A395^2","v":113.05305277442748}]
[396,628,628,null,null,null,null,null,null,null,null,null,{"$f":"Control!$C$20+Control!$C$21*A396+Control!$C$22*A396^2","v":113.34963759390735}]
[397,520,520,null,null,null,null,null,null,null,null,null,{"$f":"Control!$C$20+Control!$C$21*A397+Control!$C$22*A397^2","v":113.64622250902271}]
[398,559,559,null,null,null,null,null,null,null,null,null,{"$f":"Control!$C$20+Control!$C$21*A398+Control!$C$22*A398^2","v":113.94280751977357}]
[399,521,521,null,null,null,null,null,null,null,null,null,{"$f":"Control!$C$20+Control!$C$21*A399+Control!$C$22*A399^2","v":114.23939262615993}]
[400,509,509,null,null,null,null,null,null,null,null,null,{"$f":"Control!$C$20+Control!$C$21*A400+Control!$C$22*A400^2","v":114.53597782818179}]
[401,521,521,null,null,null,null,null,null,null,null,null,{"$f":"Control!$C$20+Control!$C$21*A401+Control!$C$22*A401^2","v":114.83256312583914}]
[402,563,563,null,null,null,null,null,null,null,null,null,{"$f":"Control!$C$20+Control!$C$21*A402+Control!$C$22*A402^2","v":115.129148519132}]
[403,553,553,null,null,null,null,null,null,null,null,null,{"$f":"Control!$C$20+Control!$C$21*A403+Control!$C$22*A403^2","v":115.42573400806036}]
[404,539,539,null,null,null,null,null,null,null,null,null,{"$f":"Control!$C$20+Control!$C$21*A404+Control!$C$22*A404^2","v":115.72231959262422}]
[405,530,530,null,null,null,null,null,null,null,null,null,{"$f":"Control!$C$20+Control!$C$21*A405+Control!$C$22*A405^2","v":116.01890527282357}]
[406,526,526,null,null,null,null,null,null,null,null,null,{"$f":"Control!$C$20+Control!$C$21*A406+Control!$C$22*A406^2","v":116.31549104865843}]
[407,504,504,null,null,null,null,null,null,null,null,null,{"$f":"Control!$C$20+Control!$C$21*A407+Control!$C$22*A407^2","v":116.61207692012879}]
[408,527,527,null,null,null,null,null,null,null,null,null,{"$f":"Control!$C$20+Control!$C$21*A408+Control!$C$22*A408^2","v":116.90866288723464}]
[409,474,474,null,null,null,null,null,null,null,null,null,{"$f":"Control!$C$20+Control!$C$21*A409+Control!$C$22*A409^2","v":117.205248949976}]
[410,518,518,null,null,null,null,null,null,null,null,null,{"$f":"Control!$C$20+Control!$C$21*A410+Control!$C$22*A410^2","v":117.50183510835285}]
[411,482,482,null,null,null,null,null,null,null,null,null,{"$f":"Control!$C$20+Control!$C$21*A411+Control!$C$22*A411^2","v":117.7984213623652}]
[412,502,502,null,null,null,null,null,null,null,null,null,{"$f":"Control!$C$20+Control!$C$21*A412+Control!$C$22*A412^2","v":118.09500771201306}]
[413,473,473,null,null,null,null,null,null,null,null,null,{"$f":"Control!$C$20+Control!$C$21*A413+Control!$C$22*A413^2","v":118.39159415729641}]
[414,473,473,null,null,null,null,null,null,null,null,null,{"$f":"Control!$C$20+Control!$C$21*A414+Control!$C$22*A414^2","v":118.68818069821526}]
[415,512,512,null,null,null,null,null,null,null,null,null,{"$f":"Control!$C$20+Control!$C$21*A415+Control!$C$22*A415^2","v":118.98476733476961}]
[416,496,496,null,null,null,null,null,null,null,null,null,{"$f":"Control!$C$20+Control!$C$21*A416+Control!$C$22*A416^2","v":119.28135406695947}]
[417,436,436,null,null,null,null,null,null,null,null,null,{"$f":"Control!$C$20+Control!$C$21*A417+Control!$C$22*A417^2","v":119.57794089478482}]
[418,536,536,null,null,null,null,null,null,null,null,null,{"$f":"Control!$C$20+Control!$C$21*A418+Control!$C$22*A418^2","v":119.87452781824567}]
[419,511,511,null,null,null,null,null,null,null,null,null,{"$f":"Control!$C$20+Control!$C$21*A419+Control!$C$22*A419^2","v":120.17111483734202}]
[420,462,462,null,null,null,null,null,null,null,null,null,{"$f":"Control!$C$20+Control!$C$21*A420+Control!$C$22*A420^2","v":120.46770195207387}]
[421,512,512,null,null,null,null,null,null,null,null,null,{"$f":"Control!$C$20+Control!$C$21*A421+Control!$C$22*A421^2","v":120.76428916244122}]
[422,541,541,null,null,null,null,null,null,null,null,null,{"$f":"Control!$C$20+Control!$C$21*A422+Control!$C$22*A422^2","v":121.06087646844406}]
[423,547,547,null,null,null,null,null,null,null,null,null,{"$f":"Control!$C$20+Control!$C$21*A423+Control!$C$22*A423^2","v":121.35746387008241}]
[424,530,530,null,null,null,null,null,null,null,null,null,{"$f":"Control!$C$20+Control!$C$21*A424+Control!$C$22*A424^2","v":121.65405136735626}]
[425,505,505,null,null,null,null,null,null,null,null,null,{"$f":"Control!$C$20+Control!$C$21*A425+Control!$C$22*A425^2","v":121.95063896026561}]
[426,525,525,null,null,null,null,null,null,null,null,null,{"$f":"Control!$C$20+Control!$C$21*A426+Control!$C$22*A426^2","v":122.24722664881045}]
[427,461,461,null,null,null,null,null,null,null,null,null,{"$f":"Control!$C$20+Control!$C$21*A427+Control!$C$22*A427^2","v":122.5438144329908}]
[428,467,467,null,null,null,null,null,null,null,null,null,{"$f":"Control!$C$20+Control!$C$21*A428+Control!$C$22*A428^2","v":122.84040231280665}]
[429,508,508,null,null,null,null,null,null,null,null,null,{"$f":"Control!$C$20+Control!$C$21*A429+Control!$C$22*A429^2","v":123.13699028825799}]
[430,507,507,null,null,null,null,null,null,null,null,null,{"$f":"Control!$C$20+Control!$C$21*A430+Control!$C$22*A430^2","v":123.43357835934484}]
[431,507,507,null,null,null,null,null,null,null,null,null,{"$f":"Control!$C$20+Control!$C$21*A431+Control!$C$22*A431^2","v":123.73016652606718}]
[432,502,502,null,null,null,null,null,null,null,null,null,{"$f":"Control!$C$20+Control!$C$21*A432+Control!$C$22*A432^2","v":124.02675478842502}]
[433,523,523,null,null,null,null,null,null,null,null,null,{"$f":"Control!$C$20+Control!$C$21*A433+Control!$C$22*A433^2","v":124.32334314641837}]
[434,503,503,null,null,null,null,null,null,null,null,null,{"$f":"Control!$C$20+Control!$C$21*A434+Control!$C$22*A434^2","v":124.61993160004721}]
[435,596,596,null,null,null,null,null,null,null,null,null,{"$f":"Control!$C$20+Control!$C$21*A435+Control!$C$22*A435^2","v":124.91652014931155}]
[436,524,524,null,null,null,null,null,null,null,null,null,{"$f":"Control!$C$20+Control!$C$21*A436+Control!$C$22*A436^2","v":125.21310879421139}]
[437,578,578,null,null,null,null,null,null,null,null,null,{"$f":"Control!$C$20+Control!$C$21*A437+Control!$C$22*A437^2","v":125.50969753474673}]
[438,522,522,null,null,null,null,null,null,null,null,null,{"$f":"Control!$C$20+Control!$C$21*A438+Control!$C$22*A438^2","v":125.80628637091758}]
[439,535,535,null,null,null,null,null,null,null,null,null,{"$f":"Control!$C$20+Control!$C$21*A439+Control!$C$22*A439^2","v":126.10287530272392}]
[440,563,563,null,null,null,null,null,null,null,null,null,{"$f":"Control!$C$20+Control!$C$21*A440+Control!$C$22*A440^2","v":126.39946433016576}]
[441,500,500,null,null,null,null,null,null,null,null,null,{"$f":"Control!$C$20+Control!$C$21*A441+Control!$C$22*A441^2","v":126.6960534532431}]
[442,516,516,null,null,null,null,null,null,null,null,null,{"$f":"Control!$C$20+Control!$C$21*A442+Control!$C$22*A442^2","v":126.99264267195593}]
[443,485,485,null,null,null,null,null,null,null,null,null,{"$f":"Control!$C$20+Control!$C$21*A443+Control!$C$22*A443^2","v":127.28923198630427}]
[444,493,493,null,null,null,null,null,null,null,null,null,{"$f":"Control!$C$20+Control!$C$21*A444+Control!$C$22*A444^2","v":127.58582139628811}]
[445,530,530,null,null,null,null,null,null,null,null,null,{"$f":"Control!$C$20+Control!$C$21*A445+Control!$C$22*A445^2","v":127.88241090190745}]
[446,559,559,null,null,null,null,null,null,null,null,null,{"$f":"Control!$C$20+Control!$C$21*A446+Control!$C$22*A446^2","v":128.17900050316229}]
[447,500,500,null,null,null,null,null,null,null,null,null,{"$f":"Control!$C$20+Control!$C$21*A447+Control!$C$22*A447^2","v":128.47559020005264}]
[448,592,592,null,null,null,null,null,null,null,null,null,{"$f":"Control!$C$20+Control!$C$21*A448+Control!$C$22*A448^2","v":128.77217999257846}]
[449,601,601,null,null,null,null,null,null,null,null,null,{"$f":"Control!$C$20+Control!$C$21*A449+Control!$C$22*A449^2","v":129.06876988073981}]
[450,729,729,null,null,null,null,null,null,null,null,null,{"$f":"Control!$C$20+Control!$C$21*A450+Control!$C$22*A450^2","v":129.36535986453663}]
[451,639,639,null,null,null,null,null,null,null,null,null,{"$f":"Control!$C$20+Control!$C$21*A451+Control!$C$22*A451^2","v":129.66194994396898}]
[452,554,554,null,null,null,null,null,null,null,null,null,{"$f":"Control!$C$20+Control!$C$21*A452+Control!$C$22*A452^2","v":129.9585401190368}]
[453,539,539,null,null,null,null,null,null,null,null,null,{"$f":"Control!$C$20+Control!$C$21*A453+Control!$C$22*A453^2","v":130.25513038974015}]
[454,511,511,null,null,null,null,null,null,null,null,null,{"$f":"Control!$C$20+Control!$C$21*A454+Control!$C$22*A454^2","v":130.55172075607896}]
[455,510,510,null,null,null,null,null,null,null,null,null,{"$f":"Control!$C$20+Control!$C$21*A455+Control!$C$22*A455^2","v":130.84831121805331}]
[456,523,523,null,null,null,null,null,null,null,null,null,{"$f":"Control!$C$20+Control!$C$21*A456+Control!$C$22*A456^2","v":131.14490177566313}]
[457,512,512,null,null,null,null,null,null,null,null,null,{"$f":"Control!$C$20+Control!$C$21*A457+Control!$C$22*A457^2","v":131.44149242890848}]
[458,556,556,null,null,null,null,null,null,null,null,null,{"$f":"Control!$C$20+Control!$C$21*A458+Control!$C$22*A458^2","v":131.73808317778929}]
[459,521,521,null,null,null,null,null,null,null,null,null,{"$f":"Control!$C$20+Control!$C$21*A459+Control!$C$22*A459^2","v":132.03467402230564}]
[460,494,494,null,null,null,null,null,null,null,null,null,{"$f":"Control!$C$20+Control!$C$21*A460+Control!$C$22*A460^2","v":132.33126496245745}]
[461,516,516,null,null,null,null,null,null,null,null,null,{"$f":"Control!$C$20+Control!$C$21*A461+Control!$C$22*A461^2","v":132.6278559982448}]
[462,486,486,null,null,null,null,null,null,null,null,null,{"$f":"Control!$C$20+Control!$C$21*A462+Control!$C$22*A462^2","v":132.92444712966761}]
[463,533,533,null,null,null,null,null,null,null,null,null,{"$f":"Control!$C$20+Control!$C$21*A463+Control!$C$22*A463^2","v":133.22103835672596}]
[464,489,489,null,null,null,null,null,null,null,null,null,{"$f":"Control!$C$20+Control!$C$21*A464+Control!$C$22*A464^2","v":133.51762967941977}]
[465,519,548,17,null,null,null,null,null,null,null,null,{"$f":"Control!$C$20+Control!$C$21*A465+Control!$C$22*A465^2","v":133.81422109774911}]
[466,656,669,154,null,null,null,null,null,null,null,null,{"$f":"Control!$C$20+Control!$C$21*A466+Control!$C$22*A466^2","v":134.11081261171392}]
[467,1229,1195,727,null,null,null,null,null,null,null,null,{"$f":"Control!$C$20+Control!$C$21*A467+Control!$C$22*A467^2","v":134.40740422131427}]
[468,2349,2416,1847,null,null,null,null,null,null,null,null,{"$f":"Control!$C$20+Control!$C$21*A468+Control!$C$22*A468^2","v":134.70399592655008}]
[469,3020,3088,2518,null,null,null,null,null,null,null,null,{"$f":"Control!$C$20+Control!$C$21*A469+Control!$C$22*A469^2","v":135.00058772742142}]
[470,2344,2262,1842,null,null,null,null,null,null,null,null,{"$f":"Control!$C$20+Control!$C$21*A470+Control!$C$22*A470^2","v":135.29717962392823}]
[471,1225,1153,723,null,null,null,null,null,null,null,null,{"$f":"Control!$C$20+Control!$C$21*A471+Control!$C$22*A471^2","v":135.59377161607057}]
[472,654,629,152,null,null,null,null,null,null,null,null,{"$f":"Control!$C$20+Control!$C$21*A472+Control!$C$22*A472^2","v":135.89036370384838}]
[473,519,456,17,null,null,null,null,null,null,null,null,{"$f":"Control!$C$20+Control!$C$21*A473+Control!$C$22*A473^2","v":136.18695588726172}]
[474,515,515,null,null,null,null,null,null,null,null,null,{"$f":"Control!$C$20+Control!$C$21*A474+Control!$C$22*A474^2","v":136.48354816631053}]
[475,530,530,null,null,null,null,null,null,null,null,null,{"$f":"Control!$C$20+Control!$C$21*A475+Control!$C$22*A475^2","v":136.78014054099486}]
[476,486,486,null,null,null,null,null,null,null,null,null,{"$f":"Control!$C$20+Control!$C$21*A476+Control!$C$22*A476^2","v":137.07673301131467}]
[477,510,510,null,null,null,null,null,null,null,null,null,{"$f":"Control!$C$20+Control!$C$21*A477+Control!$C$22*A477^2","v":137.37332557727001}]
[478,467,467,null,null,null,null,null,null,null,null,null,{"$f":"Control!$C$20+Control!$C$21*A478+Control!$C$22*A478^2","v":137.66991823886082}]
[479,512,512,null,null,null,null,null,null,null,null,null,{"$f":"Control!$C$20+Control!$C$21*A479+Control!$C$22*A479^2","v":137.96651099608715}]
[480,513,513,null,null,null,null,null,null,null,null,null,{"$f":"Control!$C$20+Control!$C$21*A480+Control!$C$22*A480^2","v":138.26310384894896}]
[481,556,556,null,null,null,null,null,null,null,null,null,{"$f":"Control!$C$20+Control!$C$21*A481+Control!$C$22*A481^2","v":138.55969679744629}]
[482,560,560,null,null,null,null,null,null,null,null,null,{"$f":"Control!$C$20+Control!$C$21*A482+Control!$C$22*A482^2","v":138.8562898415791}]
[483,527,527,null,null,null,null,null,null,null,null,null,{"$f":"Control!$C$20+Control!$C$21*A483+Control!$C$22*A483^2","v":139.15288298134743}]
[484,526,526,null,null,null,null,null,null,null,null,null,{"$f":"Control!$C$20+Control!$C$21*A484+Control!$C$22*A484^2","v":139.44947621675124}]
[485,508,508,null,null,null,null,null,null,null,null,null,{"$f":"Control!$C$20+Control!$C$21*A485+Control!$C$22*A485^2","v":139.74606954779057}]
[486,535,535,null,null,null,null,null,null,null,null,null,{"$f":"Control!$C$20+Control!$C$21*A486+Control!$C$22*A486^2","v":140.04266297446537}]
[487,549,549,null,null,null,null,null,null,null,null,null,{"$f":"Control!$C$20+Control!$C$21*A487+Control!$C$22*A487^2","v":140.3392564967757}]
[488,526,526,null,null,null,null,null,null,null,null,null,{"$f":"Control!$C$20+Control!$C$21*A488+Control!$C$22*A488^2","v":140.63585011472151}]
[489,518,518,null,null,null,null,null,null,null,null,null,{"$f":"Control!$C$20+Control!$C$21*A489+Control!$C$22*A489^2","v":140.93244382830284}]
[490,510,510,null,null,null,null,null,null,null,null,null,{"$f":"Control!$C$20+Control!$C$21*A490+Control!$C$22*A490^2","v":141.22903763751964}]
[491,490,490,null,null,null,null,null,null,null,null,null,{"$f":"Control!$C$20+Control!$C$21*A491+Control!$C$22*A491^2","v":141.52563154237197}]
[492,527,527,null,null,null,null,null,null,null,null,null,{"$f":"Control!$C$20+Control!$C$21*A492+Control!$C$22*A492^2","v":141.82222554285977}]
[493,526,526,null,null,null,null,null,null,null,null,null,{"$f":"Control!$C$20+Control!$C$21*A493+Control!$C$22*A493^2","v":142.1188196389831}]
[494,540,540,null,null,null,null,null,null,null,null,null,{"$f":"Control!$C$20+Control!$C$21*A494+Control!$C$22*A494^2","v":142.4154138307419}]
[495,511,511,null,null,null,null,null,null,null,null,null,{"$f":"Control!$C$20+Control!$C$21*A495+Control!$C$22*A495^2","v":142.71200811813623}]
[496,521,521,null,null,null,null,null,null,null,null,null,{"$f":"Control!$C$20+Control!$C$21*A496+Control!$C$22*A496^2","v":143.00860250116602}]
[497,575,575,null,null,null,null,null,null,null,null,null,{"$f":"Control!$C$20+Control!$C$21*A497+Control!$C$22*A497^2","v":143.30519697983135}]
[498,677,677,null,null,null,null,null,null,null,null,null,{"$f":"Control!$C$20+Control!$C$21*A498+Control!$C$22*A498^2","v":143.60179155413215}]
[499,746,746,null,null,null,null,null,null,null,null,null,{"$f":"Control!$C$20+Control!$C$21*A499+Control!$C$22*A499^2","v":143.89838622406847}]
[500,768,768,null,null,null,null,null,null,null,null,null,{"$f":"Control!$C$20+Control!$C$21*A500+Control!$C$22*A500^2","v":144.19498098964027}]
[501,619,619,null,null,null,null,null,null,null,null,null,{"$f":"Control!$C$20+Control!$C$21*A501+Control!$C$22*A501^2","v":144.4915758508476}]
[502,524,524,null,null,null,null,null,null,null,null,null,{"$f":"Control!$C$20+Control!$C$21*A502+Control!$C$22*A502^2","v":144.78817080769039}]
[503,566,566,null,null,null,null,null,null,null,null,null,{"$f":"Control!$C$20+Control!$C$21*A503+Control!$C$22*A503^2","v":145.08476586016872}]
[504,528,528,null,null,null,null,null,null,null,null,null,{"$f":"Control!$C$20+Control!$C$21*A504+Control!$C$22*A504^2","v":145.38136100828251}]
[505,498,498,null,null,null,null,null,null,null,null,null,{"$f":"Control!$C$20+Control!$C$21*A505+Control!$C$22*A505^2","v":145.67795625203183}]
[506,537,537,null,null,null,null,null,null,null,null,null,{"$f":"Control!$C$20+Control!$C$21*A506+Control!$C$22*A506^2","v":145.97455159141663}]
[507,562,562,null,null,null,null,null,null,null,null,null,{"$f":"Control!$C$20+Control!$C$21*A507+Control!$C$22*A507^2","v":146.27114702643695}]
[508,540,540,null,null,null,null,null,null,null,null,null,{"$f":"Control!$C$20+Control!$C$21*A508+Control!$C$22*A508^2","v":146.56774255709274}]
[509,528,528,null,null,null,null,null,null,null,null,null,{"$f":"Control!$C$20+Control!$C$21*A509+Control!$C$22*A509^2","v":146.86433818338406}]
[510,502,502,null,null,null,null,null,null,null,null,null,{"$f":"Control!$C$20+Control!$C$21*A510+Control!$C$22*A510^2","v":147.16093390531086}]
[511,496,496,null,null,null,null,null,null,null,null,null,{"$f":"Control!$C$20+Control!$C$21*A511+Control!$C$22*A511^2","v":147.45752972287318}]
[512,458,458,null,null,null,null,null,null,null,null,null,{"$f":"Control!$C$20+Control!$C$21*A512+Control!$C$22*A512^2","v":147.75412563607097}]
[513,534,534,null,null,null,null,null,null,null,null,null,{"$f":"Control!$C$20+Control!$C$21*A513+Control!$C$22*A513^2","v":148.05072164490429}]
[514,487,487,null,null,null,null,null,null,null,null,null,{"$f":"Control!$C$20+Control!$C$21*A514+Control!$C$22*A514^2","v":148.34731774937308}]
[515,538,538,null,null,null,null,null,null,null,null,null,{"$f":"Control!$C$20+Control!$C$21*A515+Control!$C$22*A515^2","v":148.64391394947739}]
[516,511,511,null,null,null,null,null,null,null,null,null,{"$f":"Control!$C$20+Control!$C$21*A516+Control!$C$22*A516^2","v":148.94051024521718}]
[517,520,520,null,null,null,null,null,null,null,null,null,{"$f":"Control!$C$20+Control!$C$21*A517+Control!$C$22*A517^2","v":149.2371066365925}]
[518,513,513,null,null,null,null,null,null,null,null,null,{"$f":"Control!$C$20+Control!$C$21*A518+Control!$C$22*A518^2","v":149.53370312360329}]
[519,524,524,null,null,null,null,null,null,null,null,null,{"$f":"Control!$C$20+Control!$C$21*A519+Control!$C$22*A519^2","v":149.8302997062496}]
[520,500,500,null,null,null,null,null,null,null,null,null,{"$f":"Control!$C$20+Control!$C$21*A520+Control!$C$22*A520^2","v":150.12689638453139}]
[521,525,525,null,null,null,null,null,null,null,null,null,{"$f":"Control!$C$20+Control!$C$21*A521+Control!$C$22*A521^2","v":150.42349315844871}]
[522,561,561,null,null,null,null,null,null,null,null,null,{"$f":"Control!$C$20+Control!$C$21*A522+Control!$C$22*A522^2","v":150.72009002800149}]
[523,485,485,null,null,null,null,null,null,null,null,null,{"$f":"Control!$C$20+Control!$C$21*A523+Control!$C$22*A523^2","v":151.01668699318981}]
[524,512,512,null,null,null,null,null,null,null,null,null,{"$f":"Control!$C$20+Control!$C$21*A524+Control!$C$22*A524^2","v":151.31328405401359}]
[525,510,510,null,null,null,null,null,null,null,null,null,{"$f":"Control!$C$20+Control!$C$21*A525+Control!$C$22*A525^2","v":151.60988121047291}]
[526,513,513,null,null,null,null,null,null,null,null,null,{"$f":"Control!$C$20+Control!$C$21*A526+Control!$C$22*A526^2","v":151.90647846256769}]
[527,499,499,null,null,null,null,null,null,null,null,null,{"$f":"Control!$C$20+Control!$C$21*A527+Control!$C$22*A527^2","v":152.203075810298}]
[528,509,509,null,null,null,null,null,null,null,null,null,{"$f":"Control!$C$20+Control!$C$21*A528+Control!$C$22*A528^2","v":152.49967325366379}]
[529,487,487,null,null,null,null,null,null,null,null,null,{"$f":"Control!$C$20+Control!$C$21*A529+Control!$C$22*A529^2","v":152.7962707926651}]
[530,522,522,null,null,null,null,null,null,null,null,null,{"$f":"Control!$C$20+Control!$C$21*A530+Control!$C$22*A530^2","v":153.09286842730188}]
[531,521,521,null,null,null,null,null,null,null,null,null,{"$f":"Control!$C$20+Control!$C$21*A531+Control!$C$22*A531^2","v":153.38946615757419}]
[532,562,562,null,null,null,null,null,null,null,null,null,{"$f":"Control!$C$20+Control!$C$21*A532+Control!$C$22*A532^2","v":153.68606398348197}]
[533,550,550,null,null,null,null,null,null,null,null,null,{"$f":"Control!$C$20+Control!$C$21*A533+Control!$C$22*A533^2","v":153.98266190502528}]
[534,540,540,null,null,null,null,null,null,null,null,null,{"$f":"Control!$C$20+Control!$C$21*A534+Control!$C$22*A534^2","v":154.27925992220406}]
[535,575,575,null,null,null,null,null,null,null,null,null,{"$f":"Control!$C$20+Control!$C$21*A535+Control!$C$22*A535^2","v":154.57585803501837}]
[536,504,504,null,null,null,null,null,null,null,null,null,{"$f":"Control!$C$20+Control!$C$21*A536+Control!$C$22*A536^2","v":154.87245624346815}]
[537,511,511,null,null,null,null,null,null,null,null,null,{"$f":"Control!$C$20+Control!$C$21*A537+Control!$C$22*A537^2","v":155.16905454755346}]
[538,464,464,null,null,null,null,null,null,null,null,null,{"$f":"Control!$C$20+Control!$C$21*A538+Control!$C$22*A538^2","v":155.46565294727424}]
[539,498,498,null,null,null,null,null,null,null,null,null,{"$f":"Control!$C$20+Control!$C$21*A539+Control!$C$22*A539^2","v":155.76225144263054}]
[540,503,503,null,null,null,null,null,null,null,null,null,{"$f":"Control!$C$20+Control!$C$21*A540+Control!$C$22*A540^2","v":156.05885003362232}]
[541,470,470,null,null,null,null,null,null,null,null,null,{"$f":"Control!$C$20+Control!$C$21*A541+Control!$C$22*A541^2","v":156.35544872024963}]
[542,459,459,null,null,null,null,null,null,null,null,null,{"$f":"Control!$C$20+Control!$C$21*A542+Control!$C$22*A542^2","v":156.6520475025124}]
[543,521,521,null,null,null,null,null,null,null,null,null,{"$f":"Control!$C$20+Control!$C$21*A543+Control!$C$22*A543^2","v":156.94864638041071}]
[544,501,501,null,null,null,null,null,null,null,null,null,{"$f":"Control!$C$20+Control!$C$21*A544+Control!$C$22*A544^2","v":157.24524535394448}]
[545,501,501,null,null,null,null,null,null,null,null,null,{"$f":"Control!$C$20+Control!$C$21*A545+Control!$C$22*A545^2","v":157.54184442311379}]
[546,517,517,null,null,null,null,null,null,null,null,null,{"$f":"Control!$C$20+Control!$C$21*A546+Control!$C$22*A546^2","v":157.83844358791856}]
[547,540,540,null,null,null,null,null,null,null,null,null,{"$f":"Control!$C$20+Control!$C$21*A547+Control!$C$22*A547^2","v":158.13504284835886}]
[548,520,520,null,null,null,null,null,null,null,null,null,{"$f":"Control!$C$20+Control!$C$21*A548+Control!$C$22*A548^2","v":158.43164220443464}]
[549,501,501,null,null,null,null,null,null,null,null,null,{"$f":"Control!$C$20+Control!$C$21*A549+Control!$C$22*A549^2","v":158.72824165614594}]
[550,464,464,null,null,null,null,null,null,null,null,null,{"$f":"Control!$C$20+Control!$C$21*A550+Control!$C$22*A550^2","v":159.02484120349271}]
[551,508,508,null,null,null,null,null,null,null,null,null,{"$f":"Control!$C$20+Control!$C$21*A551+Control!$C$22*A551^2","v":159.32144084647501}]
[552,522,522,null,null,null,null,null,null,null,null,null,{"$f":"Control!$C$20+Control!$C$21*A552+Control!$C$22*A552^2","v":159.61804058509279}]
[553,514,514,null,null,null,null,null,null,null,null,null,{"$f":"Control!$C$20+Control!$C$21*A553+Control!$C$22*A553^2","v":159.91464041934609}]
[554,499,499,null,null,null,null,null,null,null,null,null,{"$f":"Control!$C$20+Control!$C$21*A554+Control!$C$22*A554^2","v":160.21124034923486}]
[555,478,478,null,null,null,null,null,null,null,null,null,{"$f":"Control!$C$20+Control!$C$21*A555+Control!$C$22*A555^2","v":160.50784037475916}]
[556,498,498,null,null,null,null,null,null,null,null,null,{"$f":"Control!$C$20+Control!$C$21*A556+Control!$C$22*A556^2","v":160.80444049591893}]
[557,524,524,null,null,null,null,null,null,null,null,null,{"$f":"Control!$C$20+Control!$C$21*A557+Control!$C$22*A557^2","v":161.10104071271422}]
[558,509,509,null,null,null,null,null,null,null,null,null,{"$f":"Control!$C$20+Control!$C$21*A558+Control!$C$22*A558^2","v":161.39764102514499}]
[559,459,459,null,null,null,null,null,null,null,null,null,{"$f":"Control!$C$20+Control!$C$21*A559+Control!$C$22*A559^2","v":161.69424143321129}]
[560,505,505,null,null,null,null,null,null,null,null,null,{"$f":"Control!$C$20+Control!$C$21*A560+Control!$C$22*A560^2","v":161.99084193691306}]
[561,479,479,null,null,null,null,null,null,null,null,null,{"$f":"Control!$C$20+Control!$C$21*A561+Control!$C$22*A561^2","v":162.28744253625035}]
[562,482,482,null,null,null,null,null,null,null,null,null,{"$f":"Control!$C$20+Control!$C$21*A562+Control!$C$22*A562^2","v":162.58404323122312}]
[563,520,520,null,null,null,null,null,null,null,null,null,{"$f":"Control!$C$20+Control!$C$21*A563+Control!$C$22*A563^2","v":162.88064402183142}]
[564,543,543,null,null,null,null,null,null,null,null,null,{"$f":"Control!$C$20+Control!$C$21*A564+Control!$C$22*A564^2","v":163.17724490807518}]
[565,608,608,null,null,null,null,null,null,null,null,null,{"$f":"Control!$C$20+Control!$C$21*A565+Control!$C$22*A565^2","v":163.47384588995448}]
[566,592,592,null,null,null,null,null,null,null,null,null,{"$f":"Control!$C$20+Control!$C$21*A566+Control!$C$22*A566^2","v":163.77044696746924}]
[567,530,530,null,null,null,null,null,null,null,null,null,{"$f":"Control!$C$20+Control!$C$21*A567+Control!$C$22*A567^2","v":164.06704814061953}]
[568,508,508,null,null,null,null,null,null,null,null,null,{"$f":"Control!$C$20+Control!$C$21*A568+Control!$C$22*A568^2","v":164.3636494094053}]
[569,467,467,null,null,null,null,null,null,null,null,null,{"$f":"Control!$C$20+Control!$C$21*A569+Control!$C$22*A569^2","v":164.66025077382659}]
[570,470,470,null,null,null,null,null,null,null,null,null,{"$f":"Control!$C$20+Control!$C$21*A570+Control!$C$22*A570^2","v":164.95685223388335}]
[571,452,452,null,null,null,null,null,null,null,null,null,{"$f":"Control!$C$20+Control!$C$21*A571+Control!$C$22*A571^2","v":165.25345378957564}]
[572,479,479,null,null,null,null,null,null,null,null,null,{"$f":"Control!$C$20+Control!$C$21*A572+Control!$C$22*A572^2","v":165.55005544090341}]
[573,431,431,null,null,null,null,null,null,null,null,null,{"$f":"Control!$C$20+Control!$C$21*A573+Control!$C$22*A573^2","v":165.8466571878667}]
[574,483,483,null,null,null,null,null,null,null,null,null,{"$f":"Control!$C$20+Control!$C$21*A574+Control!$C$22*A574^2","v":166.14325903046546}]
[575,511,511,null,null,null,null,null,null,null,null,null,{"$f":"Control!$C$20+Control!$C$21*A575+Control!$C$22*A575^2","v":166.43986096869975}]
[576,494,494,null,null,null,null,null,null,null,null,null,{"$f":"Control!$C$20+Control!$C$21*A576+Control!$C$22*A576^2","v":166.73646300256951}]
[577,488,488,null,null,null,null,null,null,null,null,null,{"$f":"Control!$C$20+Control!$C$21*A577+Control!$C$22*A577^2","v":167.0330651320748}]
[578,502,502,null,null,null,null,null,null,null,null,null,{"$f":"Control!$C$20+Control!$C$21*A578+Control!$C$22*A578^2","v":167.32966735721556}]
[579,502,502,null,null,null,null,null,null,null,null,null,{"$f":"Control!$C$20+Control!$C$21*A579+Control!$C$22*A579^2","v":167.62626967799184}]
[580,459,459,null,null,null,null,null,null,null,null,null,{"$f":"Control!$C$20+Control!$C$21*A580+Control!$C$22*A580^2","v":167.9228720944036}]
[581,491,491,null,null,null,null,null,null,null,null,null,{"$f":"Control!$C$20+Control!$C$21*A581+Control!$C$22*A581^2","v":168.21947460645089}]
[582,473,473,null,null,null,null,null,null,null,null,null,{"$f":"Control!$C$20+Control!$C$21*A582+Control!$C$22*A582^2","v":168.51607721413365}]
[583,502,502,null,null,null,null,null,null,null,null,null,{"$f":"Control!$C$20+Control!$C$21*A583+Control!$C$22*A583^2","v":168.81267991745193}]
[584,471,471,null,null,null,null,null,null,null,null,null,{"$f":"Control!$C$20+Control!$C$21*A584+Control!$C$22*A584^2","v":169.10928271640569}]
[585,454,454,null,null,null,null,null,null,null,null,null,{"$f":"Control!$C$20+Control!$C$21*A585+Control!$C$22*A585^2","v":169.40588561099497}]
[586,456,456,null,null,null,null,null,null,null,null,null,{"$f":"Control!$C$20+Control!$C$21*A586+Control!$C$22*A586^2","v":169.70248860121973}]
[587,461,461,null,null,null,null,null,null,null,null,null,{"$f":"Control!$C$20+Control!$C$21*A587+Control!$C$22*A587^2","v":169.99909168708001}]
[588,494,494,null,null,null,null,null,null,null,null,null,{"$f":"Control!$C$20+Control!$C$21*A588+Control!$C$22*A588^2","v":170.29569486857577}]
[589,474,474,null,null,null,null,null,null,null,null,null,{"$f":"Control!$C$20+Control!$C$21*A589+Control!$C$22*A589^2","v":170.59229814570705}]
[590,469,469,null,null,null,null,null,null,null,null,null,{"$f":"Control!$C$20+Control!$C$21*A590+Control!$C$22*A590^2","v":170.8889015184738}]
[591,496,496,null,null,null,null,null,null,null,null,null,{"$f":"Control!$C$20+Control!$C$21*A591+Control!$C$22*A591^2","v":171.18550498687608}]
[592,484,484,null,null,null,null,null,null,null,null,null,{"$f":"Control!$C$20+Control!$C$21*A592+Control!$C$22*A592^2","v":171.48210855091384}]
[593,448,448,null,null,null,null,null,null,null,null,null,{"$f":"Control!$C$20+Control!$C$21*A593+Control!$C$22*A593^2","v":171.77871221058712}]
[594,498,498,null,null,null,null,null,null,null,null,null,{"$f":"Control!$C$20+Control!$C$21*A594+Control!$C$22*A594^2","v":172.07531596589587}]
[595,487,487,null,null,null,null,null,null,null,null,null,{"$f":"Control!$C$20+Control!$C$21*A595+Control!$C$22*A595^2","v":172.37191981684015}]
[596,488,488,null,null,null,null,null,null,null,null,null,{"$f":"Control!$C$20+Control!$C$21*A596+Control!$C$22*A596^2","v":172.6685237634199}]
[597,480,480,null,null,null,null,null,null,null,null,null,{"$f":"Control!$C$20+Control!$C$21*A597+Control!$C$22*A597^2","v":172.96512780563518}]
[598,467,467,null,null,null,null,null,null,null,null,null,{"$f":"Control!$C$20+Control!$C$21*A598+Control!$C$22*A598^2","v":173.26173194348593}]
[599,446,446,null,null,null,null,null,null,null,null,null,{"$f":"Control!$C$20+Control!$C$21*A599+Control!$C$22*A599^2","v":173.5583361769722}]
[600,465,465,null,null,null,null,null,null,null,null,null,{"$f":"Control!$C$20+Control!$C$21*A600+Control!$C$22*A600^2","v":173.85494050609395}]
[601,456,456,null,null,null,null,null,null,null,null,null,{"$f":"Control!$C$20+Control!$C$21*A601+Control!$C$22*A601^2","v":174.15154493085123}]
[602,470,470,null,null,null,null,null,null,null,null,null,{"$f":"Control!$C$20+Control!$C$21*A602+Control!$C$22*A602^2","v":174.44814945124398}]
[603,485,485,null,null,null,null,null,null,null,null,null,{"$f":"Control!$C$20+Control!$C$21*A603+Control!$C$22*A603^2","v":174.74475406727225}]
[604,452,452,null,null,null,null,null,null,null,null,null,{"$f":"Control!$C$20+Control!$C$21*A604+Control!$C$22*A604^2","v":175.041358778936}]
[605,503,503,null,null,null,null,null,null,null,null,null,{"$f":"Control!$C$20+Control!$C$21*A605+Control!$C$22*A605^2","v":175.33796358623528}]
[606,464,464,null,null,null,null,null,null,null,null,null,{"$f":"Control!$C$20+Control!$C$21*A606+Control!$C$22*A606^2","v":175.63456848917002}]
[607,463,463,null,null,null,null,null,null,null,null,null,{"$f":"Control!$C$20+Control!$C$21*A607+Control!$C$22*A607^2","v":175.9311734877403}]
[608,479,479,null,null,null,null,null,null,null,null,null,{"$f":"Control!$C$20+Control!$C$21*A608+Control!$C$22*A608^2","v":176.22777858194604}]
[609,494,494,null,null,null,null,null,null,null,null,null,{"$f":"Control!$C$20+Control!$C$21*A609+Control!$C$22*A609^2","v":176.52438377178731}]
[610,483,483,null,null,null,null,null,null,null,null,null,{"$f":"Control!$C$20+Control!$C$21*A610+Control!$C$22*A610^2","v":176.82098905726406}]
[611,492,492,null,null,null,null,null,null,null,null,null,{"$f":"Control!$C$20+Control!$C$21*A611+Control!$C$22*A611^2","v":177.11759443837633}]
[612,442,442,null,null,null,null,null,null,null,null,null,{"$f":"Control!$C$20+Control!$C$21*A612+Control!$C$22*A612^2","v":177.41419991512407}]
[613,515,515,null,null,null,null,null,null,null,null,null,{"$f":"Control!$C$20+Control!$C$21*A613+Control!$C$22*A613^2","v":177.71080548750734}]
[614,492,492,null,null,null,null,null,null,null,null,null,{"$f":"Control!$C$20+Control!$C$21*A614+Control!$C$22*A614^2","v":178.00741115552609}]
[615,474,474,null,null,null,null,null,null,null,null,null,{"$f":"Control!$C$20+Control!$C$21*A615+Control!$C$22*A615^2","v":178.30401691918036}]
[616,510,510,null,null,null,null,null,null,null,null,null,{"$f":"Control!$C$20+Control!$C$21*A616+Control!$C$22*A616^2","v":178.6006227784701}]
[617,511,492,35,null,null,null,null,null,null,null,null,{"$f":"Control!$C$20+Control!$C$21*A617+Control!$C$22*A617^2","v":178.89722873339537}]
[618,696,753,220,null,null,null,null,null,null,null,null,{"$f":"Control!$C$20+Control!$C$21*A618+Control!$C$22*A618^2","v":179.19383478395611}]
[619,1255,1251,779,null,null,null,null,null,null,null,null,{"$f":"Control!$C$20+Control!$C$21*A619+Control!$C$22*A619^2","v":179.49044093015237}]
[620,2036,2027,1560,null,null,null,null,null,null,null,null,{"$f":"Control!$C$20+Control!$C$21*A620+Control!$C$22*A620^2","v":179.78704717198411}]
[621,2243,2232,1767,null,null,null,null,null,null,null,null,{"$f":"Control!$C$20+Control!$C$21*A621+Control!$C$22*A621^2","v":180.08365350945138}]
[622,1607,1548,1131,null,null,null,null,null,null,null,null,{"$f":"Control!$C$20+Control!$C$21*A622+Control!$C$22*A622^2","v":180.38025994255412}]
[623,886,904,410,null,null,null,null,null,null,null,null,{"$f":"Control!$C$20+Control!$C$21*A623+Control!$C$22*A623^2","v":180.67686647129239}]
[624,560,539,84,null,null,null,null,null,null,null,null,{"$f":"Control!$C$20+Control!$C$21*A624+Control!$C$22*A624^2","v":180.97347309566612}]
[625,486,478,10,null,null,null,null,null,null,null,null,{"$f":"Control!$C$20+Control!$C$21*A625+Control!$C$22*A625^2","v":181.27007981567539}]
[626,522,522,null,null,null,null,null,null,null,null,null,{"$f":"Control!$C$20+Control!$C$21*A626+Control!$C$22*A626^2","v":181.56668663132012}]
[627,439,439,null,null,null,null,null,null,null,null,null,{"$f":"Control!$C$20+Control!$C$21*A627+Control!$C$22*A627^2","v":181.86329354260039}]
[628,525,525,null,null,null,null,null,null,null,null,null,{"$f":"Control!$C$20+Control!$C$21*A628+Control!$C$22*A628^2","v":182.15990054951612}]
[629,462,462,null,null,null,null,null,null,null,null,null,{"$f":"Control!$C$20+Control!$C$21*A629+Control!$C$22*A629^2","v":182.45650765206739}]
[630,469,469,null,null,null,null,null,null,null,null,null,{"$f":"Control!$C$20+Control!$C$21*A630+Control!$C$22*A630^2","v":182.75311485025412}]
[631,496,496,null,null,null,null,null,null,null,null,null,{"$f":"Control!$C$20+Control!$C$21*A631+Control!$C$22*A631^2","v":183.04972214407638}]
[632,462,462,null,null,null,null,null,null,null,null,null,{"$f":"Control!$C$20+Control!$C$21*A632+Control!$C$22*A632^2","v":183.34632953353412}]
[633,503,503,null,null,null,null,null,null,null,null,null,{"$f":"Control!$C$20+Control!$C$21*A633+Control!$C$22*A633^2","v":183.64293701862738}]
[634,465,465,null,null,null,null,null,null,null,null,null,{"$f":"Control!$C$20+Control!$C$21*A634+Control!$C$22*A634^2","v":183.93954459935611}]
[635,487,487,null,null,null,null,null,null,null,null,null,{"$f":"Control!$C$20+Control!$C$21*A635+Control!$C$22*A635^2","v":184.23615227572037}]
[636,510,510,null,null,null,null,null,null,null,null,null,{"$f":"Control!$C$20+Control!$C$21*A636+Control!$C$22*A636^2","v":184.5327600477201}]
[637,508,508,null,null,null,null,null,null,null,null,null,{"$f":"Control!$C$20+Control!$C$21*A637+Control!$C$22*A637^2","v":184.82936791535536}]
[638,646,646,null,null,null,null,null,null,null,null,null,{"$f":"Control!$C$20+Control!$C$21*A638+Control!$C$22*A638^2","v":185.12597587862609}]
[639,1096,1096,null,null,null,null,null,null,null,null,null,{"$f":"Control!$C$20+Control!$C$21*A639+Control!$C$22*A639^2","v":185.42258393753235}]
[640,1726,1726,null,null,null,null,null,null,null,null,null,{"$f":"Control!$C$20+Control!$C$21*A640+Control!$C$22*A640^2","v":185.71919209207408}]
[641,1823,1823,null,null,null,null,null,null,null,null,null,{"$f":"Control!$C$20+Control!$C$21*A641+Control!$C$22*A641^2","v":186.01580034225134}]
[642,1414,1414,null,null,null,null,null,null,null,null,null,{"$f":"Control!$C$20+Control!$C$21*A642+Control!$C$22*A642^2","v":186.31240868806407}]
[643,826,826,null,null,null,null,null,null,null,null,null,{"$f":"Control!$C$20+Control!$C$21*A643+Control!$C$22*A643^2","v":186.60901712951232}]
[644,640,640,null,null,null,null,null,null,null,null,null,{"$f":"Control!$C$20+Control!$C$21*A644+Control!$C$22*A644^2","v":186.90562566659605}]
[645,514,514,null,null,null,null,null,null,null,null,null,{"$f":"Control!$C$20+Control!$C$21*A645+Control!$C$22*A645^2","v":187.20223429931531}]
[646,485,485,null,null,null,null,null,null,null,null,null,{"$f":"Control!$C$20+Control!$C$21*A646+Control!$C$22*A646^2","v":187.49884302767003}]
[647,444,444,null,null,null,null,null,null,null,null,null,{"$f":"Control!$C$20+Control!$C$21*A647+Control!$C$22*A647^2","v":187.79545185166029}]
[648,407,407,null,null,null,null,null,null,null,null,null,{"$f":"Control!$C$20+Control!$C$21*A648+Control!$C$22*A648^2","v":188.09206077128601}]
[649,468,468,null,null,null,null,null,null,null,null,null,{"$f":"Control!$C$20+Control!$C$21*A649+Control!$C$22*A649^2","v":188.38866978654727}]
[650,456,456,null,null,null,null,null,null,null,null,null,{"$f":"Control!$C$20+Control!$C$21*A650+Control!$C$22*A650^2","v":188.68527889744399}]
[651,440,440,null,null,null,null,null,null,null,null,null,{"$f":"Control!$C$20+Control!$C$21*A651+Control!$C$22*A651^2","v":188.98188810397625}]
[652,474,474,null,null,null,null,null,null,null,null,null,{"$f":"Control!$C$20+Control!$C$21*A652+Control!$C$22*A652^2","v":189.27849740614397}]
[653,438,438,null,null,null,null,null,null,null,null,null,{"$f":"Control!$C$20+Control!$C$21*A653+Control!$C$22*A653^2","v":189.57510680394722}]
[654,412,412,null,null,null,null,null,null,null,null,null,{"$f":"Control!$C$20+Control!$C$21*A654+Control!$C$22*A654^2","v":189.87171629738594}]
[655,461,461,null,null,null,null,null,null,null,null,null,{"$f":"Control!$C$20+Control!$C$21*A655+Control!$C$22*A655^2","v":190.1683258864602}]
[656,466,466,null,null,null,null,null,null,null,null,null,{"$f":"Control!$C$20+Control!$C$21*A656+Control!$C$22*A656^2","v":190.46493557116992}]
[657,477,477,null,null,null,null,null,null,null,null,null,{"$f":"Control!$C$20+Control!$C$21*A657+Control!$C$22*A657^2","v":190.76154535151517}]
[658,475,475,null,null,null,null,null,null,null,null,null,{"$f":"Control!$C$20+Control!$C$21*A658+Control!$C$22*A658^2","v":191.05815522749589}]
[659,468,468,null,null,null,null,null,null,null,null,null,{"$f":"Control!$C$20+Control!$C$21*A659+Control!$C$22*A659^2","v":191.35476519911214}]
[660,420,420,null,null,null,null,null,null,null,null,null,{"$f":"Control!$C$20+Control!$C$21*A660+Control!$C$22*A660^2","v":191.65137526636386}]
[661,457,457,null,null,null,null,null,null,null,null,null,{"$f":"Control!$C$20+Control!$C$21*A661+Control!$C$22*A661^2","v":191.9479854292511}]
[662,489,489,null,null,null,null,null,null,null,null,null,{"$f":"Control!$C$20+Control!$C$21*A662+Control!$C$22*A662^2","v":192.24459568777382}]
[663,482,482,null,null,null,null,null,null,null,null,null,{"$f":"Control!$C$20+Control!$C$21*A663+Control!$C$22*A663^2","v":192.54120604193207}]
[664,487,487,null,null,null,null,null,null,null,null,null,{"$f":"Control!$C$20+Control!$C$21*A664+Control!$C$22*A664^2","v":192.83781649172579}]
[665,461,461,null,null,null,null,null,null,null,null,null,{"$f":"Control!$C$20+Control!$C$21*A665+Control!$C$22*A665^2","v":193.13442703715504}]
[666,470,470,null,null,null,null,null,null,null,null,null,{"$f":"Control!$C$20+Control!$C$21*A666+Control!$C$22*A666^2","v":193.43103767821975}]
[667,469,469,null,null,null,null,null,null,null,null,null,{"$f":"Control!$C$20+Control!$C$21*A667+Control!$C$22*A667^2","v":193.72764841492}]
[668,461,461,null,null,null,null,null,null,null,null,null,{"$f":"Control!$C$20+Control!$C$21*A668+Control!$C$22*A668^2","v":194.02425924725571}]
[669,464,464,null,null,null,null,null,null,null,null,null,{"$f":"Control!$C$20+Control!$C$21*A669+Control!$C$22*A669^2","v":194.32087017522696}]
[670,491,491,null,null,null,null,null,null,null,null,null,{"$f":"Control!$C$20+Control!$C$21*A670+Control!$C$22*A670^2","v":194.61748119883367}]
[671,479,479,null,null,null,null,null,null,null,null,null,{"$f":"Control!$C$20+Control!$C$21*A671+Control!$C$22*A671^2","v":194.91409231807592}]
[672,475,475,null,null,null,null,null,null,null,null,null,{"$f":"Control!$C$20+Control!$C$21*A672+Control!$C$22*A672^2","v":195.21070353295363}]
[673,490,490,null,null,null,null,null,null,null,null,null,{"$f":"Control!$C$20+Control!$C$21*A673+Control!$C$22*A673^2","v":195.50731484346687}]
[674,435,435,null,null,null,null,null,null,null,null,null,{"$f":"Control!$C$20+Control!$C$21*A674+Control!$C$22*A674^2","v":195.80392624961559}]
[675,470,470,null,null,null,null,null,null,null,null,null,{"$f":"Control!$C$20+Control!$C$21*A675+Control!$C$22*A675^2","v":196.10053775139983}]
[676,469,469,null,null,null,null,null,null,null,null,null,{"$f":"Control!$C$20+Control!$C$21*A676+Control!$C$22*A676^2","v":196.39714934881954}]
[677,476,476,null,null,null,null,null,null,null,null,null,{"$f":"Control!$C$20+Control!$C$21*A677+Control!$C$22*A677^2","v":196.69376104187478}]
[678,452,452,null,null,null,null,null,null,null,null,null,{"$f":"Control!$C$20+Control!$C$21*A678+Control!$C$22*A678^2","v":196.99037283056549}]
[679,467,467,null,null,null,null,null,null,null,null,null,{"$f":"Control!$C$20+Control!$C$21*A679+Control!$C$22*A679^2","v":197.28698471489173}]
[680,489,489,null,null,null,null,null,null,null,null,null,{"$f":"Control!$C$20+Control!$C$21*A680+Control!$C$22*A680^2","v":197.58359669485344}]
[681,479,479,null,null,null,null,null,null,null,null,null,{"$f":"Control!$C$20+Control!$C$21*A681+Control!$C$22*A681^2","v":197.88020877045068}]
[682,526,526,null,null,null,null,null,null,null,null,null,{"$f":"Control!$C$20+Control!$C$21*A682+Control!$C$22*A682^2","v":198.17682094168339}]
[683,593,593,null,null,null,null,null,null,null,null,null,{"$f":"Control!$C$20+Control!$C$21*A683+Control!$C$22*A683^2","v":198.47343320855163}]
[684,568,568,null,null,null,null,null,null,null,null,null,{"$f":"Control!$C$20+Control!$C$21*A684+Control!$C$22*A684^2","v":198.77004557105533}]
[685,527,527,null,null,null,null,null,null,null,null,null,{"$f":"Control!$C$20+Control!$C$21*A685+Control!$C$22*A685^2","v":199.06665802919457}]
[686,481,481,null,null,null,null,null,null,null,null,null,{"$f":"Control!$C$20+Control!$C$21*A686+Control!$C$22*A686^2","v":199.36327058296928}]
[687,457,457,null,null,null,null,null,null,null,null,null,{"$f":"Control!$C$20+Control!$C$21*A687+Control!$C$22*A687^2","v":199.65988323237951}]
[688,449,449,null,null,null,null,null,null,null,null,null,{"$f":"Control!$C$20+Control!$C$21*A688+Control!$C$22*A688^2","v":199.95649597742522}]
[689,458,458,null,null,null,null,null,null,null,null,null,{"$f":"Control!$C$20+Control!$C$21*A689+Control!$C$22*A689^2","v":200.25310881810645}]
[690,433,433,null,null,null,null,null,null,null,null,null,{"$f":"Control!$C$20+Control!$C$21*A690+Control!$C$22*A690^2","v":200.54972175442316}]
[691,465,465,null,null,null,null,null,null,null,null,null,{"$f":"Control!$C$20+Control!$C$21*A691+Control!$C$22*A691^2","v":200.84633478637539}]
[692,454,454,null,null,null,null,null,null,null,null,null,{"$f":"Control!$C$20+Control!$C$21*A692+Control!$C$22*A692^2","v":201.1429479139631}]
[693,436,436,null,null,null,null,null,null,null,null,null,{"$f":"Control!$C$20+Control!$C$21*A693+Control!$C$22*A693^2","v":201.43956113718633}]
[694,452,452,null,null,null,null,null,null,null,null,null,{"$f":"Control!$C$20+Control!$C$21*A694+Control!$C$22*A694^2","v":201.73617445604503}]
[695,510,510,null,null,null,null,null,null,null,null,null,{"$f":"Control!$C$20+Control!$C$21*A695+Control!$C$22*A695^2","v":202.03278787053927}]
[696,478,478,null,null,null,null,null,null,null,null,null,{"$f":"Control!$C$20+Control!$C$21*A696+Control!$C$22*A696^2","v":202.32940138066897}]
[697,459,459,null,null,null,null,null,null,null,null,null,{"$f":"Control!$C$20+Control!$C$21*A697+Control!$C$22*A697^2","v":202.6260149864342}]
[698,465,465,null,null,null,null,null,null,null,null,null,{"$f":"Control!$C$20+Control!$C$21*A698+Control!$C$22*A698^2","v":202.9226286878349}]
[699,417,417,null,null,null,null,null,null,null,null,null,{"$f":"Control!$C$20+Control!$C$21*A699+Control!$C$22*A699^2","v":203.21924248487113}]
[700,421,421,null,null,null,null,null,null,null,null,null,{"$f":"Control!$C$20+Control!$C$21*A700+Control!$C$22*A700^2","v":203.51585637754283}]
[701,509,509,null,null,null,null,null,null,null,null,null,{"$f":"Control!$C$20+Control!$C$21*A701+Control!$C$22*A701^2","v":203.81247036585006}]
[702,440,440,null,null,null,null,null,null,null,null,null,{"$f":"Control!$C$20+Control!$C$21*A702+Control!$C$22*A702^2","v":204.10908444979276}]
[703,469,469,null,null,null,null,null,null,null,null,null,{"$f":"Control!$C$20+Control!$C$21*A703+Control!$C$22*A703^2","v":204.40569862937099}]
[704,449,449,null,null,null,null,null,null,null,null,null,{"$f":"Control!$C$20+Control!$C$21*A704+Control!$C$22*A704^2","v":204.70231290458469}]
[705,509,509,null,null,null,null,null,null,null,null,null,{"$f":"Control!$C$20+Control!$C$21*A705+Control!$C$22*A705^2","v":204.99892727543391}]
[706,518,518,null,null,null,null,null,null,null,null,null,{"$f":"Control!$C$20+Control!$C$21*A706+Control!$C$22*A706^2","v":205.29554174191861}]
[707,564,564,null,null,null,null,null,null,null,null,null,{"$f":"Control!$C$20+Control!$C$21*A707+Control!$C$22*A707^2","v":205.59215630403884}]
[708,498,498,null,null,null,null,null,null,null,null,null,{"$f":"Control!$C$20+Control!$C$21*A708+Control!$C$22*A708^2","v":205.88877096179453}]
[709,461,461,null,null,null,null,null,null,null,null,null,{"$f":"Control!$C$20+Control!$C$21*A709+Control!$C$22*A709^2","v":206.18538571518576}]
[710,400,400,null,null,null,null,null,null,null,null,null,{"$f":"Control!$C$20+Control!$C$21*A710+Control!$C$22*A710^2","v":206.48200056421246}]
[711,438,438,null,null,null,null,null,null,null,null,null,{"$f":"Control!$C$20+Control!$C$21*A711+Control!$C$22*A711^2","v":206.77861550887468}]
[712,411,411,null,null,null,null,null,null,null,null,null,{"$f":"Control!$C$20+Control!$C$21*A712+Control!$C$22*A712^2","v":207.07523054917237}]
[713,409,409,null,null,null,null,null,null,null,null,null,{"$f":"Control!$C$20+Control!$C$21*A713+Control!$C$22*A713^2","v":207.3718456851056}]
[714,437,437,null,null,null,null,null,null,null,null,null,{"$f":"Control!$C$20+Control!$C$21*A714+Control!$C$22*A714^2","v":207.66846091667429}]
[715,447,447,null,null,null,null,null,null,null,null,null,{"$f":"Control!$C$20+Control!$C$21*A715+Control!$C$22*A715^2","v":207.96507624387851}]
[716,472,472,null,null,null,null,null,null,null,null,null,{"$f":"Control!$C$20+Control!$C$21*A716+Control!$C$22*A716^2","v":208.26169166671821}]
[717,488,488,null,null,null,null,null,null,null,null,null,{"$f":"Control!$C$20+Control!$C$21*A717+Control!$C$22*A717^2","v":208.55830718519343}]
[718,529,529,null,null,null,null,null,null,null,null,null,{"$f":"Control!$C$20+Control!$C$21*A718+Control!$C$22*A718^2","v":208.85492279930412}]
[719,596,596,null,null,null,null,null,null,null,null,null,{"$f":"Control!$C$20+Control!$C$21*A719+Control!$C$22*A719^2","v":209.15153850905034}]
[720,647,647,null,null,null,null,null,null,null,null,null,{"$f":"Control!$C$20+Control!$C$21*A720+Control!$C$22*A720^2","v":209.44815431443203}]
[721,607,607,null,null,null,null,null,null,null,null,null,{"$f":"Control!$C$20+Control!$C$21*A721+Control!$C$22*A721^2","v":209.74477021544925}]
[722,518,518,null,null,null,null,null,null,null,null,null,{"$f":"Control!$C$20+Control!$C$21*A722+Control!$C$22*A722^2","v":210.04138621210194}]
[723,497,497,null,null,null,null,null,null,null,null,null,{"$f":"Control!$C$20+Control!$C$21*A723+Control!$C$22*A723^2","v":210.33800230439016}]
[724,444,444,null,null,null,null,null,null,null,null,null,{"$f":"Control!$C$20+Control!$C$21*A724+Control!$C$22*A724^2","v":210.63461849231385}]
[725,473,473,null,null,null,null,null,null,null,null,null,{"$f":"Control!$C$20+Control!$C$21*A725+Control!$C$22*A725^2","v":210.93123477587307}]
[726,428,428,null,null,null,null,null,null,null,null,null,{"$f":"Control!$C$20+Control!$C$21*A726+Control!$C$22*A726^2","v":211.22785115506775}]
[727,445,445,null,null,null,null,null,null,null,null,null,{"$f":"Control!$C$20+Control!$C$21*A727+Control!$C$22*A727^2","v":211.52446762989797}]
[728,409,409,null,null,null,null,null,null,null,null,null,{"$f":"Control!$C$20+Control!$C$21*A728+Control!$C$22*A728^2","v":211.82108420036366}]
[729,425,425,null,null,null,null,null,null,null,null,null,{"$f":"Control!$C$20+Control!$C$21*A729+Control!$C$22*A729^2","v":212.11770086646487}]
[730,419,419,null,null,null,null,null,null,null,null,null,{"$f":"Control!$C$20+Control!$C$21*A730+Control!$C$22*A730^2","v":212.41431762820156}]
[731,459,459,null,null,null,null,null,null,null,null,null,{"$f":"Control!$C$20+Control!$C$21*A731+Control!$C$22*A731^2","v":212.71093448557377}]
[732,466,466,null,null,null,null,null,null,null,null,null,{"$f":"Control!$C$20+Control!$C$21*A732+Control!$C$22*A732^2","v":213.00755143858146}]
[733,437,437,null,null,null,null,null,null,null,null,null,{"$f":"Control!$C$20+Control!$C$21*A733+Control!$C$22*A733^2","v":213.30416848722467}]
[734,423,423,null,null,null,null,null,null,null,null,null,{"$f":"Control!$C$20+Control!$C$21*A734+Control!$C$22*A734^2","v":213.60078563150336}]
[735,413,413,null,null,null,null,null,null,null,null,null,{"$f":"Control!$C$20+Control!$C$21*A735+Control!$C$22*A735^2","v":213.89740287141757}]
[736,451,451,null,null,null,null,null,null,null,null,null,{"$f":"Control!$C$20+Control!$C$21*A736+Control!$C$22*A736^2","v":214.19402020696725}]
[737,413,413,null,null,null,null,null,null,null,null,null,{"$f":"Control!$C$20+Control!$C$21*A737+Control!$C$22*A737^2","v":214.49063763815246}]
[738,409,409,null,null,null,null,null,null,null,null,null,{"$f":"Control!$C$20+Control!$C$21*A738+Control!$C$22*A738^2","v":214.78725516497315}]
[739,464,464,null,null,null,null,null,null,null,null,null,{"$f":"Control!$C$20+Control!$C$21*A739+Control!$C$22*A739^2","v":215.08387278742936}]
[740,458,458,null,null,null,null,null,null,null,null,null,{"$f":"Control!$C$20+Control!$C$21*A740+Control!$C$22*A740^2","v":215.38049050552104}]
[741,433,433,null,null,null,null,null,null,null,null,null,{"$f":"Control!$C$20+Control!$C$21*A741+Control!$C$22*A741^2","v":215.67710831924825}]
[742,449,449,null,null,null,null,null,null,null,null,null,{"$f":"Control!$C$20+Control!$C$21*A742+Control!$C$22*A742^2","v":215.97372622861093}]
[743,461,461,null,null,null,null,null,null,null,null,null,{"$f":"Control!$C$20+Control!$C$21*A743+Control!$C$22*A743^2","v":216.27034423360914}]
[744,460,460,null,null,null,null,null,null,null,null,null,{"$f":"Control!$C$20+Control!$C$21*A744+Control!$C$22*A744^2","v":216.56696233424282}]
[745,413,413,null,null,null,null,null,null,null,null,null,{"$f":"Control!$C$20+Control!$C$21*A745+Control!$C$22*A745^2","v":216.86358053051202}]
[746,432,432,null,null,null,null,null,null,null,null,null,{"$f":"Control!$C$20+Control!$C$21*A746+Control!$C$22*A746^2","v":217.1601988224167}]
[747,466,466,null,null,null,null,null,null,null,null,null,{"$f":"Control!$C$20+Control!$C$21*A747+Control!$C$22*A747^2","v":217.45681720995691}]
[748,410,410,null,null,null,null,null,null,null,null,null,{"$f":"Control!$C$20+Control!$C$21*A748+Control!$C$22*A748^2","v":217.75343569313259}]
[749,441,441,null,null,null,null,null,null,null,null,null,{"$f":"Control!$C$20+Control!$C$21*A749+Control!$C$22*A749^2","v":218.05005427194379}]
[750,399,399,null,null,null,null,null,null,null,null,null,{"$f":"Control!$C$20+Control!$C$21*A750+Control!$C$22*A750^2","v":218.34667294639047}]
[751,435,435,null,null,null,null,null,null,null,null,null,{"$f":"Control!$C$20+Control!$C$21*A751+Control!$C$22*A751^2","v":218.64329171647267}]
[752,469,506,40,null,null,null,null,null,null,null,null,{"$f":"Control!$C$20+Control!$C$21*A752+Control!$C$22*A752^2","v":218.93991058219035}]
[753,630,618,201,null,null,null,null,null,null,null,null,{"$f":"Control!$C$20+Control!$C$21*A753+Control!$C$22*A753^2","v":219.23652954354355}]
[754,1032,1058,603,null,null,null,null,null,null,null,null,{"$f":"Control!$C$20+Control!$C$21*A754+Control!$C$22*A754^2","v":219.53314860053223}]
[755,1493,1539,1064,null,null,null,null,null,null,null,null,{"$f":"Control!$C$20+Control!$C$21*A755+Control!$C$22*A755^2","v":219.82976775315643}]
[756,1535,1518,1106,null,null,null,null,null,null,null,null,{"$f":"Control!$C$20+Control!$C$21*A756+Control!$C$22*A756^2","v":220.12638700141611}]
[757,1107,1125,678,null,null,null,null,null,null,null,null,{"$f":"Control!$C$20+Control!$C$21*A757+Control!$C$22*A757^2","v":220.42300634531131}]
[758,674,663,245,null,null,null,null,null,null,null,null,{"$f":"Control!$C$20+Control!$C$21*A758+Control!$C$22*A758^2","v":220.71962578484198}]
[759,481,420,52,null,null,null,null,null,null,null,null,{"$f":"Control!$C$20+Control!$C$21*A759+Control!$C$22*A759^2","v":221.01624532000818}]
[760,436,437,7,null,null,null,null,null,null,null,null,{"$f":"Control!$C$20+Control!$C$21*A760+Control!$C$22*A760^2","v":221.31286495080985}]
[761,463,463,null,null,null,null,null,null,null,null,null,{"$f":"Control!$C$20+Control!$C$21*A761+Control!$C$22*A761^2","v":221.60948467724705}]
[762,413,413,null,null,null,null,null,null,null,null,null,{"$f":"Control!$C$20+Control!$C$21*A762+Control!$C$22*A762^2","v":221.90610449931972}]
[763,419,419,null,null,null,null,null,null,null,null,null,{"$f":"Control!$C$20+Control!$C$21*A763+Control!$C$22*A763^2","v":222.20272441702792}]
[764,424,424,null,null,null,null,null,null,null,null,null,{"$f":"Control!$C$20+Control!$C$21*A764+Control!$C$22*A764^2","v":222.49934443037159}]
[765,425,425,null,null,null,null,null,null,null,null,null,{"$f":"Control!$C$20+Control!$C$21*A765+Control!$C$22*A765^2","v":222.79596453935079}]
[766,444,444,null,null,null,null,null,null,null,null,null,{"$f":"Control!$C$20+Control!$C$21*A766+Control!$C$22*A766^2","v":223.09258474396546}]
[767,432,432,null,null,null,null,null,null,null,null,null,{"$f":"Control!$C$20+Control!$C$21*A767+Control!$C$22*A767^2","v":223.38920504421566}]
[768,410,410,null,null,null,null,null,null,null,null,null,{"$f":"Control!$C$20+Control!$C$21*A768+Control!$C$22*A768^2","v":223.68582544010133}]
[769,418,418,null,null,null,null,null,null,null,null,null,{"$f":"Control!$C$20+Control!$C$21*A769+Control!$C$22*A769^2","v":223.98244593162252}]
[770,413,413,null,null,null,null,null,null,null,null,null,{"$f":"Control!$C$20+Control!$C$21*A770+Control!$C$22*A770^2","v":224.27906651877919}]
[771,418,418,null,null,null,null,null,null,null,null,null,{"$f":"Control!$C$20+Control!$C$21*A771+Control!$C$22*A771^2","v":224.57568720157138}]
[772,457,457,null,null,null,null,null,null,null,null,null,{"$f":"Control!$C$20+Control!$C$21*A772+Control!$C$22*A772^2","v":224.87230797999905}]
[773,409,409,null,null,null,null,null,null,null,null,null,{"$f":"Control!$C$20+Control!$C$21*A773+Control!$C$22*A773^2","v":225.16892885406224}]
[774,443,443,null,null,null,null,null,null,null,null,null,{"$f":"Control!$C$20+Control!$C$21*A774+Control!$C$22*A774^2","v":225.46554982376091}]
[775,403,403,null,null,null,null,null,null,null,null,null,{"$f":"Control!$C$20+Control!$C$21*A775+Control!$C$22*A775^2","v":225.7621708890951}]
[776,428,428,null,null,null,null,null,null,null,null,null,{"$f":"Control!$C$20+Control!$C$21*A776+Control!$C$22*A776^2","v":226.05879205006477}]
[777,403,403,null,null,null,null,null,null,null,null,null,{"$f":"Control!$C$20+Control!$C$21*A777+Control!$C$22*A777^2","v":226.35541330666996}]
[778,412,412,null,null,null,null,null,null,null,null,null,{"$f":"Control!$C$20+Control!$C$21*A778+Control!$C$22*A778^2","v":226.65203465891062}]
[779,428,428,null,null,null,null,null,null,null,null,null,{"$f":"Control!$C$20+Control!$C$21*A779+Control!$C$22*A779^2","v":226.94865610678681}]
[780,410,410,null,null,null,null,null,null,null,null,null,{"$f":"Control!$C$20+Control!$C$21*A780+Control!$C$22*A780^2","v":227.24527765029848}]
[781,355,355,null,null,null,null,null,null,null,null,null,{"$f":"Control!$C$20+Control!$C$21*A781+Control!$C$22*A781^2","v":227.54189928944567}]
[782,437,437,null,null,null,null,null,null,null,null,null,{"$f":"Control!$C$20+Control!$C$21*A782+Control!$C$22*A782^2","v":227.83852102422833}]
[783,417,417,null,null,null,null,null,null,null,null,null,{"$f":"Control!$C$20+Control!$C$21*A783+Control!$C$22*A783^2","v":228.13514285464652}]
[784,396,396,null,null,null,null,null,null,null,null,null,{"$f":"Control!$C$20+Control!$C$21*A784+Control!$C$22*A784^2","v":228.43176478070018}]
[785,402,402,null,null,null,null,null,null,null,null,null,{"$f":"Control!$C$20+Control!$C$21*A785+Control!$C$22*A785^2","v":228.72838680238937}]
[786,419,419,null,null,null,null,null,null,null,null,null,{"$f":"Control!$C$20+Control!$C$21*A786+Control!$C$22*A786^2","v":229.02500891971403}]
[787,440,440,null,null,null,null,null,null,null,null,null,{"$f":"Control!$C$20+Control!$C$21*A787+Control!$C$22*A787^2","v":229.32163113267421}]
[788,413,413,null,null,null,null,null,null,null,null,null,{"$f":"Control!$C$20+Control!$C$21*A788+Control!$C$22*A788^2","v":229.61825344126987}]
[789,400,400,null,null,null,null,null,null,null,null,null,{"$f":"Control!$C$20+Control!$C$21*A789+Control!$C$22*A789^2","v":229.91487584550106}]
[790,453,453,null,null,null,null,null,null,null,null,null,{"$f":"Control!$C$20+Control!$C$21*A790+Control!$C$22*A790^2","v":230.21149834536772}]
[791,417,417,null,null,null,null,null,null,null,null,null,{"$f":"Control!$C$20+Control!$C$21*A791+Control!$C$22*A791^2","v":230.5081209408699}]
[792,419,419,null,null,null,null,null,null,null,null,null,{"$f":"Control!$C$20+Control!$C$21*A792+Control!$C$22*A792^2","v":230.80474363200756}]
[793,431,431,null,null,null,null,null,null,null,null,null,{"$f":"Control!$C$20+Control!$C$21*A793+Control!$C$22*A793^2","v":231.10136641878074}]
[794,382,382,null,null,null,null,null,null,null,null,null,{"$f":"Control!$C$20+Control!$C$21*A794+Control!$C$22*A794^2","v":231.3979893011894}]
[795,454,454,null,null,null,null,null,null,null,null,null,{"$f":"Control!$C$20+Control!$C$21*A795+Control!$C$22*A795^2","v":231.69461227923358}]
[796,412,412,null,null,null,null,null,null,null,null,null,{"$f":"Control!$C$20+Control!$C$21*A796+Control!$C$22*A796^2","v":231.99123535291324}]
[797,413,413,null,null,null,null,null,null,null,null,null,{"$f":"Control!$C$20+Control!$C$21*A797+Control!$C$22*A797^2","v":232.28785852222842}]
[798,410,410,null,null,null,null,null,null,null,null,null,{"$f":"Control!$C$20+Control!$C$21*A798+Control!$C$22*A798^2","v":232.58448178717907}]
[799,434,434,null,null,null,null,null,null,null,null,null,{"$f":"Control!$C$20+Control!$C$21*A799+Control!$C$22*A799^2","v":232.88110514776525}]
[800,425,425,null,null,null,null,null,null,null,null,null,{"$f":"Control!$C$20+Control!$C$21*A800+Control!$C$22*A800^2","v":233.17772860398691}]
[801,441,441,null,null,null,null,null,null,null,null,null,{"$f":"Control!$C$20+Control!$C$21*A801+Control!$C$22*A801^2","v":233.47435215584409}]
[802,397,397,null,null,null,null,null,null,null,null,null,{"$f":"Control!$C$20+Control!$C$21*A802+Control!$C$22*A802^2","v":233.77097580333674}]
[803,350,350,null,null,null,null,null,null,null,null,null,{"$f":"Control!$C$20+Control!$C$21*A803+Control!$C$22*A803^2","v":234.06759954646492}]
[804,357,357,null,null,null,null,null,null,null,null,null,{"$f":"Control!$C$20+Control!$C$21*A804+Control!$C$22*A804^2","v":234.36422338522857}]
[805,387,387,null,null,null,null,null,null,null,null,null,{"$f":"Control!$C$20+Control!$C$21*A805+Control!$C$22*A805^2","v":234.66084731962775}]
[806,368,368,null,null,null,null,null,null,null,null,null,{"$f":"Control!$C$20+Control!$C$21*A806+Control!$C$22*A806^2","v":234.9574713496624}]
[807,407,407,null,null,null,null,null,null,null,null,null,{"$f":"Control!$C$20+Control!$C$21*A807+Control!$C$22*A807^2","v":235.25409547533258}]
[808,423,423,null,null,null,null,null,null,null,null,null,{"$f":"Control!$C$20+Control!$C$21*A808+Control!$C$22*A808^2","v":235.55071969663823}]
[809,442,442,null,null,null,null,null,null,null,null,null,{"$f":"Control!$C$20+Control!$C$21*A809+Control!$C$22*A809^2","v":235.8473440135794}]
[810,453,453,null,null,null,null,null,null,null,null,null,{"$f":"Control!$C$20+Control!$C$21*A810+Control!$C$22*A810^2","v":236.14396842615605}]
[811,446,446,null,null,null,null,null,null,null,null,null,{"$f":"Control!$C$20+Control!$C$21*A811+Control!$C$22*A811^2","v":236.44059293436823}]
[812,443,443,null,null,null,null,null,null,null,null,null,{"$f":"Control!$C$20+Control!$C$21*A812+Control!$C$22*A812^2","v":236.73721753821587}]
[813,403,403,null,null,null,null,null,null,null,null,null,{"$f":"Control!$C$20+Control!$C$21*A813+Control!$C$22*A813^2","v":237.03384223769905}]
[814,404,404,null,null,null,null,null,null,null,null,null,{"$f":"Control!$C$20+Control!$C$21*A814+Control!$C$22*A814^2","v":237.33046703281769}]
[815,466,466,null,null,null,null,null,null,null,null,null,{"$f":"Control!$C$20+Control!$C$21*A815+Control!$C$22*A815^2","v":237.62709192357187}]
[816,755,755,null,null,null,null,null,null,null,null,null,{"$f":"Control!$C$20+Control!$C$21*A816+Control!$C$22*A816^2","v":237.92371690996151}]
[817,1510,1510,null,null,null,null,null,null,null,null,null,{"$f":"Control!$C$20+Control!$C$21*A817+Control!$C$22*A817^2","v":238.22034199198669}]
[818,2530,2530,null,null,null,null,null,null,null,null,null,{"$f":"Control!$C$20+Control!$C$21*A818+Control!$C$22*A818^2","v":238.51696716964733}]
[819,2786,2786,null,null,null,null,null,null,null,null,null,{"$f":"Control!$C$20+Control!$C$21*A819+Control!$C$22*A819^2","v":238.8135924429435}]
[820,1966,1966,null,null,null,null,null,null,null,null,null,{"$f":"Control!$C$20+Control!$C$21*A820+Control!$C$22*A820^2","v":239.11021781187515}]
[821,955,955,null,null,null,null,null,null,null,null,null,{"$f":"Control!$C$20+Control!$C$21*A821+Control!$C$22*A821^2","v":239.40684327644232}]
[822,529,529,null,null,null,null,null,null,null,null,null,{"$f":"Control!$C$20+Control!$C$21*A822+Control!$C$22*A822^2","v":239.70346883664496}]
[823,450,450,null,null,null,null,null,null,null,null,null,{"$f":"Control!$C$20+Control!$C$21*A823+Control!$C$22*A823^2","v":240.00009449248313}]
[824,446,446,null,null,null,null,null,null,null,null,null,{"$f":"Control!$C$20+Control!$C$21*A824+Control!$C$22*A824^2","v":240.29672024395677}]
[825,486,486,null,null,null,null,null,null,null,null,null,{"$f":"Control!$C$20+Control!$C$21*A825+Control!$C$22*A825^2","v":240.59334609106594}]
[826,599,599,null,null,null,null,null,null,null,null,null,{"$f":"Control!$C$20+Control!$C$21*A826+Control!$C$22*A826^2","v":240.88997203381058}]
[827,646,646,null,null,null,null,null,null,null,null,null,{"$f":"Control!$C$20+Control!$C$21*A827+Control!$C$22*A827^2","v":241.18659807219075}]
[828,691,691,null,null,null,null,null,null,null,null,null,{"$f":"Control!$C$20+Control!$C$21*A828+Control!$C$22*A828^2","v":241.48322420620639}]
[829,776,776,null,null,null,null,null,null,null,null,null,{"$f":"Control!$C$20+Control!$C$21*A829+Control!$C$22*A829^2","v":241.77985043585755}]
[830,867,867,null,null,null,null,null,null,null,null,null,{"$f":"Control!$C$20+Control!$C$21*A830+Control!$C$22*A830^2","v":242.07647676114419}]
[831,703,703,null,null,null,null,null,null,null,null,null,{"$f":"Control!$C$20+Control!$C$21*A831+Control!$C$22*A831^2","v":242.37310318206636}]
[832,516,516,null,null,null,null,null,null,null,null,null,{"$f":"Control!$C$20+Control!$C$21*A832+Control!$C$22*A832^2","v":242.669729698624}]
[833,427,427,null,null,null,null,null,null,null,null,null,{"$f":"Control!$C$20+Control!$C$21*A833+Control!$C$22*A833^2","v":242.96635631081716}]
[834,401,401,null,null,null,null,null,null,null,null,null,{"$f":"Control!$C$20+Control!$C$21*A834+Control!$C$22*A834^2","v":243.2629830186458}]
[835,356,356,null,null,null,null,null,null,null,null,null,{"$f":"Control!$C$20+Control!$C$21*A835+Control!$C$22*A835^2","v":243.55960982210996}]
[836,404,404,null,null,null,null,null,null,null,null,null,{"$f":"Control!$C$20+Control!$C$21*A836+Control!$C$22*A836^2","v":243.8562367212096}]
[837,391,391,null,null,null,null,null,null,null,null,null,{"$f":"Control!$C$20+Control!$C$21*A837+Control!$C$22*A837^2","v":244.15286371594476}]
[838,407,407,null,null,null,null,null,null,null,null,null,{"$f":"Control!$C$20+Control!$C$21*A838+Control!$C$22*A838^2","v":244.4494908063154}]
[839,386,386,null,null,null,null,null,null,null,null,null,{"$f":"Control!$C$20+Control!$C$21*A839+Control!$C$22*A839^2","v":244.74611799232156}]
[840,372,372,null,null,null,null,null,null,null,null,null,{"$f":"Control!$C$20+Control!$C$21*A840+Control!$C$22*A840^2","v":245.04274527396319}]
[841,378,378,null,null,null,null,null,null,null,null,null,{"$f":"Control!$C$20+Control!$C$21*A841+Control!$C$22*A841^2","v":245.33937265124035}]
[842,403,403,null,null,null,null,null,null,null,null,null,{"$f":"Control!$C$20+Control!$C$21*A842+Control!$C$22*A842^2","v":245.63600012415299}]
[843,391,391,null,null,null,null,null,null,null,null,null,{"$f":"Control!$C$20+Control!$C$21*A843+Control!$C$22*A843^2","v":245.93262769270115}]
[844,389,389,null,null,null,null,null,null,null,null,null,{"$f":"Control!$C$20+Control!$C$21*A844+Control!$C$22*A844^2","v":246.22925535688478}]
[845,400,400,null,null,null,null,null,null,null,null,null,{"$f":"Control!$C$20+Control!$C$21*A845+Control!$C$22*A845^2","v":246.52588311670394}]
[846,394,394,null,null,null,null,null,null,null,null,null,{"$f":"Control!$C$20+Control!$C$21*A846+Control!$C$22*A846^2","v":246.82251097215857}]
[847,370,370,null,null,null,null,null,null,null,null,null,{"$f":"Control!$C$20+Control!$C$21*A847+Control!$C$22*A847^2","v":247.11913892324873}]
[848,367,367,null,null,null,null,null,null,null,null,null,{"$f":"Control!$C$20+Control!$C$21*A848+Control!$C$22*A848^2","v":247.41576696997436}]
[849,363,363,null,null,null,null,null,null,null,null,null,{"$f":"Control!$C$20+Control!$C$21*A849+Control!$C$22*A849^2","v":247.71239511233551}]
[850,355,355,null,null,null,null,null,null,null,null,null,{"$f":"Control!$C$20+Control!$C$21*A850+Control!$C$22*A850^2","v":248.00902335033214}]
[851,344,344,null,null,null,null,null,null,null,null,null,{"$f":"Control!$C$20+Control!$C$21*A851+Control!$C$22*A851^2","v":248.3056516839643}]
[852,400,400,null,null,null,null,null,null,null,null,null,{"$f":"Control!$C$20+Control!$C$21*A852+Control!$C$22*A852^2","v":248.60228011323193}]
[853,364,364,null,null,null,null,null,null,null,null,null,{"$f":"Control!$C$20+Control!$C$21*A853+Control!$C$22*A853^2","v":248.89890863813508}]
[854,389,389,null,null,null,null,null,null,null,null,null,{"$f":"Control!$C$20+Control!$C$21*A854+Control!$C$22*A854^2","v":249.19553725867371}]
[855,347,347,null,null,null,null,null,null,null,null,null,{"$f":"Control!$C$20+Control!$C$21*A855+Control!$C$22*A855^2","v":249.49216597484786}]
[856,368,368,null,null,null,null,null,null,null,null,null,{"$f":"Control!$C$20+Control!$C$21*A856+Control!$C$22*A856^2","v":249.78879478665749}]
[857,346,346,null,null,null,null,null,null,null,null,null,{"$f":"Control!$C$20+Control!$C$21*A857+Control!$C$22*A857^2","v":250.08542369410264}]
[858,347,347,null,null,null,null,null,null,null,null,null,{"$f":"Control!$C$20+Control!$C$21*A858+Control!$C$22*A858^2","v":250.38205269718327}]
[859,361,361,null,null,null,null,null,null,null,null,null,{"$f":"Control!$C$20+Control!$C$21*A859+Control!$C$22*A859^2","v":250.67868179589942}]
[860,359,359,null,null,null,null,null,null,null,null,null,{"$f":"Control!$C$20+Control!$C$21*A860+Control!$C$22*A860^2","v":250.97531099025105}]
[861,360,360,null,null,null,null,null,null,null,null,null,{"$f":"Control!$C$20+Control!$C$21*A861+Control!$C$22*A861^2","v":251.2719402802382}]
[862,355,355,null,null,null,null,null,null,null,null,null,{"$f":"Control!$C$20+Control!$C$21*A862+Control!$C$22*A862^2","v":251.56856966586082}]
[863,381,381,null,null,null,null,null,null,null,null,null,{"$f":"Control!$C$20+Control!$C$21*A863+Control!$C$22*A863^2","v":251.86519914711897}]
[864,372,372,null,null,null,null,null,null,null,null,null,{"$f":"Control!$C$20+Control!$C$21*A864+Control!$C$22*A864^2","v":252.16182872401259}]
[865,411,411,null,null,null,null,null,null,null,null,null,{"$f":"Control!$C$20+Control!$C$21*A865+Control!$C$22*A865^2","v":252.45845839654174}]
[866,391,391,null,null,null,null,null,null,null,null,null,{"$f":"Control!$C$20+Control!$C$21*A866+Control!$C$22*A866^2","v":252.75508816470636}]
[867,358,358,null,null,null,null,null,null,null,null,null,{"$f":"Control!$C$20+Control!$C$21*A867+Control!$C$22*A867^2","v":253.05171802850651}]
[868,371,371,null,null,null,null,null,null,null,null,null,{"$f":"Control!$C$20+Control!$C$21*A868+Control!$C$22*A868^2","v":253.34834798794213}]
[869,356,356,null,null,null,null,null,null,null,null,null,{"$f":"Control!$C$20+Control!$C$21*A869+Control!$C$22*A869^2","v":253.64497804301328}]
[870,387,387,null,null,null,null,null,null,null,null,null,{"$f":"Control!$C$20+Control!$C$21*A870+Control!$C$22*A870^2","v":253.9416081937199}]
[871,380,380,null,null,null,null,null,null,null,null,null,{"$f":"Control!$C$20+Control!$C$21*A871+Control!$C$22*A871^2","v":254.23823844006205}]
[872,373,373,null,null,null,null,null,null,null,null,null,{"$f":"Control!$C$20+Control!$C$21*A872+Control!$C$22*A872^2","v":254.53486878203967}]
[873,345,345,null,null,null,null,null,null,null,null,null,{"$f":"Control!$C$20+Control!$C$21*A873+Control!$C$22*A873^2","v":254.83149921965281}]
[874,348,348,null,null,null,null,null,null,null,null,null,{"$f":"Control!$C$20+Control!$C$21*A874+Control!$C$22*A874^2","v":255.12812975290143}]
[875,345,345,null,null,null,null,null,null,null,null,null,{"$f":"Control!$C$20+Control!$C$21*A875+Control!$C$22*A875^2","v":255.42476038178557}]
[876,357,357,null,null,null,null,null,null,null,null,null,{"$f":"Control!$C$20+Control!$C$21*A876+Control!$C$22*A876^2","v":255.72139110630519}]
[877,389,389,null,null,null,null,null,null,null,null,null,{"$f":"Control!$C$20+Control!$C$21*A877+Control!$C$22*A877^2","v":256.01802192646034}]
[878,378,378,null,null,null,null,null,null,null,null,null,{"$f":"Control!$C$20+Control!$C$21*A878+Control!$C$22*A878^2","v":256.31465284225095}]
[879,354,354,null,null,null,null,null,null,null,null,null,{"$f":"Control!$C$20+Control!$C$21*A879+Control!$C$22*A879^2","v":256.61128385367709}]
[880,375,375,null,null,null,null,null,null,null,null,null,{"$f":"Control!$C$20+Control!$C$21*A880+Control!$C$22*A880^2","v":256.90791496073871}]
[881,352,352,null,null,null,null,null,null,null,null,null,{"$f":"Control!$C$20+Control!$C$21*A881+Control!$C$22*A881^2","v":257.20454616343585}]
[882,340,340,null,null,null,null,null,null,null,null,null,{"$f":"Control!$C$20+Control!$C$21*A882+Control!$C$22*A882^2","v":257.50117746176846}]
[883,379,379,null,null,null,null,null,null,null,null,null,{"$f":"Control!$C$20+Control!$C$21*A883+Control!$C$22*A883^2","v":257.7978088557366}]
[884,380,380,null,null,null,null,null,null,null,null,null,{"$f":"Control!$C$20+Control!$C$21*A884+Control!$C$22*A884^2","v":258.09444034534022}]
[885,387,387,null,null,null,null,null,null,null,null,null,{"$f":"Control!$C$20+Control!$C$21*A885+Control!$C$22*A885^2","v":258.39107193057936}]
[886,370,350,5,null,null,null,null,null,null,null,null,{"$f":"Control!$C$20+Control!$C$21*A886+Control!$C$22*A886^2","v":258.68770361145397}]
[887,396,388,31,null,null,null,null,null,null,null,null,{"$f":"Control!$C$20+Control!$C$21*A887+Control!$C$22*A887^2","v":258.98433538796411}]
[888,497,549,132,null,null,null,null,null,null,null,null,{"$f":"Control!$C$20+Control!$C$21*A888+Control!$C$22*A888^2","v":259.28096726010972}]
[889,705,708,340,null,null,null,null,null,null,null,null,{"$f":"Control!$C$20+Control!$C$21*A889+Control!$C$22*A889^2","v":259.57759922789086}]
[890,901,959,536,null,null,null,null,null,null,null,null,{"$f":"Control!$C$20+Control!$C$21*A890+Control!$C$22*A890^2","v":259.87423129130747}]
[891,881,828,516,null,null,null,null,null,null,null,null,{"$f":"Control!$C$20+Control!$C$21*A891+Control!$C$22*A891^2","v":260.1708634503596}]
[892,669,695,304,null,null,null,null,null,null,null,null,{"$f":"Control!$C$20+Control!$C$21*A892+Control!$C$22*A892^2","v":260.46749570504721}]
[893,474,484,109,null,null,null,null,null,null,null,null,{"$f":"Control!$C$20+Control!$C$21*A893+Control!$C$22*A893^2","v":260.76412805537035}]
[894,389,415,24,null,null,null,null,null,null,null,null,{"$f":"Control!$C$20+Control!$C$21*A894+Control!$C$22*A894^2","v":261.06076050132896}]
[895,335,335,null,null,null,null,null,null,null,null,null,{"$f":"Control!$C$20+Control!$C$21*A895+Control!$C$22*A895^2","v":261.35739304292309}]
[896,386,386,null,null,null,null,null,null,null,null,null,{"$f":"Control!$C$20+Control!$C$21*A896+Control!$C$22*A896^2","v":261.6540256801527}]
[897,352,352,null,null,null,null,null,null,null,null,null,{"$f":"Control!$C$20+Control!$C$21*A897+Control!$C$22*A897^2","v":261.95065841301783}]
[898,383,383,null,null,null,null,null,null,null,null,null,{"$f":"Control!$C$20+Control!$C$21*A898+Control!$C$22*A898^2","v":262.24729124151844}]
[899,335,335,null,null,null,null,null,null,null,null,null,{"$f":"Control!$C$20+Control!$C$21*A899+Control!$C$22*A899^2","v":262.54392416565457}]
[900,336,336,null,null,null,null,null,null,null,null,null,{"$f":"Control!$C$20+Control!$C$21*A900+Control!$C$22*A900^2","v":262.84055718542618}]
[901,351,351,null,null,null,null,null,null,null,null,null,{"$f":"Control!$C$20+Control!$C$21*A901+Control!$C$22*A901^2","v":263.13719030083331}]
[902,355,355,null,null,null,null,null,null,null,null,null,{"$f":"Control!$C$20+Control!$C$21*A902+Control!$C$22*A902^2","v":263.43382351187591}]
[903,343,343,null,null,null,null,null,null,null,null,null,{"$f":"Control!$C$20+Control!$C$21*A903+Control!$C$22*A903^2","v":263.73045681855405}]
[904,337,337,null,null,null,null,null,null,null,null,null,{"$f":"Control!$C$20+Control!$C$21*A904+Control!$C$22*A904^2","v":264.02709022086765}]
[905,336,336,null,null,null,null,null,null,null,null,null,{"$f":"Control!$C$20+Control!$C$21*A905+Control!$C$22*A905^2","v":264.32372371881678}]
[906,368,368,null,null,null,null,null,null,null,null,null,{"$f":"Control!$C$20+Control!$C$21*A906+Control!$C$22*A906^2","v":264.62035731240138}]
[907,368,368,null,null,null,null,null,null,null,null,null,{"$f":"Control!$C$20+Control!$C$21*A907+Control!$C$22*A907^2","v":264.91699100162151}]
[908,390,390,null,null,null,null,null,null,null,null,null,{"$f":"Control!$C$20+Control!$C$21*A908+Control!$C$22*A908^2","v":265.21362478647711}]
[909,331,331,null,null,null,null,null,null,null,null,null,{"$f":"Control!$C$20+Control!$C$21*A909+Control!$C$22*A909^2","v":265.51025866696824}]
[910,363,363,null,null,null,null,null,null,null,null,null,{"$f":"Control!$C$20+Control!$C$21*A910+Control!$C$22*A910^2","v":265.80689264309484}]
[911,352,352,null,null,null,null,null,null,null,null,null,{"$f":"Control!$C$20+Control!$C$21*A911+Control!$C$22*A911^2","v":266.10352671485697}]
[912,337,337,null,null,null,null,null,null,null,null,null,{"$f":"Control!$C$20+Control!$C$21*A912+Control!$C$22*A912^2","v":266.40016088225457}]
[913,348,348,null,null,null,null,null,null,null,null,null,{"$f":"Control!$C$20+Control!$C$21*A913+Control!$C$22*A913^2","v":266.69679514528769}]
[914,330,330,null,null,null,null,null,null,null,null,null,{"$f":"Control!$C$20+Control!$C$21*A914+Control!$C$22*A914^2","v":266.99342950395629}]
[915,338,338,null,null,null,null,null,null,null,null,null,{"$f":"Control!$C$20+Control!$C$21*A915+Control!$C$22*A915^2","v":267.29006395826042}]
[916,374,374,null,null,null,null,null,null,null,null,null,{"$f":"Control!$C$20+Control!$C$21*A916+Control!$C$22*A916^2","v":267.58669850820002}]
[917,334,334,null,null,null,null,null,null,null,null,null,{"$f":"Control!$C$20+Control!$C$21*A917+Control!$C$22*A917^2","v":267.88333315377514}]
[918,316,316,null,null,null,null,null,null,null,null,null,{"$f":"Control!$C$20+Control!$C$21*A918+Control!$C$22*A918^2","v":268.17996789498574}]
[919,334,334,null,null,null,null,null,null,null,null,null,{"$f":"Control!$C$20+Control!$C$21*A919+Control!$C$22*A919^2","v":268.47660273183186}]
[920,371,371,null,null,null,null,null,null,null,null,null,{"$f":"Control!$C$20+Control!$C$21*A920+Control!$C$22*A920^2","v":268.77323766431346}]
[921,356,356,null,null,null,null,null,null,null,null,null,{"$f":"Control!$C$20+Control!$C$21*A921+Control!$C$22*A921^2","v":269.06987269243058}]
[922,388,388,null,null,null,null,null,null,null,null,null,{"$f":"Control!$C$20+Control!$C$21*A922+Control!$C$22*A922^2","v":269.36650781618317}]
[923,437,437,null,null,null,null,null,null,null,null,null,{"$f":"Control!$C$20+Control!$C$21*A923+Control!$C$22*A923^2","v":269.6631430355713}]
[924,458,458,null,null,null,null,null,null,null,null,null,{"$f":"Control!$C$20+Control!$C$21*A924+Control!$C$22*A924^2","v":269.95977835059489}]
[925,494,494,null,null,null,null,null,null,null,null,null,{"$f":"Control!$C$20+Control!$C$21*A925+Control!$C$22*A925^2","v":270.25641376125401}]
[926,451,451,null,null,null,null,null,null,null,null,null,{"$f":"Control!$C$20+Control!$C$21*A926+Control!$C$22*A926^2","v":270.5530492675486}]
[927,443,443,null,null,null,null,null,null,null,null,null,{"$f":"Control!$C$20+Control!$C$21*A927+Control!$C$22*A927^2","v":270.84968486947872}]
[928,384,384,null,null,null,null,null,null,null,null,null,{"$f":"Control!$C$20+Control!$C$21*A928+Control!$C$22*A928^2","v":271.14632056704431}]
[929,347,347,null,null,null,null,null,null,null,null,null,{"$f":"Control!$C$20+Control!$C$21*A929+Control!$C$22*A929^2","v":271.44295636024543}]
[930,356,356,null,null,null,null,null,null,null,null,null,{"$f":"Control!$C$20+Control!$C$21*A930+Control!$C$22*A930^2","v":271.73959224908202}]
[931,366,366,null,null,null,null,null,null,null,null,null,{"$f":"Control!$C$20+Control!$C$21*A931+Control!$C$22*A931^2","v":272.03622823355414}]
[932,290,290,null,null,null,null,null,null,null,null,null,{"$f":"Control!$C$20+Control!$C$21*A932+Control!$C$22*A932^2","v":272.33286431366173}]
[933,342,342,null,null,null,null,null,null,null,null,null,{"$f":"Control!$C$20+Control!$C$21*A933+Control!$C$22*A933^2","v":272.62950048940485}]
[934,325,325,null,null,null,null,null,null,null,null,null,{"$f":"Control!$C$20+Control!$C$21*A934+Control!$C$22*A934^2","v":272.92613676078344}]
[935,344,344,null,null,null,null,null,null,null,null,null,{"$f":"Control!$C$20+Control!$C$21*A935+Control!$C$22*A935^2","v":273.22277312779755}]
[936,324,324,null,null,null,null,null,null,null,null,null,{"$f":"Control!$C$20+Control!$C$21*A936+Control!$C$22*A936^2","v":273.51940959044714}]
[937,373,373,null,null,null,null,null,null,null,null,null,{"$f":"Control!$C$20+Control!$C$21*A937+Control!$C$22*A937^2","v":273.81604614873226}]
[938,324,324,null,null,null,null,null,null,null,null,null,{"$f":"Control!$C$20+Control!$C$21*A938+Control!$C$22*A938^2","v":274.11268280265284}]
[939,348,348,null,null,null,null,null,null,null,null,null,{"$f":"Control!$C$20+Control!$C$21*A939+Control!$C$22*A939^2","v":274.40931955220896}]
[940,357,357,null,null,null,null,null,null,null,null,null,{"$f":"Control!$C$20+Control!$C$21*A940+Control!$C$22*A940^2","v":274.70595639740054}]
[941,361,361,null,null,null,null,null,null,null,null,null,{"$f":"Control!$C$20+Control!$C$21*A941+Control!$C$22*A941^2","v":275.00259333822765}]
[942,352,352,null,null,null,null,null,null,null,null,null,{"$f":"Control!$C$20+Control!$C$21*A942+Control!$C$22*A942^2","v":275.29923037469024}]
[943,340,340,null,null,null,null,null,null,null,null,null,{"$f":"Control!$C$20+Control!$C$21*A943+Control!$C$22*A943^2","v":275.59586750678835}]
[944,341,341,null,null,null,null,null,null,null,null,null,{"$f":"Control!$C$20+Control!$C$21*A944+Control!$C$22*A944^2","v":275.89250473452194}]
[945,360,360,null,null,null,null,null,null,null,null,null,{"$f":"Control!$C$20+Control!$C$21*A945+Control!$C$22*A945^2","v":276.18914205789105}]
[946,348,348,null,null,null,null,null,null,null,null,null,{"$f":"Control!$C$20+Control!$C$21*A946+Control!$C$22*A946^2","v":276.48577947689563}]
[947,398,398,null,null,null,null,null,null,null,null,null,{"$f":"Control!$C$20+Control!$C$21*A947+Control!$C$22*A947^2","v":276.78241699153574}]
[948,420,420,null,null,null,null,null,null,null,null,null,{"$f":"Control!$C$20+Control!$C$21*A948+Control!$C$22*A948^2","v":277.07905460181132}]
[949,397,397,null,null,null,null,null,null,null,null,null,{"$f":"Control!$C$20+Control!$C$21*A949+Control!$C$22*A949^2","v":277.37569230772243}]
[950,400,400,null,null,null,null,null,null,null,null,null,{"$f":"Control!$C$20+Control!$C$21*A950+Control!$C$22*A950^2","v":277.67233010926901}]
[951,380,380,null,null,null,null,null,null,null,null,null,{"$f":"Control!$C$20+Control!$C$21*A951+Control!$C$22*A951^2","v":277.96896800645112}]
[952,333,333,null,null,null,null,null,null,null,null,null,{"$f":"Control!$C$20+Control!$C$21*A952+Control!$C$22*A952^2","v":278.2656059992687}]
[953,364,364,null,null,null,null,null,null,null,null,null,{"$f":"Control!$C$20+Control!$C$21*A953+Control!$C$22*A953^2","v":278.56224408772181}]
[954,361,361,null,null,null,null,null,null,null,null,null,{"$f":"Control!$C$20+Control!$C$21*A954+Control!$C$22*A954^2","v":278.85888227181039}]
[955,336,336,null,null,null,null,null,null,null,null,null,{"$f":"Control!$C$20+Control!$C$21*A955+Control!$C$22*A955^2","v":279.15552055153449}]
[956,351,351,null,null,null,null,null,null,null,null,null,{"$f":"Control!$C$20+Control!$C$21*A956+Control!$C$22*A956^2","v":279.45215892689407}]
[957,306,306,null,null,null,null,null,null,null,null,null,{"$f":"Control!$C$20+Control!$C$21*A957+Control!$C$22*A957^2","v":279.74879739788918}]
[958,331,331,null,null,null,null,null,null,null,null,null,{"$f":"Control!$C$20+Control!$C$21*A958+Control!$C$22*A958^2","v":280.04543596451975}]
[959,329,329,null,null,null,null,null,null,null,null,null,{"$f":"Control!$C$20+Control!$C$21*A959+Control!$C$22*A959^2","v":280.34207462678586}]
[960,328,328,null,null,null,null,null,null,null,null,null,{"$f":"Control!$C$20+Control!$C$21*A960+Control!$C$22*A960^2","v":280.63871338468743}]
[961,315,315,null,null,null,null,null,null,null,null,null,{"$f":"Control!$C$20+Control!$C$21*A961+Control!$C$22*A961^2","v":280.93535223822454}]
[962,329,329,null,null,null,null,null,null,null,null,null,{"$f":"Control!$C$20+Control!$C$21*A962+Control!$C$22*A962^2","v":281.23199118739711}]
[963,312,312,null,null,null,null,null,null,null,null,null,{"$f":"Control!$C$20+Control!$C$21*A963+Control!$C$22*A963^2","v":281.52863023220522}]
[964,307,307,null,null,null,null,null,null,null,null,null,{"$f":"Control!$C$20+Control!$C$21*A964+Control!$C$22*A964^2","v":281.82526937264879}]
[965,330,330,null,null,null,null,null,null,null,null,null,{"$f":"Control!$C$20+Control!$C$21*A965+Control!$C$22*A965^2","v":282.12190860872789}]
[966,323,323,null,null,null,null,null,null,null,null,null,{"$f":"Control!$C$20+Control!$C$21*A966+Control!$C$22*A966^2","v":282.41854794044247}]
[967,300,300,null,null,null,null,null,null,null,null,null,{"$f":"Control!$C$20+Control!$C$21*A967+Control!$C$22*A967^2","v":282.71518736779257}]
[968,328,328,null,null,null,null,null,null,null,null,null,{"$f":"Control!$C$20+Control!$C$21*A968+Control!$C$22*A968^2","v":283.01182689077814}]
[969,333,333,null,null,null,null,null,null,null,null,null,{"$f":"Control!$C$20+Control!$C$21*A969+Control!$C$22*A969^2","v":283.30846650939924}]
[970,336,336,null,null,null,null,null,null,null,null,null,{"$f":"Control!$C$20+Control!$C$21*A970+Control!$C$22*A970^2","v":283.60510622365581}]
[971,335,335,null,null,null,null,null,null,null,null,null,{"$f":"Control!$C$20+Control!$C$21*A971+Control!$C$22*A971^2","v":283.90174603354791}]
[972,325,325,null,null,null,null,null,null,null,null,null,{"$f":"Control!$C$20+Control!$C$21*A972+Control!$C$22*A972^2","v":284.19838593907548}]
[973,336,336,null,null,null,null,null,null,null,null,null,{"$f":"Control!$C$20+Control!$C$21*A973+Control!$C$22*A973^2","v":284.49502594023858}]
[974,328,328,null,null,null,null,null,null,null,null,null,{"$f":"Control!$C$20+Control!$C$21*A974+Control!$C$22*A974^2","v":284.79166603703715}]
[975,324,324,null,null,null,null,null,null,null,null,null,{"$f":"Control!$C$20+Control!$C$21*A975+Control!$C$22*A975^2","v":285.08830622947124}]
[976,303,303,null,null,null,null,null,null,null,null,null,{"$f":"Control!$C$20+Control!$C$21*A976+Control!$C$22*A976^2","v":285.38494651754081}]
[977,341,341,null,null,null,null,null,null,null,null,null,{"$f":"Control!$C$20+Control!$C$21*A977+Control!$C$22*A977^2","v":285.68158690124591}]
[978,303,303,null,null,null,null,null,null,null,null,null,{"$f":"Control!$C$20+Control!$C$21*A978+Control!$C$22*A978^2","v":285.97822738058647}]
[979,337,337,null,null,null,null,null,null,null,null,null,{"$f":"Control!$C$20+Control!$C$21*A979+Control!$C$22*A979^2","v":286.27486795556257}]
[980,347,347,null,null,null,null,null,null,null,null,null,{"$f":"Control!$C$20+Control!$C$21*A980+Control!$C$22*A980^2","v":286.57150862617414}]
[981,340,340,null,null,null,null,null,null,null,null,null,{"$f":"Control!$C$20+Control!$C$21*A981+Control!$C$22*A981^2","v":286.86814939242123}]
[982,329,329,null,null,null,null,null,null,null,null,null,{"$f":"Control!$C$20+Control!$C$21*A982+Control!$C$22*A982^2","v":287.1647902543038}]
[983,317,317,null,null,null,null,null,null,null,null,null,{"$f":"Control!$C$20+Control!$C$21*A983+Control!$C$22*A983^2","v":287.46143121182189}]
[984,317,317,null,null,null,null,null,null,null,null,null,{"$f":"Control!$C$20+Control!$C$21*A984+Control!$C$22*A984^2","v":287.75807226497545}]
[985,351,351,null,null,null,null,null,null,null,null,null,{"$f":"Control!$C$20+Control!$C$21*A985+Control!$C$22*A985^2","v":288.05471341376455}]
[986,318,318,null,null,null,null,null,null,null,null,null,{"$f":"Control!$C$20+Control!$C$21*A986+Control!$C$22*A986^2","v":288.35135465818911}]
[987,310,310,null,null,null,null,null,null,null,null,null,{"$f":"Control!$C$20+Control!$C$21*A987+Control!$C$22*A987^2","v":288.6479959982492}]
[988,315,315,null,null,null,null,null,null,null,null,null,{"$f":"Control!$C$20+Control!$C$21*A988+Control!$C$22*A988^2","v":288.94463743394476}]
[989,323,323,null,null,null,null,null,null,null,null,null,{"$f":"Control!$C$20+Control!$C$21*A989+Control!$C$22*A989^2","v":289.24127896527585}]
[990,315,315,null,null,null,null,null,null,null,null,null,{"$f":"Control!$C$20+Control!$C$21*A990+Control!$C$22*A990^2","v":289.53792059224241}]
[991,317,317,null,null,null,null,null,null,null,null,null,{"$f":"Control!$C$20+Control!$C$21*A991+Control!$C$22*A991^2","v":289.8345623148445}]
[992,305,305,null,null,null,null,null,null,null,null,null,{"$f":"Control!$C$20+Control!$C$21*A992+Control!$C$22*A992^2","v":290.13120413308206}]
[993,339,339,null,null,null,null,null,null,null,null,null,{"$f":"Control!$C$20+Control!$C$21*A993+Control!$C$22*A993^2","v":290.42784604695515}]
[994,316,316,null,null,null,null,null,null,null,null,null,{"$f":"Control!$C$20+Control!$C$21*A994+Control!$C$22*A994^2","v":290.72448805646371}]
[995,334,334,null,null,null,null,null,null,null,null,null,{"$f":"Control!$C$20+Control!$C$21*A995+Control!$C$22*A995^2","v":291.0211301616078}]
[996,297,297,null,null,null,null,null,null,null,null,null,{"$f":"Control!$C$20+Control!$C$21*A996+Control!$C$22*A996^2","v":291.31777236238736}]
[997,328,328,null,null,null,null,null,null,null,null,null,{"$f":"Control!$C$20+Control!$C$21*A997+Control!$C$22*A997^2","v":291.61441465880245}]
[998,310,310,null,null,null,null,null,null,null,null,null,{"$f":"Control!$C$20+Control!$C$21*A998+Control!$C$22*A998^2","v":291.911057050853}]
[999,281,281,null,null,null,null,null,null,null,null,null,{"$f":"Control!$C$20+Control!$C$21*A999+Control!$C$22*A999^2","v":292.20769953853909}]
[1000,356,356,null,null,null,null,null,null,null,null,null,{"$f":"Control!$C$20+Control!$C$21*A1000+Control!$C$22*A1000^2","v":292.50434212186065}]
[1001,327,327,null,null,null,null,null,null,null,null,null,{"$f":"Control!$C$20+Control!$C$21*A1001+Control!$C$22*A1001^2","v":292.80098480081773}]
[1002,345,345,null,null,null,null,null,null,null,null,null,{"$f":"Control!$C$20+Control!$C$21*A1002+Control!$C$22*A1002^2","v":293.09762757541029}]
[1003,331,331,null,null,null,null,null,null,null,null,null,{"$f":"Control!$C$20+Control!$C$21*A1003+Control!$C$22*A1003^2","v":293.39427044563837}]
[1004,317,317,null,null,null,null,null,null,null,null,null,{"$f":"Control!$C$20+Control!$C$21*A1004+Control!$C$22*A1004^2","v":293.69091341150192}]
[1005,331,331,null,null,null,null,null,null,null,null,null,{"$f":"Control!$C$20+Control!$C$21*A1005+Control!$C$22*A1005^2","v":293.98755647300101}]
[1006,367,367,null,null,null,null,null,null,null,null,null,{"$f":"Control!$C$20+Control!$C$21*A1006+Control!$C$22*A1006^2","v":294.28419963013556}]
[1007,539,539,null,null,null,null,null,null,null,null,null,{"$f":"Control!$C$20+Control!$C$21*A1007+Control!$C$22*A1007^2","v":294.58084288290564}]
[1008,950,950,null,null,null,null,null,null,null,null,null,{"$f":"Control!$C$20+Control!$C$21*A1008+Control!$C$22*A1008^2","v":294.8774862313112}]
[1009,1310,1310,null,null,null,null,null,null,null,null,null,{"$f":"Control!$C$20+Control!$C$21*A1009+Control!$C$22*A1009^2","v":295.17412967535228}]
[1010,1148,1148,null,null,null,null,null,null,null,null,null,{"$f":"Control!$C$20+Control!$C$21*A1010+Control!$C$22*A1010^2","v":295.47077321502883}]
[1011,781,781,null,null,null,null,null,null,null,null,null,{"$f":"Control!$C$20+Control!$C$21*A1011+Control!$C$22*A1011^2","v":295.76741685034091}]
[1012,477,477,null,null,null,null,null,null,null,null,null,{"$f":"Control!$C$20+Control!$C$21*A1012+Control!$C$22*A1012^2","v":296.06406058128846}]
[1013,341,341,null,null,null,null,null,null,null,null,null,{"$f":"Control!$C$20+Control!$C$21*A1013+Control!$C$22*A1013^2","v":296.36070440787154}]
[1014,303,303,null,null,null,null,null,null,null,null,null,{"$f":"Control!$C$20+Control!$C$21*A1014+Control!$C$22*A1014^2","v":296.65734833009009}]
[1015,282,282,null,null,null,null,null,null,null,null,null,{"$f":"Control!$C$20+Control!$C$21*A1015+Control!$C$22*A1015^2","v":296.95399234794417}]
[1016,295,295,null,null,null,null,null,null,null,null,null,{"$f":"Control!$C$20+Control!$C$21*A1016+Control!$C$22*A1016^2","v":297.25063646143371}]
[1017,319,319,null,null,null,null,null,null,null,null,null,{"$f":"Control!$C$20+Control!$C$21*A1017+Control!$C$22*A1017^2","v":297.54728067055879}]
[1018,321,321,null,null,null,null,null,null,null,null,null,{"$f":"Control!$C$20+Control!$C$21*A1018+Control!$C$22*A1018^2","v":297.84392497531934}]
[1019,312,312,null,null,null,null,null,null,null,null,null,{"$f":"Control!$C$20+Control!$C$21*A1019+Control!$C$22*A1019^2","v":298.14056937571542}]
[1020,323,323,null,null,null,null,null,null,null,null,null,{"$f":"Control!$C$20+Control!$C$21*A1020+Control!$C$22*A1020^2","v":298.43721387174696}]
[1021,307,307,null,null,null,null,null,null,null,null,null,{"$f":"Control!$C$20+Control!$C$21*A1021+Control!$C$22*A1021^2","v":298.73385846341404}]
[1022,312,312,null,null,null,null,null,null,null,null,null,{"$f":"Control!$C$20+Control!$C$21*A1022+Control!$C$22*A1022^2","v":299.03050315071658}]
[1023,336,336,null,null,null,null,null,null,null,null,null,{"$f":"Control!$C$20+Control!$C$21*A1023+Control!$C$22*A1023^2","v":299.32714793365466}]
[1024,406,406,null,null,null,null,null,null,null,null,null,{"$f":"Control!$C$20+Control!$C$21*A1024+Control!$C$22*A1024^2","v":299.6237928122282}]
[1025,428,428,null,null,null,null,null,null,null,null,null,{"$f":"Control!$C$20+Control!$C$21*A1025+Control!$C$22*A1025^2","v":299.92043778643728}]
[1026,473,473,null,null,null,null,null,null,null,null,null,{"$f":"Control!$C$20+Control!$C$21*A1026+Control!$C$22*A1026^2","v":300.21708285628182}]
[1027,365,365,null,null,null,null,null,null,null,null,null,{"$f":"Control!$C$20+Control!$C$21*A1027+Control!$C$22*A1027^2","v":300.51372802176189}]
[1028,355,355,null,null,null,null,null,null,null,null,null,{"$f":"Control!$C$20+Control!$C$21*A1028+Control!$C$22*A1028^2","v":300.81037328287744}]
[1029,335,335,null,null,null,null,null,null,null,null,null,{"$f":"Control!$C$20+Control!$C$21*A1029+Control!$C$22*A1029^2","v":301.10701863962851}]
[1030,314,314,null,null,null,null,null,null,null,null,null,{"$f":"Control!$C$20+Control!$C$21*A1030+Control!$C$22*A1030^2","v":301.40366409201505}]
[1031,327,327,null,null,null,null,null,null,null,null,null,{"$f":"Control!$C$20+Control!$C$21*A1031+Control!$C$22*A1031^2","v":301.70030964003712}]
[1032,316,316,null,null,null,null,null,null,null,null,null,{"$f":"Control!$C$20+Control!$C$21*A1032+Control!$C$22*A1032^2","v":301.99695528369466}]
[1033,321,321,null,null,null,null,null,null,null,null,null,{"$f":"Control!$C$20+Control!$C$21*A1033+Control!$C$22*A1033^2","v":302.29360102298773}]
[1034,290,290,null,null,null,null,null,null,null,null,null,{"$f":"Control!$C$20+Control!$C$21*A1034+Control!$C$22*A1034^2","v":302.59024685791627}]
[1035,292,292,null,null,null,null,null,null,null,null,null,{"$f":"Control!$C$20+Control!$C$21*A1035+Control!$C$22*A1035^2","v":302.88689278848034}]
[1036,293,293,null,null,null,null,null,null,null,null,null,{"$f":"Control!$C$20+Control!$C$21*A1036+Control!$C$22*A1036^2","v":303.18353881467988}]
[1037,311,311,null,null,null,null,null,null,null,null,null,{"$f":"Control!$C$20+Control!$C$21*A1037+Control!$C$22*A1037^2","v":303.48018493651495}]
[1038,322,322,null,null,null,null,null,null,null,null,null,{"$f":"Control!$C$20+Control!$C$21*A1038+Control!$C$22*A1038^2","v":303.77683115398548}]
[1039,290,290,null,null,null,null,null,null,null,null,null,{"$f":"Control!$C$20+Control!$C$21*A1039+Control!$C$22*A1039^2","v":304.07347746709155}]
[1040,299,299,null,null,null,null,null,null,null,null,null,{"$f":"Control!$C$20+Control!$C$21*A1040+Control!$C$22*A1040^2","v":304.37012387583309}]
[1041,301,301,null,null,null,null,null,null,null,null,null,{"$f":"Control!$C$20+Control!$C$21*A1041+Control!$C$22*A1041^2","v":304.66677038021015}]
[1042,303,303,null,null,null,null,null,null,null,null,null,{"$f":"Control!$C$20+Control!$C$21*A1042+Control!$C$22*A1042^2","v":304.96341698022269}]
[1043,295,295,null,null,null,null,null,null,null,null,null,{"$f":"Control!$C$20+Control!$C$21*A1043+Control!$C$22*A1043^2","v":305.26006367587075}]
[1044,290,290,null,null,null,null,null,null,null,null,null,{"$f":"Control!$C$20+Control!$C$21*A1044+Control!$C$22*A1044^2","v":305.55671046715429}]
[1045,310,310,null,null,null,null,null,null,null,null,null,{"$f":"Control!$C$20+Control!$C$21*A1045+Control!$C$22*A1045^2","v":305.85335735407335}]
[1046,263,263,null,null,null,null,null,null,null,null,null,{"$f":"Control!$C$20+Control!$C$21*A1046+Control!$C$22*A1046^2","v":306.15000433662789}]
[1047,306,306,null,null,null,null,null,null,null,null,null,{"$f":"Control!$C$20+Control!$C$21*A1047+Control!$C$22*A1047^2","v":306.44665141481795}]
[1048,296,296,null,null,null,null,null,null,null,null,null,{"$f":"Control!$C$20+Control!$C$21*A1048+Control!$C$22*A1048^2","v":306.74329858864348}]
[1049,277,277,null,null,null,null,null,null,null,null,null,{"$f":"Control!$C$20+Control!$C$21*A1049+Control!$C$22*A1049^2","v":307.03994585810455}]
[1050,302,302,null,null,null,null,null,null,null,null,null,{"$f":"Control!$C$20+Control!$C$21*A1050+Control!$C$22*A1050^2","v":307.33659322320108}]
[1051,330,330,null,null,null,null,null,null,null,null,null,{"$f":"Control!$C$20+Control!$C$21*A1051+Control!$C$22*A1051^2","v":307.63324068393314}]
[1052,316,316,null,null,null,null,null,null,null,null,null,{"$f":"Control!$C$20+Control!$C$21*A1052+Control!$C$22*A1052^2","v":307.92988824030067}]
[1053,285,285,null,null,null,null,null,null,null,null,null,{"$f":"Control!$C$20+Control!$C$21*A1053+Control!$C$22*A1053^2","v":308.22653589230373}]
[1054,307,307,null,null,null,null,null,null,null,null,null,{"$f":"Control!$C$20+Control!$C$21*A1054+Control!$C$22*A1054^2","v":308.52318363994226}]
[1055,295,330,7,null,null,null,null,null,null,null,null,{"$f":"Control!$C$20+Control!$C$21*A1055+Control!$C$22*A1055^2","v":308.81983148321632}]
[1056,324,304,36,null,null,null,null,null,null,null,null,{"$f":"Control!$C$20+Control!$C$21*A1056+Control!$C$22*A1056^2","v":309.11647942212585}]
[1057,399,405,111,null,null,null,null,null,null,null,null,{"$f":"Control!$C$20+Control!$C$21*A1057+Control!$C$22*A1057^2","v":309.41312745667091}]
[1058,504,495,216,null,null,null,null,null,null,null,null,{"$f":"Control!$C$20+Control!$C$21*A1058+Control!$C$22*A1058^2","v":309.70977558685144}]
[1059,556,537,268,null,null,null,null,null,null,null,null,{"$f":"Control!$C$20+Control!$C$21*A1059+Control!$C$22*A1059^2","v":310.00642381266749}]
[1060,500,498,212,null,null,null,null,null,null,null,null,{"$f":"Control!$C$20+Control!$C$21*A1060+Control!$C$22*A1060^2","v":310.30307213411902}]
[1061,394,389,106,null,null,null,null,null,null,null,null,{"$f":"Control!$C$20+Control!$C$21*A1061+Control!$C$22*A1061^2","v":310.59972055120608}]
[1062,322,328,34,null,null,null,null,null,null,null,null,{"$f":"Control!$C$20+Control!$C$21*A1062+Control!$C$22*A1062^2","v":310.8963690639286}]
[1063,295,292,7,null,null,null,null,null,null,null,null,{"$f":"Control!$C$20+Control!$C$21*A1063+Control!$C$22*A1063^2","v":311.19301767228666}]
[1064,304,304,null,null,null,null,null,null,null,null,null,{"$f":"Control!$C$20+Control!$C$21*A1064+Control!$C$22*A1064^2","v":311.48966637628018}]
[1065,320,320,null,null,null,null,null,null,null,null,null,{"$f":"Control!$C$20+Control!$C$21*A1065+Control!$C$22*A1065^2","v":311.78631517590924}]
[1066,301,301,null,null,null,null,null,null,null,null,null,{"$f":"Control!$C$20+Control!$C$21*A1066+Control!$C$22*A1066^2","v":312.08296407117376}]
[1067,293,293,null,null,null,null,null,null,null,null,null,{"$f":"Control!$C$20+Control!$C$21*A1067+Control!$C$22*A1067^2","v":312.37961306207382}]
[1068,276,276,null,null,null,null,null,null,null,null,null,{"$f":"Control!$C$20+Control!$C$21*A1068+Control!$C$22*A1068^2","v":312.67626214860934}]
[1069,287,287,null,null,null,null,null,null,null,null,null,{"$f":"Control!$C$20+Control!$C$21*A1069+Control!$C$22*A1069^2","v":312.97291133078039}]
[1070,313,313,null,null,null,null,null,null,null,null,null,{"$f":"Control!$C$20+Control!$C$21*A1070+Control!$C$22*A1070^2","v":313.26956060858691}]
[1071,293,293,null,null,null,null,null,null,null,null,null,{"$f":"Control!$C$20+Control!$C$21*A1071+Control!$C$22*A1071^2","v":313.56620998202897}]
[1072,299,299,null,null,null,null,null,null,null,null,null,{"$f":"Control!$C$20+Control!$C$21*A1072+Control!$C$22*A1072^2","v":313.86285945110649}]
[1073,300,300,null,null,null,null,null,null,null,null,null,{"$f":"Control!$C$20+Control!$C$21*A1073+Control!$C$22*A1073^2","v":314.15950901581954}]
[1074,291,291,null,null,null,null,null,null,null,null,null,{"$f":"Control!$C$20+Control!$C$21*A1074+Control!$C$22*A1074^2","v":314.45615867616806}]
[1075,262,262,null,null,null,null,null,null,null,null,null,{"$f":"Control!$C$20+Control!$C$21*A1075+Control!$C$22*A1075^2","v":314.75280843215211}]
[1076,308,308,null,null,null,null,null,null,null,null,null,{"$f":"Control!$C$20+Control!$C$21*A1076+Control!$C$22*A1076^2","v":315.04945828377163}]
[1077,273,273,null,null,null,null,null,null,null,null,null,{"$f":"Control!$C$20+Control!$C$21*A1077+Control!$C$22*A1077^2","v":315.34610823102668}]
[1078,289,289,null,null,null,null,null,null,null,null,null,{"$f":"Control!$C$20+Control!$C$21*A1078+Control!$C$22*A1078^2","v":315.6427582739172}]
[1079,291,291,null,null,null,null,null,null,null,null,null,{"$f":"Control!$C$20+Control!$C$21*A1079+Control!$C$22*A1079^2","v":315.93940841244324}]
[1080,284,284,null,null,null,null,null,null,null,null,null,{"$f":"Control!$C$20+Control!$C$21*A1080+Control!$C$22*A1080^2","v":316.23605864660476}]
[1081,284,284,null,null,null,null,null,null,null,null,null,{"$f":"Control!$C$20+Control!$C$21*A1081+Control!$C$22*A1081^2","v":316.53270897640181}]
[1082,323,323,null,null,null,null,null,null,null,null,null,{"$f":"Control!$C$20+Control!$C$21*A1082+Control!$C$22*A1082^2","v":316.82935940183432}]
[1083,293,293,null,null,null,null,null,null,null,null,null,{"$f":"Control!$C$20+Control!$C$21*A1083+Control!$C$22*A1083^2","v":317.12600992290237}]
[1084,297,297,null,null,null,null,null,null,null,null,null,{"$f":"Control!$C$20+Control!$C$21*A1084+Control!$C$22*A1084^2","v":317.42266053960589}]
[1085,273,273,null,null,null,null,null,null,null,null,null,{"$f":"Control!$C$20+Control!$C$21*A1085+Control!$C$22*A1085^2","v":317.71931125194493}]
[1086,299,299,null,null,null,null,null,null,null,null,null,{"$f":"Control!$C$20+Control!$C$21*A1086+Control!$C$22*A1086^2","v":318.01596205991945}]
[1087,268,268,null,null,null,null,null,null,null,null,null,{"$f":"Control!$C$20+Control!$C$21*A1087+Control!$C$22*A1087^2","v":318.31261296352949}]
[1088,287,287,null,null,null,null,null,null,null,null,null,{"$f":"Control!$C$20+Control!$C$21*A1088+Control!$C$22*A1088^2","v":318.609263962775}]
[1089,324,324,null,null,null,null,null,null,null,null,null,{"$f":"Control!$C$20+Control!$C$21*A1089+Control!$C$22*A1089^2","v":318.90591505765605}]
[1090,311,311,null,null,null,null,null,null,null,null,null,{"$f":"Control!$C$20+Control!$C$21*A1090+Control!$C$22*A1090^2","v":319.20256624817256}]
[1091,295,295,null,null,null,null,null,null,null,null,null,{"$f":"Control!$C$20+Control!$C$21*A1091+Control!$C$22*A1091^2","v":319.4992175343246}]
[1092,293,293,null,null,null,null,null,null,null,null,null,{"$f":"Control!$C$20+Control!$C$21*A1092+Control!$C$22*A1092^2","v":319.79586891611211}]
[1093,323,323,null,null,null,null,null,null,null,null,null,{"$f":"Control!$C$20+Control!$C$21*A1093+Control!$C$22*A1093^2","v":320.09252039353515}]
[1094,280,280,null,null,null,null,null,null,null,null,null,{"$f":"Control!$C$20+Control!$C$21*A1094+Control!$C$22*A1094^2","v":320.38917196659366}]
[1095,269,269,null,null,null,null,null,null,null,null,null,{"$f":"Control!$C$20+Control!$C$21*A1095+Control!$C$22*A1095^2","v":320.6858236352877}]
[1096,309,309,null,null,null,null,null,null,null,null,null,{"$f":"Control!$C$20+Control!$C$21*A1096+Control!$C$22*A1096^2","v":320.98247539961721}]
[1097,295,295,null,null,null,null,null,null,null,null,null,{"$f":"Control!$C$20+Control!$C$21*A1097+Control!$C$22*A1097^2","v":321.27912725958225}]
[1098,272,272,null,null,null,null,null,null,null,null,null,{"$f":"Control!$C$20+Control!$C$21*A1098+Control!$C$22*A1098^2","v":321.57577921518276}]
[1099,297,297,null,null,null,null,null,null,null,null,null,{"$f":"Control!$C$20+Control!$C$21*A1099+Control!$C$22*A1099^2","v":321.8724312664188}]
[1100,275,275,null,null,null,null,null,null,null,null,null,{"$f":"Control!$C$20+Control!$C$21*A1100+Control!$C$22*A1100^2","v":322.16908341329031}]
[1101,279,279,null,null,null,null,null,null,null,null,null,{"$f":"Control!$C$20+Control!$C$21*A1101+Control!$C$22*A1101^2","v":322.46573565579735}]
[1102,280,280,null,null,null,null,null,null,null,null,null,{"$f":"Control!$C$20+Control!$C$21*A1102+Control!$C$22*A1102^2","v":322.76238799393985}]
[1103,303,303,null,null,null,null,null,null,null,null,null,{"$f":"Control!$C$20+Control!$C$21*A1103+Control!$C$22*A1103^2","v":323.05904042771789}]
[1104,264,264,null,null,null,null,null,null,null,null,null,{"$f":"Control!$C$20+Control!$C$21*A1104+Control!$C$22*A1104^2","v":323.3556929571314}]
[1105,294,294,null,null,null,null,null,null,null,null,null,{"$f":"Control!$C$20+Control!$C$21*A1105+Control!$C$22*A1105^2","v":323.65234558218043}]
[1106,304,304,null,null,null,null,null,null,null,null,null,{"$f":"Control!$C$20+Control!$C$21*A1106+Control!$C$22*A1106^2","v":323.94899830286494}]
[1107,267,267,null,null,null,null,null,null,null,null,null,{"$f":"Control!$C$20+Control!$C$21*A1107+Control!$C$22*A1107^2","v":324.24565111918497}]
[1108,304,304,null,null,null,null,null,null,null,null,null,{"$f":"Control!$C$20+Control!$C$21*A1108+Control!$C$22*A1108^2","v":324.54230403114047}]
[1109,302,302,null,null,null,null,null,null,null,null,null,{"$f":"Control!$C$20+Control!$C$21*A1109+Control!$C$22*A1109^2","v":324.83895703873151}]
[1110,301,301,null,null,null,null,null,null,null,null,null,{"$f":"Control!$C$20+Control!$C$21*A1110+Control!$C$22*A1110^2","v":325.13561014195801}]
[1111,264,264,null,null,null,null,null,null,null,null,null,{"$f":"Control!$C$20+Control!$C$21*A1111+Control!$C$22*A1111^2","v":325.43226334082004}]
[1112,308,308,null,null,null,null,null,null,null,null,null,{"$f":"Control!$C$20+Control!$C$21*A1112+Control!$C$22*A1112^2","v":325.72891663531755}]
[1113,270,270,null,null,null,null,null,null,null,null,null,{"$f":"Control!$C$20+Control!$C$21*A1113+Control!$C$22*A1113^2","v":326.02557002545058}]
[1114,291,291,null,null,null,null,null,null,null,null,null,{"$f":"Control!$C$20+Control!$C$21*A1114+Control!$C$22*A1114^2","v":326.32222351121908}]
[1115,272,272,null,null,null,null,null,null,null,null,null,{"$f":"Control!$C$20+Control!$C$21*A1115+Control!$C$22*A1115^2","v":326.61887709262311}]
[1116,300,300,null,null,null,null,null,null,null,null,null,{"$f":"Control!$C$20+Control!$C$21*A1116+Control!$C$22*A1116^2","v":326.91553076966261}]
[1117,308,308,null,null,null,null,null,null,null,null,null,{"$f":"Control!$C$20+Control!$C$21*A1117+Control!$C$22*A1117^2","v":327.21218454233764}]
[1118,344,344,null,null,null,null,null,null,null,null,null,{"$f":"Control!$C$20+Control!$C$21*A1118+Control!$C$22*A1118^2","v":327.50883841064814}]
[1119,361,361,null,null,null,null,null,null,null,null,null,{"$f":"Control!$C$20+Control!$C$21*A1119+Control!$C$22*A1119^2","v":327.80549237459417}]
[1120,388,388,null,null,null,null,null,null,null,null,null,{"$f":"Control!$C$20+Control!$C$21*A1120+Control!$C$22*A1120^2","v":328.10214643417567}]
[1121,355,355,null,null,null,null,null,null,null,null,null,{"$f":"Control!$C$20+Control!$C$21*A1121+Control!$C$22*A1121^2","v":328.39880058939269}]
[1122,323,323,null,null,null,null,null,null,null,null,null,{"$f":"Control!$C$20+Control!$C$21*A1122+Control!$C$22*A1122^2","v":328.69545484024519}]
[1123,274,274,null,null,null,null,null,null,null,null,null,{"$f":"Control!$C$20+Control!$C$21*A1123+Control!$C$22*A1123^2","v":328.99210918673322}]
[1124,278,278,null,null,null,null,null,null,null,null,null,{"$f":"Control!$C$20+Control!$C$21*A1124+Control!$C$22*A1124^2","v":329.28876362885671}]
[1125,309,309,null,null,null,null,null,null,null,null,null,{"$f":"Control!$C$20+Control!$C$21*A1125+Control!$C$22*A1125^2","v":329.58541816661574}]
[1126,297,297,null,null,null,null,null,null,null,null,null,{"$f":"Control!$C$20+Control!$C$21*A1126+Control!$C$22*A1126^2","v":329.88207280001023}]
[1127,296,296,null,null,null,null,null,null,null,null,null,{"$f":"Control!$C$20+Control!$C$21*A1127+Control!$C$22*A1127^2","v":330.17872752904026}]
[1128,297,297,null,null,null,null,null,null,null,null,null,{"$f":"Control!$C$20+Control!$C$21*A1128+Control!$C$22*A1128^2","v":330.47538235370575}]
[1129,296,296,null,null,null,null,null,null,null,null,null,{"$f":"Control!$C$20+Control!$C$21*A1129+Control!$C$22*A1129^2","v":330.77203727400678}]
[1130,295,295,null,null,null,null,null,null,null,null,null,{"$f":"Control!$C$20+Control!$C$21*A1130+Control!$C$22*A1130^2","v":331.06869228994327}]
[1131,267,267,null,null,null,null,null,null,null,null,null,{"$f":"Control!$C$20+Control!$C$21*A1131+Control!$C$22*A1131^2","v":331.36534740151529}]
[1132,285,285,null,null,null,null,null,null,null,null,null,{"$f":"Control!$C$20+Control!$C$21*A1132+Control!$C$22*A1132^2","v":331.66200260872279}]
[1133,273,273,null,null,null,null,null,null,null,null,null,{"$f":"Control!$C$20+Control!$C$21*A1133+Control!$C$22*A1133^2","v":331.95865791156581}]
[1134,291,291,null,null,null,null,null,null,null,null,null,{"$f":"Control!$C$20+Control!$C$21*A1134+Control!$C$22*A1134^2","v":332.2553133100443}]
[1135,301,301,null,null,null,null,null,null,null,null,null,{"$f":"Control!$C$20+Control!$C$21*A1135+Control!$C$22*A1135^2","v":332.55196880415832}]
[1136,281,281,null,null,null,null,null,null,null,null,null,{"$f":"Control!$C$20+Control!$C$21*A1136+Control!$C$22*A1136^2","v":332.84862439390781}]
[1137,297,297,null,null,null,null,null,null,null,null,null,{"$f":"Control!$C$20+Control!$C$21*A1137+Control!$C$22*A1137^2","v":333.14528007929283}]
[1138,286,286,null,null,null,null,null,null,null,null,null,{"$f":"Control!$C$20+Control!$C$21*A1138+Control!$C$22*A1138^2","v":333.44193586031332}]
[1139,304,304,null,null,null,null,null,null,null,null,null,{"$f":"Control!$C$20+Control!$C$21*A1139+Control!$C$22*A1139^2","v":333.73859173696934}]
[1140,281,281,null,null,null,null,null,null,null,null,null,{"$f":"Control!$C$20+Control!$C$21*A1140+Control!$C$22*A1140^2","v":334.03524770926083}]
[1141,302,302,null,null,null,null,null,null,null,null,null,{"$f":"Control!$C$20+Control!$C$21*A1141+Control!$C$22*A1141^2","v":334.33190377718785}]
[1142,319,319,null,null,null,null,null,null,null,null,null,{"$f":"Control!$C$20+Control!$C$21*A1142+Control!$C$22*A1142^2","v":334.62855994075034}]
[1143,269,269,null,null,null,null,null,null,null,null,null,{"$f":"Control!$C$20+Control!$C$21*A1143+Control!$C$22*A1143^2","v":334.92521619994835}]
[1144,262,262,null,null,null,null,null,null,null,null,null,{"$f":"Control!$C$20+Control!$C$21*A1144+Control!$C$22*A1144^2","v":335.22187255478184}]
[1145,264,264,null,null,null,null,null,null,null,null,null,{"$f":"Control!$C$20+Control!$C$21*A1145+Control!$C$22*A1145^2","v":335.51852900525085}]
[1146,273,273,null,null,null,null,null,null,null,null,null,{"$f":"Control!$C$20+Control!$C$21*A1146+Control!$C$22*A1146^2","v":335.81518555135534}]
[1147,281,281,null,null,null,null,null,null,null,null,null,{"$f":"Control!$C$20+Control!$C$21*A1147+Control!$C$22*A1147^2","v":336.11184219309536}]
[1148,279,279,null,null,null,null,null,null,null,null,null,{"$f":"Control!$C$20+Control!$C$21*A1148+Control!$C$22*A1148^2","v":336.40849893047084}]
[1149,262,262,null,null,null,null,null,null,null,null,null,{"$f":"Control!$C$20+Control!$C$21*A1149+Control!$C$22*A1149^2","v":336.70515576348186}]
[1150,308,308,null,null,null,null,null,null,null,null,null,{"$f":"Control!$C$20+Control!$C$21*A1150+Control!$C$22*A1150^2","v":337.00181269212834}]
[1151,305,305,null,null,null,null,null,null,null,null,null,{"$f":"Control!$C$20+Control!$C$21*A1151+Control!$C$22*A1151^2","v":337.29846971641035}]
[1152,401,401,null,null,null,null,null,null,null,null,null,{"$f":"Control!$C$20+Control!$C$21*A1152+Control!$C$22*A1152^2","v":337.59512683632784}]
[1153,499,499,null,null,null,null,null,null,null,null,null,{"$f":"Control!$C$20+Control!$C$21*A1153+Control!$C$22*A1153^2","v":337.89178405188085}]
[1154,645,645,null,null,null,null,null,null,null,null,null,{"$f":"Control!$C$20+Control!$C$21*A1154+Control!$C$22*A1154^2","v":338.18844136306933}]
[1155,709,709,null,null,null,null,null,null,null,null,null,{"$f":"Control!$C$20+Control!$C$21*A1155+Control!$C$22*A1155^2","v":338.48509876989334}]
[1156,513,513,null,null,null,null,null,null,null,null,null,{"$f":"Control!$C$20+Control!$C$21*A1156+Control!$C$22*A1156^2","v":338.78175627235282}]
[1157,355,355,null,null,null,null,null,null,null,null,null,{"$f":"Control!$C$20+Control!$C$21*A1157+Control!$C$22*A1157^2","v":339.07841387044783}]
[1158,322,322,null,null,null,null,null,null,null,null,null,{"$f":"Control!$C$20+Control!$C$21*A1158+Control!$C$22*A1158^2","v":339.37507156417831}]
[1159,259,259,null,null,null,null,null,null,null,null,null,{"$f":"Control!$C$20+Control!$C$21*A1159+Control!$C$22*A1159^2","v":339.67172935354432}]
[1160,293,293,null,null,null,null,null,null,null,null,null,{"$f":"Control!$C$20+Control!$C$21*A1160+Control!$C$22*A1160^2","v":339.9683872385458}]
[1161,243,243,null,null,null,null,null,null,null,null,null,{"$f":"Control!$C$20+Control!$C$21*A1161+Control!$C$22*A1161^2","v":340.26504521918281}]
[1162,295,295,null,null,null,null,null,null,null,null,null,{"$f":"Control!$C$20+Control!$C$21*A1162+Control!$C$22*A1162^2","v":340.56170329545529}]
[1163,291,291,null,null,null,null,null,null,null,null,null,{"$f":"Control!$C$20+Control!$C$21*A1163+Control!$C$22*A1163^2","v":340.8583614673633}]
[1164,289,289,null,null,null,null,null,null,null,null,null,{"$f":"Control!$C$20+Control!$C$21*A1164+Control!$C$22*A1164^2","v":341.15501973490677}]
[1165,256,256,null,null,null,null,null,null,null,null,null,{"$f":"Control!$C$20+Control!$C$21*A1165+Control!$C$22*A1165^2","v":341.45167809808578}]
[1166,247,247,null,null,null,null,null,null,null,null,null,{"$f":"Control!$C$20+Control!$C$21*A1166+Control!$C$22*A1166^2","v":341.74833655690026}]
[1167,276,276,null,null,null,null,null,null,null,null,null,{"$f":"Control!$C$20+Control!$C$21*A1167+Control!$C$22*A1167^2","v":342.04499511135026}]
[1168,265,265,null,null,null,null,null,null,null,null,null,{"$f":"Control!$C$20+Control!$C$21*A1168+Control!$C$22*A1168^2","v":342.34165376143574}]
[1169,271,271,null,null,null,null,null,null,null,null,null,{"$f":"Control!$C$20+Control!$C$21*A1169+Control!$C$22*A1169^2","v":342.63831250715674}]
[1170,299,299,null,null,null,null,null,null,null,null,null,{"$f":"Control!$C$20+Control!$C$21*A1170+Control!$C$22*A1170^2","v":342.93497134851322}]
[1171,264,264,null,null,null,null,null,null,null,null,null,{"$f":"Control!$C$20+Control!$C$21*A1171+Control!$C$22*A1171^2","v":343.23163028550522}]
[1172,267,269,1,null,null,null,null,null,null,null,null,{"$f":"Control!$C$20+Control!$C$21*A1172+Control!$C$22*A1172^2","v":343.52828931813269}]
[1173,271,298,5,null,null,null,null,null,null,null,null,{"$f":"Control!$C$20+Control!$C$21*A1173+Control!$C$22*A1173^2","v":343.82494844639569}]
[1174,286,289,20,null,null,null,null,null,null,null,null,{"$f":"Control!$C$20+Control!$C$21*A1174+Control!$C$22*A1174^2","v":344.12160767029417}]
[1175,323,346,57,null,null,null,null,null,null,null,null,{"$f":"Control!$C$20+Control!$C$21*A1175+Control!$C$22*A1175^2","v":344.41826698982817}]
[1176,373,400,107,null,null,null,null,null,null,null,null,{"$f":"Control!$C$20+Control!$C$21*A1176+Control!$C$22*A1176^2","v":344.71492640499764}]
[1177,396,417,130,null,null,null,null,null,null,null,null,{"$f":"Control!$C$20+Control!$C$21*A1177+Control!$C$22*A1177^2","v":345.01158591580264}]
[1178,370,348,104,null,null,null,null,null,null,null,null,{"$f":"Control!$C$20+Control!$C$21*A1178+Control!$C$22*A1178^2","v":345.30824552224311}]
[1179,320,318,54,null,null,null,null,null,null,null,null,{"$f":"Control!$C$20+Control!$C$21*A1179+Control!$C$22*A1179^2","v":345.60490522431911}]
[1180,284,304,18,null,null,null,null,null,null,null,null,{"$f":"Control!$C$20+Control!$C$21*A1180+Control!$C$22*A1180^2","v":345.90156502203058}]
[1181,270,252,4,null,null,null,null,null,null,null,null,{"$f":"Control!$C$20+Control!$C$21*A1181+Control!$C$22*A1181^2","v":346.19822491537758}]
[1182,267,279,1,null,null,null,null,null,null,null,null,{"$f":"Control!$C$20+Control!$C$21*A1182+Control!$C$22*A1182^2","v":346.49488490436005}]
[1183,272,272,null,null,null,null,null,null,null,null,null,{"$f":"Control!$C$20+Control!$C$21*A1183+Control!$C$22*A1183^2","v":346.79154498897805}]
[1184,253,253,null,null,null,null,null,null,null,null,null,{"$f":"Control!$C$20+Control!$C$21*A1184+Control!$C$22*A1184^2","v":347.08820516923151}]
[1185,250,250,null,null,null,null,null,null,null,null,null,{"$f":"Control!$C$20+Control!$C$21*A1185+Control!$C$22*A1185^2","v":347.38486544512051}]
[1186,251,251,null,null,null,null,null,null,null,null,null,{"$f":"Control!$C$20+Control!$C$21*A1186+Control!$C$22*A1186^2","v":347.68152581664498}]
[1187,257,257,null,null,null,null,null,null,null,null,null,{"$f":"Control!$C$20+Control!$C$21*A1187+Control!$C$22*A1187^2","v":347.97818628380497}]
[1188,261,261,null,null,null,null,null,null,null,null,null,{"$f":"Control!$C$20+Control!$C$21*A1188+Control!$C$22*A1188^2","v":348.27484684660044}]
[1189,262,262,null,null,null,null,null,null,null,null,null,{"$f":"Control!$C$20+Control!$C$21*A1189+Control!$C$22*A1189^2","v":348.57150750503143}]
[1190,275,275,null,null,null,null,null,null,null,null,null,{"$f":"Control!$C$20+Control!$C$21*A1190+Control!$C$22*A1190^2","v":348.8681682590979}]
[1191,254,254,null,null,null,null,null,null,null,null,null,{"$f":"Control!$C$20+Control!$C$21*A1191+Control!$C$22*A1191^2","v":349.16482910879989}]
[1192,236,236,null,null,null,null,null,null,null,null,null,{"$f":"Control!$C$20+Control!$C$21*A1192+Control!$C$22*A1192^2","v":349.46149005413736}]
[1193,245,245,null,null,null,null,null,null,null,null,null,{"$f":"Control!$C$20+Control!$C$21*A1193+Control!$C$22*A1193^2","v":349.75815109511035}]
[1194,257,257,null,null,null,null,null,null,null,null,null,{"$f":"Control!$C$20+Control!$C$21*A1194+Control!$C$22*A1194^2","v":350.05481223171881}]
[1195,269,269,null,null,null,null,null,null,null,null,null,{"$f":"Control!$C$20+Control!$C$21*A1195+Control!$C$22*A1195^2","v":350.3514734639628}]
[1196,299,299,null,null,null,null,null,null,null,null,null,{"$f":"Control!$C$20+Control!$C$21*A1196+Control!$C$22*A1196^2","v":350.64813479184227}]
[1197,454,454,null,null,null,null,null,null,null,null,null,{"$f":"Control!$C$20+Control!$C$21*A1197+Control!$C$22*A1197^2","v":350.94479621535726}]
[1198,787,787,null,null,null,null,null,null,null,null,null,{"$f":"Control!$C$20+Control!$C$21*A1198+Control!$C$22*A1198^2","v":351.24145773450772}]
[1199,1416,1416,null,null,null,null,null,null,null,null,null,{"$f":"Control!$C$20+Control!$C$21*A1199+Control!$C$22*A1199^2","v":351.53811934929371}]
[1200,1685,1685,null,null,null,null,null,null,null,null,null,{"$f":"Control!$C$20+Control!$C$21*A1200+Control!$C$22*A1200^2","v":351.83478105971517}]
[1201,1571,1571,null,null,null,null,null,null,null,null,null,{"$f":"Control!$C$20+Control!$C$21*A1201+Control!$C$22*A1201^2","v":352.13144286577216}]
[1202,973,973,null,null,null,null,null,null,null,null,null,{"$f":"Control!$C$20+Control!$C$21*A1202+Control!$C$22*A1202^2","v":352.42810476746462}]
[1203,530,530,null,null,null,null,null,null,null,null,null,{"$f":"Control!$C$20+Control!$C$21*A1203+Control!$C$22*A1203^2","v":352.72476676479261}]
[1204,299,299,null,null,null,null,null,null,null,null,null,{"$f":"Control!$C$20+Control!$C$21*A1204+Control!$C$22*A1204^2","v":353.02142885775606}]
[1205,271,271,null,null,null,null,null,null,null,null,null,{"$f":"Control!$C$20+Control!$C$21*A1205+Control!$C$22*A1205^2","v":353.31809104635505}]
[1206,257,257,null,null,null,null,null,null,null,null,null,{"$f":"Control!$C$20+Control!$C$21*A1206+Control!$C$22*A1206^2","v":353.61475333058951}]
[1207,245,245,null,null,null,null,null,null,null,null,null,{"$f":"Control!$C$20+Control!$C$21*A1207+Control!$C$22*A1207^2","v":353.91141571045949}]
[1208,242,242,null,null,null,null,null,null,null,null,null,{"$f":"Control!$C$20+Control!$C$21*A1208+Control!$C$22*A1208^2","v":354.20807818596495}]
[1209,246,246,null,null,null,null,null,null,null,null,null,{"$f":"Control!$C$20+Control!$C$21*A1209+Control!$C$22*A1209^2","v":354.50474075710594}]
[1210,268,268,null,null,null,null,null,null,null,null,null,{"$f":"Control!$C$20+Control!$C$21*A1210+Control!$C$22*A1210^2","v":354.80140342388239}]
[1211,286,286,null,null,null,null,null,null,null,null,null,{"$f":"Control!$C$20+Control!$C$21*A1211+Control!$C$22*A1211^2","v":355.09806618629437}]
[1212,238,238,null,null,null,null,null,null,null,null,null,{"$f":"Control!$C$20+Control!$C$21*A1212+Control!$C$22*A1212^2","v":355.39472904434183}]
[1213,284,284,null,null,null,null,null,null,null,null,null,{"$f":"Control!$C$20+Control!$C$21*A1213+Control!$C$22*A1213^2","v":355.69139199802481}]
[1214,269,269,null,null,null,null,null,null,null,null,null,{"$f":"Control!$C$20+Control!$C$21*A1214+Control!$C$22*A1214^2","v":355.98805504734327}]
[1215,256,256,null,null,null,null,null,null,null,null,null,{"$f":"Control!$C$20+Control!$C$21*A1215+Control!$C$22*A1215^2","v":356.28471819229725}]
[1216,231,231,null,null,null,null,null,null,null,null,null,{"$f":"Control!$C$20+Control!$C$21*A1216+Control!$C$22*A1216^2","v":356.5813814328867}]
[1217,256,256,null,null,null,null,null,null,null,null,null,{"$f":"Control!$C$20+Control!$C$21*A1217+Control!$C$22*A1217^2","v":356.87804476911168}]
[1218,276,276,null,null,null,null,null,null,null,null,null,{"$f":"Control!$C$20+Control!$C$21*A1218+Control!$C$22*A1218^2","v":357.17470820097213}]
[1219,222,222,null,null,null,null,null,null,null,null,null,{"$f":"Control!$C$20+Control!$C$21*A1219+Control!$C$22*A1219^2","v":357.47137172846811}]
[1220,226,226,null,null,null,null,null,null,null,null,null,{"$f":"Control!$C$20+Control!$C$21*A1220+Control!$C$22*A1220^2","v":357.76803535159956}]
[1221,250,250,null,null,null,null,null,null,null,null,null,{"$f":"Control!$C$20+Control!$C$21*A1221+Control!$C$22*A1221^2","v":358.06469907036654}]
[1222,251,251,null,null,null,null,null,null,null,null,null,{"$f":"Control!$C$20+Control!$C$21*A1222+Control!$C$22*A1222^2","v":358.36136288476899}]
[1223,240,240,null,null,null,null,null,null,null,null,null,{"$f":"Control!$C$20+Control!$C$21*A1223+Control!$C$22*A1223^2","v":358.65802679480697}]
[1224,259,259,null,null,null,null,null,null,null,null,null,{"$f":"Control!$C$20+Control!$C$21*A1224+Control!$C$22*A1224^2","v":358.95469080048042}]
[1225,223,223,null,null,null,null,null,null,null,null,null,{"$f":"Control!$C$20+Control!$C$21*A1225+Control!$C$22*A1225^2","v":359.2513549017894}]
[1226,231,231,null,null,null,null,null,null,null,null,null,{"$f":"Control!$C$20+Control!$C$21*A1226+Control!$C$22*A1226^2","v":359.54801909873385}]
[1227,256,256,null,null,null,null,null,null,null,null,null,{"$f":"Control!$C$20+Control!$C$21*A1227+Control!$C$22*A1227^2","v":359.84468339131382}]
[1228,241,241,null,null,null,null,null,null,null,null,null,{"$f":"Control!$C$20+Control!$C$21*A1228+Control!$C$22*A1228^2","v":360.14134777952927}]
[1229,260,260,null,null,null,null,null,null,null,null,null,{"$f":"Control!$C$20+Control!$C$21*A1229+Control!$C$22*A1229^2","v":360.43801226338024}]
[1230,246,246,null,null,null,null,null,null,null,null,null,{"$f":"Control!$C$20+Control!$C$21*A1230+Control!$C$22*A1230^2","v":360.73467684286669}]
[1231,232,232,null,null,null,null,null,null,null,null,null,{"$f":"Control!$C$20+Control!$C$21*A1231+Control!$C$22*A1231^2","v":361.03134151798866}]
[1232,227,227,null,null,null,null,null,null,null,null,null,{"$f":"Control!$C$20+Control!$C$21*A1232+Control!$C$22*A1232^2","v":361.32800628874611}]
[1233,233,233,null,null,null,null,null,null,null,null,null,{"$f":"Control!$C$20+Control!$C$21*A1233+Control!$C$22*A1233^2","v":361.62467115513908}]
[1234,242,242,null,null,null,null,null,null,null,null,null,{"$f":"Control!$C$20+Control!$C$21*A1234+Control!$C$22*A1234^2","v":361.92133611716753}]
[1235,240,240,null,null,null,null,null,null,null,null,null,{"$f":"Control!$C$20+Control!$C$21*A1235+Control!$C$22*A1235^2","v":362.2180011748315}]
[1236,241,241,null,null,null,null,null,null,null,null,null,{"$f":"Control!$C$20+Control!$C$21*A1236+Control!$C$22*A1236^2","v":362.51466632813094}]
[1237,256,256,null,null,null,null,null,null,null,null,null,{"$f":"Control!$C$20+Control!$C$21*A1237+Control!$C$22*A1237^2","v":362.81133157706591}]
[1238,244,244,null,null,null,null,null,null,null,null,null,{"$f":"Control!$C$20+Control!$C$21*A1238+Control!$C$22*A1238^2","v":363.10799692163636}]
[1239,251,251,null,null,null,null,null,null,null,null,null,{"$f":"Control!$C$20+Control!$C$21*A1239+Control!$C$22*A1239^2","v":363.40466236184233}]
[1240,268,268,null,null,null,null,null,null,null,null,null,{"$f":"Control!$C$20+Control!$C$21*A1240+Control!$C$22*A1240^2","v":363.70132789768377}]
[1241,228,228,null,null,null,null,null,null,null,null,null,{"$f":"Control!$C$20+Control!$C$21*A1241+Control!$C$22*A1241^2","v":363.99799352916074}]
[1242,238,238,null,null,null,null,null,null,null,null,null,{"$f":"Control!$C$20+Control!$C$21*A1242+Control!$C$22*A1242^2","v":364.29465925627318}]
[1243,234,234,null,null,null,null,null,null,null,null,null,{"$f":"Control!$C$20+Control!$C$21*A1243+Control!$C$22*A1243^2","v":364.59132507902115}]
[1244,259,259,null,null,null,null,null,null,null,null,null,{"$f":"Control!$C$20+Control!$C$21*A1244+Control!$C$22*A1244^2","v":364.88799099740459}]
[1245,244,244,null,null,null,null,null,null,null,null,null,{"$f":"Control!$C$20+Control!$C$21*A1245+Control!$C$22*A1245^2","v":365.18465701142355}]
[1246,210,210,null,null,null,null,null,null,null,null,null,{"$f":"Control!$C$20+Control!$C$21*A1246+Control!$C$22*A1246^2","v":365.48132312107799}]
[1247,253,253,null,null,null,null,null,null,null,null,null,{"$f":"Control!$C$20+Control!$C$21*A1247+Control!$C$22*A1247^2","v":365.77798932636796}]
[1248,223,223,null,null,null,null,null,null,null,null,null,{"$f":"Control!$C$20+Control!$C$21*A1248+Control!$C$22*A1248^2","v":366.0746556272934}]
[1249,225,225,null,null,null,null,null,null,null,null,null,{"$f":"Control!$C$20+Control!$C$21*A1249+Control!$C$22*A1249^2","v":366.37132202385436}]
[1250,259,259,null,null,null,null,null,null,null,null,null,{"$f":"Control!$C$20+Control!$C$21*A1250+Control!$C$22*A1250^2","v":366.6679885160508}]
[1251,229,229,null,null,null,null,null,null,null,null,null,{"$f":"Control!$C$20+Control!$C$21*A1251+Control!$C$22*A1251^2","v":366.96465510388276}]
[1252,253,253,null,null,null,null,null,null,null,null,null,{"$f":"Control!$C$20+Control!$C$21*A1252+Control!$C$22*A1252^2","v":367.2613217873502}]
[1253,261,261,null,null,null,null,null,null,null,null,null,{"$f":"Control!$C$20+Control!$C$21*A1253+Control!$C$22*A1253^2","v":367.55798856645316}]
[1254,234,234,null,null,null,null,null,null,null,null,null,{"$f":"Control!$C$20+Control!$C$21*A1254+Control!$C$22*A1254^2","v":367.8546554411916}]
[1255,226,226,null,null,null,null,null,null,null,null,null,{"$f":"Control!$C$20+Control!$C$21*A1255+Control!$C$22*A1255^2","v":368.15132241156556}]
[1256,278,278,null,null,null,null,null,null,null,null,null,{"$f":"Control!$C$20+Control!$C$21*A1256+Control!$C$22*A1256^2","v":368.44798947757499}]
[1257,236,236,null,null,null,null,null,null,null,null,null,{"$f":"Control!$C$20+Control!$C$21*A1257+Control!$C$22*A1257^2","v":368.74465663921995}]
[1258,215,215,null,null,null,null,null,null,null,null,null,{"$f":"Control!$C$20+Control!$C$21*A1258+Control!$C$22*A1258^2","v":369.04132389650039}]
[1259,247,247,null,null,null,null,null,null,null,null,null,{"$f":"Control!$C$20+Control!$C$21*A1259+Control!$C$22*A1259^2","v":369.33799124941635}]
[1260,227,227,null,null,null,null,null,null,null,null,null,{"$f":"Control!$C$20+Control!$C$21*A1260+Control!$C$22*A1260^2","v":369.63465869796778}]
[1261,251,251,null,null,null,null,null,null,null,null,null,{"$f":"Control!$C$20+Control!$C$21*A1261+Control!$C$22*A1261^2","v":369.93132624215474}]
[1262,223,223,null,null,null,null,null,null,null,null,null,{"$f":"Control!$C$20+Control!$C$21*A1262+Control!$C$22*A1262^2","v":370.22799388197717}]
[1263,227,227,null,null,null,null,null,null,null,null,null,{"$f":"Control!$C$20+Control!$C$21*A1263+Control!$C$22*A1263^2","v":370.52466161743513}]
[1264,231,231,null,null,null,null,null,null,null,null,null,{"$f":"Control!$C$20+Control!$C$21*A1264+Control!$C$22*A1264^2","v":370.82132944852856}]
[1265,196,196,null,null,null,null,null,null,null,null,null,{"$f":"Control!$C$20+Control!$C$21*A1265+Control!$C$22*A1265^2","v":371.11799737525752}]
[1266,257,257,null,null,null,null,null,null,null,null,null,{"$f":"Control!$C$20+Control!$C$21*A1266+Control!$C$22*A1266^2","v":371.41466539762195}]
[1267,232,232,null,null,null,null,null,null,null,null,null,{"$f":"Control!$C$20+Control!$C$21*A1267+Control!$C$22*A1267^2","v":371.7113335156219}]
[1268,251,251,null,null,null,null,null,null,null,null,null,{"$f":"Control!$C$20+Control!$C$21*A1268+Control!$C$22*A1268^2","v":372.00800172925733}]
[1269,229,229,null,null,null,null,null,null,null,null,null,{"$f":"Control!$C$20+Control!$C$21*A1269+Control!$C$22*A1269^2","v":372.30467003852829}]
[1270,222,222,null,null,null,null,null,null,null,null,null,{"$f":"Control!$C$20+Control!$C$21*A1270+Control!$C$22*A1270^2","v":372.60133844343471}]
[1271,255,255,null,null,null,null,null,null,null,null,null,{"$f":"Control!$C$20+Control!$C$21*A1271+Control!$C$22*A1271^2","v":372.89800694397667}]
[1272,255,255,null,null,null,null,null,null,null,null,null,{"$f":"Control!$C$20+Control!$C$21*A1272+Control!$C$22*A1272^2","v":373.19467554015409}]
[1273,267,267,null,null,null,null,null,null,null,null,null,{"$f":"Control!$C$20+Control!$C$21*A1273+Control!$C$22*A1273^2","v":373.49134423196705}]
[1274,232,232,null,null,null,null,null,null,null,null,null,{"$f":"Control!$C$20+Control!$C$21*A1274+Control!$C$22*A1274^2","v":373.78801301941547}]
[1275,274,274,null,null,null,null,null,null,null,null,null,{"$f":"Control!$C$20+Control!$C$21*A1275+Control!$C$22*A1275^2","v":374.08468190249943}]
[1276,220,220,null,null,null,null,null,null,null,null,null,{"$f":"Control!$C$20+Control!$C$21*A1276+Control!$C$22*A1276^2","v":374.38135088121885}]
[1277,267,267,null,null,null,null,null,null,null,null,null,{"$f":"Control!$C$20+Control!$C$21*A1277+Control!$C$22*A1277^2","v":374.6780199555738}]
[1278,223,223,null,null,null,null,null,null,null,null,null,{"$f":"Control!$C$20+Control!$C$21*A1278+Control!$C$22*A1278^2","v":374.97468912556423}]
[1279,240,240,null,null,null,null,null,null,null,null,null,{"$f":"Control!$C$20+Control!$C$21*A1279+Control!$C$22*A1279^2","v":375.27135839119018}]
[1280,223,223,null,null,null,null,null,null,null,null,null,{"$f":"Control!$C$20+Control!$C$21*A1280+Control!$C$22*A1280^2","v":375.5680277524516}]
[1281,226,226,null,null,null,null,null,null,null,null,null,{"$f":"Control!$C$20+Control!$C$21*A1281+Control!$C$22*A1281^2","v":375.86469720934855}]
[1282,220,220,null,null,null,null,null,null,null,null,null,{"$f":"Control!$C$20+Control!$C$21*A1282+Control!$C$22*A1282^2","v":376.16136676188097}]
[1283,268,268,null,null,null,null,null,null,null,null,null,{"$f":"Control!$C$20+Control!$C$21*A1283+Control!$C$22*A1283^2","v":376.45803641004892}]
[1284,233,233,null,null,null,null,null,null,null,null,null,{"$f":"Control!$C$20+Control!$C$21*A1284+Control!$C$22*A1284^2","v":376.75470615385234}]
[1285,235,235,null,null,null,null,null,null,null,null,null,{"$f":"Control!$C$20+Control!$C$21*A1285+Control!$C$22*A1285^2","v":377.05137599329129}]
[1286,228,228,null,null,null,null,null,null,null,null,null,{"$f":"Control!$C$20+Control!$C$21*A1286+Control!$C$22*A1286^2","v":377.34804592836571}]
[1287,279,279,null,null,null,null,null,null,null,null,null,{"$f":"Control!$C$20+Control!$C$21*A1287+Control!$C$22*A1287^2","v":377.64471595907565}]
[1288,240,240,null,null,null,null,null,null,null,null,null,{"$f":"Control!$C$20+Control!$C$21*A1288+Control!$C$22*A1288^2","v":377.94138608542107}]
[1289,240,240,null,null,null,null,null,null,null,null,null,{"$f":"Control!$C$20+Control!$C$21*A1289+Control!$C$22*A1289^2","v":378.23805630740202}]
[1290,246,262,18,null,null,null,null,null,null,null,null,{"$f":"Control!$C$20+Control!$C$21*A1290+Control!$C$22*A1290^2","v":378.53472662501844}]
[1291,337,325,109,null,null,null,null,null,null,null,null,{"$f":"Control!$C$20+Control!$C$21*A1291+Control!$C$22*A1291^2","v":378.83139703827038}]
[1292,669,636,441,null,null,null,null,null,null,null,null,{"$f":"Control!$C$20+Control!$C$21*A1292+Control!$C$22*A1292^2","v":379.1280675471578}]
[1293,1413,1382,1185,null,null,null,null,null,null,null,null,{"$f":"Control!$C$20+Control!$C$21*A1293+Control!$C$22*A1293^2","v":379.42473815168074}]
[1294,2352,2343,2124,null,null,null,null,null,null,null,null,{"$f":"Control!$C$20+Control!$C$21*A1294+Control!$C$22*A1294^2","v":379.72140885183916}]
[1295,2766,2771,2538,null,null,null,null,null,null,null,null,{"$f":"Control!$C$20+Control!$C$21*A1295+Control!$C$22*A1295^2","v":380.0180796476331}]
[1296,2250,2221,2022,null,null,null,null,null,null,null,null,{"$f":"Control!$C$20+Control!$C$21*A1296+Control!$C$22*A1296^2","v":380.31475053906252}]
[1297,1302,1289,1074,null,null,null,null,null,null,null,null,{"$f":"Control!$C$20+Control!$C$21*A1297+Control!$C$22*A1297^2","v":380.61142152612746}]
[1298,608,606,380,null,null,null,null,null,null,null,null,{"$f":"Control!$C$20+Control!$C$21*A1298+Control!$C$22*A1298^2","v":380.90809260882787}]
[1299,318,318,90,null,null,null,null,null,null,null,null,{"$f":"Control!$C$20+Control!$C$21*A1299+Control!$C$22*A1299^2","v":381.20476378716381}]
[1300,242,262,14,null,null,null,null,null,null,null,null,{"$f":"Control!$C$20+Control!$C$21*A1300+Control!$C$22*A1300^2","v":381.50143506113523}]
[1301,266,266,null,null,null,null,null,null,null,null,null,{"$f":"Control!$C$20+Control!$C$21*A1301+Control!$C$22*A1301^2","v":381.79810643074217}]
[1302,222,222,null,null,null,null,null,null,null,null,null,{"$f":"Control!$C$20+Control!$C$21*A1302+Control!$C$22*A1302^2","v":382.09477789598458}]
[1303,208,208,null,null,null,null,null,null,null,null,null,{"$f":"Control!$C$20+Control!$C$21*A1303+Control!$C$22*A1303^2","v":382.39144945686252}]
[1304,225,225,null,null,null,null,null,null,null,null,null,{"$f":"Control!$C$20+Control!$C$21*A1304+Control!$C$22*A1304^2","v":382.68812111337593}]
[1305,245,245,null,null,null,null,null,null,null,null,null,{"$f":"Control!$C$20+Control!$C$21*A1305+Control!$C$22*A1305^2","v":382.98479286552487}]
[1306,228,228,null,null,null,null,null,null,null,null,null,{"$f":"Control!$C$20+Control!$C$21*A1306+Control!$C$22*A1306^2","v":383.28146471330928}]
[1307,257,257,null,null,null,null,null,null,null,null,null,{"$f":"Control!$C$20+Control!$C$21*A1307+Control!$C$22*A1307^2","v":383.57813665672921}]
[1308,228,228,null,null,null,null,null,null,null,null,null,{"$f":"Control!$C$20+Control!$C$21*A1308+Control!$C$22*A1308^2","v":383.87480869578462}]
[1309,221,221,null,null,null,null,null,null,null,null,null,{"$f":"Control!$C$20+Control!$C$21*A1309+Control!$C$22*A1309^2","v":384.17148083047556}]
[1310,202,202,null,null,null,null,null,null,null,null,null,{"$f":"Control!$C$20+Control!$C$21*A1310+Control!$C$22*A1310^2","v":384.46815306080197}]
[1311,214,214,null,null,null,null,null,null,null,null,null,{"$f":"Control!$C$20+Control!$C$21*A1311+Control!$C$22*A1311^2","v":384.7648253867639}]
[1312,273,273,null,null,null,null,null,null,null,null,null,{"$f":"Control!$C$20+Control!$C$21*A1312+Control!$C$22*A1312^2","v":385.06149780836131}]
[1313,241,241,null,null,null,null,null,null,null,null,null,{"$f":"Control!$C$20+Control!$C$21*A1313+Control!$C$22*A1313^2","v":385.35817032559424}]
[1314,230,230,null,null,null,null,null,null,null,null,null,{"$f":"Control!$C$20+Control!$C$21*A1314+Control!$C$22*A1314^2","v":385.65484293846265}]
[1315,217,217,null,null,null,null,null,null,null,null,null,{"$f":"Control!$C$20+Control!$C$21*A1315+Control!$C$22*A1315^2","v":385.95151564696658}]
[1316,238,238,null,null,null,null,null,null,null,null,null,{"$f":"Control!$C$20+Control!$C$21*A1316+Control!$C$22*A1316^2","v":386.24818845110599}]
[1317,241,241,null,null,null,null,null,null,null,null,null,{"$f":"Control!$C$20+Control!$C$21*A1317+Control!$C$22*A1317^2","v":386.54486135088092}]
[1318,234,234,null,null,null,null,null,null,null,null,null,{"$f":"Control!$C$20+Control!$C$21*A1318+Control!$C$22*A1318^2","v":386.84153434629133}]
[1319,236,236,null,null,null,null,null,null,null,null,null,{"$f":"Control!$C$20+Control!$C$21*A1319+Control!$C$22*A1319^2","v":387.13820743733726}]
[1320,225,225,null,null,null,null,null,null,null,null,null,{"$f":"Control!$C$20+Control!$C$21*A1320+Control!$C$22*A1320^2","v":387.43488062401866}]
[1321,240,240,null,null,null,null,null,null,null,null,null,{"$f":"Control!$C$20+Control!$C$21*A1321+Control!$C$22*A1321^2","v":387.73155390633559}]
[1322,223,223,null,null,null,null,null,null,null,null,null,{"$f":"Control!$C$20+Control!$C$21*A1322+Control!$C$22*A1322^2","v":388.02822728428799}]
[1323,240,240,null,null,null,null,null,null,null,null,null,{"$f":"Control!$C$20+Control!$C$21*A1323+Control!$C$22*A1323^2","v":388.32490075787592}]
[1324,248,248,null,null,null,null,null,null,null,null,null,{"$f":"Control!$C$20+Control!$C$21*A1324+Control!$C$22*A1324^2","v":388.62157432709932}]
[1325,232,232,null,null,null,null,null,null,null,null,null,{"$f":"Control!$C$20+Control!$C$21*A1325+Control!$C$22*A1325^2","v":388.91824799195825}]
[1326,256,256,null,null,null,null,null,null,null,null,null,{"$f":"Control!$C$20+Control!$C$21*A1326+Control!$C$22*A1326^2","v":389.21492175245265}]
[1327,245,245,null,null,null,null,null,null,null,null,null,{"$f":"Control!$C$20+Control!$C$21*A1327+Control!$C$22*A1327^2","v":389.51159560858258}]
[1328,218,218,null,null,null,null,null,null,null,null,null,{"$f":"Control!$C$20+Control!$C$21*A1328+Control!$C$22*A1328^2","v":389.80826956034798}]
[1329,222,222,null,null,null,null,null,null,null,null,null,{"$f":"Control!$C$20+Control!$C$21*A1329+Control!$C$22*A1329^2","v":390.10494360774891}]
[1330,229,229,null,null,null,null,null,null,null,null,null,{"$f":"Control!$C$20+Control!$C$21*A1330+Control!$C$22*A1330^2","v":390.40161775078531}]
[1331,260,260,null,null,null,null,null,null,null,null,null,{"$f":"Control!$C$20+Control!$C$21*A1331+Control!$C$22*A1331^2","v":390.69829198945723}]
[1332,235,235,null,null,null,null,null,null,null,null,null,{"$f":"Control!$C$20+Control!$C$21*A1332+Control!$C$22*A1332^2","v":390.99496632376463}]
[1333,231,231,null,null,null,null,null,null,null,null,null,{"$f":"Control!$C$20+Control!$C$21*A1333+Control!$C$22*A1333^2","v":391.29164075370755}]
[1334,228,228,null,null,null,null,null,null,null,null,null,{"$f":"Control!$C$20+Control!$C$21*A1334+Control!$C$22*A1334^2","v":391.58831527928595}]
[1335,234,234,null,null,null,null,null,null,null,null,null,{"$f":"Control!$C$20+Control!$C$21*A1335+Control!$C$22*A1335^2","v":391.88498990049987}]
[1336,208,208,null,null,null,null,null,null,null,null,null,{"$f":"Control!$C$20+Control!$C$21*A1336+Control!$C$22*A1336^2","v":392.18166461734927}]
[1337,213,213,null,null,null,null,null,null,null,null,null,{"$f":"Control!$C$20+Control!$C$21*A1337+Control!$C$22*A1337^2","v":392.47833942983419}]
[1338,248,248,null,null,null,null,null,null,null,null,null,{"$f":"Control!$C$20+Control!$C$21*A1338+Control!$C$22*A1338^2","v":392.77501433795459}]
[1339,244,244,null,null,null,null,null,null,null,null,null,{"$f":"Control!$C$20+Control!$C$21*A1339+Control!$C$22*A1339^2","v":393.07168934171051}]
[1340,211,211,null,null,null,null,null,null,null,null,null,{"$f":"Control!$C$20+Control!$C$21*A1340+Control!$C$22*A1340^2","v":393.3683644411019}]
[1341,224,224,null,null,null,null,null,null,null,null,null,{"$f":"Control!$C$20+Control!$C$21*A1341+Control!$C$22*A1341^2","v":393.66503963612882}]
[1342,223,223,null,null,null,null,null,null,null,null,null,{"$f":"Control!$C$20+Control!$C$21*A1342+Control!$C$22*A1342^2","v":393.96171492679122}]
[1343,213,213,null,null,null,null,null,null,null,null,null,{"$f":"Control!$C$20+Control!$C$21*A1343+Control!$C$22*A1343^2","v":394.25839031308914}]
[1344,213,213,null,null,null,null,null,null,null,null,null,{"$f":"Control!$C$20+Control!$C$21*A1344+Control!$C$22*A1344^2","v":394.55506579502253}]
[1345,232,232,null,null,null,null,null,null,null,null,null,{"$f":"Control!$C$20+Control!$C$21*A1345+Control!$C$22*A1345^2","v":394.85174137259145}]
[1346,231,231,null,null,null,null,null,null,null,null,null,{"$f":"Control!$C$20+Control!$C$21*A1346+Control!$C$22*A1346^2","v":395.14841704579584}]
[1347,213,213,null,null,null,null,null,null,null,null,null,{"$f":"Control!$C$20+Control!$C$21*A1347+Control!$C$22*A1347^2","v":395.44509281463576}]
[1348,224,224,null,null,null,null,null,null,null,null,null,{"$f":"Control!$C$20+Control!$C$21*A1348+Control!$C$22*A1348^2","v":395.74176867911115}]
[1349,231,231,null,null,null,null,null,null,null,null,null,{"$f":"Control!$C$20+Control!$C$21*A1349+Control!$C$22*A1349^2","v":396.03844463922206}]
[1350,243,243,null,null,null,null,null,null,null,null,null,{"$f":"Control!$C$20+Control!$C$21*A1350+Control!$C$22*A1350^2","v":396.33512069496845}]
[1351,228,228,null,null,null,null,null,null,null,null,null,{"$f":"Control!$C$20+Control!$C$21*A1351+Control!$C$22*A1351^2","v":396.63179684635037}]
[1352,214,214,null,null,null,null,null,null,null,null,null,{"$f":"Control!$C$20+Control!$C$21*A1352+Control!$C$22*A1352^2","v":396.92847309336776}]
[1353,218,218,null,null,null,null,null,null,null,null,null,{"$f":"Control!$C$20+Control!$C$21*A1353+Control!$C$22*A1353^2","v":397.22514943602067}]
[1354,232,232,null,null,null,null,null,null,null,null,null,{"$f":"Control!$C$20+Control!$C$21*A1354+Control!$C$22*A1354^2","v":397.52182587430906}]
[1355,249,249,null,null,null,null,null,null,null,null,null,{"$f":"Control!$C$20+Control!$C$21*A1355+Control!$C$22*A1355^2","v":397.81850240823297}]
[1356,206,206,null,null,null,null,null,null,null,null,null,{"$f":"Control!$C$20+Control!$C$21*A1356+Control!$C$22*A1356^2","v":398.11517903779236}]
[1357,229,229,null,null,null,null,null,null,null,null,null,{"$f":"Control!$C$20+Control!$C$21*A1357+Control!$C$22*A1357^2","v":398.41185576298727}]
[1358,192,192,null,null,null,null,null,null,null,null,null,{"$f":"Control!$C$20+Control!$C$21*A1358+Control!$C$22*A1358^2","v":398.70853258381766}]
[1359,234,234,null,null,null,null,null,null,null,null,null,{"$f":"Control!$C$20+Control!$C$21*A1359+Control!$C$22*A1359^2","v":399.00520950028357}]
[1360,216,216,null,null,null,null,null,null,null,null,null,{"$f":"Control!$C$20+Control!$C$21*A1360+Control!$C$22*A1360^2","v":399.30188651238495}]
[1361,231,231,null,null,null,null,null,null,null,null,null,{"$f":"Control!$C$20+Control!$C$21*A1361+Control!$C$22*A1361^2","v":399.59856362012187}]
[1362,203,203,null,null,null,null,null,null,null,null,null,{"$f":"Control!$C$20+Control!$C$21*A1362+Control!$C$22*A1362^2","v":399.89524082349425}]
[1363,216,216,null,null,null,null,null,null,null,null,null,{"$f":"Control!$C$20+Control!$C$21*A1363+Control!$C$22*A1363^2","v":400.19191812250216}]
[1364,220,220,null,null,null,null,null,null,null,null,null,{"$f":"Control!$C$20+Control!$C$21*A1364+Control!$C$22*A1364^2","v":400.48859551714554}]
[1365,207,207,null,null,null,null,null,null,null,null,null,{"$f":"Control!$C$20+Control!$C$21*A1365+Control!$C$22*A1365^2","v":400.78527300742445}]
[1366,222,222,null,null,null,null,null,null,null,null,null,{"$f":"Control!$C$20+Control!$C$21*A1366+Control!$C$22*A1366^2","v":401.08195059333883}]
[1367,222,222,null,null,null,null,null,null,null,null,null,{"$f":"Control!$C$20+Control!$C$21*A1367+Control!$C$22*A1367^2","v":401.37862827488874}]
[1368,216,216,null,null,null,null,null,null,null,null,null,{"$f":"Control!$C$20+Control!$C$21*A1368+Control!$C$22*A1368^2","v":401.67530605207412}]
[1369,258,258,null,null,null,null,null,null,null,null,null,{"$f":"Control!$C$20+Control!$C$21*A1369+Control!$C$22*A1369^2","v":401.97198392489503}]
[1370,198,198,null,null,null,null,null,null,null,null,null,{"$f":"Control!$C$20+Control!$C$21*A1370+Control!$C$22*A1370^2","v":402.26866189335141}]
[1371,202,202,null,null,null,null,null,null,null,null,null,{"$f":"Control!$C$20+Control!$C$21*A1371+Control!$C$22*A1371^2","v":402.56533995744331}]
[1372,241,241,null,null,null,null,null,null,null,null,null,{"$f":"Control!$C$20+Control!$C$21*A1372+Control!$C$22*A1372^2","v":402.86201811717069}]
[1373,207,207,null,null,null,null,null,null,null,null,null,{"$f":"Control!$C$20+Control!$C$21*A1373+Control!$C$22*A1373^2","v":403.1586963725336}]
[1374,196,196,null,null,null,null,null,null,null,null,null,{"$f":"Control!$C$20+Control!$C$21*A1374+Control!$C$22*A1374^2","v":403.45537472353197}]
[1375,235,235,null,null,null,null,null,null,null,null,null,{"$f":"Control!$C$20+Control!$C$21*A1375+Control!$C$22*A1375^2","v":403.75205317016588}]
[1376,224,224,null,null,null,null,null,null,null,null,null,{"$f":"Control!$C$20+Control!$C$21*A1376+Control!$C$22*A1376^2","v":404.04873171243526}]
[1377,230,230,null,null,null,null,null,null,null,null,null,{"$f":"Control!$C$20+Control!$C$21*A1377+Control!$C$22*A1377^2","v":404.34541035034016}]
[1378,258,258,null,null,null,null,null,null,null,null,null,{"$f":"Control!$C$20+Control!$C$21*A1378+Control!$C$22*A1378^2","v":404.64208908388053}]
[1379,223,223,null,null,null,null,null,null,null,null,null,{"$f":"Control!$C$20+Control!$C$21*A1379+Control!$C$22*A1379^2","v":404.93876791305644}]
[1380,201,201,null,null,null,null,null,null,null,null,null,{"$f":"Control!$C$20+Control!$C$21*A1380+Control!$C$22*A1380^2","v":405.23544683786781}]
[1381,248,248,null,null,null,null,null,null,null,null,null,{"$f":"Control!$C$20+Control!$C$21*A1381+Control!$C$22*A1381^2","v":405.53212585831471}]
[1382,237,237,null,null,null,null,null,null,null,null,null,{"$f":"Control!$C$20+Control!$C$21*A1382+Control!$C$22*A1382^2","v":405.82880497439709}]
[1383,230,230,null,null,null,null,null,null,null,null,null,{"$f":"Control!$C$20+Control!$C$21*A1383+Control!$C$22*A1383^2","v":406.12548418611499}]
[1384,216,216,null,null,null,null,null,null,null,null,null,{"$f":"Control!$C$20+Control!$C$21*A1384+Control!$C$22*A1384^2","v":406.42216349346836}]
[1385,202,202,null,null,null,null,null,null,null,null,null,{"$f":"Control!$C$20+Control!$C$21*A1385+Control!$C$22*A1385^2","v":406.71884289645726}]
[1386,202,202,null,null,null,null,null,null,null,null,null,{"$f":"Control!$C$20+Control!$C$21*A1386+Control!$C$22*A1386^2","v":407.01552239508163}]
[1387,190,190,null,null,null,null,null,null,null,null,null,{"$f":"Control!$C$20+Control!$C$21*A1387+Control!$C$22*A1387^2","v":407.31220198934153}]
[1388,189,189,null,null,null,null,null,null,null,null,null,{"$f":"Control!$C$20+Control!$C$21*A1388+Control!$C$22*A1388^2","v":407.6088816792369}]
[1389,220,220,null,null,null,null,null,null,null,null,null,{"$f":"Control!$C$20+Control!$C$21*A1389+Control!$C$22*A1389^2","v":407.9055614647678}]
[1390,204,204,null,null,null,null,null,null,null,null,null,{"$f":"Control!$C$20+Control!$C$21*A1390+Control!$C$22*A1390^2","v":408.20224134593417}]
[1391,216,216,null,null,null,null,null,null,null,null,null,{"$f":"Control!$C$20+Control!$C$21*A1391+Control!$C$22*A1391^2","v":408.49892132273607}]
[1392,247,247,null,null,null,null,null,null,null,null,null,{"$f":"Control!$C$20+Control!$C$21*A1392+Control!$C$22*A1392^2","v":408.79560139517343}]
[1393,288,288,null,null,null,null,null,null,null,null,null,{"$f":"Control!$C$20+Control!$C$21*A1393+Control!$C$22*A1393^2","v":409.09228156324633}]
[1394,273,273,null,null,null,null,null,null,null,null,null,{"$f":"Control!$C$20+Control!$C$21*A1394+Control!$C$22*A1394^2","v":409.3889618269547}]
[1395,276,276,null,null,null,null,null,null,null,null,null,{"$f":"Control!$C$20+Control!$C$21*A1395+Control!$C$22*A1395^2","v":409.68564218629859}]
[1396,252,252,null,null,null,null,null,null,null,null,null,{"$f":"Control!$C$20+Control!$C$21*A1396+Control!$C$22*A1396^2","v":409.98232264127796}]
[1397,200,200,null,null,null,null,null,null,null,null,null,{"$f":"Control!$C$20+Control!$C$21*A1397+Control!$C$22*A1397^2","v":410.27900319189285}]
[1398,224,224,null,null,null,null,null,null,null,null,null,{"$f":"Control!$C$20+Control!$C$21*A1398+Control!$C$22*A1398^2","v":410.57568383814322}]
[1399,205,205,null,null,null,null,null,null,null,null,null,{"$f":"Control!$C$20+Control!$C$21*A1399+Control!$C$22*A1399^2","v":410.87236458002911}]
[1400,199,199,null,null,null,null,null,null,null,null,null,{"$f":"Control!$C$20+Control!$C$21*A1400+Control!$C$22*A1400^2","v":411.16904541755048}]
[1401,196,196,null,null,null,null,null,null,null,null,null,{"$f":"Control!$C$20+Control!$C$21*A1401+Control!$C$22*A1401^2","v":411.46572635070737}]
[1402,220,220,null,null,null,null,null,null,null,null,null,{"$f":"Control!$C$20+Control!$C$21*A1402+Control!$C$22*A1402^2","v":411.76240737949973}]
[1403,209,209,null,null,null,null,null,null,null,null,null,{"$f":"Control!$C$20+Control!$C$21*A1403+Control!$C$22*A1403^2","v":412.05908850392763}]
[1404,200,200,null,null,null,null,null,null,null,null,null,{"$f":"Control!$C$20+Control!$C$21*A1404+Control!$C$22*A1404^2","v":412.35576972399099}]
[1405,221,221,null,null,null,null,null,null,null,null,null,{"$f":"Control!$C$20+Control!$C$21*A1405+Control!$C$22*A1405^2","v":412.65245103968988}]
[1406,195,195,null,null,null,null,null,null,null,null,null,{"$f":"Control!$C$20+Control!$C$21*A1406+Control!$C$22*A1406^2","v":412.94913245102424}]
[1407,195,195,null,null,null,null,null,null,null,null,null,{"$f":"Control!$C$20+Control!$C$21*A1407+Control!$C$22*A1407^2","v":413.24581395799413}]
[1408,210,210,null,null,null,null,null,null,null,null,null,{"$f":"Control!$C$20+Control!$C$21*A1408+Control!$C$22*A1408^2","v":413.54249556059949}]
[1409,237,237,null,null,null,null,null,null,null,null,null,{"$f":"Control!$C$20+Control!$C$21*A1409+Control!$C$22*A1409^2","v":413.83917725884038}]
[1410,189,189,null,null,null,null,null,null,null,null,null,{"$f":"Control!$C$20+Control!$C$21*A1410+Control!$C$22*A1410^2","v":414.13585905271674}]
[1411,195,195,null,null,null,null,null,null,null,null,null,{"$f":"Control!$C$20+Control!$C$21*A1411+Control!$C$22*A1411^2","v":414.43254094222863}]
[1412,233,233,null,null,null,null,null,null,null,null,null,{"$f":"Control!$C$20+Control!$C$21*A1412+Control!$C$22*A1412^2","v":414.72922292737599}]
[1413,229,229,null,null,null,null,null,null,null,null,null,{"$f":"Control!$C$20+Control!$C$21*A1413+Control!$C$22*A1413^2","v":415.02590500815887}]
[1414,226,226,null,null,null,null,null,null,null,null,null,{"$f":"Control!$C$20+Control!$C$21*A1414+Control!$C$22*A1414^2","v":415.32258718457723}]
[1415,214,214,null,null,null,null,null,null,null,null,null,{"$f":"Control!$C$20+Control!$C$21*A1415+Control!$C$22*A1415^2","v":415.61926945663112}]
[1416,205,205,null,null,null,null,null,null,null,null,null,{"$f":"Control!$C$20+Control!$C$21*A1416+Control!$C$22*A1416^2","v":415.91595182432047}]
[1417,204,204,null,null,null,null,null,null,null,null,null,{"$f":"Control!$C$20+Control!$C$21*A1417+Control!$C$22*A1417^2","v":416.21263428764536}]
[1418,206,206,null,null,null,null,null,null,null,null,null,{"$f":"Control!$C$20+Control!$C$21*A1418+Control!$C$22*A1418^2","v":416.50931684660571}]
[1419,246,246,null,null,null,null,null,null,null,null,null,{"$f":"Control!$C$20+Control!$C$21*A1419+Control!$C$22*A1419^2","v":416.8059995012016}]
[1420,213,213,null,null,null,null,null,null,null,null,null,{"$f":"Control!$C$20+Control!$C$21*A1420+Control!$C$22*A1420^2","v":417.10268225143295}]
[1421,207,207,null,null,null,null,null,null,null,null,null,{"$f":"Control!$C$20+Control!$C$21*A1421+Control!$C$22*A1421^2","v":417.39936509729984}]
[1422,223,223,null,null,null,null,null,null,null,null,null,{"$f":"Control!$C$20+Control!$C$21*A1422+Control!$C$22*A1422^2","v":417.69604803880219}]
[1423,182,182,null,null,null,null,null,null,null,null,null,{"$f":"Control!$C$20+Control!$C$21*A1423+Control!$C$22*A1423^2","v":417.99273107594007}]
[1424,238,238,null,null,null,null,null,null,null,null,null,{"$f":"Control!$C$20+Control!$C$21*A1424+Control!$C$22*A1424^2","v":418.28941420871342}]
[1425,235,248,26,null,null,null,null,null,null,null,null,{"$f":"Control!$C$20+Control!$C$21*A1425+Control!$C$22*A1425^2","v":418.58609743712231}]
[1426,341,376,132,null,null,null,null,null,null,null,null,{"$f":"Control!$C$20+Control!$C$21*A1426+Control!$C$22*A1426^2","v":418.88278076116666}]
[1427,667,633,458,null,null,null,null,null,null,null,null,{"$f":"Control!$C$20+Control!$C$21*A1427+Control!$C$22*A1427^2","v":419.17946418084654}]
[1428,1297,1299,1088,null,null,null,null,null,null,null,null,{"$f":"Control!$C$20+Control!$C$21*A1428+Control!$C$22*A1428^2","v":419.47614769616189}]
[1429,1972,1955,1763,null,null,null,null,null,null,null,null,{"$f":"Control!$C$20+Control!$C$21*A1429+Control!$C$22*A1429^2","v":419.77283130711277}]
[1430,2160,2198,1951,null,null,null,null,null,null,null,null,{"$f":"Control!$C$20+Control!$C$21*A1430+Control!$C$22*A1430^2","v":420.06951501369912}]
[1431,1683,1782,1474,null,null,null,null,null,null,null,null,{"$f":"Control!$C$20+Control!$C$21*A1431+Control!$C$22*A1431^2","v":420.366198815921}]
[1432,970,957,761,null,null,null,null,null,null,null,null,{"$f":"Control!$C$20+Control!$C$21*A1432+Control!$C$22*A1432^2","v":420.66288271377834}]
[1433,477,447,268,null,null,null,null,null,null,null,null,{"$f":"Control!$C$20+Control!$C$21*A1433+Control!$C$22*A1433^2","v":420.95956670727122}]
[1434,273,252,64,null,null,null,null,null,null,null,null,{"$f":"Control!$C$20+Control!$C$21*A1434+Control!$C$22*A1434^2","v":421.25625079639957}]
[1435,220,223,11,null,null,null,null,null,null,null,null,{"$f":"Control!$C$20+Control!$C$21*A1435+Control!$C$22*A1435^2","v":421.55293498116345}]
[1436,183,183,null,null,null,null,null,null,null,null,null,{"$f":"Control!$C$20+Control!$C$21*A1436+Control!$C$22*A1436^2","v":421.84961926156279}]
[1437,219,219,null,null,null,null,null,null,null,null,null,{"$f":"Control!$C$20+Control!$C$21*A1437+Control!$C$22*A1437^2","v":422.14630363759767}]
[1438,216,216,null,null,null,null,null,null,null,null,null,{"$f":"Control!$C$20+Control!$C$21*A1438+Control!$C$22*A1438^2","v":422.44298810926801}]
[1439,210,210,null,null,null,null,null,null,null,null,null,{"$f":"Control!$C$20+Control!$C$21*A1439+Control!$C$22*A1439^2","v":422.73967267657389}]
[1440,193,193,null,null,null,null,null,null,null,null,null,{"$f":"Control!$C$20+Control!$C$21*A1440+Control!$C$22*A1440^2","v":423.03635733951523}]
[1441,190,190,null,null,null,null,null,null,null,null,null,{"$f":"Control!$C$20+Control!$C$21*A1441+Control!$C$22*A1441^2","v":423.33304209809211}]
[1442,202,202,null,null,null,null,null,null,null,null,null,{"$f":"Control!$C$20+Control!$C$21*A1442+Control!$C$22*A1442^2","v":423.62972695230445}]
[1443,210,210,null,null,null,null,null,null,null,null,null,{"$f":"Control!$C$20+Control!$C$21*A1443+Control!$C$22*A1443^2","v":423.92641190215232}]
[1444,219,219,null,null,null,null,null,null,null,null,null,{"$f":"Control!$C$20+Control!$C$21*A1444+Control!$C$22*A1444^2","v":424.22309694763567}]
[1445,203,203,null,null,null,null,null,null,null,null,null,{"$f":"Control!$C$20+Control!$C$21*A1445+Control!$C$22*A1445^2","v":424.51978208875454}]
[1446,215,215,null,null,null,null,null,null,null,null,null,{"$f":"Control!$C$20+Control!$C$21*A1446+Control!$C$22*A1446^2","v":424.81646732550888}]
[1447,194,194,null,null,null,null,null,null,null,null,null,{"$f":"Control!$C$20+Control!$C$21*A1447+Control!$C$22*A1447^2","v":425.11315265789875}]
[1448,201,201,null,null,null,null,null,null,null,null,null,{"$f":"Control!$C$20+Control!$C$21*A1448+Control!$C$22*A1448^2","v":425.40983808592409}]
[1449,162,162,null,null,null,null,null,null,null,null,null,{"$f":"Control!$C$20+Control!$C$21*A1449+Control!$C$22*A1449^2","v":425.70652360958496}]
[1450,234,234,null,null,null,null,null,null,null,null,null,{"$f":"Control!$C$20+Control!$C$21*A1450+Control!$C$22*A1450^2","v":426.0032092288813}]
[1451,227,227,null,null,null,null,null,null,null,null,null,{"$f":"Control!$C$20+Control!$C$21*A1451+Control!$C$22*A1451^2","v":426.29989494381317}]
[1452,173,173,null,null,null,null,null,null,null,null,null,{"$f":"Control!$C$20+Control!$C$21*A1452+Control!$C$22*A1452^2","v":426.59658075438051}]
[1453,181,181,null,null,null,null,null,null,null,null,null,{"$f":"Control!$C$20+Control!$C$21*A1453+Control!$C$22*A1453^2","v":426.89326666058338}]
[1454,214,214,null,null,null,null,null,null,null,null,null,{"$f":"Control!$C$20+Control!$C$21*A1454+Control!$C$22*A1454^2","v":427.18995266242172}]
[1455,199,199,null,null,null,null,null,null,null,null,null,{"$f":"Control!$C$20+Control!$C$21*A1455+Control!$C$22*A1455^2","v":427.48663875989558}]
[1456,198,198,null,null,null,null,null,null,null,null,null,{"$f":"Control!$C$20+Control!$C$21*A1456+Control!$C$22*A1456^2","v":427.78332495300492}]
[1457,207,207,null,null,null,null,null,null,null,null,null,{"$f":"Control!$C$20+Control!$C$21*A1457+Control!$C$22*A1457^2","v":428.08001124174979}]
[1458,240,240,null,null,null,null,null,null,null,null,null,{"$f":"Control!$C$20+Control!$C$21*A1458+Control!$C$22*A1458^2","v":428.37669762613012}]
[1459,199,199,null,null,null,null,null,null,null,null,null,{"$f":"Control!$C$20+Control!$C$21*A1459+Control!$C$22*A1459^2","v":428.67338410614599}]
[1460,182,182,null,null,null,null,null,null,null,null,null,{"$f":"Control!$C$20+Control!$C$21*A1460+Control!$C$22*A1460^2","v":428.97007068179732}]
[1461,192,192,null,null,null,null,null,null,null,null,null,{"$f":"Control!$C$20+Control!$C$21*A1461+Control!$C$22*A1461^2","v":429.26675735308419}]
[1462,185,185,null,null,null,null,null,null,null,null,null,{"$f":"Control!$C$20+Control!$C$21*A1462+Control!$C$22*A1462^2","v":429.56344412000652}]
[1463,212,212,null,null,null,null,null,null,null,null,null,{"$f":"Control!$C$20+Control!$C$21*A1463+Control!$C$22*A1463^2","v":429.86013098256439}]
[1464,212,212,null,null,null,null,null,null,null,null,null,{"$f":"Control!$C$20+Control!$C$21*A1464+Control!$C$22*A1464^2","v":430.15681794075772}]
[1465,225,225,null,null,null,null,null,null,null,null,null,{"$f":"Control!$C$20+Control!$C$21*A1465+Control!$C$22*A1465^2","v":430.45350499458658}]
[1466,189,189,null,null,null,null,null,null,null,null,null,{"$f":"Control!$C$20+Control!$C$21*A1466+Control!$C$22*A1466^2","v":430.75019214405091}]
[1467,194,194,null,null,null,null,null,null,null,null,null,{"$f":"Control!$C$20+Control!$C$21*A1467+Control!$C$22*A1467^2","v":431.04687938915077}]
[1468,182,182,null,null,null,null,null,null,null,null,null,{"$f":"Control!$C$20+Control!$C$21*A1468+Control!$C$22*A1468^2","v":431.34356672988611}]
[1469,204,204,null,null,null,null,null,null,null,null,null,{"$f":"Control!$C$20+Control!$C$21*A1469+Control!$C$22*A1469^2","v":431.64025416625697}]
[1470,215,215,null,null,null,null,null,null,null,null,null,{"$f":"Control!$C$20+Control!$C$21*A1470+Control!$C$22*A1470^2","v":431.9369416982633}]
[1471,191,191,null,null,null,null,null,null,null,null,null,{"$f":"Control!$C$20+Control!$C$21*A1471+Control!$C$22*A1471^2","v":432.23362932590516}]
[1472,208,208,null,null,null,null,null,null,null,null,null,{"$f":"Control!$C$20+Control!$C$21*A1472+Control!$C$22*A1472^2","v":432.53031704918249}]
[1473,170,170,null,null,null,null,null,null,null,null,null,{"$f":"Control!$C$20+Control!$C$21*A1473+Control!$C$22*A1473^2","v":432.82700486809534}]
[1474,188,188,null,null,null,null,null,null,null,null,null,{"$f":"Control!$C$20+Control!$C$21*A1474+Control!$C$22*A1474^2","v":433.12369278264367}]
[1475,205,205,null,null,null,null,null,null,null,null,null,{"$f":"Control!$C$20+Control!$C$21*A1475+Control!$C$22*A1475^2","v":433.42038079282753}]
[1476,187,187,null,null,null,null,null,null,null,null,null,{"$f":"Control!$C$20+Control!$C$21*A1476+Control!$C$22*A1476^2","v":433.71706889864686}]
[1477,182,182,null,null,null,null,null,null,null,null,null,{"$f":"Control!$C$20+Control!$C$21*A1477+Control!$C$22*A1477^2","v":434.01375710010171}]
[1478,187,187,null,null,null,null,null,null,null,null,null,{"$f":"Control!$C$20+Control!$C$21*A1478+Control!$C$22*A1478^2","v":434.31044539719204}]
[1479,206,206,null,null,null,null,null,null,null,null,null,{"$f":"Control!$C$20+Control!$C$21*A1479+Control!$C$22*A1479^2","v":434.6071337899179}]
[1480,188,188,null,null,null,null,null,null,null,null,null,{"$f":"Control!$C$20+Control!$C$21*A1480+Control!$C$22*A1480^2","v":434.90382227827922}]
[1481,193,193,null,null,null,null,null,null,null,null,null,{"$f":"Control!$C$20+Control!$C$21*A1481+Control!$C$22*A1481^2","v":435.20051086227608}]
[1482,206,206,null,null,null,null,null,null,null,null,null,{"$f":"Control!$C$20+Control!$C$21*A1482+Control!$C$22*A1482^2","v":435.4971995419084}]
[1483,199,199,null,null,null,null,null,null,null,null,null,{"$f":"Control!$C$20+Control!$C$21*A1483+Control!$C$22*A1483^2","v":435.79388831717625}]
[1484,195,195,null,null,null,null,null,null,null,null,null,{"$f":"Control!$C$20+Control!$C$21*A1484+Control!$C$22*A1484^2","v":436.09057718807958}]
[1485,180,180,null,null,null,null,null,null,null,null,null,{"$f":"Control!$C$20+Control!$C$21*A1485+Control!$C$22*A1485^2","v":436.38726615461843}]
[1486,177,177,null,null,null,null,null,null,null,null,null,{"$f":"Control!$C$20+Control!$C$21*A1486+Control!$C$22*A1486^2","v":436.68395521679275}]
[1487,185,185,null,null,null,null,null,null,null,null,null,{"$f":"Control!$C$20+Control!$C$21*A1487+Control!$C$22*A1487^2","v":436.9806443746026}]
[1488,187,187,null,null,null,null,null,null,null,null,null,{"$f":"Control!$C$20+Control!$C$21*A1488+Control!$C$22*A1488^2","v":437.27733362804793}]
[1489,193,193,null,null,null,null,null,null,null,null,null,{"$f":"Control!$C$20+Control!$C$21*A1489+Control!$C$22*A1489^2","v":437.57402297712878}]
[1490,203,203,null,null,null,null,null,null,null,null,null,{"$f":"Control!$C$20+Control!$C$21*A1490+Control!$C$22*A1490^2","v":437.8707124218451}]
[1491,193,193,null,null,null,null,null,null,null,null,null,{"$f":"Control!$C$20+Control!$C$21*A1491+Control!$C$22*A1491^2","v":438.16740196219695}]
[1492,191,191,null,null,null,null,null,null,null,null,null,{"$f":"Control!$C$20+Control!$C$21*A1492+Control!$C$22*A1492^2","v":438.46409159818427}]
[1493,192,192,null,null,null,null,null,null,null,null,null,{"$f":"Control!$C$20+Control!$C$21*A1493+Control!$C$22*A1493^2","v":438.76078132980712}]
[1494,211,211,null,null,null,null,null,null,null,null,null,{"$f":"Control!$C$20+Control!$C$21*A1494+Control!$C$22*A1494^2","v":439.05747115706544}]
[1495,191,191,null,null,null,null,null,null,null,null,null,{"$f":"Control!$C$20+Control!$C$21*A1495+Control!$C$22*A1495^2","v":439.35416107995928}]
[1496,199,199,null,null,null,null,null,null,null,null,null,{"$f":"Control!$C$20+Control!$C$21*A1496+Control!$C$22*A1496^2","v":439.6508510984886}]
[1497,208,208,null,null,null,null,null,null,null,null,null,{"$f":"Control!$C$20+Control!$C$21*A1497+Control!$C$22*A1497^2","v":439.94754121265345}]
[1498,211,211,null,null,null,null,null,null,null,null,null,{"$f":"Control!$C$20+Control!$C$21*A1498+Control!$C$22*A1498^2","v":440.24423142245377}]
[1499,180,180,null,null,null,null,null,null,null,null,null,{"$f":"Control!$C$20+Control!$C$21*A1499+Control!$C$22*A1499^2","v":440.54092172788961}]
[1500,217,217,null,null,null,null,null,null,null,null,null,{"$f":"Control!$C$20+Control!$C$21*A1500+Control!$C$22*A1500^2","v":440.83761212896093}]
[1501,195,195,null,null,null,null,null,null,null,null,null,{"$f":"Control!$C$20+Control!$C$21*A1501+Control!$C$22*A1501^2","v":441.13430262566777}]
[1502,163,163,null,null,null,null,null,null,null,null,null,{"$f":"Control!$C$20+Control!$C$21*A1502+Control!$C$22*A1502^2","v":441.43099321801009}]
[1503,198,198,null,null,null,null,null,null,null,null,null,{"$f":"Control!$C$20+Control!$C$21*A1503+Control!$C$22*A1503^2","v":441.72768390598793}]
[1504,207,207,null,null,null,null,null,null,null,null,null,{"$f":"Control!$C$20+Control!$C$21*A1504+Control!$C$22*A1504^2","v":442.02437468960125}]
[1505,203,203,null,null,null,null,null,null,null,null,null,{"$f":"Control!$C$20+Control!$C$21*A1505+Control!$C$22*A1505^2","v":442.32106556885009}]
[1506,199,199,null,null,null,null,null,null,null,null,null,{"$f":"Control!$C$20+Control!$C$21*A1506+Control!$C$22*A1506^2","v":442.6177565437344}]
[1507,180,180,null,null,null,null,null,null,null,null,null,{"$f":"Control!$C$20+Control!$C$21*A1507+Control!$C$22*A1507^2","v":442.91444761425424}]
[1508,178,178,null,null,null,null,null,null,null,null,null,{"$f":"Control!$C$20+Control!$C$21*A1508+Control!$C$22*A1508^2","v":443.21113878040956}]
[1509,182,182,null,null,null,null,null,null,null,null,null,{"$f":"Control!$C$20+Control!$C$21*A1509+Control!$C$22*A1509^2","v":443.5078300422004}]
[1510,192,192,null,null,null,null,null,null,null,null,null,{"$f":"Control!$C$20+Control!$C$21*A1510+Control!$C$22*A1510^2","v":443.80452139962671}]
[1511,189,189,null,null,null,null,null,null,null,null,null,{"$f":"Control!$C$20+Control!$C$21*A1511+Control!$C$22*A1511^2","v":444.10121285268855}]
[1512,179,179,null,null,null,null,null,null,null,null,null,{"$f":"Control!$C$20+Control!$C$21*A1512+Control!$C$22*A1512^2","v":444.39790440138586}]
[1513,175,175,null,null,null,null,null,null,null,null,null,{"$f":"Control!$C$20+Control!$C$21*A1513+Control!$C$22*A1513^2","v":444.6945960457187}]
[1514,209,209,null,null,null,null,null,null,null,null,null,{"$f":"Control!$C$20+Control!$C$21*A1514+Control!$C$22*A1514^2","v":444.99128778568701}]
[1515,202,202,null,null,null,null,null,null,null,null,null,{"$f":"Control!$C$20+Control!$C$21*A1515+Control!$C$22*A1515^2","v":445.28797962129084}]
[1516,174,174,null,null,null,null,null,null,null,null,null,{"$f":"Control!$C$20+Control!$C$21*A1516+Control!$C$22*A1516^2","v":445.58467155253015}]
[1517,186,186,null,null,null,null,null,null,null,null,null,{"$f":"Control!$C$20+Control!$C$21*A1517+Control!$C$22*A1517^2","v":445.88136357940499}]
[1518,208,208,null,null,null,null,null,null,null,null,null,{"$f":"Control!$C$20+Control!$C$21*A1518+Control!$C$22*A1518^2","v":446.1780557019153}]
[1519,192,192,null,null,null,null,null,null,null,null,null,{"$f":"Control!$C$20+Control!$C$21*A1519+Control!$C$22*A1519^2","v":446.47474792006113}]
[1520,191,191,null,null,null,null,null,null,null,null,null,{"$f":"Control!$C$20+Control!$C$21*A1520+Control!$C$22*A1520^2","v":446.77144023384244}]
[1521,181,181,null,null,null,null,null,null,null,null,null,{"$f":"Control!$C$20+Control!$C$21*A1521+Control!$C$22*A1521^2","v":447.06813264325928}]
[1522,196,196,null,null,null,null,null,null,null,null,null,{"$f":"Control!$C$20+Control!$C$21*A1522+Control!$C$22*A1522^2","v":447.36482514831158}]
[1523,202,202,null,null,null,null,null,null,null,null,null,{"$f":"Control!$C$20+Control!$C$21*A1523+Control!$C$22*A1523^2","v":447.66151774899942}]
[1524,202,202,null,null,null,null,null,null,null,null,null,{"$f":"Control!$C$20+Control!$C$21*A1524+Control!$C$22*A1524^2","v":447.95821044532272}]
[1525,200,200,null,null,null,null,null,null,null,null,null,{"$f":"Control!$C$20+Control!$C$21*A1525+Control!$C$22*A1525^2","v":448.25490323728155}]
[1526,193,193,null,null,null,null,null,null,null,null,null,{"$f":"Control!$C$20+Control!$C$21*A1526+Control!$C$22*A1526^2","v":448.55159612487586}]
[1527,168,168,null,null,null,null,null,null,null,null,null,{"$f":"Control!$C$20+Control!$C$21*A1527+Control!$C$22*A1527^2","v":448.84828910810569}]
[1528,177,177,null,null,null,null,null,null,null,null,null,{"$f":"Control!$C$20+Control!$C$21*A1528+Control!$C$22*A1528^2","v":449.14498218697099}]
[1529,194,194,null,null,null,null,null,null,null,null,null,{"$f":"Control!$C$20+Control!$C$21*A1529+Control!$C$22*A1529^2","v":449.44167536147182}]
[1530,194,194,null,null,null,null,null,null,null,null,null,{"$f":"Control!$C$20+Control!$C$21*A1530+Control!$C$22*A1530^2","v":449.73836863160813}]
[1531,199,199,null,null,null,null,null,null,null,null,null,{"$f":"Control!$C$20+Control!$C$21*A1531+Control!$C$22*A1531^2","v":450.03506199737996}]
[1532,210,210,null,null,null,null,null,null,null,null,null,{"$f":"Control!$C$20+Control!$C$21*A1532+Control!$C$22*A1532^2","v":450.33175545878726}]
[1533,182,182,null,null,null,null,null,null,null,null,null,{"$f":"Control!$C$20+Control!$C$21*A1533+Control!$C$22*A1533^2","v":450.62844901583009}]
[1534,193,193,null,null,null,null,null,null,null,null,null,{"$f":"Control!$C$20+Control!$C$21*A1534+Control!$C$22*A1534^2","v":450.92514266850839}]
[1535,170,170,null,null,null,null,null,null,null,null,null,{"$f":"Control!$C$20+Control!$C$21*A1535+Control!$C$22*A1535^2","v":451.22183641682221}]
[1536,183,183,null,null,null,null,null,null,null,null,null,{"$f":"Control!$C$20+Control!$C$21*A1536+Control!$C$22*A1536^2","v":451.51853026077151}]
[1537,185,185,null,null,null,null,null,null,null,null,null,{"$f":"Control!$C$20+Control!$C$21*A1537+Control!$C$22*A1537^2","v":451.81522420035634}]
[1538,210,210,null,null,null,null,null,null,null,null,null,{"$f":"Control!$C$20+Control!$C$21*A1538+Control!$C$22*A1538^2","v":452.11191823557664}]
[1539,192,192,null,null,null,null,null,null,null,null,null,{"$f":"Control!$C$20+Control!$C$21*A1539+Control!$C$22*A1539^2","v":452.40861236643246}]
[1540,179,179,null,null,null,null,null,null,null,null,null,{"$f":"Control!$C$20+Control!$C$21*A1540+Control!$C$22*A1540^2","v":452.70530659292376}]
[1541,191,191,null,null,null,null,null,null,null,null,null,{"$f":"Control!$C$20+Control!$C$21*A1541+Control!$C$22*A1541^2","v":453.00200091505059}]
[1542,174,174,null,null,null,null,null,null,null,null,null,{"$f":"Control!$C$20+Control!$C$21*A1542+Control!$C$22*A1542^2","v":453.29869533281288}]
[1543,211,186,25,null,null,null,null,null,null,null,null,{"$f":"Control!$C$20+Control!$C$21*A1543+Control!$C$22*A1543^2","v":453.59538984621071}]
[1544,301,331,115,null,null,null,null,null,null,null,null,{"$f":"Control!$C$20+Control!$C$21*A1544+Control!$C$22*A1544^2","v":453.892084455244}]
[1545,558,567,372,null,null,null,null,null,null,null,null,{"$f":"Control!$C$20+Control!$C$21*A1545+Control!$C$22*A1545^2","v":454.18877915991283}]
[1546,1022,1044,836,null,null,null,null,null,null,null,null,{"$f":"Control!$C$20+Control!$C$21*A1546+Control!$C$22*A1546^2","v":454.48547396021712}]
[1547,1493,1579,1307,null,null,null,null,null,null,null,null,{"$f":"Control!$C$20+Control!$C$21*A1547+Control!$C$22*A1547^2","v":454.78216885615694}]
[1548,1609,1572,1423,null,null,null,null,null,null,null,null,{"$f":"Control!$C$20+Control!$C$21*A1548+Control!$C$22*A1548^2","v":455.07886384773224}]
[1549,1264,1232,1078,null,null,null,null,null,null,null,null,{"$f":"Control!$C$20+Control!$C$21*A1549+Control!$C$22*A1549^2","v":455.37555893494306}]
[1550,754,785,568,null,null,null,null,null,null,null,null,{"$f":"Control!$C$20+Control!$C$21*A1550+Control!$C$22*A1550^2","v":455.67225411778935}]
[1551,394,412,208,null,null,null,null,null,null,null,null,{"$f":"Control!$C$20+Control!$C$21*A1551+Control!$C$22*A1551^2","v":455.96894939627117}]
[1552,239,227,53,null,null,null,null,null,null,null,null,{"$f":"Control!$C$20+Control!$C$21*A1552+Control!$C$22*A1552^2","v":456.26564477038846}]
[1553,195,176,9,null,null,null,null,null,null,null,null,{"$f":"Control!$C$20+Control!$C$21*A1553+Control!$C$22*A1553^2","v":456.56234024014128}]
[1554,171,171,null,null,null,null,null,null,null,null,null,{"$f":"Control!$C$20+Control!$C$21*A1554+Control!$C$22*A1554^2","v":456.85903580552957}]
[1555,166,166,null,null,null,null,null,null,null,null,null,{"$f":"Control!$C$20+Control!$C$21*A1555+Control!$C$22*A1555^2","v":457.15573146655339}]
[1556,191,191,null,null,null,null,null,null,null,null,null,{"$f":"Control!$C$20+Control!$C$21*A1556+Control!$C$22*A1556^2","v":457.45242722321268}]
[1557,168,168,null,null,null,null,null,null,null,null,null,{"$f":"Control!$C$20+Control!$C$21*A1557+Control!$C$22*A1557^2","v":457.7491230755075}]
[1558,175,175,null,null,null,null,null,null,null,null,null,{"$f":"Control!$C$20+Control!$C$21*A1558+Control!$C$22*A1558^2","v":458.04581902343779}]
[1559,184,184,null,null,null,null,null,null,null,null,null,{"$f":"Control!$C$20+Control!$C$21*A1559+Control!$C$22*A1559^2","v":458.3425150670036}]
[1560,172,172,null,null,null,null,null,null,null,null,null,{"$f":"Control!$C$20+Control!$C$21*A1560+Control!$C$22*A1560^2","v":458.63921120620489}]
[1561,193,193,null,null,null,null,null,null,null,null,null,{"$f":"Control!$C$20+Control!$C$21*A1561+Control!$C$22*A1561^2","v":458.93590744104171}]
[1562,188,188,null,null,null,null,null,null,null,null,null,{"$f":"Control!$C$20+Control!$C$21*A1562+Control!$C$22*A1562^2","v":459.23260377151399}]
[1563,169,169,null,null,null,null,null,null,null,null,null,{"$f":"Control!$C$20+Control!$C$21*A1563+Control!$C$22*A1563^2","v":459.52930019762181}]
[1564,210,210,null,null,null,null,null,null,null,null,null,{"$f":"Control!$C$20+Control!$C$21*A1564+Control!$C$22*A1564^2","v":459.82599671936509}]
[1565,162,162,null,null,null,null,null,null,null,null,null,{"$f":"Control!$C$20+Control!$C$21*A1565+Control!$C$22*A1565^2","v":460.12269333674391}]
[1566,182,182,null,null,null,null,null,null,null,null,null,{"$f":"Control!$C$20+Control!$C$21*A1566+Control!$C$22*A1566^2","v":460.41939004975819}]
[1567,177,177,null,null,null,null,null,null,null,null,null,{"$f":"Control!$C$20+Control!$C$21*A1567+Control!$C$22*A1567^2","v":460.716086858408}]
[1568,178,178,null,null,null,null,null,null,null,null,null,{"$f":"Control!$C$20+Control!$C$21*A1568+Control!$C$22*A1568^2","v":461.01278376269329}]
[1569,195,195,null,null,null,null,null,null,null,null,null,{"$f":"Control!$C$20+Control!$C$21*A1569+Control!$C$22*A1569^2","v":461.3094807626141}]
[1570,211,211,null,null,null,null,null,null,null,null,null,{"$f":"Control!$C$20+Control!$C$21*A1570+Control!$C$22*A1570^2","v":461.60617785817038}]
[1571,211,211,null,null,null,null,null,null,null,null,null,{"$f":"Control!$C$20+Control!$C$21*A1571+Control!$C$22*A1571^2","v":461.90287504936219}]
[1572,215,215,null,null,null,null,null,null,null,null,null,{"$f":"Control!$C$20+Control!$C$21*A1572+Control!$C$22*A1572^2","v":462.19957233618948}]
[1573,291,291,null,null,null,null,null,null,null,null,null,{"$f":"Control!$C$20+Control!$C$21*A1573+Control!$C$22*A1573^2","v":462.49626971865229}]
[1574,327,327,null,null,null,null,null,null,null,null,null,{"$f":"Control!$C$20+Control!$C$21*A1574+Control!$C$22*A1574^2","v":462.79296719675057}]
[1575,269,269,null,null,null,null,null,null,null,null,null,{"$f":"Control!$C$20+Control!$C$21*A1575+Control!$C$22*A1575^2","v":463.08966477048438}]
[1576,278,278,null,null,null,null,null,null,null,null,null,{"$f":"Control!$C$20+Control!$C$21*A1576+Control!$C$22*A1576^2","v":463.38636243985366}]
[1577,210,210,null,null,null,null,null,null,null,null,null,{"$f":"Control!$C$20+Control!$C$21*A1577+Control!$C$22*A1577^2","v":463.68306020485846}]
[1578,197,197,null,null,null,null,null,null,null,null,null,{"$f":"Control!$C$20+Control!$C$21*A1578+Control!$C$22*A1578^2","v":463.97975806549874}]
[1579,205,205,null,null,null,null,null,null,null,null,null,{"$f":"Control!$C$20+Control!$C$21*A1579+Control!$C$22*A1579^2","v":464.27645602177455}]
[1580,187,187,null,null,null,null,null,null,null,null,null,{"$f":"Control!$C$20+Control!$C$21*A1580+Control!$C$22*A1580^2","v":464.57315407368583}]
[1581,167,167,null,null,null,null,null,null,null,null,null,{"$f":"Control!$C$20+Control!$C$21*A1581+Control!$C$22*A1581^2","v":464.86985222123263}]
[1582,160,160,null,null,null,null,null,null,null,null,null,{"$f":"Control!$C$20+Control!$C$21*A1582+Control!$C$22*A1582^2","v":465.16655046441491}]
[1583,164,164,null,null,null,null,null,null,null,null,null,{"$f":"Control!$C$20+Control!$C$21*A1583+Control!$C$22*A1583^2","v":465.46324880323272}]
[1584,174,174,null,null,null,null,null,null,null,null,null,{"$f":"Control!$C$20+Control!$C$21*A1584+Control!$C$22*A1584^2","v":465.75994723768599}]
[1585,161,161,null,null,null,null,null,null,null,null,null,{"$f":"Control!$C$20+Control!$C$21*A1585+Control!$C$22*A1585^2","v":466.0566457677748}]
[1586,199,199,null,null,null,null,null,null,null,null,null,{"$f":"Control!$C$20+Control!$C$21*A1586+Control!$C$22*A1586^2","v":466.35334439349907}]
[1587,175,175,null,null,null,null,null,null,null,null,null,{"$f":"Control!$C$20+Control!$C$21*A1587+Control!$C$22*A1587^2","v":466.65004311485887}]
[1588,182,182,null,null,null,null,null,null,null,null,null,{"$f":"Control!$C$20+Control!$C$21*A1588+Control!$C$22*A1588^2","v":466.94674193185415}]
[1589,176,176,null,null,null,null,null,null,null,null,null,{"$f":"Control!$C$20+Control!$C$21*A1589+Control!$C$22*A1589^2","v":467.24344084448495}]
[1590,183,183,null,null,null,null,null,null,null,null,null,{"$f":"Control!$C$20+Control!$C$21*A1590+Control!$C$22*A1590^2","v":467.54013985275122}]
[1591,183,183,null,null,null,null,null,null,null,null,null,{"$f":"Control!$C$20+Control!$C$21*A1591+Control!$C$22*A1591^2","v":467.83683895665303}]
[1592,188,188,null,null,null,null,null,null,null,null,null,{"$f":"Control!$C$20+Control!$C$21*A1592+Control!$C$22*A1592^2","v":468.1335381561903}]
[1593,153,153,null,null,null,null,null,null,null,null,null,{"$f":"Control!$C$20+Control!$C$21*A1593+Control!$C$22*A1593^2","v":468.4302374513631}]
[1594,184,184,null,null,null,null,null,null,null,null,null,{"$f":"Control!$C$20+Control!$C$21*A1594+Control!$C$22*A1594^2","v":468.72693684217137}]
[1595,158,158,null,null,null,null,null,null,null,null,null,{"$f":"Control!$C$20+Control!$C$21*A1595+Control!$C$22*A1595^2","v":469.02363632861517}]
[1596,155,155,null,null,null,null,null,null,null,null,null,{"$f":"Control!$C$20+Control!$C$21*A1596+Control!$C$22*A1596^2","v":469.32033591069444}]
[1597,183,183,null,null,null,null,null,null,null,null,null,{"$f":"Control!$C$20+Control!$C$21*A1597+Control!$C$22*A1597^2","v":469.61703558840924}]
[1598,164,164,null,null,null,null,null,null,null,null,null,{"$f":"Control!$C$20+Control!$C$21*A1598+Control!$C$22*A1598^2","v":469.91373536175951}]
[1599,169,169,null,null,null,null,null,null,null,null,null,{"$f":"Control!$C$20+Control!$C$21*A1599+Control!$C$22*A1599^2","v":470.2104352307453}]
[1600,196,196,null,null,null,null,null,null,null,null,null,{"$f":"Control!$C$20+Control!$C$21*A1600+Control!$C$22*A1600^2","v":470.50713519536657}]
[1601,154,154,null,null,null,null,null,null,null,null,null,{"$f":"Control!$C$20+Control!$C$21*A1601+Control!$C$22*A1601^2","v":470.80383525562337}]
[1602,177,177,null,null,null,null,null,null,null,null,null,{"$f":"Control!$C$20+Control!$C$21*A1602+Control!$C$22*A1602^2","v":471.10053541151564}]
[1603,186,186,null,null,null,null,null,null,null,null,null,{"$f":"Control!$C$20+Control!$C$21*A1603+Control!$C$22*A1603^2","v":471.39723566304343}]
[1604,163,163,null,null,null,null,null,null,null,null,null,{"$f":"Control!$C$20+Control!$C$21*A1604+Control!$C$22*A1604^2","v":471.6939360102067}]
[1605,183,183,null,null,null,null,null,null,null,null,null,{"$f":"Control!$C$20+Control!$C$21*A1605+Control!$C$22*A1605^2","v":471.99063645300549}]
[1606,180,180,null,null,null,null,null,null,null,null,null,{"$f":"Control!$C$20+Control!$C$21*A1606+Control!$C$22*A1606^2","v":472.28733699143976}]
[1607,162,162,null,null,null,null,null,null,null,null,null,{"$f":"Control!$C$20+Control!$C$21*A1607+Control!$C$22*A1607^2","v":472.58403762550955}]
[1608,163,163,null,null,null,null,null,null,null,null,null,{"$f":"Control!$C$20+Control!$C$21*A1608+Control!$C$22*A1608^2","v":472.88073835521482}]
[1609,182,182,null,null,null,null,null,null,null,null,null,{"$f":"Control!$C$20+Control!$C$21*A1609+Control!$C$22*A1609^2","v":473.17743918055561}]
[1610,173,173,null,null,null,null,null,null,null,null,null,{"$f":"Control!$C$20+Control!$C$21*A1610+Control!$C$22*A1610^2","v":473.47414010153187}]
[1611,154,154,null,null,null,null,null,null,null,null,null,{"$f":"Control!$C$20+Control!$C$21*A1611+Control!$C$22*A1611^2","v":473.77084111814366}]
[1612,205,205,null,null,null,null,null,null,null,null,null,{"$f":"Control!$C$20+Control!$C$21*A1612+Control!$C$22*A1612^2","v":474.06754223039093}]
[1613,174,174,null,null,null,null,null,null,null,null,null,{"$f":"Control!$C$20+Control!$C$21*A1613+Control!$C$22*A1613^2","v":474.36424343827372}]
[1614,168,168,null,null,null,null,null,null,null,null,null,{"$f":"Control!$C$20+Control!$C$21*A1614+Control!$C$22*A1614^2","v":474.66094474179198}]
[1615,188,188,null,null,null,null,null,null,null,null,null,{"$f":"Control!$C$20+Control!$C$21*A1615+Control!$C$22*A1615^2","v":474.95764614094577}]
[1616,213,213,null,null,null,null,null,null,null,null,null,{"$f":"Control!$C$20+Control!$C$21*A1616+Control!$C$22*A1616^2","v":475.25434763573503}]
[1617,174,174,null,null,null,null,null,null,null,null,null,{"$f":"Control!$C$20+Control!$C$21*A1617+Control!$C$22*A1617^2","v":475.55104922615982}]
[1618,171,171,null,null,null,null,null,null,null,null,null,{"$f":"Control!$C$20+Control!$C$21*A1618+Control!$C$22*A1618^2","v":475.84775091222008}]
[1619,183,183,null,null,null,null,null,null,null,null,null,{"$f":"Control!$C$20+Control!$C$21*A1619+Control!$C$22*A1619^2","v":476.14445269391587}]
[1620,181,181,null,null,null,null,null,null,null,null,null,{"$f":"Control!$C$20+Control!$C$21*A1620+Control!$C$22*A1620^2","v":476.44115457124713}]
[1621,191,191,null,null,null,null,null,null,null,null,null,{"$f":"Control!$C$20+Control!$C$21*A1621+Control!$C$22*A1621^2","v":476.73785654421391}]
[1622,172,172,null,null,null,null,null,null,null,null,null,{"$f":"Control!$C$20+Control!$C$21*A1622+Control!$C$22*A1622^2","v":477.03455861281617}]
[1623,182,182,null,null,null,null,null,null,null,null,null,{"$f":"Control!$C$20+Control!$C$21*A1623+Control!$C$22*A1623^2","v":477.33126077705396}]
[1624,168,168,null,null,null,null,null,null,null,null,null,{"$f":"Control!$C$20+Control!$C$21*A1624+Control!$C$22*A1624^2","v":477.62796303692721}]
[1625,189,189,null,null,null,null,null,null,null,null,null,{"$f":"Control!$C$20+Control!$C$21*A1625+Control!$C$22*A1625^2","v":477.924665392436}]
[1626,191,191,null,null,null,null,null,null,null,null,null,{"$f":"Control!$C$20+Control!$C$21*A1626+Control!$C$22*A1626^2","v":478.22136784358025}]
[1627,181,181,null,null,null,null,null,null,null,null,null,{"$f":"Control!$C$20+Control!$C$21*A1627+Control!$C$22*A1627^2","v":478.51807039036004}]
[1628,178,178,null,null,null,null,null,null,null,null,null,{"$f":"Control!$C$20+Control!$C$21*A1628+Control!$C$22*A1628^2","v":478.81477303277529}]
[1629,173,173,null,null,null,null,null,null,null,null,null,{"$f":"Control!$C$20+Control!$C$21*A1629+Control!$C$22*A1629^2","v":479.11147577082608}]
[1630,188,188,null,null,null,null,null,null,null,null,null,{"$f":"Control!$C$20+Control!$C$21*A1630+Control!$C$22*A1630^2","v":479.40817860451233}]
[1631,175,175,null,null,null,null,null,null,null,null,null,{"$f":"Control!$C$20+Control!$C$21*A1631+Control!$C$22*A1631^2","v":479.70488153383411}]
[1632,168,168,null,null,null,null,null,null,null,null,null,{"$f":"Control!$C$20+Control!$C$21*A1632+Control!$C$22*A1632^2","v":480.00158455879136}]
[1633,178,178,null,null,null,null,null,null,null,null,null,{"$f":"Control!$C$20+Control!$C$21*A1633+Control!$C$22*A1633^2","v":480.29828767938415}]
[1634,206,206,null,null,null,null,null,null,null,null,null,{"$f":"Control!$C$20+Control!$C$21*A1634+Control!$C$22*A1634^2","v":480.5949908956124}]
[1635,170,170,null,null,null,null,null,null,null,null,null,{"$f":"Control!$C$20+Control!$C$21*A1635+Control!$C$22*A1635^2","v":480.89169420747618}]
[1636,166,166,null,null,null,null,null,null,null,null,null,{"$f":"Control!$C$20+Control!$C$21*A1636+Control!$C$22*A1636^2","v":481.18839761497543}]
[1637,166,166,null,null,null,null,null,null,null,null,null,{"$f":"Control!$C$20+Control!$C$21*A1637+Control!$C$22*A1637^2","v":481.48510111811021}]
[1638,155,155,null,null,null,null,null,null,null,null,null,{"$f":"Control!$C$20+Control!$C$21*A1638+Control!$C$22*A1638^2","v":481.78180471688046}]
[1639,177,177,null,null,null,null,null,null,null,null,null,{"$f":"Control!$C$20+Control!$C$21*A1639+Control!$C$22*A1639^2","v":482.07850841128624}]
[1640,173,173,null,null,null,null,null,null,null,null,null,{"$f":"Control!$C$20+Control!$C$21*A1640+Control!$C$22*A1640^2","v":482.37521220132749}]
[1641,165,165,null,null,null,null,null,null,null,null,null,{"$f":"Control!$C$20+Control!$C$21*A1641+Control!$C$22*A1641^2","v":482.67191608700426}]
[1642,178,178,null,null,null,null,null,null,null,null,null,{"$f":"Control!$C$20+Control!$C$21*A1642+Control!$C$22*A1642^2","v":482.96862006831651}]
[1643,198,198,null,null,null,null,null,null,null,null,null,{"$f":"Control!$C$20+Control!$C$21*A1643+Control!$C$22*A1643^2","v":483.26532414526429}]
[1644,180,180,null,null,null,null,null,null,null,null,null,{"$f":"Control!$C$20+Control!$C$21*A1644+Control!$C$22*A1644^2","v":483.56202831784753}]
[1645,161,161,null,null,null,null,null,null,null,null,null,{"$f":"Control!$C$20+Control!$C$21*A1645+Control!$C$22*A1645^2","v":483.85873258606631}]
[1646,213,213,null,null,null,null,null,null,null,null,null,{"$f":"Control!$C$20+Control!$C$21*A1646+Control!$C$22*A1646^2","v":484.15543694992056}]
[1647,176,176,null,null,null,null,null,null,null,null,null,{"$f":"Control!$C$20+Control!$C$21*A1647+Control!$C$22*A1647^2","v":484.45214140941033}]
[1648,172,172,null,null,null,null,null,null,null,null,null,{"$f":"Control!$C$20+Control!$C$21*A1648+Control!$C$22*A1648^2","v":484.74884596453558}]
[1649,152,152,null,null,null,null,null,null,null,null,null,{"$f":"Control!$C$20+Control!$C$21*A1649+Control!$C$22*A1649^2","v":485.04555061529635}]
[1650,160,160,null,null,null,null,null,null,null,null,null,{"$f":"Control!$C$20+Control!$C$21*A1650+Control!$C$22*A1650^2","v":485.34225536169259}]
[1651,213,213,null,null,null,null,null,null,null,null,null,{"$f":"Control!$C$20+Control!$C$21*A1651+Control!$C$22*A1651^2","v":485.63896020372437}]
[1652,174,174,null,null,null,null,null,null,null,null,null,{"$f":"Control!$C$20+Control!$C$21*A1652+Control!$C$22*A1652^2","v":485.93566514139161}]
[1653,197,197,null,null,null,null,null,null,null,null,null,{"$f":"Control!$C$20+Control!$C$21*A1653+Control!$C$22*A1653^2","v":486.23237017469438}]
[1654,189,189,null,null,null,null,null,null,null,null,null,{"$f":"Control!$C$20+Control!$C$21*A1654+Control!$C$22*A1654^2","v":486.52907530363262}]
[1655,200,200,null,null,null,null,null,null,null,null,null,{"$f":"Control!$C$20+Control!$C$21*A1655+Control!$C$22*A1655^2","v":486.82578052820639}]
[1656,167,167,null,null,null,null,null,null,null,null,null,{"$f":"Control!$C$20+Control!$C$21*A1656+Control!$C$22*A1656^2","v":487.12248584841564}]
[1657,182,182,null,null,null,null,null,null,null,null,null,{"$f":"Control!$C$20+Control!$C$21*A1657+Control!$C$22*A1657^2","v":487.41919126426041}]
[1658,147,147,null,null,null,null,null,null,null,null,null,{"$f":"Control!$C$20+Control!$C$21*A1658+Control!$C$22*A1658^2","v":487.71589677574065}]
[1659,170,170,null,null,null,null,null,null,null,null,null,{"$f":"Control!$C$20+Control!$C$21*A1659+Control!$C$22*A1659^2","v":488.01260238285641}]
[1660,170,170,null,null,null,null,null,null,null,null,null,{"$f":"Control!$C$20+Control!$C$21*A1660+Control!$C$22*A1660^2","v":488.30930808560765}]
[1661,165,165,null,null,null,null,null,null,null,null,null,{"$f":"Control!$C$20+Control!$C$21*A1661+Control!$C$22*A1661^2","v":488.60601388399442}]
[1662,173,173,null,null,null,null,null,null,null,null,null,{"$f":"Control!$C$20+Control!$C$21*A1662+Control!$C$22*A1662^2","v":488.90271977801666}]
[1663,154,154,null,null,null,null,null,null,null,null,null,{"$f":"Control!$C$20+Control!$C$21*A1663+Control!$C$22*A1663^2","v":489.19942576767443}]
[1664,156,156,null,null,null,null,null,null,null,null,null,{"$f":"Control!$C$20+Control!$C$21*A1664+Control!$C$22*A1664^2","v":489.49613185296766}]
[1665,181,181,null,null,null,null,null,null,null,null,null,{"$f":"Control!$C$20+Control!$C$21*A1665+Control!$C$22*A1665^2","v":489.79283803389643}]
[1666,174,174,null,null,null,null,null,null,null,null,null,{"$f":"Control!$C$20+Control!$C$21*A1666+Control!$C$22*A1666^2","v":490.08954431046067}]
[1667,167,167,null,null,null,null,null,null,null,null,null,{"$f":"Control!$C$20+Control!$C$21*A1667+Control!$C$22*A1667^2","v":490.38625068266043}]
[1668,187,187,null,null,null,null,null,null,null,null,null,{"$f":"Control!$C$20+Control!$C$21*A1668+Control!$C$22*A1668^2","v":490.68295715049567}]
[1669,183,183,null,null,null,null,null,null,null,null,null,{"$f":"Control!$C$20+Control!$C$21*A1669+Control!$C$22*A1669^2","v":490.97966371396643}]
[1670,172,172,null,null,null,null,null,null,null,null,null,{"$f":"Control!$C$20+Control!$C$21*A1670+Control!$C$22*A1670^2","v":491.27637037307267}]
[1671,193,193,null,null,null,null,null,null,null,null,null,{"$f":"Control!$C$20+Control!$C$21*A1671+Control!$C$22*A1671^2","v":491.57307712781443}]
[1672,179,179,null,null,null,null,null,null,null,null,null,{"$f":"Control!$C$20+Control!$C$21*A1672+Control!$C$22*A1672^2","v":491.86978397819166}]
[1673,176,176,null,null,null,null,null,null,null,null,null,{"$f":"Control!$C$20+Control!$C$21*A1673+Control!$C$22*A1673^2","v":492.16649092420442}]
[1674,170,170,null,null,null,null,null,null,null,null,null,{"$f":"Control!$C$20+Control!$C$21*A1674+Control!$C$22*A1674^2","v":492.46319796585266}]
[1675,165,165,null,null,null,null,null,null,null,null,null,{"$f":"Control!$C$20+Control!$C$21*A1675+Control!$C$22*A1675^2","v":492.75990510313642}]
[1676,162,162,null,null,null,null,null,null,null,null,null,{"$f":"Control!$C$20+Control!$C$21*A1676+Control!$C$22*A1676^2","v":493.05661233605565}]
[1677,177,177,null,null,null,null,null,null,null,null,null,{"$f":"Control!$C$20+Control!$C$21*A1677+Control!$C$22*A1677^2","v":493.35331966461041}]
[1678,162,162,null,null,null,null,null,null,null,null,null,{"$f":"Control!$C$20+Control!$C$21*A1678+Control!$C$22*A1678^2","v":493.65002708880064}]
[1679,171,171,null,null,null,null,null,null,null,null,null,{"$f":"Control!$C$20+Control!$C$21*A1679+Control!$C$22*A1679^2","v":493.9467346086264}]
[1680,172,172,null,null,null,null,null,null,null,null,null,{"$f":"Control!$C$20+Control!$C$21*A1680+Control!$C$22*A1680^2","v":494.24344222408763}]
[1681,143,143,null,null,null,null,null,null,null,null,null,{"$f":"Control!$C$20+Control!$C$21*A1681+Control!$C$22*A1681^2","v":494.54014993518439}]
[1682,178,178,null,null,null,null,null,null,null,null,null,{"$f":"Control!$C$20+Control!$C$21*A1682+Control!$C$22*A1682^2","v":494.83685774191662}]
[1683,165,165,null,null,null,null,null,null,null,null,null,{"$f":"Control!$C$20+Control!$C$21*A1683+Control!$C$22*A1683^2","v":495.13356564428437}]
[1684,172,172,null,null,null,null,null,null,null,null,null,{"$f":"Control!$C$20+Control!$C$21*A1684+Control!$C$22*A1684^2","v":495.4302736422876}]
[1685,161,161,null,null,null,null,null,null,null,null,null,{"$f":"Control!$C$20+Control!$C$21*A1685+Control!$C$22*A1685^2","v":495.72698173592636}]
[1686,157,157,null,null,null,null,null,null,null,null,null,{"$f":"Control!$C$20+Control!$C$21*A1686+Control!$C$22*A1686^2","v":496.02368992520059}]
[1687,169,169,null,null,null,null,null,null,null,null,null,{"$f":"Control!$C$20+Control!$C$21*A1687+Control!$C$22*A1687^2","v":496.32039821011034}]
[1688,151,151,null,null,null,null,null,null,null,null,null,{"$f":"Control!$C$20+Control!$C$21*A1688+Control!$C$22*A1688^2","v":496.61710659065557}]
[1689,146,146,null,null,null,null,null,null,null,null,null,{"$f":"Control!$C$20+Control!$C$21*A1689+Control!$C$22*A1689^2","v":496.91381506683632}]
[1690,159,159,null,null,null,null,null,null,null,null,null,{"$f":"Control!$C$20+Control!$C$21*A1690+Control!$C$22*A1690^2","v":497.21052363865255}]
[1691,193,193,null,null,null,null,null,null,null,null,null,{"$f":"Control!$C$20+Control!$C$21*A1691+Control!$C$22*A1691^2","v":497.5072323061043}]
[1692,171,171,null,null,null,null,null,null,null,null,null,{"$f":"Control!$C$20+Control!$C$21*A1692+Control!$C$22*A1692^2","v":497.80394106919152}]
[1693,176,176,null,null,null,null,null,null,null,null,null,{"$f":"Control!$C$20+Control!$C$21*A1693+Control!$C$22*A1693^2","v":498.10064992791428}]
[1694,173,151,6,null,null,null,null,null,null,null,null,{"$f":"Control!$C$20+Control!$C$21*A1694+Control!$C$22*A1694^2","v":498.3973588822725}]
[1695,201,199,34,null,null,null,null,null,null,null,null,{"$f":"Control!$C$20+Control!$C$21*A1695+Control!$C$22*A1695^2","v":498.69406793226625}]
[1696,297,289,130,null,null,null,null,null,null,null,null,{"$f":"Control!$C$20+Control!$C$21*A1696+Control!$C$22*A1696^2","v":498.99077707789547}]
[1697,516,494,349,null,null,null,null,null,null,null,null,{"$f":"Control!$C$20+Control!$C$21*A1697+Control!$C$22*A1697^2","v":499.28748631916022}]
[1698,834,833,667,null,null,null,null,null,null,null,null,{"$f":"Control!$C$20+Control!$C$21*A1698+Control!$C$22*A1698^2","v":499.58419565606044}]
[1699,1073,1070,906,null,null,null,null,null,null,null,null,{"$f":"Control!$C$20+Control!$C$21*A1699+Control!$C$22*A1699^2","v":499.88090508859619}]
[1700,1043,1044,876,null,null,null,null,null,null,null,null,{"$f":"Control!$C$20+Control!$C$21*A1700+Control!$C$22*A1700^2","v":500.17761461676741}]
[1701,770,744,603,null,null,null,null,null,null,null,null,{"$f":"Control!$C$20+Control!$C$21*A1701+Control!$C$22*A1701^2","v":500.47432424057416}]
[1702,462,459,295,null,null,null,null,null,null,null,null,{"$f":"Control!$C$20+Control!$C$21*A1702+Control!$C$22*A1702^2","v":500.77103396001638}]
[1703,270,256,103,null,null,null,null,null,null,null,null,{"$f":"Control!$C$20+Control!$C$21*A1703+Control!$C$22*A1703^2","v":501.06774377509413}]
[1704,192,171,25,null,null,null,null,null,null,null,null,{"$f":"Control!$C$20+Control!$C$21*A1704+Control!$C$22*A1704^2","v":501.36445368580735}]
[1705,158,158,null,null,null,null,null,null,null,null,null,{"$f":"Control!$C$20+Control!$C$21*A1705+Control!$C$22*A1705^2","v":501.66116369215609}]
[1706,178,178,null,null,null,null,null,null,null,null,null,{"$f":"Control!$C$20+Control!$C$21*A1706+Control!$C$22*A1706^2","v":501.95787379414031}]
[1707,161,161,null,null,null,null,null,null,null,null,null,{"$f":"Control!$C$20+Control!$C$21*A1707+Control!$C$22*A1707^2","v":502.25458399176006}]
[1708,172,172,null,null,null,null,null,null,null,null,null,{"$f":"Control!$C$20+Control!$C$21*A1708+Control!$C$22*A1708^2","v":502.55129428501527}]
[1709,179,179,null,null,null,null,null,null,null,null,null,{"$f":"Control!$C$20+Control!$C$21*A1709+Control!$C$22*A1709^2","v":502.84800467390602}]
[1710,156,156,null,null,null,null,null,null,null,null,null,{"$f":"Control!$C$20+Control!$C$21*A1710+Control!$C$22*A1710^2","v":503.14471515843223}]
[1711,177,177,null,null,null,null,null,null,null,null,null,{"$f":"Control!$C$20+Control!$C$21*A1711+Control!$C$22*A1711^2","v":503.44142573859398}]
[1712,155,155,null,null,null,null,null,null,null,null,null,{"$f":"Control!$C$20+Control!$C$21*A1712+Control!$C$22*A1712^2","v":503.73813641439119}]
[1713,183,183,null,null,null,null,null,null,null,null,null,{"$f":"Control!$C$20+Control!$C$21*A1713+Control!$C$22*A1713^2","v":504.03484718582393}]
[1714,170,170,null,null,null,null,null,null,null,null,null,{"$f":"Control!$C$20+Control!$C$21*A1714+Control!$C$22*A1714^2","v":504.33155805289215}]
[1715,163,163,null,null,null,null,null,null,null,null,null,{"$f":"Control!$C$20+Control!$C$21*A1715+Control!$C$22*A1715^2","v":504.62826901559589}]
[1716,176,176,null,null,null,null,null,null,null,null,null,{"$f":"Control!$C$20+Control!$C$21*A1716+Control!$C$22*A1716^2","v":504.9249800739351}]
[1717,180,180,null,null,null,null,null,null,null,null,null,{"$f":"Control!$C$20+Control!$C$21*A1717+Control!$C$22*A1717^2","v":505.22169122790984}]
[1718,156,156,null,null,null,null,null,null,null,null,null,{"$f":"Control!$C$20+Control!$C$21*A1718+Control!$C$22*A1718^2","v":505.51840247752006}]
[1719,169,169,null,null,null,null,null,null,null,null,null,{"$f":"Control!$C$20+Control!$C$21*A1719+Control!$C$22*A1719^2","v":505.8151138227658}]
[1720,161,161,null,null,null,null,null,null,null,null,null,{"$f":"Control!$C$20+Control!$C$21*A1720+Control!$C$22*A1720^2","v":506.11182526364701}]
[1721,164,164,null,null,null,null,null,null,null,null,null,{"$f":"Control!$C$20+Control!$C$21*A1721+Control!$C$22*A1721^2","v":506.40853680016374}]
[1722,163,163,null,null,null,null,null,null,null,null,null,{"$f":"Control!$C$20+Control!$C$21*A1722+Control!$C$22*A1722^2","v":506.70524843231595}]
[1723,166,166,null,null,null,null,null,null,null,null,null,{"$f":"Control!$C$20+Control!$C$21*A1723+Control!$C$22*A1723^2","v":507.00196016010369}]
[1724,175,175,null,null,null,null,null,null,null,null,null,{"$f":"Control!$C$20+Control!$C$21*A1724+Control!$C$22*A1724^2","v":507.2986719835269}]
[1725,190,190,null,null,null,null,null,null,null,null,null,{"$f":"Control!$C$20+Control!$C$21*A1725+Control!$C$22*A1725^2","v":507.59538390258564}]
[1726,189,189,null,null,null,null,null,null,null,null,null,{"$f":"Control!$C$20+Control!$C$21*A1726+Control!$C$22*A1726^2","v":507.89209591727985}]
[1727,233,233,null,null,null,null,null,null,null,null,null,{"$f":"Control!$C$20+Control!$C$21*A1727+Control!$C$22*A1727^2","v":508.18880802760958}]
[1728,214,214,null,null,null,null,null,null,null,null,null,{"$f":"Control!$C$20+Control!$C$21*A1728+Control!$C$22*A1728^2","v":508.48552023357479}]
[1729,286,286,null,null,null,null,null,null,null,null,null,{"$f":"Control!$C$20+Control!$C$21*A1729+Control!$C$22*A1729^2","v":508.78223253517552}]
[1730,334,334,null,null,null,null,null,null,null,null,null,{"$f":"Control!$C$20+Control!$C$21*A1730+Control!$C$22*A1730^2","v":509.07894493241173}]
[1731,442,442,null,null,null,null,null,null,null,null,null,{"$f":"Control!$C$20+Control!$C$21*A1731+Control!$C$22*A1731^2","v":509.37565742528346}]
[1732,606,606,null,null,null,null,null,null,null,null,null,{"$f":"Control!$C$20+Control!$C$21*A1732+Control!$C$22*A1732^2","v":509.67237001379067}]
[1733,739,739,null,null,null,null,null,null,null,null,null,{"$f":"Control!$C$20+Control!$C$21*A1733+Control!$C$22*A1733^2","v":509.9690826979334}]
[1734,919,919,null,null,null,null,null,null,null,null,null,{"$f":"Control!$C$20+Control!$C$21*A1734+Control!$C$22*A1734^2","v":510.26579547771161}]
[1735,1076,1076,null,null,null,null,null,null,null,null,null,{"$f":"Control!$C$20+Control!$C$21*A1735+Control!$C$22*A1735^2","v":510.56250835312534}]
[1736,1042,1042,null,null,null,null,null,null,null,null,null,{"$f":"Control!$C$20+Control!$C$21*A1736+Control!$C$22*A1736^2","v":510.85922132417454}]
[1737,945,945,null,null,null,null,null,null,null,null,null,{"$f":"Control!$C$20+Control!$C$21*A1737+Control!$C$22*A1737^2","v":511.15593439085927}]
[1738,756,756,null,null,null,null,null,null,null,null,null,{"$f":"Control!$C$20+Control!$C$21*A1738+Control!$C$22*A1738^2","v":511.45264755317947}]
[1739,671,671,null,null,null,null,null,null,null,null,null,{"$f":"Control!$C$20+Control!$C$21*A1739+Control!$C$22*A1739^2","v":511.7493608111352}]
[1740,555,555,null,null,null,null,null,null,null,null,null,{"$f":"Control!$C$20+Control!$C$21*A1740+Control!$C$22*A1740^2","v":512.04607416472641}]
[1741,410,410,null,null,null,null,null,null,null,null,null,{"$f":"Control!$C$20+Control!$C$21*A1741+Control!$C$22*A1741^2","v":512.34278761395308}]
[1742,311,311,null,null,null,null,null,null,null,null,null,{"$f":"Control!$C$20+Control!$C$21*A1742+Control!$C$22*A1742^2","v":512.63950115881539}]
[1743,285,285,null,null,null,null,null,null,null,null,null,{"$f":"Control!$C$20+Control!$C$21*A1743+Control!$C$22*A1743^2","v":512.93621479931301}]
[1744,250,250,null,null,null,null,null,null,null,null,null,{"$f":"Control!$C$20+Control!$C$21*A1744+Control!$C$22*A1744^2","v":513.23292853544626}]
[1745,192,192,null,null,null,null,null,null,null,null,null,{"$f":"Control!$C$20+Control!$C$21*A1745+Control!$C$22*A1745^2","v":513.52964236721493}]
[1746,198,198,null,null,null,null,null,null,null,null,null,{"$f":"Control!$C$20+Control!$C$21*A1746+Control!$C$22*A1746^2","v":513.82635629461925}]
[1747,170,170,null,null,null,null,null,null,null,null,null,{"$f":"Control!$C$20+Control!$C$21*A1747+Control!$C$22*A1747^2","v":514.12307031765886}]
[1748,173,173,null,null,null,null,null,null,null,null,null,{"$f":"Control!$C$20+Control!$C$21*A1748+Control!$C$22*A1748^2","v":514.41978443633411}]
[1749,161,161,null,null,null,null,null,null,null,null,null,{"$f":"Control!$C$20+Control!$C$21*A1749+Control!$C$22*A1749^2","v":514.71649865064478}]
[1750,158,158,null,null,null,null,null,null,null,null,null,{"$f":"Control!$C$20+Control!$C$21*A1750+Control!$C$22*A1750^2","v":515.01321296059109}]
[1751,125,125,null,null,null,null,null,null,null,null,null,{"$f":"Control!$C$20+Control!$C$21*A1751+Control!$C$22*A1751^2","v":515.3099273661727}]
[1752,175,175,null,null,null,null,null,null,null,null,null,{"$f":"Control!$C$20+Control!$C$21*A1752+Control!$C$22*A1752^2","v":515.60664186738995}]
[1753,177,177,null,null,null,null,null,null,null,null,null,{"$f":"Control!$C$20+Control!$C$21*A1753+Control!$C$22*A1753^2","v":515.90335646424262}]
[1754,180,180,null,null,null,null,null,null,null,null,null,{"$f":"Control!$C$20+Control!$C$21*A1754+Control!$C$22*A1754^2","v":516.20007115673093}]
[1755,167,167,null,null,null,null,null,null,null,null,null,{"$f":"Control!$C$20+Control!$C$21*A1755+Control!$C$22*A1755^2","v":516.49678594485454}]
[1756,162,162,null,null,null,null,null,null,null,null,null,{"$f":"Control!$C$20+Control!$C$21*A1756+Control!$C$22*A1756^2","v":516.79350082861379}]
[1757,162,162,null,null,null,null,null,null,null,null,null,{"$f":"Control!$C$20+Control!$C$21*A1757+Control!$C$22*A1757^2","v":517.09021580800845}]
[1758,148,148,null,null,null,null,null,null,null,null,null,{"$f":"Control!$C$20+Control!$C$21*A1758+Control!$C$22*A1758^2","v":517.38693088303876}]
[1759,146,146,null,null,null,null,null,null,null,null,null,{"$f":"Control!$C$20+Control!$C$21*A1759+Control!$C$22*A1759^2","v":517.68364605370436}]
[1760,168,168,null,null,null,null,null,null,null,null,null,{"$f":"Control!$C$20+Control!$C$21*A1760+Control!$C$22*A1760^2","v":517.98036132000561}]
[1761,131,131,null,null,null,null,null,null,null,null,null,{"$f":"Control!$C$20+Control!$C$21*A1761+Control!$C$22*A1761^2","v":518.27707668194228}]
[1762,153,153,null,null,null,null,null,null,null,null,null,{"$f":"Control!$C$20+Control!$C$21*A1762+Control!$C$22*A1762^2","v":518.57379213951458}]
[1763,143,143,null,null,null,null,null,null,null,null,null,{"$f":"Control!$C$20+Control!$C$21*A1763+Control!$C$22*A1763^2","v":518.87050769272219}]
[1764,154,154,null,null,null,null,null,null,null,null,null,{"$f":"Control!$C$20+Control!$C$21*A1764+Control!$C$22*A1764^2","v":519.16722334156543}]
[1765,163,163,null,null,null,null,null,null,null,null,null,{"$f":"Control!$C$20+Control!$C$21*A1765+Control!$C$22*A1765^2","v":519.46393908604409}]
[1766,148,148,null,null,null,null,null,null,null,null,null,{"$f":"Control!$C$20+Control!$C$21*A1766+Control!$C$22*A1766^2","v":519.7606549261584}]
[1767,141,141,null,null,null,null,null,null,null,null,null,{"$f":"Control!$C$20+Control!$C$21*A1767+Control!$C$22*A1767^2","v":520.057370861908}]
[1768,162,162,null,null,null,null,null,null,null,null,null,{"$f":"Control!$C$20+Control!$C$21*A1768+Control!$C$22*A1768^2","v":520.35408689329324}]
[1769,151,151,null,null,null,null,null,null,null,null,null,{"$f":"Control!$C$20+Control!$C$21*A1769+Control!$C$22*A1769^2","v":520.6508030203139}]
[1770,154,154,null,null,null,null,null,null,null,null,null,{"$f":"Control!$C$20+Control!$C$21*A1770+Control!$C$22*A1770^2","v":520.9475192429702}]
[1771,154,154,null,null,null,null,null,null,null,null,null,{"$f":"Control!$C$20+Control!$C$21*A1771+Control!$C$22*A1771^2","v":521.2442355612618}]
[1772,150,150,null,null,null,null,null,null,null,null,null,{"$f":"Control!$C$20+Control!$C$21*A1772+Control!$C$22*A1772^2","v":521.54095197518905}]
[1773,153,153,null,null,null,null,null,null,null,null,null,{"$f":"Control!$C$20+Control!$C$21*A1773+Control!$C$22*A1773^2","v":521.8376684847517}]
[1774,156,156,null,null,null,null,null,null,null,null,null,{"$f":"Control!$C$20+Control!$C$21*A1774+Control!$C$22*A1774^2","v":522.13438508995}]
[1775,153,153,null,null,null,null,null,null,null,null,null,{"$f":"Control!$C$20+Control!$C$21*A1775+Control!$C$22*A1775^2","v":522.4311017907836}]
[1776,173,173,null,null,null,null,null,null,null,null,null,{"$f":"Control!$C$20+Control!$C$21*A1776+Control!$C$22*A1776^2","v":522.72781858725284}]
[1777,186,186,null,null,null,null,null,null,null,null,null,{"$f":"Control!$C$20+Control!$C$21*A1777+Control!$C$22*A1777^2","v":523.0245354793575}]
[1778,143,143,null,null,null,null,null,null,null,null,null,{"$f":"Control!$C$20+Control!$C$21*A1778+Control!$C$22*A1778^2","v":523.32125246709779}]
[1779,164,164,null,null,null,null,null,null,null,null,null,{"$f":"Control!$C$20+Control!$C$21*A1779+Control!$C$22*A1779^2","v":523.61796955047339}]
[1780,148,148,null,null,null,null,null,null,null,null,null,{"$f":"Control!$C$20+Control!$C$21*A1780+Control!$C$22*A1780^2","v":523.91468672948463}]
[1781,155,155,null,null,null,null,null,null,null,null,null,{"$f":"Control!$C$20+Control!$C$21*A1781+Control!$C$22*A1781^2","v":524.21140400413128}]
[1782,166,166,null,null,null,null,null,null,null,null,null,{"$f":"Control!$C$20+Control!$C$21*A1782+Control!$C$22*A1782^2","v":524.50812137441358}]
[1783,147,147,null,null,null,null,null,null,null,null,null,{"$f":"Control!$C$20+Control!$C$21*A1783+Control!$C$22*A1783^2","v":524.80483884033117}]
[1784,151,151,null,null,null,null,null,null,null,null,null,{"$f":"Control!$C$20+Control!$C$21*A1784+Control!$C$22*A1784^2","v":525.10155640188441}]
[1785,142,142,null,null,null,null,null,null,null,null,null,{"$f":"Control!$C$20+Control!$C$21*A1785+Control!$C$22*A1785^2","v":525.39827405907306}]
[1786,136,136,null,null,null,null,null,null,null,null,null,{"$f":"Control!$C$20+Control!$C$21*A1786+Control!$C$22*A1786^2","v":525.69499181189735}]
[1787,146,146,null,null,null,null,null,null,null,null,null,{"$f":"Control!$C$20+Control!$C$21*A1787+Control!$C$22*A1787^2","v":525.99170966035695}]
[1788,164,164,null,null,null,null,null,null,null,null,null,{"$f":"Control!$C$20+Control!$C$21*A1788+Control!$C$22*A1788^2","v":526.28842760445218}]
[1789,158,158,null,null,null,null,null,null,null,null,null,{"$f":"Control!$C$20+Control!$C$21*A1789+Control!$C$22*A1789^2","v":526.58514564418283}]
[1790,149,149,null,null,null,null,null,null,null,null,null,{"$f":"Control!$C$20+Control!$C$21*A1790+Control!$C$22*A1790^2","v":526.88186377954912}]
[1791,148,148,null,null,null,null,null,null,null,null,null,{"$f":"Control!$C$20+Control!$C$21*A1791+Control!$C$22*A1791^2","v":527.17858201055071}]
[1792,166,166,null,null,null,null,null,null,null,null,null,{"$f":"Control!$C$20+Control!$C$21*A1792+Control!$C$22*A1792^2","v":527.47530033718795}]
[1793,155,155,null,null,null,null,null,null,null,null,null,{"$f":"Control!$C$20+Control!$C$21*A1793+Control!$C$22*A1793^2","v":527.77201875946059}]
[1794,153,153,null,null,null,null,null,null,null,null,null,{"$f":"Control!$C$20+Control!$C$21*A1794+Control!$C$22*A1794^2","v":528.06873727736888}]
[1795,153,153,null,null,null,null,null,null,null,null,null,{"$f":"Control!$C$20+Control!$C$21*A1795+Control!$C$22*A1795^2","v":528.36545589091247}]
[1796,167,167,null,null,null,null,null,null,null,null,null,{"$f":"Control!$C$20+Control!$C$21*A1796+Control!$C$22*A1796^2","v":528.6621746000917}]
[1797,143,143,null,null,null,null,null,null,null,null,null,{"$f":"Control!$C$20+Control!$C$21*A1797+Control!$C$22*A1797^2","v":528.95889340490635}]
[1798,124,124,null,null,null,null,null,null,null,null,null,{"$f":"Control!$C$20+Control!$C$21*A1798+Control!$C$22*A1798^2","v":529.25561230535664}]
[1799,156,156,null,null,null,null,null,null,null,null,null,{"$f":"Control!$C$20+Control!$C$21*A1799+Control!$C$22*A1799^2","v":529.55233130144222}]
[1800,156,156,null,null,null,null,null,null,null,null,null,{"$f":"Control!$C$20+Control!$C$21*A1800+Control!$C$22*A1800^2","v":529.84905039316345}]
[1801,146,146,null,null,null,null,null,null,null,null,null,{"$f":"Control!$C$20+Control!$C$21*A1801+Control!$C$22*A1801^2","v":530.1457695805201}]
[1802,124,124,null,null,null,null,null,null,null,null,null,{"$f":"Control!$C$20+Control!$C$21*A1802+Control!$C$22*A1802^2","v":530.44248886351238}]
[1803,142,142,null,null,null,null,null,null,null,null,null,{"$f":"Control!$C$20+Control!$C$21*A1803+Control!$C$22*A1803^2","v":530.73920824213997}]
[1804,147,147,null,null,null,null,null,null,null,null,null,{"$f":"Control!$C$20+Control!$C$21*A1804+Control!$C$22*A1804^2","v":531.03592771640319}]
[1805,154,154,null,null,null,null,null,null,null,null,null,{"$f":"Control!$C$20+Control!$C$21*A1805+Control!$C$22*A1805^2","v":531.33264728630184}]
[1806,154,154,null,null,null,null,null,null,null,null,null,{"$f":"Control!$C$20+Control!$C$21*A1806+Control!$C$22*A1806^2","v":531.62936695183612}]
[1807,148,148,null,null,null,null,null,null,null,null,null,{"$f":"Control!$C$20+Control!$C$21*A1807+Control!$C$22*A1807^2","v":531.9260867130057}]
[1808,148,148,null,null,null,null,null,null,null,null,null,{"$f":"Control!$C$20+Control!$C$21*A1808+Control!$C$22*A1808^2","v":532.22280656981093}]
[1809,149,149,null,null,null,null,null,null,null,null,null,{"$f":"Control!$C$20+Control!$C$21*A1809+Control!$C$22*A1809^2","v":532.51952652225157}]
[1810,167,167,null,null,null,null,null,null,null,null,null,{"$f":"Control!$C$20+Control!$C$21*A1810+Control!$C$22*A1810^2","v":532.81624657032785}]
[1811,147,147,null,null,null,null,null,null,null,null,null,{"$f":"Control!$C$20+Control!$C$21*A1811+Control!$C$22*A1811^2","v":533.11296671403943}]
[1812,161,161,null,null,null,null,null,null,null,null,null,{"$f":"Control!$C$20+Control!$C$21*A1812+Control!$C$22*A1812^2","v":533.40968695338665}]
[1813,155,155,null,null,null,null,null,null,null,null,null,{"$f":"Control!$C$20+Control!$C$21*A1813+Control!$C$22*A1813^2","v":533.70640728836929}]
[1814,148,148,null,null,null,null,null,null,null,null,null,{"$f":"Control!$C$20+Control!$C$21*A1814+Control!$C$22*A1814^2","v":534.00312771898757}]
[1815,163,163,null,null,null,null,null,null,null,null,null,{"$f":"Control!$C$20+Control!$C$21*A1815+Control!$C$22*A1815^2","v":534.29984824524115}]
[1816,140,140,null,null,null,null,null,null,null,null,null,{"$f":"Control!$C$20+Control!$C$21*A1816+Control!$C$22*A1816^2","v":534.59656886713037}]
[1817,148,148,null,null,null,null,null,null,null,null,null,{"$f":"Control!$C$20+Control!$C$21*A1817+Control!$C$22*A1817^2","v":534.89328958465501}]
[1818,141,141,null,null,null,null,null,null,null,null,null,{"$f":"Control!$C$20+Control!$C$21*A1818+Control!$C$22*A1818^2","v":535.19001039781529}]
[1819,149,149,null,null,null,null,null,null,null,null,null,{"$f":"Control!$C$20+Control!$C$21*A1819+Control!$C$22*A1819^2","v":535.48673130661086}]
[1820,142,142,null,null,null,null,null,null,null,null,null,{"$f":"Control!$C$20+Control!$C$21*A1820+Control!$C$22*A1820^2","v":535.78345231104208}]
[1821,166,166,null,null,null,null,null,null,null,null,null,{"$f":"Control!$C$20+Control!$C$21*A1821+Control!$C$22*A1821^2","v":536.08017341110872}]
[1822,144,144,null,null,null,null,null,null,null,null,null,{"$f":"Control!$C$20+Control!$C$21*A1822+Control!$C$22*A1822^2","v":536.37689460681099}]
[1823,144,144,null,null,null,null,null,null,null,null,null,{"$f":"Control!$C$20+Control!$C$21*A1823+Control!$C$22*A1823^2","v":536.67361589814857}]
[1824,168,168,null,null,null,null,null,null,null,null,null,{"$f":"Control!$C$20+Control!$C$21*A1824+Control!$C$22*A1824^2","v":536.97033728512179}]
[1825,163,163,null,null,null,null,null,null,null,null,null,{"$f":"Control!$C$20+Control!$C$21*A1825+Control!$C$22*A1825^2","v":537.26705876773042}]
[1826,173,173,null,null,null,null,null,null,null,null,null,{"$f":"Control!$C$20+Control!$C$21*A1826+Control!$C$22*A1826^2","v":537.56378034597469}]
[1827,148,148,null,null,null,null,null,null,null,null,null,{"$f":"Control!$C$20+Control!$C$21*A1827+Control!$C$22*A1827^2","v":537.86050201985427}]
[1828,144,144,null,null,null,null,null,null,null,null,null,{"$f":"Control!$C$20+Control!$C$21*A1828+Control!$C$22*A1828^2","v":538.15722378936948}]
[1829,158,150,6,null,null,null,null,null,null,null,null,{"$f":"Control!$C$20+Control!$C$21*A1829+Control!$C$22*A1829^2","v":538.45394565452011}]
[1830,178,165,26,null,null,null,null,null,null,null,null,{"$f":"Control!$C$20+Control!$C$21*A1830+Control!$C$22*A1830^2","v":538.75066761530638}]
[1831,238,250,86,null,null,null,null,null,null,null,null,{"$f":"Control!$C$20+Control!$C$21*A1831+Control!$C$22*A1831^2","v":539.04738967172796}]
[1832,358,374,206,null,null,null,null,null,null,null,null,{"$f":"Control!$C$20+Control!$C$21*A1832+Control!$C$22*A1832^2","v":539.34411182378517}]
[1833,510,495,358,null,null,null,null,null,null,null,null,{"$f":"Control!$C$20+Control!$C$21*A1833+Control!$C$22*A1833^2","v":539.6408340714778}]
[1834,602,642,450,null,null,null,null,null,null,null,null,{"$f":"Control!$C$20+Control!$C$21*A1834+Control!$C$22*A1834^2","v":539.93755641480607}]
[1835,562,573,410,null,null,null,null,null,null,null,null,{"$f":"Control!$C$20+Control!$C$21*A1835+Control!$C$22*A1835^2","v":540.23427885376964}]
[1836,422,429,270,null,null,null,null,null,null,null,null,{"$f":"Control!$C$20+Control!$C$21*A1836+Control!$C$22*A1836^2","v":540.53100138836885}]
[1837,281,269,129,null,null,null,null,null,null,null,null,{"$f":"Control!$C$20+Control!$C$21*A1837+Control!$C$22*A1837^2","v":540.82772401860348}]
[1838,197,177,45,null,null,null,null,null,null,null,null,{"$f":"Control!$C$20+Control!$C$21*A1838+Control!$C$22*A1838^2","v":541.12444674447374}]
[1839,163,158,11,null,null,null,null,null,null,null,null,{"$f":"Control!$C$20+Control!$C$21*A1839+Control!$C$22*A1839^2","v":541.42116956597931}]
[1840,174,174,null,null,null,null,null,null,null,null,null,{"$f":"Control!$C$20+Control!$C$21*A1840+Control!$C$22*A1840^2","v":541.71789248312052}]
[1841,168,168,null,null,null,null,null,null,null,null,null,{"$f":"Control!$C$20+Control!$C$21*A1841+Control!$C$22*A1841^2","v":542.01461549589715}]
[1842,183,183,null,null,null,null,null,null,null,null,null,{"$f":"Control!$C$20+Control!$C$21*A1842+Control!$C$22*A1842^2","v":542.31133860430941}]
[1843,156,156,null,null,null,null,null,null,null,null,null,{"$f":"Control!$C$20+Control!$C$21*A1843+Control!$C$22*A1843^2","v":542.60806180835698}]
[1844,148,148,null,null,null,null,null,null,null,null,null,{"$f":"Control!$C$20+Control!$C$21*A1844+Control!$C$22*A1844^2","v":542.90478510804019}]
[1845,130,130,null,null,null,null,null,null,null,null,null,{"$f":"Control!$C$20+Control!$C$21*A1845+Control!$C$22*A1845^2","v":543.20150850335881}]
[1846,140,140,null,null,null,null,null,null,null,null,null,{"$f":"Control!$C$20+Control!$C$21*A1846+Control!$C$22*A1846^2","v":543.49823199431307}]
[1847,153,153,null,null,null,null,null,null,null,null,null,{"$f":"Control!$C$20+Control!$C$21*A1847+Control!$C$22*A1847^2","v":543.79495558090264}]
[1848,146,146,null,null,null,null,null,null,null,null,null,{"$f":"Control!$C$20+Control!$C$21*A1848+Control!$C$22*A1848^2","v":544.09167926312784}]
[1849,156,156,null,null,null,null,null,null,null,null,null,{"$f":"Control!$C$20+Control!$C$21*A1849+Control!$C$22*A1849^2","v":544.38840304098846}]
[1850,131,131,null,null,null,null,null,null,null,null,null,{"$f":"Control!$C$20+Control!$C$21*A1850+Control!$C$22*A1850^2","v":544.68512691448473}]
[1851,154,154,null,null,null,null,null,null,null,null,null,{"$f":"Control!$C$20+Control!$C$21*A1851+Control!$C$22*A1851^2","v":544.98185088361629}]
[1852,142,142,null,null,null,null,null,null,null,null,null,{"$f":"Control!$C$20+Control!$C$21*A1852+Control!$C$22*A1852^2","v":545.27857494838349}]
[1853,125,125,null,null,null,null,null,null,null,null,null,{"$f":"Control!$C$20+Control!$C$21*A1853+Control!$C$22*A1853^2","v":545.57529910878611}]
[1854,157,157,null,null,null,null,null,null,null,null,null,{"$f":"Control!$C$20+Control!$C$21*A1854+Control!$C$22*A1854^2","v":545.87202336482437}]
[1855,140,140,null,null,null,null,null,null,null,null,null,{"$f":"Control!$C$20+Control!$C$21*A1855+Control!$C$22*A1855^2","v":546.16874771649793}]
[1856,148,148,null,null,null,null,null,null,null,null,null,{"$f":"Control!$C$20+Control!$C$21*A1856+Control!$C$22*A1856^2","v":546.46547216380714}]
[1857,165,165,null,null,null,null,null,null,null,null,null,{"$f":"Control!$C$20+Control!$C$21*A1857+Control!$C$22*A1857^2","v":546.76219670675175}]
[1858,158,158,null,null,null,null,null,null,null,null,null,{"$f":"Control!$C$20+Control!$C$21*A1858+Control!$C$22*A1858^2","v":547.05892134533201}]
[1859,169,169,null,null,null,null,null,null,null,null,null,{"$f":"Control!$C$20+Control!$C$21*A1859+Control!$C$22*A1859^2","v":547.35564607954757}]
[1860,139,139,null,null,null,null,null,null,null,null,null,{"$f":"Control!$C$20+Control!$C$21*A1860+Control!$C$22*A1860^2","v":547.65237090939877}]
[1861,150,150,null,null,null,null,null,null,null,null,null,{"$f":"Control!$C$20+Control!$C$21*A1861+Control!$C$22*A1861^2","v":547.94909583488538}]
[1862,151,151,null,null,null,null,null,null,null,null,null,{"$f":"Control!$C$20+Control!$C$21*A1862+Control!$C$22*A1862^2","v":548.24582085600764}]
[1863,160,160,null,null,null,null,null,null,null,null,null,{"$f":"Control!$C$20+Control!$C$21*A1863+Control!$C$22*A1863^2","v":548.5425459727652}]
[1864,144,144,null,null,null,null,null,null,null,null,null,{"$f":"Control!$C$20+Control!$C$21*A1864+Control!$C$22*A1864^2","v":548.8392711851584}]
[1865,148,148,null,null,null,null,null,null,null,null,null,{"$f":"Control!$C$20+Control!$C$21*A1865+Control!$C$22*A1865^2","v":549.13599649318701}]
[1866,143,143,null,null,null,null,null,null,null,null,null,{"$f":"Control!$C$20+Control!$C$21*A1866+Control!$C$22*A1866^2","v":549.43272189685126}]
[1867,140,140,null,null,null,null,null,null,null,null,null,{"$f":"Control!$C$20+Control!$C$21*A1867+Control!$C$22*A1867^2","v":549.72944739615082}]
[1868,132,132,null,null,null,null,null,null,null,null,null,{"$f":"Control!$C$20+Control!$C$21*A1868+Control!$C$22*A1868^2","v":550.02617299108601}]
[1869,164,164,null,null,null,null,null,null,null,null,null,{"$f":"Control!$C$20+Control!$C$21*A1869+Control!$C$22*A1869^2","v":550.32289868165662}]
[1870,147,147,null,null,null,null,null,null,null,null,null,{"$f":"Control!$C$20+Control!$C$21*A1870+Control!$C$22*A1870^2","v":550.61962446786288}]
[1871,146,146,null,null,null,null,null,null,null,null,null,{"$f":"Control!$C$20+Control!$C$21*A1871+Control!$C$22*A1871^2","v":550.91635034970443}]
[1872,155,155,null,null,null,null,null,null,null,null,null,{"$f":"Control!$C$20+Control!$C$21*A1872+Control!$C$22*A1872^2","v":551.21307632718162}]
[1873,155,155,null,null,null,null,null,null,null,null,null,{"$f":"Control!$C$20+Control!$C$21*A1873+Control!$C$22*A1873^2","v":551.50980240029423}]
[1874,155,155,null,null,null,null,null,null,null,null,null,{"$f":"Control!$C$20+Control!$C$21*A1874+Control!$C$22*A1874^2","v":551.80652856904248}]
[1875,145,145,null,null,null,null,null,null,null,null,null,{"$f":"Control!$C$20+Control!$C$21*A1875+Control!$C$22*A1875^2","v":552.10325483342604}]
[1876,145,145,null,null,null,null,null,null,null,null,null,{"$f":"Control!$C$20+Control!$C$21*A1876+Control!$C$22*A1876^2","v":552.39998119344523}]
[1877,171,171,null,null,null,null,null,null,null,null,null,{"$f":"Control!$C$20+Control!$C$21*A1877+Control!$C$22*A1877^2","v":552.69670764909984}]
[1878,129,129,null,null,null,null,null,null,null,null,null,{"$f":"Control!$C$20+Control!$C$21*A1878+Control!$C$22*A1878^2","v":552.99343420039008}]
[1879,145,145,null,null,null,null,null,null,null,null,null,{"$f":"Control!$C$20+Control!$C$21*A1879+Control!$C$22*A1879^2","v":553.29016084731563}]
[1880,145,145,null,null,null,null,null,null,null,null,null,{"$f":"Control!$C$20+Control!$C$21*A1880+Control!$C$22*A1880^2","v":553.58688758987682}]
[1881,146,146,null,null,null,null,null,null,null,null,null,{"$f":"Control!$C$20+Control!$C$21*A1881+Control!$C$22*A1881^2","v":553.88361442807343}]
[1882,161,161,null,null,null,null,null,null,null,null,null,{"$f":"Control!$C$20+Control!$C$21*A1882+Control!$C$22*A1882^2","v":554.18034136190568}]
[1883,141,141,null,null,null,null,null,null,null,null,null,{"$f":"Control!$C$20+Control!$C$21*A1883+Control!$C$22*A1883^2","v":554.47706839137322}]
[1884,157,157,null,null,null,null,null,null,null,null,null,{"$f":"Control!$C$20+Control!$C$21*A1884+Control!$C$22*A1884^2","v":554.77379551647641}]
[1885,157,157,null,null,null,null,null,null,null,null,null,{"$f":"Control!$C$20+Control!$C$21*A1885+Control!$C$22*A1885^2","v":555.07052273721501}]
[1886,141,141,null,null,null,null,null,null,null,null,null,{"$f":"Control!$C$20+Control!$C$21*A1886+Control!$C$22*A1886^2","v":555.36725005358926}]
[1887,152,152,null,null,null,null,null,null,null,null,null,{"$f":"Control!$C$20+Control!$C$21*A1887+Control!$C$22*A1887^2","v":555.6639774655988}]
[1888,146,146,null,null,null,null,null,null,null,null,null,{"$f":"Control!$C$20+Control!$C$21*A1888+Control!$C$22*A1888^2","v":555.96070497324399}]
[1889,149,149,null,null,null,null,null,null,null,null,null,{"$f":"Control!$C$20+Control!$C$21*A1889+Control!$C$22*A1889^2","v":556.25743257652459}]
[1890,166,166,null,null,null,null,null,null,null,null,null,{"$f":"Control!$C$20+Control!$C$21*A1890+Control!$C$22*A1890^2","v":556.55416027544084}]
[1891,153,153,null,null,null,null,null,null,null,null,null,{"$f":"Control!$C$20+Control!$C$21*A1891+Control!$C$22*A1891^2","v":556.85088806999238}]
[1892,163,163,null,null,null,null,null,null,null,null,null,{"$f":"Control!$C$20+Control!$C$21*A1892+Control!$C$22*A1892^2","v":557.14761596017956}]
[1893,147,147,null,null,null,null,null,null,null,null,null,{"$f":"Control!$C$20+Control!$C$21*A1893+Control!$C$22*A1893^2","v":557.44434394600216}]
[1894,184,184,null,null,null,null,null,null,null,null,null,{"$f":"Control!$C$20+Control!$C$21*A1894+Control!$C$22*A1894^2","v":557.7410720274604}]
[1895,213,213,null,null,null,null,null,null,null,null,null,{"$f":"Control!$C$20+Control!$C$21*A1895+Control!$C$22*A1895^2","v":558.03780020455395}]
[1896,227,227,null,null,null,null,null,null,null,null,null,{"$f":"Control!$C$20+Control!$C$21*A1896+Control!$C$22*A1896^2","v":558.33452847728313}]
[1897,206,206,null,null,null,null,null,null,null,null,null,{"$f":"Control!$C$20+Control!$C$21*A1897+Control!$C$22*A1897^2","v":558.63125684564773}]
[1898,190,190,null,null,null,null,null,null,null,null,null,{"$f":"Control!$C$20+Control!$C$21*A1898+Control!$C$22*A1898^2","v":558.92798530964797}]
[1899,118,118,null,null,null,null,null,null,null,null,null,{"$f":"Control!$C$20+Control!$C$21*A1899+Control!$C$22*A1899^2","v":559.22471386928351}]
[1900,144,144,null,null,null,null,null,null,null,null,null,{"$f":"Control!$C$20+Control!$C$21*A1900+Control!$C$22*A1900^2","v":559.52144252455469}]
[1901,158,158,null,null,null,null,null,null,null,null,null,{"$f":"Control!$C$20+Control!$C$21*A1901+Control!$C$22*A1901^2","v":559.81817127546128}]
[1902,138,138,null,null,null,null,null,null,null,null,null,{"$f":"Control!$C$20+Control!$C$21*A1902+Control!$C$22*A1902^2","v":560.11490012200352}]
[1903,155,155,null,null,null,null,null,null,null,null,null,{"$f":"Control!$C$20+Control!$C$21*A1903+Control!$C$22*A1903^2","v":560.41162906418106}]
[1904,149,149,null,null,null,null,null,null,null,null,null,{"$f":"Control!$C$20+Control!$C$21*A1904+Control!$C$22*A1904^2","v":560.70835810199424}]
[1905,140,140,null,null,null,null,null,null,null,null,null,{"$f":"Control!$C$20+Control!$C$21*A1905+Control!$C$22*A1905^2","v":561.00508723544283}]
[1906,150,150,null,null,null,null,null,null,null,null,null,{"$f":"Control!$C$20+Control!$C$21*A1906+Control!$C$22*A1906^2","v":561.30181646452706}]
[1907,135,135,null,null,null,null,null,null,null,null,null,{"$f":"Control!$C$20+Control!$C$21*A1907+Control!$C$22*A1907^2","v":561.5985457892466}]
[1908,169,169,null,null,null,null,null,null,null,null,null,{"$f":"Control!$C$20+Control!$C$21*A1908+Control!$C$22*A1908^2","v":561.89527520960178}]
[1909,171,171,null,null,null,null,null,null,null,null,null,{"$f":"Control!$C$20+Control!$C$21*A1909+Control!$C$22*A1909^2","v":562.19200472559237}]
[1910,177,177,null,null,null,null,null,null,null,null,null,{"$f":"Control!$C$20+Control!$C$21*A1910+Control!$C$22*A1910^2","v":562.4887343372186}]
[1911,156,156,null,null,null,null,null,null,null,null,null,{"$f":"Control!$C$20+Control!$C$21*A1911+Control!$C$22*A1911^2","v":562.78546404448014}]
[1912,119,119,null,null,null,null,null,null,null,null,null,{"$f":"Control!$C$20+Control!$C$21*A1912+Control!$C$22*A1912^2","v":563.08219384737731}]
[1913,163,163,null,null,null,null,null,null,null,null,null,{"$f":"Control!$C$20+Control!$C$21*A1913+Control!$C$22*A1913^2","v":563.3789237459099}]
[1914,144,144,null,null,null,null,null,null,null,null,null,{"$f":"Control!$C$20+Control!$C$21*A1914+Control!$C$22*A1914^2","v":563.67565374007813}]
[1915,164,164,null,null,null,null,null,null,null,null,null,{"$f":"Control!$C$20+Control!$C$21*A1915+Control!$C$22*A1915^2","v":563.97238382988166}]
[1916,153,153,null,null,null,null,null,null,null,null,null,{"$f":"Control!$C$20+Control!$C$21*A1916+Control!$C$22*A1916^2","v":564.26911401532084}]
[1917,165,165,null,null,null,null,null,null,null,null,null,{"$f":"Control!$C$20+Control!$C$21*A1917+Control!$C$22*A1917^2","v":564.56584429639543}]
[1918,131,131,null,null,null,null,null,null,null,null,null,{"$f":"Control!$C$20+Control!$C$21*A1918+Control!$C$22*A1918^2","v":564.86257467310566}]
[1919,146,146,null,null,null,null,null,null,null,null,null,{"$f":"Control!$C$20+Control!$C$21*A1919+Control!$C$22*A1919^2","v":565.15930514545119}]
[1920,145,145,null,null,null,null,null,null,null,null,null,{"$f":"Control!$C$20+Control!$C$21*A1920+Control!$C$22*A1920^2","v":565.45603571343236}]
[1921,156,156,null,null,null,null,null,null,null,null,null,{"$f":"Control!$C$20+Control!$C$21*A1921+Control!$C$22*A1921^2","v":565.75276637704894}]
[1922,167,167,null,null,null,null,null,null,null,null,null,{"$f":"Control!$C$20+Control!$C$21*A1922+Control!$C$22*A1922^2","v":566.04949713630117}]
[1923,155,155,null,null,null,null,null,null,null,null,null,{"$f":"Control!$C$20+Control!$C$21*A1923+Control!$C$22*A1923^2","v":566.3462279911887}]
[1924,172,172,null,null,null,null,null,null,null,null,null,{"$f":"Control!$C$20+Control!$C$21*A1924+Control!$C$22*A1924^2","v":566.64295894171187}]
[1925,136,136,null,null,null,null,null,null,null,null,null,{"$f":"Control!$C$20+Control!$C$21*A1925+Control!$C$22*A1925^2","v":566.93968998787045}]
[1926,156,156,null,null,null,null,null,null,null,null,null,{"$f":"Control!$C$20+Control!$C$21*A1926+Control!$C$22*A1926^2","v":567.23642112966468}]
[1927,141,141,null,null,null,null,null,null,null,null,null,{"$f":"Control!$C$20+Control!$C$21*A1927+Control!$C$22*A1927^2","v":567.5331523670942}]
[1928,134,134,null,null,null,null,null,null,null,null,null,{"$f":"Control!$C$20+Control!$C$21*A1928+Control!$C$22*A1928^2","v":567.82988370015937}]
[1929,169,169,null,null,null,null,null,null,null,null,null,{"$f":"Control!$C$20+Control!$C$21*A1929+Control!$C$22*A1929^2","v":568.12661512885995}]
[1930,173,173,null,null,null,null,null,null,null,null,null,{"$f":"Control!$C$20+Control!$C$21*A1930+Control!$C$22*A1930^2","v":568.42334665319618}]
[1931,148,148,null,null,null,null,null,null,null,null,null,{"$f":"Control!$C$20+Control!$C$21*A1931+Control!$C$22*A1931^2","v":568.7200782731677}]
[1932,171,171,null,null,null,null,null,null,null,null,null,{"$f":"Control!$C$20+Control!$C$21*A1932+Control!$C$22*A1932^2","v":569.01680998877487}]
[1933,208,208,null,null,null,null,null,null,null,null,null,{"$f":"Control!$C$20+Control!$C$21*A1933+Control!$C$22*A1933^2","v":569.31354180001745}]
[1934,189,189,null,null,null,null,null,null,null,null,null,{"$f":"Control!$C$20+Control!$C$21*A1934+Control!$C$22*A1934^2","v":569.61027370689567}]
[1935,152,152,null,null,null,null,null,null,null,null,null,{"$f":"Control!$C$20+Control!$C$21*A1935+Control!$C$22*A1935^2","v":569.90700570940919}]
[1936,191,191,null,null,null,null,null,null,null,null,null,{"$f":"Control!$C$20+Control!$C$21*A1936+Control!$C$22*A1936^2","v":570.20373780755835}]
[1937,178,178,null,null,null,null,null,null,null,null,null,{"$f":"Control!$C$20+Control!$C$21*A1937+Control!$C$22*A1937^2","v":570.50047000134293}]
[1938,183,183,null,null,null,null,null,null,null,null,null,{"$f":"Control!$C$20+Control!$C$21*A1938+Control!$C$22*A1938^2","v":570.79720229076315}]
[1939,159,159,null,null,null,null,null,null,null,null,null,{"$f":"Control!$C$20+Control!$C$21*A1939+Control!$C$22*A1939^2","v":571.09393467581867}]
[1940,144,144,null,null,null,null,null,null,null,null,null,{"$f":"Control!$C$20+Control!$C$21*A1940+Control!$C$22*A1940^2","v":571.39066715650983}]
[1941,130,130,null,null,null,null,null,null,null,null,null,{"$f":"Control!$C$20+Control!$C$21*A1941+Control!$C$22*A1941^2","v":571.68739973283641}]
[1942,148,148,null,null,null,null,null,null,null,null,null,{"$f":"Control!$C$20+Control!$C$21*A1942+Control!$C$22*A1942^2","v":571.98413240479863}]
[1943,142,142,null,null,null,null,null,null,null,null,null,{"$f":"Control!$C$20+Control!$C$21*A1943+Control!$C$22*A1943^2","v":572.28086517239615}]
[1944,157,157,null,null,null,null,null,null,null,null,null,{"$f":"Control!$C$20+Control!$C$21*A1944+Control!$C$22*A1944^2","v":572.57759803562931}]
[1945,137,137,null,null,null,null,null,null,null,null,null,{"$f":"Control!$C$20+Control!$C$21*A1945+Control!$C$22*A1945^2","v":572.87433099449788}]
[1946,145,145,null,null,null,null,null,null,null,null,null,{"$f":"Control!$C$20+Control!$C$21*A1946+Control!$C$22*A1946^2","v":573.1710640490021}]
[1947,156,159,4,null,null,null,null,null,null,null,null,{"$f":"Control!$C$20+Control!$C$21*A1947+Control!$C$22*A1947^2","v":573.46779719914161}]
[1948,167,152,15,null,null,null,null,null,null,null,null,{"$f":"Control!$C$20+Control!$C$21*A1948+Control!$C$22*A1948^2","v":573.76453044491677}]
[1949,199,186,47,null,null,null,null,null,null,null,null,{"$f":"Control!$C$20+Control!$C$21*A1949+Control!$C$22*A1949^2","v":574.06126378632734}]
[1950,260,269,108,null,null,null,null,null,null,null,null,{"$f":"Control!$C$20+Control!$C$21*A1950+Control!$C$22*A1950^2","v":574.35799722337356}]
[1951,332,320,180,null,null,null,null,null,null,null,null,{"$f":"Control!$C$20+Control!$C$21*A1951+Control!$C$22*A1951^2","v":574.65473075605507}]
[1952,373,383,221,null,null,null,null,null,null,null,null,{"$f":"Control!$C$20+Control!$C$21*A1952+Control!$C$22*A1952^2","v":574.95146438437223}]
[1953,351,370,199,null,null,null,null,null,null,null,null,{"$f":"Control!$C$20+Control!$C$21*A1953+Control!$C$22*A1953^2","v":575.2481981083248}]
[1954,284,297,132,null,null,null,null,null,null,null,null,{"$f":"Control!$C$20+Control!$C$21*A1954+Control!$C$22*A1954^2","v":575.54493192791301}]
[1955,216,251,64,null,null,null,null,null,null,null,null,{"$f":"Control!$C$20+Control!$C$21*A1955+Control!$C$22*A1955^2","v":575.84166584313652}]
[1956,175,160,23,null,null,null,null,null,null,null,null,{"$f":"Control!$C$20+Control!$C$21*A1956+Control!$C$22*A1956^2","v":576.13839985399568}]
[1957,158,167,6,null,null,null,null,null,null,null,null,{"$f":"Control!$C$20+Control!$C$21*A1957+Control!$C$22*A1957^2","v":576.43513396049025}]
[1958,146,146,null,null,null,null,null,null,null,null,null,{"$f":"Control!$C$20+Control!$C$21*A1958+Control!$C$22*A1958^2","v":576.73186816262046}]
[1959,133,133,null,null,null,null,null,null,null,null,null,{"$f":"Control!$C$20+Control!$C$21*A1959+Control!$C$22*A1959^2","v":577.02860246038597}]
[1960,162,162,null,null,null,null,null,null,null,null,null,{"$f":"Control!$C$20+Control!$C$21*A1960+Control!$C$22*A1960^2","v":577.32533685378712}]
[1961,157,157,null,null,null,null,null,null,null,null,null,{"$f":"Control!$C$20+Control!$C$21*A1961+Control!$C$22*A1961^2","v":577.62207134282369}]
[1962,157,157,null,null,null,null,null,null,null,null,null,{"$f":"Control!$C$20+Control!$C$21*A1962+Control!$C$22*A1962^2","v":577.9188059274959}]
[1963,160,160,null,null,null,null,null,null,null,null,null,{"$f":"Control!$C$20+Control!$C$21*A1963+Control!$C$22*A1963^2","v":578.2155406078034}]
[1964,163,163,null,null,null,null,null,null,null,null,null,{"$f":"Control!$C$20+Control!$C$21*A1964+Control!$C$22*A1964^2","v":578.51227538374656}]
[1965,152,152,null,null,null,null,null,null,null,null,null,{"$f":"Control!$C$20+Control!$C$21*A1965+Control!$C$22*A1965^2","v":578.80901025532512}]
[1966,149,149,null,null,null,null,null,null,null,null,null,{"$f":"Control!$C$20+Control!$C$21*A1966+Control!$C$22*A1966^2","v":579.10574522253933}]
[1967,163,163,null,null,null,null,null,null,null,null,null,{"$f":"Control!$C$20+Control!$C$21*A1967+Control!$C$22*A1967^2","v":579.40248028538883}]
[1968,142,142,null,null,null,null,null,null,null,null,null,{"$f":"Control!$C$20+Control!$C$21*A1968+Control!$C$22*A1968^2","v":579.69921544387398}]
[1969,161,161,null,null,null,null,null,null,null,null,null,{"$f":"Control!$C$20+Control!$C$21*A1969+Control!$C$22*A1969^2","v":579.99595069799454}]
[1970,135,135,null,null,null,null,null,null,null,null,null,{"$f":"Control!$C$20+Control!$C$21*A1970+Control!$C$22*A1970^2","v":580.29268604775075}]
[1971,139,139,null,null,null,null,null,null,null,null,null,{"$f":"Control!$C$20+Control!$C$21*A1971+Control!$C$22*A1971^2","v":580.58942149314225}]
[1972,157,157,null,null,null,null,null,null,null,null,null,{"$f":"Control!$C$20+Control!$C$21*A1972+Control!$C$22*A1972^2","v":580.8861570341694}]
[1973,143,143,null,null,null,null,null,null,null,null,null,{"$f":"Control!$C$20+Control!$C$21*A1973+Control!$C$22*A1973^2","v":581.18289267083196}]
[1974,150,150,null,null,null,null,null,null,null,null,null,{"$f":"Control!$C$20+Control!$C$21*A1974+Control!$C$22*A1974^2","v":581.47962840313016}]
[1975,169,169,null,null,null,null,null,null,null,null,null,{"$f":"Control!$C$20+Control!$C$21*A1975+Control!$C$22*A1975^2","v":581.77636423106367}]
[1976,241,241,null,null,null,null,null,null,null,null,null,{"$f":"Control!$C$20+Control!$C$21*A1976+Control!$C$22*A1976^2","v":582.07310015463281}]
[1977,427,427,null,null,null,null,null,null,null,null,null,{"$f":"Control!$C$20+Control!$C$21*A1977+Control!$C$22*A1977^2","v":582.36983617383737}]
[1978,644,644,null,null,null,null,null,null,null,null,null,{"$f":"Control!$C$20+Control!$C$21*A1978+Control!$C$22*A1978^2","v":582.66657228867757}]
[1979,852,852,null,null,null,null,null,null,null,null,null,{"$f":"Control!$C$20+Control!$C$21*A1979+Control!$C$22*A1979^2","v":582.96330849915307}]
[1980,690,690,null,null,null,null,null,null,null,null,null,{"$f":"Control!$C$20+Control!$C$21*A1980+Control!$C$22*A1980^2","v":583.26004480526422}]
[1981,531,531,null,null,null,null,null,null,null,null,null,{"$f":"Control!$C$20+Control!$C$21*A1981+Control!$C$22*A1981^2","v":583.55678120701077}]
[1982,325,325,null,null,null,null,null,null,null,null,null,{"$f":"Control!$C$20+Control!$C$21*A1982+Control!$C$22*A1982^2","v":583.85351770439297}]
[1983,224,224,null,null,null,null,null,null,null,null,null,{"$f":"Control!$C$20+Control!$C$21*A1983+Control!$C$22*A1983^2","v":584.15025429741047}]
[1984,139,139,null,null,null,null,null,null,null,null,null,{"$f":"Control!$C$20+Control!$C$21*A1984+Control!$C$22*A1984^2","v":584.44699098606361}]
[1985,154,154,null,null,null,null,null,null,null,null,null,{"$f":"Control!$C$20+Control!$C$21*A1985+Control!$C$22*A1985^2","v":584.74372777035217}]
[1986,137,137,null,null,null,null,null,null,null,null,null,{"$f":"Control!$C$20+Control!$C$21*A1986+Control!$C$22*A1986^2","v":585.04046465027636}]
[1987,139,139,null,null,null,null,null,null,null,null,null,{"$f":"Control!$C$20+Control!$C$21*A1987+Control!$C$22*A1987^2","v":585.33720162583586}]
[1988,132,132,null,null,null,null,null,null,null,null,null,{"$f":"Control!$C$20+Control!$C$21*A1988+Control!$C$22*A1988^2","v":585.633938697031}]
[1989,127,127,null,null,null,null,null,null,null,null,null,{"$f":"Control!$C$20+Control!$C$21*A1989+Control!$C$22*A1989^2","v":585.93067586386155}]
[1990,126,126,null,null,null,null,null,null,null,null,null,{"$f":"Control!$C$20+Control!$C$21*A1990+Control!$C$22*A1990^2","v":586.22741312632775}]
[1991,160,160,null,null,null,null,null,null,null,null,null,{"$f":"Control!$C$20+Control!$C$21*A1991+Control!$C$22*A1991^2","v":586.52415048442924}]
[1992,148,148,null,null,null,null,null,null,null,null,null,{"$f":"Control!$C$20+Control!$C$21*A1992+Control!$C$22*A1992^2","v":586.82088793816638}]
[1993,141,141,null,null,null,null,null,null,null,null,null,{"$f":"Control!$C$20+Control!$C$21*A1993+Control!$C$22*A1993^2","v":587.11762548753893}]
[1994,153,153,null,null,null,null,null,null,null,null,null,{"$f":"Control!$C$20+Control!$C$21*A1994+Control!$C$22*A1994^2","v":587.41436313254712}]
[1995,134,134,null,null,null,null,null,null,null,null,null,{"$f":"Control!$C$20+Control!$C$21*A1995+Control!$C$22*A1995^2","v":587.71110087319062}]
[1996,133,133,null,null,null,null,null,null,null,null,null,{"$f":"Control!$C$20+Control!$C$21*A1996+Control!$C$22*A1996^2","v":588.00783870946975}]
[1997,140,140,null,null,null,null,null,null,null,null,null,{"$f":"Control!$C$20+Control!$C$21*A1997+Control!$C$22*A1997^2","v":588.3045766413843}]
[1998,133,133,null,null,null,null,null,null,null,null,null,{"$f":"Control!$C$20+Control!$C$21*A1998+Control!$C$22*A1998^2","v":588.60131466893449}]
[1999,134,134,null,null,null,null,null,null,null,null,null,{"$f":"Control!$C$20+Control!$C$21*A1999+Control!$C$22*A1999^2","v":588.89805279211998}]
[2000,133,133,null,null,null,null,null,null,null,null,null,{"$f":"Control!$C$20+Control!$C$21*A2000+Control!$C$22*A2000^2","v":589.19479101094112}]
[2002,142,142,null,null,null,null,null,null,null,null,null,{"$f":"Control!$C$20+Control!$C$21*A2002+Control!$C$22*A2002^2","v":589.78826773548985}]
[2004,118,118,null,null,null,null,null,null,null,null,null,{"$f":"Control!$C$20+Control!$C$21*A2004+Control!$C$22*A2004^2","v":590.38174484258047}]
[2007,151,151,null,null,null,null,null,null,null,null,null,{"$f":"Control!$C$20+Control!$C$21*A2007+Control!$C$22*A2007^2","v":591.27196122048269}]
[2011,140,140,null,null,null,null,null,null,null,null,null,{"$f":"Control!$C$20+Control!$C$21*A2011+Control!$C$22*A2011^2","v":592.45891772991604}]
[2014,132,132,null,null,null,null,null,null,null,null,null,{"$f":"Control!$C$20+Control!$C$21*A2014+Control!$C$22*A2014^2","v":593.34913611616389}]
[2017,125,125,null,null,null,null,null,null,null,null,null,{"$f":"Control!$C$20+Control!$C$21*A2017+Control!$C$22*A2017^2","v":594.23935536313104}]
[2019,129,129,null,null,null,null,null,null,null,null,null,{"$f":"Control!$C$20+Control!$C$21*A2019+Control!$C$22*A2019^2","v":594.8328353392867}]
[2020,129,129,null,null,null,null,null,null,null,null,null,{"$f":"Control!$C$20+Control!$C$21*A2020+Control!$C$22*A2020^2","v":595.12957547081783}]
[2024,161,161,null,null,null,null,null,null,null,null,null,{"$f":"Control!$C$20+Control!$C$21*A2024+Control!$C$22*A2024^2","v":596.31653695329715}]
[2027,145,145,null,null,null,null,null,null,null,null,null,{"$f":"Control!$C$20+Control!$C$21*A2027+Control!$C$22*A2027^2","v":597.20675906932934}]
[2030,164,164,null,null,null,null,null,null,null,null,null,{"$f":"Control!$C$20+Control!$C$21*A2030+Control!$C$22*A2030^2","v":598.09698204608117}]
[2034,154,154,null,null,null,null,null,null,null,null,null,{"$f":"Control!$C$20+Control!$C$21*A2034+Control!$C$22*A2034^2","v":599.28394735398047}]
[2037,165,165,null,null,null,null,null,null,null,null,null,{"$f":"Control!$C$20+Control!$C$21*A2037+Control!$C$22*A2037^2","v":600.17417233907759}]
[2038,155,155,null,null,null,null,null,null,null,null,null,{"$f":"Control!$C$20+Control!$C$21*A2038+Control!$C$22*A2038^2","v":600.47091419204776}]
[2040,168,168,null,null,null,null,null,null,null,null,null,{"$f":"Control!$C$20+Control!$C$21*A2040+Control!$C$22*A2040^2","v":601.06439818489434}]
[2043,153,153,null,null,null,null,null,null,null,null,null,{"$f":"Control!$C$20+Control!$C$21*A2043+Control!$C$22*A2043^2","v":601.95462489143051}]
[2047,134,134,null,null,null,null,null,null,null,null,null,{"$f":"Control!$C$20+Control!$C$21*A2047+Control!$C$22*A2047^2","v":603.14159517237579}]
[2050,136,136,null,null,null,null,null,null,null,null,null,{"$f":"Control!$C$20+Control!$C$21*A2050+Control!$C$22*A2050^2","v":604.03182388725759}]
[2053,144,144,null,null,null,null,null,null,null,null,null,{"$f":"Control!$C$20+Control!$C$21*A2053+Control!$C$22*A2053^2","v":604.92205346285868}]
[2057,146,146,null,null,null,null,null,null,null,null,null,{"$f":"Control!$C$20+Control!$C$21*A2057+Control!$C$22*A2057^2","v":606.10902756922394}]
[2059,151,151,null,null,null,null,null,null,null,null,null,{"$f":"Control!$C$20+Control!$C$21*A2059+Control!$C$22*A2059^2","v":606.70251519621957}]
[2060,152,152,null,null,null,null,null,null,null,null,null,{"$f":"Control!$C$20+Control!$C$21*A2060+Control!$C$22*A2060^2","v":606.99925915317067}]
[2063,244,244,null,null,null,null,null,null,null,null,null,{"$f":"Control!$C$20+Control!$C$21*A2063+Control!$C$22*A2063^2","v":607.88949159783681}]
[2066,1040,1040,null,null,null,null,null,null,null,null,null,{"$f":"Control!$C$20+Control!$C$21*A2066+Control!$C$22*A2066^2","v":608.77972490322259}]
[2070,489,489,null,null,null,null,null,null,null,null,null,{"$f":"Control!$C$20+Control!$C$21*A2070+Control!$C$22*A2070^2","v":609.96670398263382}]
[2073,155,155,null,null,null,null,null,null,null,null,null,{"$f":"Control!$C$20+Control!$C$21*A2073+Control!$C$22*A2073^2","v":610.85693929636489}]
[2076,138,138,null,null,null,null,null,null,null,null,null,{"$f":"Control!$C$20+Control!$C$21*A2076+Control!$C$22*A2076^2","v":611.74717547081559}]
[2078,139,139,null,null,null,null,null,null,null,null,null,{"$f":"Control!$C$20+Control!$C$21*A2078+Control!$C$22*A2078^2","v":612.34066673196025}]
[2082,147,147,null,null,null,null,null,null,null,null,null,{"$f":"Control!$C$20+Control!$C$21*A2082+Control!$C$22*A2082^2","v":613.52765040187546}]
[2083,137,137,null,null,null,null,null,null,null,null,null,{"$f":"Control!$C$20+Control!$C$21*A2083+Control!$C$22*A2083^2","v":613.82439655844291}]
[2086,111,111,null,null,null,null,null,null,null,null,null,{"$f":"Control!$C$20+Control!$C$21*A2086+Control!$C$22*A2086^2","v":614.71463560195866}]
[2089,136,136,null,null,null,null,null,null,null,null,null,{"$f":"Control!$C$20+Control!$C$21*A2089+Control!$C$22*A2089^2","v":615.60487550619371}]
[2093,168,168,null,null,null,null,null,null,null,null,null,{"$f":"Control!$C$20+Control!$C$21*A2093+Control!$C$22*A2093^2","v":616.79186338407089}]
[2096,159,159,null,null,null,null,null,null,null,null,null,{"$f":"Control!$C$20+Control!$C$21*A2096+Control!$C$22*A2096^2","v":617.68210529665157}]
[2099,140,119,4,null,null,null,null,null,null,null,null,{"$f":"Control!$C$20+Control!$C$21*A2099+Control!$C$22*A2099^2","v":618.57234806995166}]
[2102,203,221,67,null,null,null,null,null,null,null,null,{"$f":"Control!$C$20+Control!$C$21*A2102+Control!$C$22*A2102^2","v":619.46259170397138}]
[2105,224,225,88,null,null,null,null,null,null,null,null,{"$f":"Control!$C$20+Control!$C$21*A2105+Control!$C$22*A2105^2","v":620.35283619871041}]
[2106,190,184,54,null,null,null,null,null,null,null,null,{"$f":"Control!$C$20+Control!$C$21*A2106+Control!$C$22*A2106^2","v":620.64958455489455}]
[2109,138,129,2,null,null,null,null,null,null,null,null,{"$f":"Control!$C$20+Control!$C$21*A2109+Control!$C$22*A2109^2","v":621.53983019725956}]
[2112,126,126,null,null,null,null,null,null,null,null,null,{"$f":"Control!$C$20+Control!$C$21*A2112+Control!$C$22*A2112^2","v":622.43007670034422}]
[2116,141,141,null,null,null,null,null,null,null,null,null,{"$f":"Control!$C$20+Control!$C$21*A2116+Control!$C$22*A2116^2","v":623.61707337668736}]
[2118,130,130,null,null,null,null,null,null,null,null,null,{"$f":"Control!$C$20+Control!$C$21*A2118+Control!$C$22*A2118^2","v":624.21057228867198}]
[2122,141,141,null,null,null,null,null,null,null,null,null,{"$f":"Control!$C$20+Control!$C$21*A2122+Control!$C$22*A2122^2","v":625.39757126026711}]
[2125,126,126,null,null,null,null,null,null,null,null,null,{"$f":"Control!$C$20+Control!$C$21*A2125+Control!$C$22*A2125^2","v":626.28782149313611}]
[2128,120,120,null,null,null,null,null,null,null,null,null,{"$f":"Control!$C$20+Control!$C$21*A2128+Control!$C$22*A2128^2","v":627.17807258672474}]
[2129,112,112,null,null,null,null,null,null,null,null,null,{"$f":"Control!$C$20+Control!$C$21*A2129+Control!$C$22*A2129^2","v":627.47482314252522}]
[2132,140,140,null,null,null,null,null,null,null,null,null,{"$f":"Control!$C$20+Control!$C$21*A2132+Control!$C$22*A2132^2","v":628.36507538373985}]
[2135,125,125,null,null,null,null,null,null,null,null,null,{"$f":"Control!$C$20+Control!$C$21*A2135+Control!$C$22*A2135^2","v":629.25532848567389}]
[2139,150,150,null,null,null,null,null,null,null,null,null,{"$f":"Control!$C$20+Control!$C$21*A2139+Control!$C$22*A2139^2","v":630.44233396048298}]
[2141,127,127,null,null,null,null,null,null,null,null,null,{"$f":"Control!$C$20+Control!$C$21*A2141+Control!$C$22*A2141^2","v":631.03583727170053}]
[2145,119,119,null,null,null,null,null,null,null,null,null,{"$f":"Control!$C$20+Control!$C$21*A2145+Control!$C$22*A2145^2","v":632.22284504176162}]
[2148,137,137,null,null,null,null,null,null,null,null,null,{"$f":"Control!$C$20+Control!$C$21*A2148+Control!$C$22*A2148^2","v":633.11310187348022}]
[2151,106,106,null,null,null,null,null,null,null,null,null,{"$f":"Control!$C$20+Control!$C$21*A2151+Control!$C$22*A2151^2","v":634.00335956591823}]
[2152,151,151,null,null,null,null,null,null,null,null,null,{"$f":"Control!$C$20+Control!$C$21*A2152+Control!$C$22*A2152^2","v":634.30011232133529}]
[2155,126,126,null,null,null,null,null,null,null,null,null,{"$f":"Control!$C$20+Control!$C$21*A2155+Control!$C$22*A2155^2","v":635.1903711613993}]
[2158,111,111,null,null,null,null,null,null,null,null,null,{"$f":"Control!$C$20+Control!$C$21*A2158+Control!$C$22*A2158^2","v":636.08063086218294}]
[2161,145,145,null,null,null,null,null,null,null,null,null,{"$f":"Control!$C$20+Control!$C$21*A2161+Control!$C$22*A2161^2","v":636.97089142368588}]
[2164,123,123,null,null,null,null,null,null,null,null,null,{"$f":"Control!$C$20+Control!$C$21*A2164+Control!$C$22*A2164^2","v":637.86115284590846}]
[2168,151,151,null,null,null,null,null,null,null,null,null,{"$f":"Control!$C$20+Control!$C$21*A2168+Control!$C$22*A2168^2","v":639.04816941443551}]
[2171,131,131,null,null,null,null,null,null,null,null,null,{"$f":"Control!$C$20+Control!$C$21*A2171+Control!$C$22*A2171^2","v":639.93843284500349}]
[2174,108,108,null,null,null,null,null,null,null,null,null,{"$f":"Control!$C$20+Control!$C$21*A2174+Control!$C$22*A2174^2","v":640.82869713629111}]
[2175,135,135,null,null,null,null,null,null,null,null,null,{"$f":"Control!$C$20+Control!$C$21*A2175+Control!$C$22*A2175^2","v":641.12545209132452}]
[2179,124,124,null,null,null,null,null,null,null,null,null,{"$f":"Control!$C$20+Control!$C$21*A2179+Control!$C$22*A2179^2","v":642.31247286781354}]
[2181,129,129,null,null,null,null,null,null,null,null,null,{"$f":"Control!$C$20+Control!$C$21*A2181+Control!$C$22*A2181^2","v":642.90598382987105}]
[2184,124,124,null,null,null,null,null,null,null,null,null,{"$f":"Control!$C$20+Control!$C$21*A2184+Control!$C$22*A2184^2","v":643.7962509902236}]
[2187,114,114,null,null,null,null,null,null,null,null,null,{"$f":"Control!$C$20+Control!$C$21*A2187+Control!$C$22*A2187^2","v":644.68651901129556}]
[2191,132,132,null,null,null,null,null,null,null,null,null,{"$f":"Control!$C$20+Control!$C$21*A2191+Control!$C$22*A2191^2","v":645.87354437828856}]
[2194,118,118,null,null,null,null,null,null,null,null,null,{"$f":"Control!$C$20+Control!$C$21*A2194+Control!$C$22*A2194^2","v":646.76381440770615}]
[2197,107,107,null,null,null,null,null,null,null,null,null,{"$f":"Control!$C$20+Control!$C$21*A2197+Control!$C$22*A2197^2","v":647.65408529784304}]
[2198,121,121,null,null,null,null,null,null,null,null,null,{"$f":"Control!$C$20+Control!$C$21*A2198+Control!$C$22*A2198^2","v":647.95084245249313}]
[2200,125,125,null,null,null,null,null,null,null,null,null,{"$f":"Control!$C$20+Control!$C$21*A2200+Control!$C$22*A2200^2","v":648.54435704869957}]
[2204,131,131,null,null,null,null,null,null,null,null,null,{"$f":"Control!$C$20+Control!$C$21*A2204+Control!$C$22*A2204^2","v":649.73138738873854}]
[2207,137,137,null,null,null,null,null,null,null,null,null,{"$f":"Control!$C$20+Control!$C$21*A2207+Control!$C$22*A2207^2","v":650.62166114794047}]
[2210,113,113,null,null,null,null,null,null,null,null,null,{"$f":"Control!$C$20+Control!$C$21*A2210+Control!$C$22*A2210^2","v":651.51193576786204}]
[2214,119,119,null,null,null,null,null,null,null,null,null,{"$f":"Control!$C$20+Control!$C$21*A2214+Control!$C$22*A2214^2","v":652.698969933321}]
[2217,119,119,null,null,null,null,null,null,null,null,null,{"$f":"Control!$C$20+Control!$C$21*A2217+Control!$C$22*A2217^2","v":653.58924656158786}]
[2219,140,140,null,null,null,null,null,null,null,null,null,{"$f":"Control!$C$20+Control!$C$21*A2219+Control!$C$22*A2219^2","v":654.18276479194333}]
[2220,108,108,null,null,null,null,null,null,null,null,null,{"$f":"Control!$C$20+Control!$C$21*A2220+Control!$C$22*A2220^2","v":654.47952405057435}]
[2223,126,126,null,null,null,null,null,null,null,null,null,{"$f":"Control!$C$20+Control!$C$21*A2223+Control!$C$22*A2223^2","v":655.36980240028026}]
[2227,115,115,null,null,null,null,null,null,null,null,null,{"$f":"Control!$C$20+Control!$C$21*A2227+Control!$C$22*A2227^2","v":656.55684153878519}]
[2230,152,152,null,null,null,null,null,null,null,null,null,{"$f":"Control!$C$20+Control!$C$21*A2230+Control!$C$22*A2230^2","v":657.44712189683673}]
[2233,128,128,null,null,null,null,null,null,null,null,null,{"$f":"Control!$C$20+Control!$C$21*A2233+Control!$C$22*A2233^2","v":658.33740311560757}]
[2237,120,120,null,null,null,null,null,null,null,null,null,{"$f":"Control!$C$20+Control!$C$21*A2237+Control!$C$22*A2237^2","v":659.52444607953248}]
[2238,116,116,null,null,null,null,null,null,null,null,null,{"$f":"Control!$C$20+Control!$C$21*A2238+Control!$C$22*A2238^2","v":659.82120705960256}]
[2240,141,141,null,null,null,null,null,null,null,null,null,{"$f":"Control!$C$20+Control!$C$21*A2240+Control!$C$22*A2240^2","v":660.41472930664895}]
[2243,147,147,null,null,null,null,null,null,null,null,null,{"$f":"Control!$C$20+Control!$C$21*A2243+Control!$C$22*A2243^2","v":661.30501339448483}]
[2246,154,154,null,null,null,null,null,null,null,null,null,{"$f":"Control!$C$20+Control!$C$21*A2246+Control!$C$22*A2246^2","v":662.19529834304035}]
[2250,135,135,null,null,null,null,null,null,null,null,null,{"$f":"Control!$C$20+Control!$C$21*A2250+Control!$C$22*A2250^2","v":663.38234628001123}]
[2253,119,119,null,null,null,null,null,null,null,null,null,{"$f":"Control!$C$20+Control!$C$21*A2253+Control!$C$22*A2253^2","v":664.27263323691204}]
[2256,167,167,null,null,null,null,null,null,null,null,null,{"$f":"Control!$C$20+Control!$C$21*A2256+Control!$C$22*A2256^2","v":665.16292105453249}]
[2259,131,131,null,null,null,null,null,null,null,null,null,{"$f":"Control!$C$20+Control!$C$21*A2259+Control!$C$22*A2259^2","v":666.05320973287235}]
[2262,126,126,null,null,null,null,null,null,null,null,null,{"$f":"Control!$C$20+Control!$C$21*A2262+Control!$C$22*A2262^2","v":666.94349927193184}]
[2263,133,133,null,null,null,null,null,null,null,null,null,{"$f":"Control!$C$20+Control!$C$21*A2263+Control!$C$22*A2263^2","v":667.24026264288921}]
[2266,135,169,9,null,null,null,null,null,null,null,null,{"$f":"Control!$C$20+Control!$C$21*A2266+Control!$C$22*A2266^2","v":668.1305533295747}]
[2269,595,586,469,null,null,null,null,null,null,null,null,{"$f":"Control!$C$20+Control!$C$21*A2269+Control!$C$22*A2269^2","v":669.02084487697948}]
[2273,2080,2146,1954,null,null,null,null,null,null,null,null,{"$f":"Control!$C$20+Control!$C$21*A2273+Control!$C$22*A2273^2","v":670.20790161241632}]
[2276,445,434,319,null,null,null,null,null,null,null,null,{"$f":"Control!$C$20+Control!$C$21*A2276+Control!$C$22*A2276^2","v":671.09819516816674}]
[2278,150,133,24,null,null,null,null,null,null,null,null,{"$f":"Control!$C$20+Control!$C$21*A2278+Control!$C$22*A2278^2","v":671.69172468351121}]
[2282,126,126,null,null,null,null,null,null,null,null,null,{"$f":"Control!$C$20+Control!$C$21*A2282+Control!$C$22*A2282^2","v":672.87878486182603}]
[2285,112,112,null,null,null,null,null,null,null,null,null,{"$f":"Control!$C$20+Control!$C$21*A2285+Control!$C$22*A2285^2","v":673.7690809997348}]
[2286,116,116,null,null,null,null,null,null,null,null,null,{"$f":"Control!$C$20+Control!$C$21*A2286+Control!$C$22*A2286^2","v":674.06584657030885}]
[2289,119,119,null,null,null,null,null,null,null,null,null,{"$f":"Control!$C$20+Control!$C$21*A2289+Control!$C$22*A2289^2","v":674.95614385584361}]
[2292,119,119,null,null,null,null,null,null,null,null,null,{"$f":"Control!$C$20+Control!$C$21*A2292+Control!$C$22*A2292^2","v":675.846442002098}]
[2296,132,132,null,null,null,null,null,null,null,null,null,{"$f":"Control!$C$20+Control!$C$21*A2296+Control!$C$22*A2296^2","v":677.0335075360008}]
[2299,127,127,null,null,null,null,null,null,null,null,null,{"$f":"Control!$C$20+Control!$C$21*A2299+Control!$C$22*A2299^2","v":677.9238076906006}]
[2302,126,126,null,null,null,null,null,null,null,null,null,{"$f":"Control!$C$20+Control!$C$21*A2302+Control!$C$22*A2302^2","v":678.81410870592003}]
[2305,120,120,null,null,null,null,null,null,null,null,null,{"$f":"Control!$C$20+Control!$C$21*A2305+Control!$C$22*A2305^2","v":679.70441058195877}]
[2308,131,131,null,null,null,null,null,null,null,null,null,{"$f":"Control!$C$20+Control!$C$21*A2308+Control!$C$22*A2308^2","v":680.59471331871714}]
[2309,115,115,null,null,null,null,null,null,null,null,null,{"$f":"Control!$C$20+Control!$C$21*A2309+Control!$C$22*A2309^2","v":680.89148108890754}]
[2312,132,132,null,null,null,null,null,null,null,null,null,{"$f":"Control!$C$20+Control!$C$21*A2312+Control!$C$22*A2312^2","v":681.78178497329191}]
[2316,134,134,null,null,null,null,null,null,null,null,null,{"$f":"Control!$C$20+Control!$C$21*A2316+Control!$C$22*A2316^2","v":682.96885815803466}]
[2318,130,130,null,null,null,null,null,null,null,null,null,{"$f":"Control!$C$20+Control!$C$21*A2318+Control!$C$22*A2318^2","v":683.5623953242191}]
[2321,125,125,null,null,null,null,null,null,null,null,null,{"$f":"Control!$C$20+Control!$C$21*A2321+Control!$C$22*A2321^2","v":684.45270179076181}]
[2325,116,116,null,null,null,null,null,null,null,null,null,{"$f":"Control!$C$20+Control!$C$21*A2325+Control!$C$22*A2325^2","v":685.63977841838255}]
[2328,122,122,null,null,null,null,null,null,null,null,null,{"$f":"Control!$C$20+Control!$C$21*A2328+Control!$C$22*A2328^2","v":686.53008689327089}]
[2331,144,144,null,null,null,null,null,null,null,null,null,{"$f":"Control!$C$20+Control!$C$21*A2331+Control!$C$22*A2331^2","v":687.42039622887864}]
[2332,133,133,null,null,null,null,null,null,null,null,null,{"$f":"Control!$C$20+Control!$C$21*A2332+Control!$C$22*A2332^2","v":687.71716619868562}]
[2335,114,114,null,null,null,null,null,null,null,null,null,{"$f":"Control!$C$20+Control!$C$21*A2335+Control!$C$22*A2335^2","v":688.60747668191937}]
[2339,123,123,null,null,null,null,null,null,null,null,null,{"$f":"Control!$C$20+Control!$C$21*A2339+Control!$C$22*A2339^2","v":689.79455866512808}]
[2341,117,117,null,null,null,null,null,null,null,null,null,{"$f":"Control!$C$20+Control!$C$21*A2341+Control!$C$22*A2341^2","v":690.38810023054543}]
[2344,136,136,null,null,null,null,null,null,null,null,null,{"$f":"Control!$C$20+Control!$C$21*A2344+Control!$C$22*A2344^2","v":691.27841329593775}]
[2348,135,135,null,null,null,null,null,null,null,null,null,{"$f":"Control!$C$20+Control!$C$21*A2348+Control!$C$22*A2348^2","v":692.46549872202445}]
[2351,121,121,null,null,null,null,null,null,null,null,null,{"$f":"Control!$C$20+Control!$C$21*A2351+Control!$C$22*A2351^2","v":693.35581379576217}]
[2354,137,137,null,null,null,null,null,null,null,null,null,{"$f":"Control!$C$20+Control!$C$21*A2354+Control!$C$22*A2354^2","v":694.24612973021954}]
[2355,125,125,null,null,null,null,null,null,null,null,null,{"$f":"Control!$C$20+Control!$C$21*A2355+Control!$C$22*A2355^2","v":694.54290189964286}]
[2358,114,114,null,null,null,null,null,null,null,null,null,{"$f":"Control!$C$20+Control!$C$21*A2358+Control!$C$22*A2358^2","v":695.43321898172621}]
[2361,118,118,null,null,null,null,null,null,null,null,null,{"$f":"Control!$C$20+Control!$C$21*A2361+Control!$C$22*A2361^2","v":696.32353692452887}]
[2364,128,128,null,null,null,null,null,null,null,null,null,{"$f":"Control!$C$20+Control!$C$21*A2364+Control!$C$22*A2364^2","v":697.21385572805116}]
[2367,135,142,7,null,null,null,null,null,null,null,null,{"$f":"Control!$C$20+Control!$C$21*A2367+Control!$C$22*A2367^2","v":698.10417539229286}]
[2371,900,920,772,null,null,null,null,null,null,null,null,{"$f":"Control!$C$20+Control!$C$21*A2371+Control!$C$22*A2371^2","v":699.29126961684551}]
[2374,1691,1663,1563,null,null,null,null,null,null,null,null,{"$f":"Control!$C$20+Control!$C$21*A2374+Control!$C$22*A2374^2","v":700.18159128943284}]
[2375,1292,1286,1164,null,null,null,null,null,null,null,null,{"$f":"Control!$C$20+Control!$C$21*A2375+Control!$C$22*A2375^2","v":700.47836537156616}]
[2377,420,421,292,null,null,null,null,null,null,null,null,{"$f":"Control!$C$20+Control!$C$21*A2377+Control!$C$22*A2377^2","v":701.07191382273948}]
[2380,138,138,null,null,null,null,null,null,null,null,null,{"$f":"Control!$C$20+Control!$C$21*A2380+Control!$C$22*A2380^2","v":701.96223721676574}]
[2384,136,136,null,null,null,null,null,null,null,null,null,{"$f":"Control!$C$20+Control!$C$21*A2384+Control!$C$22*A2384^2","v":703.14933641436437}]
[2387,131,131,null,null,null,null,null,null,null,null,null,{"$f":"Control!$C$20+Control!$C$21*A2387+Control!$C$22*A2387^2","v":704.03966181673604}]
[2390,121,121,null,null,null,null,null,null,null,null,null,{"$f":"Control!$C$20+Control!$C$21*A2390+Control!$C$22*A2390^2","v":704.92998807982735}]
[2394,122,122,null,null,null,null,null,null,null,null,null,{"$f":"Control!$C$20+Control!$C$21*A2394+Control!$C$22*A2394^2","v":706.11709110284596}]
[2396,116,116,null,null,null,null,null,null,null,null,null,{"$f":"Control!$C$20+Control!$C$21*A2396+Control!$C$22*A2396^2","v":706.71064318816821}]
[2397,150,150,null,null,null,null,null,null,null,null,null,{"$f":"Control!$C$20+Control!$C$21*A2397+Control!$C$22*A2397^2","v":707.00741937428256}]
[2400,130,130,null,null,null,null,null,null,null,null,null,{"$f":"Control!$C$20+Control!$C$21*A2400+Control!$C$22*A2400^2","v":707.8977485064388}]
[2403,126,126,null,null,null,null,null,null,null,null,null,{"$f":"Control!$C$20+Control!$C$21*A2403+Control!$C$22*A2403^2","v":708.78807849931445}]
[2407,122,122,null,null,null,null,null,null,null,null,null,{"$f":"Control!$C$20+Control!$C$21*A2407+Control!$C$22*A2407^2","v":709.97518649537903}]
[2410,131,131,null,null,null,null,null,null,null,null,null,{"$f":"Control!$C$20+Control!$C$21*A2410+Control!$C$22*A2410^2","v":710.86551849660032}]
[2414,119,119,null,null,null,null,null,null,null,null,null,{"$f":"Control!$C$20+Control!$C$21*A2414+Control!$C$22*A2414^2","v":712.05262917045889}]
[2415,157,157,null,null,null,null,null,null,null,null,null,{"$f":"Control!$C$20+Control!$C$21*A2415+Control!$C$22*A2415^2","v":712.34940707801218}]
[2419,122,122,null,null,null,null,null,null,null,null,null,{"$f":"Control!$C$20+Control!$C$21*A2419+Control!$C$22*A2419^2","v":713.53651966458074}]
[2420,136,136,null,null,null,null,null,null,null,null,null,{"$f":"Control!$C$20+Control!$C$21*A2420+Control!$C$22*A2420^2","v":713.83329805031167}]
[2423,122,122,null,null,null,null,null,null,null,null,null,{"$f":"Control!$C$20+Control!$C$21*A2423+Control!$C$22*A2423^2","v":714.72363378131729}]
[2426,112,112,null,null,null,null,null,null,null,null,null,{"$f":"Control!$C$20+Control!$C$21*A2426+Control!$C$22*A2426^2","v":715.61397037304255}]
[2430,120,120,null,null,null,null,null,null,null,null,null,{"$f":"Control!$C$20+Control!$C$21*A2430+Control!$C$22*A2430^2","v":716.80108716757309}]
[2433,120,120,null,null,null,null,null,null,null,null,null,{"$f":"Control!$C$20+Control!$C$21*A2433+Control!$C$22*A2433^2","v":717.69142576764364}]
[2436,115,115,null,null,null,null,null,null,null,null,null,{"$f":"Control!$C$20+Control!$C$21*A2436+Control!$C$22*A2436^2","v":718.58176522843382}]
[2439,124,124,null,null,null,null,null,null,null,null,null,{"$f":"Control!$C$20+Control!$C$21*A2439+Control!$C$22*A2439^2","v":719.47210554994342}]
[2442,108,108,null,null,null,null,null,null,null,null,null,{"$f":"Control!$C$20+Control!$C$21*A2442+Control!$C$22*A2442^2","v":720.36244673217266}]
[2443,103,103,null,null,null,null,null,null,null,null,null,{"$f":"Control!$C$20+Control!$C$21*A2443+Control!$C$22*A2443^2","v":720.65922731751994}]
[2446,113,113,null,null,null,null,null,null,null,null,null,{"$f":"Control!$C$20+Control!$C$21*A2446+Control!$C$22*A2446^2","v":721.54956964737517}]
[2449,118,118,null,null,null,null,null,null,null,null,null,{"$f":"Control!$C$20+Control!$C$21*A2449+Control!$C$22*A2449^2","v":722.43991283794969}]
[2453,117,117,null,null,null,null,null,null,null,null,null,{"$f":"Control!$C$20+Control!$C$21*A2453+Control!$C$22*A2453^2","v":723.62703843094619}]
[2455,108,108,null,null,null,null,null,null,null,null,null,{"$f":"Control!$C$20+Control!$C$21*A2455+Control!$C$22*A2455^2","v":724.22060180125743}]
[2459,108,108,null,null,null,null,null,null,null,null,null,{"$f":"Control!$C$20+Control!$C$21*A2459+Control!$C$22*A2459^2","v":725.40772968950591}]
[2462,172,172,null,null,null,null,null,null,null,null,null,{"$f":"Control!$C$20+Control!$C$21*A2462+Control!$C$22*A2462^2","v":726.29807660986512}]
[2465,243,243,null,null,null,null,null,null,null,null,null,{"$f":"Control!$C$20+Control!$C$21*A2465+Control!$C$22*A2465^2","v":727.18842439094362}]
[2466,186,186,null,null,null,null,null,null,null,null,null,{"$f":"Control!$C$20+Control!$C$21*A2466+Control!$C$22*A2466^2","v":727.48520717590759}]
[2469,120,120,null,null,null,null,null,null,null,null,null,{"$f":"Control!$C$20+Control!$C$21*A2469+Control!$C$22*A2469^2","v":728.37555610461209}]
[2473,109,109,null,null,null,null,null,null,null,null,null,{"$f":"Control!$C$20+Control!$C$21*A2473+Control!$C$22*A2473^2","v":729.56268934844854}]
[2476,114,114,null,null,null,null,null,null,null,null,null,{"$f":"Control!$C$20+Control!$C$21*A2476+Control!$C$22*A2476^2","v":730.45304028549867}]
[2478,109,109,null,null,null,null,null,null,null,null,null,{"$f":"Control!$C$20+Control!$C$21*A2478+Control!$C$22*A2478^2","v":731.04660805504295}]
[2482,124,124,null,null,null,null,null,null,null,null,null,{"$f":"Control!$C$20+Control!$C$21*A2482+Control!$C$22*A2482^2","v":732.23374474175739}]
[2485,110,110,null,null,null,null,null,null,null,null,null,{"$f":"Control!$C$20+Control!$C$21*A2485+Control!$C$22*A2485^2","v":733.12409826096587}]
[2488,113,113,null,null,null,null,null,null,null,null,null,{"$f":"Control!$C$20+Control!$C$21*A2488+Control!$C$22*A2488^2","v":734.01445264089398}]
[2489,100,100,null,null,null,null,null,null,null,null,null,{"$f":"Control!$C$20+Control!$C$21*A2489+Control!$C$22*A2489^2","v":734.31123762547429}]
[2492,95,95,null,null,null,null,null,null,null,null,null,{"$f":"Control!$C$20+Control!$C$21*A2492+Control!$C$22*A2492^2","v":735.2015931530284}]
[2495,107,107,null,null,null,null,null,null,null,null,null,{"$f":"Control!$C$20+Control!$C$21*A2495+Control!$C$22*A2495^2","v":736.09194954130191}]
[2498,101,101,null,null,null,null,null,null,null,null,null,{"$f":"Control!$C$20+Control!$C$21*A2498+Control!$C$22*A2498^2","v":736.98230679029507}]
[2501,98,98,null,null,null,null,null,null,null,null,null,{"$f":"Control!$C$20+Control!$C$21*A2501+Control!$C$22*A2501^2","v":737.87266490000752}]
[2505,442,465,338,null,null,null,null,null,null,null,null,{"$f":"Control!$C$20+Control!$C$21*A2505+Control!$C$22*A2505^2","v":739.05981038518792}]
[2508,1304,1295,1200,null,null,null,null,null,null,null,null,{"$f":"Control!$C$20+Control!$C$21*A2508+Control!$C$22*A2508^2","v":739.950170503246}]
[2511,540,530,436,null,null,null,null,null,null,null,null,{"$f":"Control!$C$20+Control!$C$21*A2511+Control!$C$22*A2511^2","v":740.84053148202349}]
[2512,292,320,188,null,null,null,null,null,null,null,null,{"$f":"Control!$C$20+Control!$C$21*A2512+Control!$C$22*A2512^2","v":741.13731866622038}]
[2516,106,106,null,null,null,null,null,null,null,null,null,{"$f":"Control!$C$20+Control!$C$21*A2516+Control!$C$22*A2516^2","v":742.32446835936275}]
[2518,107,107,null,null,null,null,null,null,null,null,null,{"$f":"Control!$C$20+Control!$C$21*A2518+Control!$C$22*A2518^2","v":742.91804377974699}]
[2521,104,104,null,null,null,null,null,null,null,null,null,{"$f":"Control!$C$20+Control!$C$21*A2521+Control!$C$22*A2521^2","v":743.80840762758942}]
[2524,98,98,null,null,null,null,null,null,null,null,null,{"$f":"Control!$C$20+Control!$C$21*A2524+Control!$C$22*A2524^2","v":744.69877233615148}]
[2528,121,121,null,null,null,null,null,null,null,null,null,{"$f":"Control!$C$20+Control!$C$21*A2528+Control!$C$22*A2528^2","v":745.88592661979783}]
[2531,116,116,null,null,null,null,null,null,null,null,null,{"$f":"Control!$C$20+Control!$C$21*A2531+Control!$C$22*A2531^2","v":746.77629333670529}]
[2532,105,105,null,null,null,null,null,null,null,null,null,{"$f":"Control!$C$20+Control!$C$21*A2532+Control!$C$22*A2532^2","v":747.07308243361217}]
[2535,114,114,null,null,null,null,null,null,null,null,null,{"$f":"Control!$C$20+Control!$C$21*A2535+Control!$C$22*A2535^2","v":747.96345029814563}]
[2537,103,103,null,null,null,null,null,null,null,null,null,{"$f":"Control!$C$20+Control!$C$21*A2537+Control!$C$22*A2537^2","v":748.5570293526788}]
[2541,118,118,null,null,null,null,null,null,null,null,null,{"$f":"Control!$C$20+Control!$C$21*A2541+Control!$C$22*A2541^2","v":749.74418860937112}]
[2544,109,109,null,null,null,null,null,null,null,null,null,{"$f":"Control!$C$20+Control!$C$21*A2544+Control!$C$22*A2544^2","v":750.63455905606315}]
[2547,101,101,null,null,null,null,null,null,null,null,null,{"$f":"Control!$C$20+Control!$C$21*A2547+Control!$C$22*A2547^2","v":751.5249303634746}]
[2551,117,117,null,null,null,null,null,null,null,null,null,{"$f":"Control!$C$20+Control!$C$21*A2551+Control!$C$22*A2551^2","v":752.7120934455869}]
[2554,120,120,null,null,null,null,null,null,null,null,null,{"$f":"Control!$C$20+Control!$C$21*A2554+Control!$C$22*A2554^2","v":753.60246676134398}]
[2556,116,116,null,null,null,null,null,null,null,null,null,{"$f":"Control!$C$20+Control!$C$21*A2556+Control!$C$22*A2556^2","v":754.19604945002607}]
[2557,114,114,null,null,null,null,null,null,null,null,null,{"$f":"Control!$C$20+Control!$C$21*A2557+Control!$C$22*A2557^2","v":754.49284093782035}]
[2560,136,136,null,null,null,null,null,null,null,null,null,{"$f":"Control!$C$20+Control!$C$21*A2560+Control!$C$22*A2560^2","v":755.38321597501636}]
[2564,116,116,null,null,null,null,null,null,null,null,null,{"$f":"Control!$C$20+Control!$C$21*A2564+Control!$C$22*A2564^2","v":756.57038403017464}]
[2567,122,122,null,null,null,null,null,null,null,null,null,{"$f":"Control!$C$20+Control!$C$21*A2567+Control!$C$22*A2567^2","v":757.46076107571605}]
[2571,106,106,null,null,null,null,null,null,null,null,null,{"$f":"Control!$C$20+Control!$C$21*A2571+Control!$C$22*A2571^2","v":758.64793180866832}]
[2574,107,107,null,null,null,null,null,null,null,null,null,{"$f":"Control!$C$20+Control!$C$21*A2574+Control!$C$22*A2574^2","v":759.53831086255536}]
[2575,104,104,null,null,null,null,null,null,null,null,null,{"$f":"Control!$C$20+Control!$C$21*A2575+Control!$C$22*A2575^2","v":759.83510407178858}]
[2577,107,107,null,null,null,null,null,null,null,null,null,{"$f":"Control!$C$20+Control!$C$21*A2577+Control!$C$22*A2577^2","v":760.42869077716171}]
[2580,96,96,null,null,null,null,null,null,null,null,null,{"$f":"Control!$C$20+Control!$C$21*A2580+Control!$C$22*A2580^2","v":761.31907155248769}]
[2583,105,105,null,null,null,null,null,null,null,null,null,{"$f":"Control!$C$20+Control!$C$21*A2583+Control!$C$22*A2583^2","v":762.20945318853308}]
[2587,120,120,null,null,null,null,null,null,null,null,null,{"$f":"Control!$C$20+Control!$C$21*A2587+Control!$C$22*A2587^2","v":763.39663004215731}]
[2590,88,88,null,null,null,null,null,null,null,null,null,{"$f":"Control!$C$20+Control!$C$21*A2590+Control!$C$22*A2590^2","v":764.28701368654833}]
[2594,131,131,null,null,null,null,null,null,null,null,null,{"$f":"Control!$C$20+Control!$C$21*A2594+Control!$C$22*A2594^2","v":765.47419321796656}]
[2596,133,133,null,null,null,null,null,null,null,null,null,{"$f":"Control!$C$20+Control!$C$21*A2596+Control!$C$22*A2596^2","v":766.06778355748861}]
[2599,117,117,null,null,null,null,null,null,null,null,null,{"$f":"Control!$C$20+Control!$C$21*A2599+Control!$C$22*A2599^2","v":766.95816978403798}]
[2600,147,147,null,null,null,null,null,null,null,null,null,{"$f":"Control!$C$20+Control!$C$21*A2600+Control!$C$22*A2600^2","v":767.25496538415882}]
[2603,219,219,null,null,null,null,null,null,null,null,null,{"$f":"Control!$C$20+Control!$C$21*A2603+Control!$C$22*A2603^2","v":768.14535275833418}]
[2606,151,151,null,null,null,null,null,null,null,null,null,{"$f":"Control!$C$20+Control!$C$21*A2606+Control!$C$22*A2606^2","v":769.03574099322918}]
[2610,116,116,null,null,null,null,null,null,null,null,null,{"$f":"Control!$C$20+Control!$C$21*A2610+Control!$C$22*A2610^2","v":770.22292664531938}]
[2613,91,91,null,null,null,null,null,null,null,null,null,{"$f":"Control!$C$20+Control!$C$21*A2613+Control!$C$22*A2613^2","v":771.11331688855967}]
[2615,134,134,null,null,null,null,null,null,null,null,null,{"$f":"Control!$C$20+Control!$C$21*A2615+Control!$C$22*A2615^2","v":771.70691086223076}]
[2619,114,114,null,null,null,null,null,null,null,null,null,{"$f":"Control!$C$20+Control!$C$21*A2619+Control!$C$22*A2619^2","v":772.89409995719893}]
[2622,91,91,null,null,null,null,null,null,null,null,null,{"$f":"Control!$C$20+Control!$C$21*A2622+Control!$C$22*A2622^2","v":773.78449278259791}]
[2623,106,106,null,null,null,null,null,null,null,null,null,{"$f":"Control!$C$20+Control!$C$21*A2623+Control!$C$22*A2623^2","v":774.0812905823351}]
[2626,101,101,null,null,null,null,null,null,null,null,null,{"$f":"Control!$C$20+Control!$C$21*A2626+Control!$C$22*A2626^2","v":774.97168455536007}]
[2630,95,95,null,null,null,null,null,null,null,null,null,{"$f":"Control!$C$20+Control!$C$21*A2630+Control!$C$22*A2630^2","v":776.15887785829023}]
[2633,107,107,null,null,null,null,null,null,null,null,null,{"$f":"Control!$C$20+Control!$C$21*A2633+Control!$C$22*A2633^2","v":777.04927383966049}]
[2636,107,107,null,null,null,null,null,null,null,null,null,{"$f":"Control!$C$20+Control!$C$21*A2636+Control!$C$22*A2636^2","v":777.93967068175039}]
[2639,219,221,120,null,null,null,null,null,null,null,null,{"$f":"Control!$C$20+Control!$C$21*A2639+Control!$C$22*A2639^2","v":778.8300683845597}]
[2642,805,837,706,null,null,null,null,null,null,null,null,{"$f":"Control!$C$20+Control!$C$21*A2642+Control!$C$22*A2642^2","v":779.72046694808864}]
[2645,569,585,470,null,null,null,null,null,null,null,null,{"$f":"Control!$C$20+Control!$C$21*A2645+Control!$C$22*A2645^2","v":780.61086637233689}]
[2646,352,386,253,null,null,null,null,null,null,null,null,{"$f":"Control!$C$20+Control!$C$21*A2646+Control!$C$22*A2646^2","v":780.90766637169077}]
[2649,108,110,9,null,null,null,null,null,null,null,null,{"$f":"Control!$C$20+Control!$C$21*A2649+Control!$C$22*A2649^2","v":781.798066943565}]
[2653,101,101,null,null,null,null,null,null,null,null,null,{"$f":"Control!$C$20+Control!$C$21*A2653+Control!$C$22*A2653^2","v":782.98526904496111}]
[2655,85,85,null,null,null,null,null,null,null,null,null,{"$f":"Control!$C$20+Control!$C$21*A2655+Control!$C$22*A2655^2","v":783.57887066947217}]
[2658,102,102,null,null,null,null,null,null,null,null,null,{"$f":"Control!$C$20+Control!$C$21*A2658+Control!$C$22*A2658^2","v":784.46927382350509}]
[2662,143,143,null,null,null,null,null,null,null,null,null,{"$f":"Control!$C$20+Control!$C$21*A2662+Control!$C$22*A2662^2","v":785.65647936777918}]
[2665,108,108,null,null,null,null,null,null,null,null,null,{"$f":"Control!$C$20+Control!$C$21*A2665+Control!$C$22*A2665^2","v":786.5468845301574}]
[2668,89,89,null,null,null,null,null,null,null,null,null,{"$f":"Control!$C$20+Control!$C$21*A2668+Control!$C$22*A2668^2","v":787.43729055325525}]
[2669,111,111,null,null,null,null,null,null,null,null,null,{"$f":"Control!$C$20+Control!$C$21*A2669+Control!$C$22*A2669^2","v":787.73409275222548}]
[2672,86,86,null,null,null,null,null,null,null,null,null,{"$f":"Control!$C$20+Control!$C$21*A2672+Control!$C$22*A2672^2","v":788.62449992294933}]
[2676,89,89,null,null,null,null,null,null,null,null,null,{"$f":"Control!$C$20+Control!$C$21*A2676+Control!$C$22*A2676^2","v":789.81171082281139}]
[2678,95,95,null,null,null,null,null,null,null,null,null,{"$f":"Control!$C$20+Control!$C$21*A2678+Control!$C$22*A2678^2","v":790.40531684655548}]
[2681,118,118,null,null,null,null,null,null,null,null,null,{"$f":"Control!$C$20+Control!$C$21*A2681+Control!$C$22*A2681^2","v":791.29572659943767}]
[2685,104,104,null,null,null,null,null,null,null,null,null,{"$f":"Control!$C$20+Control!$C$21*A2685+Control!$C$22*A2685^2","v":792.48294094217772}]
[2688,111,111,null,null,null,null,null,null,null,null,null,{"$f":"Control!$C$20+Control!$C$21*A2688+Control!$C$22*A2688^2","v":793.37335270340554}]
[2689,112,112,null,null,null,null,null,null,null,null,null,{"$f":"Control!$C$20+Control!$C$21*A2689+Control!$C$22*A2689^2","v":793.67015681508576}]
[2692,165,165,null,null,null,null,null,null,null,null,null,{"$f":"Control!$C$20+Control!$C$21*A2692+Control!$C$22*A2692^2","v":794.56056972393958}]
[2695,125,125,null,null,null,null,null,null,null,null,null,{"$f":"Control!$C$20+Control!$C$21*A2695+Control!$C$22*A2695^2","v":795.45098349351281}]
[2698,92,92,null,null,null,null,null,null,null,null,null,{"$f":"Control!$C$20+Control!$C$21*A2698+Control!$C$22*A2698^2","v":796.34139812380567}]
[2701,99,99,null,null,null,null,null,null,null,null,null,{"$f":"Control!$C$20+Control!$C$21*A2701+Control!$C$22*A2701^2","v":797.23181361481784}]
[2704,101,101,null,null,null,null,null,null,null,null,null,{"$f":"Control!$C$20+Control!$C$21*A2704+Control!$C$22*A2704^2","v":798.12222996654964}]
[2708,104,104,null,null,null,null,null,null,null,null,null,{"$f":"Control!$C$20+Control!$C$21*A2708+Control!$C$22*A2708^2","v":799.30945310775564}]
[2711,96,96,null,null,null,null,null,null,null,null,null,{"$f":"Control!$C$20+Control!$C$21*A2711+Control!$C$22*A2711^2","v":800.19987146783285}]
[2712,96,96,null,null,null,null,null,null,null,null,null,{"$f":"Control!$C$20+Control!$C$21*A2712+Control!$C$22*A2712^2","v":800.49667777912964}]
[2716,104,104,null,null,null,null,null,null,null,null,null,{"$f":"Control!$C$20+Control!$C$21*A2716+Control!$C$22*A2716^2","v":801.68390398067163}]
[2717,107,107,null,null,null,null,null,null,null,null,null,{"$f":"Control!$C$20+Control!$C$21*A2717+Control!$C$22*A2717^2","v":801.98071077014583}]
[2721,131,131,null,null,null,null,null,null,null,null,null,{"$f":"Control!$C$20+Control!$C$21*A2721+Control!$C$22*A2721^2","v":803.16793888439781}]
[2724,108,108,null,null,null,null,null,null,null,null,null,{"$f":"Control!$C$20+Control!$C$21*A2724+Control!$C$22*A2724^2","v":804.05836097425959}]
[2728,118,118,null,null,null,null,null,null,null,null,null,{"$f":"Control!$C$20+Control!$C$21*A2728+Control!$C$22*A2728^2","v":805.24559176630555}]
[2731,109,109,null,null,null,null,null,null,null,null,null,{"$f":"Control!$C$20+Control!$C$21*A2731+Control!$C$22*A2731^2","v":806.13601586451273}]
[2733,118,118,null,null,null,null,null,null,null,null,null,{"$f":"Control!$C$20+Control!$C$21*A2733+Control!$C$22*A2733^2","v":806.72963240816171}]
[2734,93,93,null,null,null,null,null,null,null,null,null,{"$f":"Control!$C$20+Control!$C$21*A2734+Control!$C$22*A2734^2","v":807.02644082343954}]
[2737,99,99,null,null,null,null,null,null,null,null,null,{"$f":"Control!$C$20+Control!$C$21*A2737+Control!$C$22*A2737^2","v":807.91686664308565}]
[2740,95,95,null,null,null,null,null,null,null,null,null,{"$f":"Control!$C$20+Control!$C$21*A2740+Control!$C$22*A2740^2","v":808.8072933234514}]
[2744,94,94,null,null,null,null,null,null,null,null,null,{"$f":"Control!$C$20+Control!$C$21*A2744+Control!$C$22*A2744^2","v":809.99453023616934}]
[2747,89,89,null,null,null,null,null,null,null,null,null,{"$f":"Control!$C$20+Control!$C$21*A2747+Control!$C$22*A2747^2","v":810.88495892488049}]
[2751,108,108,null,null,null,null,null,null,null,null,null,{"$f":"Control!$C$20+Control!$C$21*A2751+Control!$C$22*A2751^2","v":812.07219851539242}]
[2752,88,88,null,null,null,null,null,null,null,null,null,{"$f":"Control!$C$20+Control!$C$21*A2752+Control!$C$22*A2752^2","v":812.36900865210919}]
[2756,112,112,null,null,null,null,null,null,null,null,null,{"$f":"Control!$C$20+Control!$C$21*A2756+Control!$C$22*A2756^2","v":813.5562501553311}]
[2757,95,95,null,null,null,null,null,null,null,null,null,{"$f":"Control!$C$20+Control!$C$21*A2757+Control!$C$22*A2757^2","v":813.85306077022528}]
[2760,89,89,null,null,null,null,null,null,null,null,null,{"$f":"Control!$C$20+Control!$C$21*A2760+Control!$C$22*A2760^2","v":814.743493188721}]
[2763,101,101,null,null,null,null,null,null,null,null,null,{"$f":"Control!$C$20+Control!$C$21*A2763+Control!$C$22*A2763^2","v":815.63392646793613}]
[2767,93,93,null,null,null,null,null,null,null,null,null,{"$f":"Control!$C$20+Control!$C$21*A2767+Control!$C$22*A2767^2","v":816.82117217912003}]
[2770,92,92,null,null,null,null,null,null,null,null,null,{"$f":"Control!$C$20+Control!$C$21*A2770+Control!$C$22*A2770^2","v":817.71160746668079}]
[2773,124,128,29,null,null,null,null,null,null,null,null,{"$f":"Control!$C$20+Control!$C$21*A2773+Control!$C$22*A2773^2","v":818.60204361496085}]
[2776,369,372,274,null,null,null,null,null,null,null,null,{"$f":"Control!$C$20+Control!$C$21*A2776+Control!$C$22*A2776^2","v":819.49248062396055}]
[2779,412,416,317,null,null,null,null,null,null,null,null,{"$f":"Control!$C$20+Control!$C$21*A2779+Control!$C$22*A2779^2","v":820.38291849367965}]
[2780,304,324,209,null,null,null,null,null,null,null,null,{"$f":"Control!$C$20+Control!$C$21*A2780+Control!$C$22*A2780^2","v":820.67973130819041}]
[2783,110,99,15,null,null,null,null,null,null,null,null,{"$f":"Control!$C$20+Control!$C$21*A2783+Control!$C$22*A2783^2","v":821.57017032553551}]
[2787,89,89,null,null,null,null,null,null,null,null,null,{"$f":"Control!$C$20+Control!$C$21*A2787+Control!$C$22*A2787^2","v":822.75742368755937}]
[2790,90,90,null,null,null,null,null,null,null,null,null,{"$f":"Control!$C$20+Control!$C$21*A2790+Control!$C$22*A2790^2","v":823.6478647132501}]
[2792,82,82,null,null,null,null,null,null,null,null,null,{"$f":"Control!$C$20+Control!$C$21*A2792+Control!$C$22*A2792^2","v":824.24149254188796}]
[2796,112,112,null,null,null,null,null,null,null,null,null,{"$f":"Control!$C$20+Control!$C$21*A2796+Control!$C$22*A2796^2","v":825.4287493467898}]
[2799,94,94,null,null,null,null,null,null,null,null,null,{"$f":"Control!$C$20+Control!$C$21*A2799+Control!$C$22*A2799^2","v":826.31919295463888}]
[2802,82,82,null,null,null,null,null,null,null,null,null,{"$f":"Control!$C$20+Control!$C$21*A2802+Control!$C$22*A2802^2","v":827.2096374232076}]
[2803,84,84,null,null,null,null,null,null,null,null,null,{"$f":"Control!$C$20+Control!$C$21*A2803+Control!$C$22*A2803^2","v":827.5064524373347}]
[2806,97,97,null,null,null,null,null,null,null,null,null,{"$f":"Control!$C$20+Control!$C$21*A2806+Control!$C$22*A2806^2","v":828.39689805352941}]
[2810,110,110,null,null,null,null,null,null,null,null,null,{"$f":"Control!$C$20+Control!$C$21*A2810+Control!$C$22*A2810^2","v":829.58416021401922}]
[2813,99,99,null,null,null,null,null,null,null,null,null,{"$f":"Control!$C$20+Control!$C$21*A2813+Control!$C$22*A2813^2","v":830.47460783855922}]
[2815,95,95,null,null,null,null,null,null,null,null,null,{"$f":"Control!$C$20+Control!$C$21*A2815+Control!$C$22*A2815^2","v":831.06824006643012}]
[2819,114,114,null,null,null,null,null,null,null,null,null,{"$f":"Control!$C$20+Control!$C$21*A2819+Control!$C$22*A2819^2","v":832.25550566979791}]
[2822,78,78,null,null,null,null,null,null,null,null,null,{"$f":"Control!$C$20+Control!$C$21*A2822+Control!$C$22*A2822^2","v":833.1459558764966}]
[2823,79,79,null,null,null,null,null,null,null,null,null,{"$f":"Control!$C$20+Control!$C$21*A2823+Control!$C$22*A2823^2","v":833.4427728033337}]
[2826,104,104,null,null,null,null,null,null,null,null,null,{"$f":"Control!$C$20+Control!$C$21*A2826+Control!$C$22*A2826^2","v":834.33322415765838}]
[2829,153,153,null,null,null,null,null,null,null,null,null,{"$f":"Control!$C$20+Control!$C$21*A2829+Control!$C$22*A2829^2","v":835.22367637270236}]
[2832,121,121,null,null,null,null,null,null,null,null,null,{"$f":"Control!$C$20+Control!$C$21*A2832+Control!$C$22*A2832^2","v":836.11412944846597}]
[2835,112,112,null,null,null,null,null,null,null,null,null,{"$f":"Control!$C$20+Control!$C$21*A2835+Control!$C$22*A2835^2","v":837.004583384949}]
[2838,112,112,null,null,null,null,null,null,null,null,null,{"$f":"Control!$C$20+Control!$C$21*A2838+Control!$C$22*A2838^2","v":837.89503818215167}]
[2842,97,97,null,null,null,null,null,null,null,null,null,{"$f":"Control!$C$20+Control!$C$21*A2842+Control!$C$22*A2842^2","v":839.08231258398541}]
[2845,124,124,null,null,null,null,null,null,null,null,null,{"$f":"Control!$C$20+Control!$C$21*A2845+Control!$C$22*A2845^2","v":839.97276938953337}]
[2846,102,102,null,null,null,null,null,null,null,null,null,{"$f":"Control!$C$20+Control!$C$21*A2846+Control!$C$22*A2846^2","v":840.26958851598715}]
[2849,102,102,null,null,null,null,null,null,null,null,null,{"$f":"Control!$C$20+Control!$C$21*A2849+Control!$C$22*A2849^2","v":841.1600464691611}]
[2853,102,102,null,null,null,null,null,null,null,null,null,{"$f":"Control!$C$20+Control!$C$21*A2853+Control!$C$22*A2853^2","v":842.34732507895683}]
[2855,130,130,null,null,null,null,null,null,null,null,null,{"$f":"Control!$C$20+Control!$C$21*A2855+Control!$C$22*A2855^2","v":842.94096495766769}]
[2858,99,99,null,null,null,null,null,null,null,null,null,{"$f":"Control!$C$20+Control!$C$21*A2858+Control!$C$22*A2858^2","v":843.83142549300032}]
[2861,74,74,null,null,null,null,null,null,null,null,null,{"$f":"Control!$C$20+Control!$C$21*A2861+Control!$C$22*A2861^2","v":844.72188688905226}]
[2865,88,88,null,null,null,null,null,null,null,null,null,{"$f":"Control!$C$20+Control!$C$21*A2865+Control!$C$22*A2865^2","v":845.90917008935196}]
[2868,109,109,null,null,null,null,null,null,null,null,null,{"$f":"Control!$C$20+Control!$C$21*A2868+Control!$C$22*A2868^2","v":846.79963349374952}]
[2869,85,85,null,null,null,null,null,null,null,null,null,{"$f":"Control!$C$20+Control!$C$21*A2869+Control!$C$22*A2869^2","v":847.09645481981966}]
[2872,80,80,null,null,null,null,null,null,null,null,null,{"$f":"Control!$C$20+Control!$C$21*A2872+Control!$C$22*A2872^2","v":847.98691937184321}]
[2874,94,94,null,null,null,null,null,null,null,null,null,{"$f":"Control!$C$20+Control!$C$21*A2874+Control!$C$22*A2874^2","v":848.58056288470311}]
[2878,98,98,null,null,null,null,null,null,null,null,null,{"$f":"Control!$C$20+Control!$C$21*A2878+Control!$C$22*A2878^2","v":849.76785105804879}]
[2881,96,96,null,null,null,null,null,null,null,null,null,{"$f":"Control!$C$20+Control!$C$21*A2881+Control!$C$22*A2881^2","v":850.65831819223069}]
[2885,126,126,null,null,null,null,null,null,null,null,null,{"$f":"Control!$C$20+Control!$C$21*A2885+Control!$C$22*A2885^2","v":851.84560904337036}]
[2888,98,98,null,null,null,null,null,null,null,null,null,{"$f":"Control!$C$20+Control!$C$21*A2888+Control!$C$22*A2888^2","v":852.7360781858979}]
[2891,83,83,null,null,null,null,null,null,null,null,null,{"$f":"Control!$C$20+Control!$C$21*A2891+Control!$C$22*A2891^2","v":853.62654818914484}]
[2893,91,91,null,null,null,null,null,null,null,null,null,{"$f":"Control!$C$20+Control!$C$21*A2893+Control!$C$22*A2893^2","v":854.22019533615367}]
[2894,108,108,null,null,null,null,null,null,null,null,null,{"$f":"Control!$C$20+Control!$C$21*A2894+Control!$C$22*A2894^2","v":854.51701905311143}]
[2897,100,100,null,null,null,null,null,null,null,null,null,{"$f":"Control!$C$20+Control!$C$21*A2897+Control!$C$22*A2897^2","v":855.40749077779731}]
[2901,96,96,null,null,null,null,null,null,null,null,null,{"$f":"Control!$C$20+Control!$C$21*A2901+Control!$C$22*A2901^2","v":856.59478774960894}]
[2904,103,103,null,null,null,null,null,null,null,null,null,{"$f":"Control!$C$20+Control!$C$21*A2904+Control!$C$22*A2904^2","v":857.48526148264045}]
[2908,86,86,null,null,null,null,null,null,null,null,null,{"$f":"Control!$C$20+Control!$C$21*A2908+Control!$C$22*A2908^2","v":858.67256113224607}]
[2911,125,125,null,null,null,null,null,null,null,null,null,{"$f":"Control!$C$20+Control!$C$21*A2911+Control!$C$22*A2911^2","v":859.56303687362299}]
[2912,140,140,null,null,null,null,null,null,null,null,null,{"$f":"Control!$C$20+Control!$C$21*A2912+Control!$C$22*A2912^2","v":859.85986231201969}]
[2914,150,150,null,null,null,null,null,null,null,null,null,{"$f":"Control!$C$20+Control!$C$21*A2914+Control!$C$22*A2914^2","v":860.45351347571955}]
[2917,119,119,null,null,null,null,null,null,null,null,null,{"$f":"Control!$C$20+Control!$C$21*A2917+Control!$C$22*A2917^2","v":861.3439909385354}]
[2920,77,77,null,null,null,null,null,null,null,null,null,{"$f":"Control!$C$20+Control!$C$21*A2920+Control!$C$22*A2920^2","v":862.23446926207089}]
[2924,95,95,null,null,null,null,null,null,null,null,null,{"$f":"Control!$C$20+Control!$C$21*A2924+Control!$C$22*A2924^2","v":863.42177503234848}]
[2927,102,102,null,null,null,null,null,null,null,null,null,{"$f":"Control!$C$20+Control!$C$21*A2927+Control!$C$22*A2927^2","v":864.31225536422937}]
[2931,103,103,null,null,null,null,null,null,null,null,null,{"$f":"Control!$C$20+Control!$C$21*A2931+Control!$C$22*A2931^2","v":865.49956381230095}]
[2933,91,91,null,null,null,null,null,null,null,null,null,{"$f":"Control!$C$20+Control!$C$21*A2933+Control!$C$22*A2933^2","v":866.09321861014973}]
[2936,85,85,null,null,null,null,null,null,null,null,null,{"$f":"Control!$C$20+Control!$C$21*A2936+Control!$C$22*A2936^2","v":866.9837015241892}]
[2937,93,93,null,null,null,null,null,null,null,null,null,{"$f":"Control!$C$20+Control!$C$21*A2937+Control!$C$22*A2937^2","v":867.2805293534733}]
[2940,92,101,3,null,null,null,null,null,null,null,null,{"$f":"Control!$C$20+Control!$C$21*A2940+Control!$C$22*A2940^2","v":868.17101341513876}]
[2944,201,196,112,null,null,null,null,null,null,null,null,{"$f":"Control!$C$20+Control!$C$21*A2944+Control!$C$22*A2944^2","v":869.35832683625631}]
[2947,262,259,173,null,null,null,null,null,null,null,null,{"$f":"Control!$C$20+Control!$C$21*A2947+Control!$C$22*A2947^2","v":870.24881290626718}]
[2950,126,102,37,null,null,null,null,null,null,null,null,{"$f":"Control!$C$20+Control!$C$21*A2950+Control!$C$22*A2950^2","v":871.13929983699768}]
[2952,93,86,4,null,null,null,null,null,null,null,null,{"$f":"Control!$C$20+Control!$C$21*A2952+Control!$C$22*A2952^2","v":871.73295826899539}]
[2956,92,92,null,null,null,null,null,null,null,null,null,{"$f":"Control!$C$20+Control!$C$21*A2956+Control!$C$22*A2956^2","v":872.92027628061692}]
[2959,87,87,null,null,null,null,null,null,null,null,null,{"$f":"Control!$C$20+Control!$C$21*A2959+Control!$C$22*A2959^2","v":873.81076579350577}]
[2960,84,84,null,null,null,null,null,null,null,null,null,{"$f":"Control!$C$20+Control!$C$21*A2960+Control!$C$22*A2960^2","v":874.10759582240644}]
[2963,85,85,null,null,null,null,null,null,null,null,null,{"$f":"Control!$C$20+Control!$C$21*A2963+Control!$C$22*A2963^2","v":874.99808648292128}]
[2967,85,85,null,null,null,null,null,null,null,null,null,{"$f":"Control!$C$20+Control!$C$21*A2967+Control!$C$22*A2967^2","v":876.18540870250479}]
[2970,92,92,null,null,null,null,null,null,null,null,null,{"$f":"Control!$C$20+Control!$C$21*A2970+Control!$C$22*A2970^2","v":877.07590137136526}]
[2973,96,96,null,null,null,null,null,null,null,null,null,{"$f":"Control!$C$20+Control!$C$21*A2973+Control!$C$22*A2973^2","v":877.96639490094503}]
[2976,88,88,null,null,null,null,null,null,null,null,null,{"$f":"Control!$C$20+Control!$C$21*A2976+Control!$C$22*A2976^2","v":878.85688929124444}]
[2979,62,62,null,null,null,null,null,null,null,null,null,{"$f":"Control!$C$20+Control!$C$21*A2979+Control!$C$22*A2979^2","v":879.74738454226326}]
[2980,87,87,null,null,null,null,null,null,null,null,null,{"$f":"Control!$C$20+Control!$C$21*A2980+Control!$C$22*A2980^2","v":880.04421648387392}]
[2983,107,107,null,null,null,null,null,null,null,null,null,{"$f":"Control!$C$20+Control!$C$21*A2983+Control!$C$22*A2983^2","v":880.93471288251874}]
[2986,80,80,null,null,null,null,null,null,null,null,null,{"$f":"Control!$C$20+Control!$C$21*A2986+Control!$C$22*A2986^2","v":881.82521014188319}]
[2990,81,81,null,null,null,null,null,null,null,null,null,{"$f":"Control!$C$20+Control!$C$21*A2990+Control!$C$22*A2990^2","v":883.01254115993265}]
[2992,71,71,null,null,null,null,null,null,null,null,null,{"$f":"Control!$C$20+Control!$C$21*A2992+Control!$C$22*A2992^2","v":883.60620724277032}]
[2995,91,91,null,null,null,null,null,null,null,null,null,{"$f":"Control!$C$20+Control!$C$21*A2995+Control!$C$22*A2995^2","v":884.49670708429312}]
[2999,94,94,null,null,null,null,null,null,null,null,null,{"$f":"Control!$C$20+Control!$C$21*A2999+Control!$C$22*A2999^2","v":885.68404154522057}]
[3002,87,87,null,null,null,null,null,null,null,null,null,{"$f":"Control!$C$20+Control!$C$21*A3002+Control!$C$22*A3002^2","v":886.57454339508899}]
[3003,77,77,null,null,null,null,null,null,null,null,null,{"$f":"Control!$C$20+Control!$C$21*A3003+Control!$C$22*A3003^2","v":886.871377536316}]
[3006,71,71,null,null,null,null,null,null,null,null,null,{"$f":"Control!$C$20+Control!$C$21*A3006+Control!$C$22*A3006^2","v":887.76188053381043}]
[3009,87,87,null,null,null,null,null,null,null,null,null,{"$f":"Control!$C$20+Control!$C$21*A3009+Control!$C$22*A3009^2","v":888.65238439202415}]
[3013,94,94,null,null,null,null,null,null,null,null,null,{"$f":"Control!$C$20+Control!$C$21*A3013+Control!$C$22*A3013^2","v":889.83972420853956}]
[3015,93,93,null,null,null,null,null,null,null,null,null,{"$f":"Control!$C$20+Control!$C$21*A3015+Control!$C$22*A3015^2","v":890.43339469061027}]
[3018,90,90,null,null,null,null,null,null,null,null,null,{"$f":"Control!$C$20+Control!$C$21*A3018+Control!$C$22*A3018^2","v":891.32390113098268}]
[3022,89,89,null,null,null,null,null,null,null,null,null,{"$f":"Control!$C$20+Control!$C$21*A3022+Control!$C$22*A3022^2","v":892.51124439037608}]
[3025,95,95,null,null,null,null,null,null,null,null,null,{"$f":"Control!$C$20+Control!$C$21*A3025+Control!$C$22*A3025^2","v":893.40175283909377}]
[3026,103,103,null,null,null,null,null,null,null,null,null,{"$f":"Control!$C$20+Control!$C$21*A3026+Control!$C$22*A3026^2","v":893.69858917993747}]
[3029,97,97,null,null,null,null,null,null,null,null,null,{"$f":"Control!$C$20+Control!$C$21*A3029+Control!$C$22*A3029^2","v":894.58909877628116}]
[3032,81,81,null,null,null,null,null,null,null,null,null,{"$f":"Control!$C$20+Control!$C$21*A3032+Control!$C$22*A3032^2","v":895.47960923334449}]
[3035,86,86,null,null,null,null,null,null,null,null,null,{"$f":"Control!$C$20+Control!$C$21*A3035+Control!$C$22*A3035^2","v":896.37012055112723}]
[3038,97,97,null,null,null,null,null,null,null,null,null,{"$f":"Control!$C$20+Control!$C$21*A3038+Control!$C$22*A3038^2","v":897.26063272962961}]
[3042,93,99,5,null,null,null,null,null,null,null,null,{"$f":"Control!$C$20+Control!$C$21*A3042+Control!$C$22*A3042^2","v":898.44798363986297}]
[3045,142,137,54,null,null,null,null,null,null,null,null,{"$f":"Control!$C$20+Control!$C$21*A3045+Control!$C$22*A3045^2","v":899.33849782671064}]
[3048,175,185,87,null,null,null,null,null,null,null,null,{"$f":"Control!$C$20+Control!$C$21*A3048+Control!$C$22*A3048^2","v":900.22901287427794}]
[3049,154,155,66,null,null,null,null,null,null,null,null,{"$f":"Control!$C$20+Control!$C$21*A3049+Control!$C$22*A3049^2","v":900.52585141473799}]
[3053,91,99,3,null,null,null,null,null,null,null,null,{"$f":"Control!$C$20+Control!$C$21*A3053+Control!$C$22*A3053^2","v":901.71320653293333}]
[3054,76,76,null,null,null,null,null,null,null,null,null,{"$f":"Control!$C$20+Control!$C$21*A3054+Control!$C$22*A3054^2","v":902.01004555157101}]
[3058,73,73,null,null,null,null,null,null,null,null,null,{"$f":"Control!$C$20+Control!$C$21*A3058+Control!$C$22*A3058^2","v":903.19740258247634}]
[3061,93,93,null,null,null,null,null,null,null,null,null,{"$f":"Control!$C$20+Control!$C$21*A3061+Control!$C$22*A3061^2","v":904.08792135982799}]
[3065,92,92,null,null,null,null,null,null,null,null,null,{"$f":"Control!$C$20+Control!$C$21*A3065+Control!$C$22*A3065^2","v":905.27528106852731}]
[3068,90,90,null,null,null,null,null,null,null,null,null,{"$f":"Control!$C$20+Control!$C$21*A3068+Control!$C$22*A3068^2","v":906.16580185422458}]
[3071,83,83,null,null,null,null,null,null,null,null,null,{"$f":"Control!$C$20+Control!$C$21*A3071+Control!$C$22*A3071^2","v":907.05632350064127}]
[3072,88,88,null,null,null,null,null,null,null,null,null,{"$f":"Control!$C$20+Control!$C$21*A3072+Control!$C$22*A3072^2","v":907.35316424071789}]
[3074,80,80,null,null,null,null,null,null,null,null,null,{"$f":"Control!$C$20+Control!$C$21*A3074+Control!$C$22*A3074^2","v":907.94684600777759}]
[3078,88,88,null,null,null,null,null,null,null,null,null,{"$f":"Control!$C$20+Control!$C$21*A3078+Control!$C$22*A3078^2","v":909.13421068952289}]
[3081,198,198,null,null,null,null,null,null,null,null,null,{"$f":"Control!$C$20+Control!$C$21*A3081+Control!$C$22*A3081^2","v":910.0247352050045}]
[3084,462,462,null,null,null,null,null,null,null,null,null,{"$f":"Control!$C$20+Control!$C$21*A3084+Control!$C$22*A3084^2","v":910.91526058120576}]
[3088,190,190,null,null,null,null,null,null,null,null,null,{"$f":"Control!$C$20+Control!$C$21*A3088+Control!$C$22*A3088^2","v":912.10262908837103}]
[3089,118,118,null,null,null,null,null,null,null,null,null,{"$f":"Control!$C$20+Control!$C$21*A3089+Control!$C$22*A3089^2","v":912.39947145425106}]
[3093,80,80,null,null,null,null,null,null,null,null,null,{"$f":"Control!$C$20+Control!$C$21*A3093+Control!$C$22*A3093^2","v":913.58684187412632}]
[3094,71,71,null,null,null,null,null,null,null,null,null,{"$f":"Control!$C$20+Control!$C$21*A3094+Control!$C$22*A3094^2","v":913.88368471818399}]
[3097,67,67,null,null,null,null,null,null,null,null,null,{"$f":"Control!$C$20+Control!$C$21*A3097+Control!$C$22*A3097^2","v":914.77421382416958}]
[3101,79,79,null,null,null,null,null,null,null,null,null,{"$f":"Control!$C$20+Control!$C$21*A3101+Control!$C$22*A3101^2","v":915.96158730438083}]
[3104,79,79,null,null,null,null,null,null,null,null,null,{"$f":"Control!$C$20+Control!$C$21*A3104+Control!$C$22*A3104^2","v":916.85211841871205}]
[3107,75,75,null,null,null,null,null,null,null,null,null,{"$f":"Control!$C$20+Control!$C$21*A3107+Control!$C$22*A3107^2","v":917.74265039376269}]
[3110,73,73,null,null,null,null,null,null,null,null,null,{"$f":"Control!$C$20+Control!$C$21*A3110+Control!$C$22*A3110^2","v":918.63318322953296}]
[3113,87,87,null,null,null,null,null,null,null,null,null,{"$f":"Control!$C$20+Control!$C$21*A3113+Control!$C$22*A3113^2","v":919.52371692602253}]
[3116,77,77,null,null,null,null,null,null,null,null,null,{"$f":"Control!$C$20+Control!$C$21*A3116+Control!$C$22*A3116^2","v":920.41425148323174}]
[3117,80,80,null,null,null,null,null,null,null,null,null,{"$f":"Control!$C$20+Control!$C$21*A3117+Control!$C$22*A3117^2","v":920.71109652690575}]
[3120,79,79,null,null,null,null,null,null,null,null,null,{"$f":"Control!$C$20+Control!$C$21*A3120+Control!$C$22*A3120^2","v":921.60163223174095}]
[3124,99,99,null,null,null,null,null,null,null,null,null,{"$f":"Control!$C$20+Control!$C$21*A3124+Control!$C$22*A3124^2","v":922.78901451041816}]
[3127,75,75,null,null,null,null,null,null,null,null,null,{"$f":"Control!$C$20+Control!$C$21*A3127+Control!$C$22*A3127^2","v":923.67955222359876}]
[3129,75,75,null,null,null,null,null,null,null,null,null,{"$f":"Control!$C$20+Control!$C$21*A3129+Control!$C$22*A3129^2","v":924.27324451056336}]
[3133,89,89,null,null,null,null,null,null,null,null,null,{"$f":"Control!$C$20+Control!$C$21*A3133+Control!$C$22*A3133^2","v":925.46063023211855}]
[3136,69,69,null,null,null,null,null,null,null,null,null,{"$f":"Control!$C$20+Control!$C$21*A3136+Control!$C$22*A3136^2","v":926.35117052745773}]
[3137,68,68,null,null,null,null,null,null,null,null,null,{"$f":"Control!$C$20+Control!$C$21*A3137+Control!$C$22*A3137^2","v":926.64801748384173}]
[3140,85,85,null,null,null,null,null,null,null,null,null,{"$f":"Control!$C$20+Control!$C$21*A3140+Control!$C$22*A3140^2","v":927.5385589268069}]
[3143,76,76,null,null,null,null,null,null,null,null,null,{"$f":"Control!$C$20+Control!$C$21*A3143+Control!$C$22*A3143^2","v":928.42910123049148}]
[3147,84,84,null,null,null,null,null,null,null,null,null,{"$f":"Control!$C$20+Control!$C$21*A3147+Control!$C$22*A3147^2","v":929.61649230763464}]
[3150,73,73,null,null,null,null,null,null,null,null,null,{"$f":"Control!$C$20+Control!$C$21*A3150+Control!$C$22*A3150^2","v":930.50703661966486}]
[3152,93,93,null,null,null,null,null,null,null,null,null,{"$f":"Control!$C$20+Control!$C$21*A3152+Control!$C$22*A3152^2","v":931.10073330586238}]
[3156,88,88,null,null,null,null,null,null,null,null,null,{"$f":"Control!$C$20+Control!$C$21*A3156+Control!$C$22*A3156^2","v":932.28812782588352}]
[3159,112,112,null,null,null,null,null,null,null,null,null,{"$f":"Control!$C$20+Control!$C$21*A3159+Control!$C$22*A3159^2","v":933.17867472007208}]
[3160,134,134,null,null,null,null,null,null,null,null,null,{"$f":"Control!$C$20+Control!$C$21*A3160+Control!$C$22*A3160^2","v":933.47552387607266}]
[3163,120,120,null,null,null,null,null,null,null,null,null,{"$f":"Control!$C$20+Control!$C$21*A3163+Control!$C$22*A3163^2","v":934.36607191788721}]
[3166,67,67,null,null,null,null,null,null,null,null,null,{"$f":"Control!$C$20+Control!$C$21*A3166+Control!$C$22*A3166^2","v":935.2566208204214}]
[3169,77,77,null,null,null,null,null,null,null,null,null,{"$f":"Control!$C$20+Control!$C$21*A3169+Control!$C$22*A3169^2","v":936.14717058367489}]
[3172,92,92,null,null,null,null,null,null,null,null,null,{"$f":"Control!$C$20+Control!$C$21*A3172+Control!$C$22*A3172^2","v":937.03772120764802}]
[3175,74,74,null,null,null,null,null,null,null,null,null,{"$f":"Control!$C$20+Control!$C$21*A3175+Control!$C$22*A3175^2","v":937.92827269234056}]
[3179,808,806,726,null,null,null,null,null,null,null,null,{"$f":"Control!$C$20+Control!$C$21*A3179+Control!$C$22*A3179^2","v":939.11567601082766}]
[3182,1893,1905,1811,null,null,null,null,null,null,null,null,{"$f":"Control!$C$20+Control!$C$21*A3182+Control!$C$22*A3182^2","v":940.00622950386582}]
[3183,1708,1706,1626,null,null,null,null,null,null,null,null,{"$f":"Control!$C$20+Control!$C$21*A3183+Control!$C$22*A3183^2","v":940.30308085948275}]
[3186,424,429,342,null,null,null,null,null,null,null,null,{"$f":"Control!$C$20+Control!$C$21*A3186+Control!$C$22*A3186^2","v":941.19363550014691}]
[3190,80,80,null,null,null,null,null,null,null,null,null,{"$f":"Control!$C$20+Control!$C$21*A3190+Control!$C$22*A3190^2","v":942.38104302659599}]
[3192,73,73,null,null,null,null,null,null,null,null,null,{"$f":"Control!$C$20+Control!$C$21*A3192+Control!$C$22*A3192^2","v":942.97474736363347}]
[3195,70,70,null,null,null,null,null,null,null,null,null,{"$f":"Control!$C$20+Control!$C$21*A3195+Control!$C$22*A3195^2","v":943.86530458645598}]
[3199,87,87,null,null,null,null,null,null,null,null,null,{"$f":"Control!$C$20+Control!$C$21*A3199+Control!$C$22*A3199^2","v":945.05271555578304}]
[3202,75,75,null,null,null,null,null,null,null,null,null,{"$f":"Control!$C$20+Control!$C$21*A3202+Control!$C$22*A3202^2","v":945.94327478695118}]
[3205,69,69,null,null,null,null,null,null,null,null,null,{"$f":"Control!$C$20+Control!$C$21*A3205+Control!$C$22*A3205^2","v":946.83383487883862}]
[3206,83,83,null,null,null,null,null,null,null,null,null,{"$f":"Control!$C$20+Control!$C$21*A3206+Control!$C$22*A3206^2","v":947.13068843407223}]
[3209,88,88,null,null,null,null,null,null,null,null,null,{"$f":"Control!$C$20+Control!$C$21*A3209+Control!$C$22*A3209^2","v":948.02124967358566}]
[3211,78,78,null,null,null,null,null,null,null,null,null,{"$f":"Control!$C$20+Control!$C$21*A3211+Control!$C$22*A3211^2","v":948.61495764477218}]
[3215,95,95,null,null,null,null,null,null,null,null,null,{"$f":"Control!$C$20+Control!$C$21*A3215+Control!$C$22*A3215^2","v":949.80237473477121}]
[3218,94,94,null,null,null,null,null,null,null,null,null,{"$f":"Control!$C$20+Control!$C$21*A3218+Control!$C$22*A3218^2","v":950.69293855644332}]
[3222,72,72,null,null,null,null,null,null,null,null,null,{"$f":"Control!$C$20+Control!$C$21*A3222+Control!$C$22*A3222^2","v":951.88035832423634}]
[3225,92,92,null,null,null,null,null,null,null,null,null,{"$f":"Control!$C$20+Control!$C$21*A3225+Control!$C$22*A3225^2","v":952.77092415425375}]
[3228,95,95,null,null,null,null,null,null,null,null,null,{"$f":"Control!$C$20+Control!$C$21*A3228+Control!$C$22*A3228^2","v":953.66149084499079}]
[3230,71,71,null,null,null,null,null,null,null,null,null,{"$f":"Control!$C$20+Control!$C$21*A3230+Control!$C$22*A3230^2","v":954.25520245032635}]
[3231,87,87,null,null,null,null,null,null,null,null,null,{"$f":"Control!$C$20+Control!$C$21*A3231+Control!$C$22*A3231^2","v":954.55205839644725}]
[3235,81,81,null,null,null,null,null,null,null,null,null,{"$f":"Control!$C$20+Control!$C$21*A3235+Control!$C$22*A3235^2","v":955.73948313728624}]
[3238,80,80,null,null,null,null,null,null,null,null,null,{"$f":"Control!$C$20+Control!$C$21*A3238+Control!$C$22*A3238^2","v":956.63005269708833}]
[3241,85,85,null,null,null,null,null,null,null,null,null,{"$f":"Control!$C$20+Control!$C$21*A3241+Control!$C$22*A3241^2","v":957.52062311760972}]
[3245,75,75,null,null,null,null,null,null,null,null,null,{"$f":"Control!$C$20+Control!$C$21*A3245+Control!$C$22*A3245^2","v":958.70805168386869}]
[3248,77,77,null,null,null,null,null,null,null,null,null,{"$f":"Control!$C$20+Control!$C$21*A3248+Control!$C$22*A3248^2","v":959.59862411273571}]
[3249,85,85,null,null,null,null,null,null,null,null,null,{"$f":"Control!$C$20+Control!$C$21*A3249+Control!$C$22*A3249^2","v":959.89548178029565}]
[3251,78,78,null,null,null,null,null,null,null,null,null,{"$f":"Control!$C$20+Control!$C$21*A3251+Control!$C$22*A3251^2","v":960.48919740232213}]
[3254,93,93,null,null,null,null,null,null,null,null,null,{"$f":"Control!$C$20+Control!$C$21*A3254+Control!$C$22*A3254^2","v":961.3797715526282}]
[3258,87,87,null,null,null,null,null,null,null,null,null,{"$f":"Control!$C$20+Control!$C$21*A3258+Control!$C$22*A3258^2","v":962.56720509193315}]
[3261,108,108,null,null,null,null,null,null,null,null,null,{"$f":"Control!$C$20+Control!$C$21*A3261+Control!$C$22*A3261^2","v":963.4577812505845}]
[3264,160,160,null,null,null,null,null,null,null,null,null,{"$f":"Control!$C$20+Control!$C$21*A3264+Control!$C$22*A3264^2","v":964.3483582699555}]
[3268,100,100,null,null,null,null,null,null,null,null,null,{"$f":"Control!$C$20+Control!$C$21*A3268+Control!$C$22*A3268^2","v":965.53579563468043}]
[3270,81,81,null,null,null,null,null,null,null,null,null,{"$f":"Control!$C$20+Control!$C$21*A3270+Control!$C$22*A3270^2","v":966.12951489085594}]
[3273,83,83,null,null,null,null,null,null,null,null,null,{"$f":"Control!$C$20+Control!$C$21*A3273+Control!$C$22*A3273^2","v":967.02009449238528}]
[3274,93,93,null,null,null,null,null,null,null,null,null,{"$f":"Control!$C$20+Control!$C$21*A3274+Control!$C$22*A3274^2","v":967.31695455083286}]
[3277,257,257,null,null,null,null,null,null,null,null,null,{"$f":"Control!$C$20+Control!$C$21*A3277+Control!$C$22*A3277^2","v":968.20753529998819}]
[3281,213,213,null,null,null,null,null,null,null,null,null,{"$f":"Control!$C$20+Control!$C$21*A3281+Control!$C$22*A3281^2","v":969.3949776377591}]
[3284,77,77,null,null,null,null,null,null,null,null,null,{"$f":"Control!$C$20+Control!$C$21*A3284+Control!$C$22*A3284^2","v":970.28556039526006}]
[3287,66,66,null,null,null,null,null,null,null,null,null,{"$f":"Control!$C$20+Control!$C$21*A3287+Control!$C$22*A3287^2","v":971.17614401348044}]
[3289,71,71,null,null,null,null,null,null,null,null,null,{"$f":"Control!$C$20+Control!$C$21*A3289+Control!$C$22*A3289^2","v":971.76986690380488}]
[3293,81,81,null,null,null,null,null,null,null,null,null,{"$f":"Control!$C$20+Control!$C$21*A3293+Control!$C$22*A3293^2","v":972.95731383207976}]
[3294,66,66,null,null,null,null,null,null,null,null,null,{"$f":"Control!$C$20+Control!$C$21*A3294+Control!$C$22*A3294^2","v":973.25417580323733}]
[3297,96,96,null,null,null,null,null,null,null,null,null,{"$f":"Control!$C$20+Control!$C$21*A3297+Control!$C$22*A3297^2","v":974.14476229052264}]
[3300,83,83,null,null,null,null,null,null,null,null,null,{"$f":"Control!$C$20+Control!$C$21*A3300+Control!$C$22*A3300^2","v":975.03534963852758}]
[3304,64,64,null,null,null,null,null,null,null,null,null,{"$f":"Control!$C$20+Control!$C$21*A3304+Control!$C$22*A3304^2","v":976.22280077476444}]
[3307,79,79,null,null,null,null,null,null,null,null,null,{"$f":"Control!$C$20+Control!$C$21*A3307+Control!$C$22*A3307^2","v":977.11339013111478}]
[3310,89,108,16,null,null,null,null,null,null,null,null,{"$f":"Control!$C$20+Control!$C$21*A3310+Control!$C$22*A3310^2","v":978.00398034818477}]
[3313,432,419,359,null,null,null,null,null,null,null,null,{"$f":"Control!$C$20+Control!$C$21*A3313+Control!$C$22*A3313^2","v":978.89457142597405}]
[3316,1423,1356,1350,null,null,null,null,null,null,null,null,{"$f":"Control!$C$20+Control!$C$21*A3316+Control!$C$22*A3316^2","v":979.78516336448297}]
[3317,1484,1437,1411,null,null,null,null,null,null,null,null,{"$f":"Control!$C$20+Control!$C$21*A3317+Control!$C$22*A3317^2","v":980.08202753525688}]
[3320,563,573,490,null,null,null,null,null,null,null,null,{"$f":"Control!$C$20+Control!$C$21*A3320+Control!$C$22*A3320^2","v":980.9726206213918}]
[3323,102,84,29,null,null,null,null,null,null,null,null,{"$f":"Control!$C$20+Control!$C$21*A3323+Control!$C$22*A3323^2","v":981.86321456824612}]
[3327,70,70,null,null,null,null,null,null,null,null,null,{"$f":"Control!$C$20+Control!$C$21*A3327+Control!$C$22*A3327^2","v":983.05067450294894}]
[3329,73,73,null,null,null,null,null,null,null,null,null,{"$f":"Control!$C$20+Control!$C$21*A3329+Control!$C$22*A3329^2","v":983.64440504411334}]
[3332,78,78,null,null,null,null,null,null,null,null,null,{"$f":"Control!$C$20+Control!$C$21*A3332+Control!$C$22*A3332^2","v":984.53500157312624}]
[3336,74,74,null,null,null,null,null,null,null,null,null,{"$f":"Control!$C$20+Control!$C$21*A3336+Control!$C$22*A3336^2","v":985.72246495070704}]
[3339,68,68,null,null,null,null,null,null,null,null,null,{"$f":"Control!$C$20+Control!$C$21*A3339+Control!$C$22*A3339^2","v":986.61306348806534}]
[3340,79,79,null,null,null,null,null,null,null,null,null,{"$f":"Control!$C$20+Control!$C$21*A3340+Control!$C$22*A3340^2","v":986.90992985845583}]
[3343,68,68,null,null,null,null,null,null,null,null,null,{"$f":"Control!$C$20+Control!$C$21*A3343+Control!$C$22*A3343^2","v":987.80052954344012}]
[3346,80,80,null,null,null,null,null,null,null,null,null,{"$f":"Control!$C$20+Control!$C$21*A3346+Control!$C$22*A3346^2","v":988.69113008914405}]
[3350,74,74,null,null,null,null,null,null,null,null,null,{"$f":"Control!$C$20+Control!$C$21*A3350+Control!$C$22*A3350^2","v":989.87859882231282}]
[3352,70,70,null,null,null,null,null,null,null,null,null,{"$f":"Control!$C$20+Control!$C$21*A3352+Control!$C$22*A3352^2","v":990.47233376271015}]
[3356,87,87,null,null,null,null,null,null,null,null,null,{"$f":"Control!$C$20+Control!$C$21*A3356+Control!$C$22*A3356^2","v":991.65980479113091}]
[3359,54,54,null,null,null,null,null,null,null,null,null,{"$f":"Control!$C$20+Control!$C$21*A3359+Control!$C$22*A3359^2","v":992.55040906661918}]
[3362,65,65,null,null,null,null,null,null,null,null,null,{"$f":"Control!$C$20+Control!$C$21*A3362+Control!$C$22*A3362^2","v":993.44101420282709}]
[3363,74,74,null,null,null,null,null,null,null,null,null,{"$f":"Control!$C$20+Control!$C$21*A3363+Control!$C$22*A3363^2","v":993.73788277283393}]
[3366,75,75,null,null,null,null,null,null,null,null,null,{"$f":"Control!$C$20+Control!$C$21*A3366+Control!$C$22*A3366^2","v":994.62848905666783}]
[3369,62,62,null,null,null,null,null,null,null,null,null,{"$f":"Control!$C$20+Control!$C$21*A3369+Control!$C$22*A3369^2","v":995.51909620122103}]
[3372,67,67,null,null,null,null,null,null,null,null,null,{"$f":"Control!$C$20+Control!$C$21*A3372+Control!$C$22*A3372^2","v":996.40970420649387}]
[3375,71,71,null,null,null,null,null,null,null,null,null,{"$f":"Control!$C$20+Control!$C$21*A3375+Control!$C$22*A3375^2","v":997.30031307248612}]
[3379,53,53,null,null,null,null,null,null,null,null,null,{"$f":"Control!$C$20+Control!$C$21*A3379+Control!$C$22*A3379^2","v":998.48779289937283}]
[3382,82,82,null,null,null,null,null,null,null,null,null,{"$f":"Control!$C$20+Control!$C$21*A3382+Control!$C$22*A3382^2","v":999.37840377371072}]
[3385,114,114,null,null,null,null,null,null,null,null,null,{"$f":"Control!$C$20+Control!$C$21*A3385+Control!$C$22*A3385^2","v":1000.2690155087679}]
[3386,118,118,null,null,null,null,null,null,null,null,null,{"$f":"Control!$C$20+Control!$C$21*A3386+Control!$C$22*A3386^2","v":1000.5658862783914}]
[3390,106,106,null,null,null,null,null,null,null,null,null,{"$f":"Control!$C$20+Control!$C$21*A3390+Control!$C$22*A3390^2","v":1001.7533703132401}]
[3392,85,85,null,null,null,null,null,null,null,null,null,{"$f":"Control!$C$20+Control!$C$21*A3392+Control!$C$22*A3392^2","v":1002.3471129044774}]
[3395,78,78,null,null,null,null,null,null,null,null,null,{"$f":"Control!$C$20+Control!$C$21*A3395+Control!$C$22*A3395^2","v":1003.2377275085996}]
[3398,72,72,null,null,null,null,null,null,null,null,null,{"$f":"Control!$C$20+Control!$C$21*A3398+Control!$C$22*A3398^2","v":1004.1283429734415}]
[3402,78,78,null,null,null,null,null,null,null,null,null,{"$f":"Control!$C$20+Control!$C$21*A3402+Control!$C$22*A3402^2","v":1005.3158315987941}]
[3405,80,80,null,null,null,null,null,null,null,null,null,{"$f":"Control!$C$20+Control!$C$21*A3405+Control!$C$22*A3405^2","v":1006.2064490719813}]
[3408,73,73,null,null,null,null,null,null,null,null,null,{"$f":"Control!$C$20+Control!$C$21*A3408+Control!$C$22*A3408^2","v":1007.0970674058881}]
[3409,86,86,null,null,null,null,null,null,null,null,null,{"$f":"Control!$C$20+Control!$C$21*A3409+Control!$C$22*A3409^2","v":1007.393940375128}]
[3411,84,84,null,null,null,null,null,null,null,null,null,{"$f":"Control!$C$20+Control!$C$21*A3411+Control!$C$22*A3411^2","v":1007.9876866005143}]
[3415,73,73,null,null,null,null,null,null,null,null,null,{"$f":"Control!$C$20+Control!$C$21*A3415+Control!$C$22*A3415^2","v":1009.1751801989129}]
[3418,68,68,null,null,null,null,null,null,null,null,null,{"$f":"Control!$C$20+Control!$C$21*A3418+Control!$C$22*A3418^2","v":1010.0658014018848}]
[3421,64,64,null,null,null,null,null,null,null,null,null,{"$f":"Control!$C$20+Control!$C$21*A3421+Control!$C$22*A3421^2","v":1010.9564234655759}]
[3425,80,80,null,null,null,null,null,null,null,null,null,{"$f":"Control!$C$20+Control!$C$21*A3425+Control!$C$22*A3425^2","v":1012.1439208893945}]
[3428,69,69,null,null,null,null,null,null,null,null,null,{"$f":"Control!$C$20+Control!$C$21*A3428+Control!$C$22*A3428^2","v":1013.0345449614313}]
[3430,59,59,null,null,null,null,null,null,null,null,null,{"$f":"Control!$C$20+Control!$C$21*A3430+Control!$C$22*A3430^2","v":1013.6282948209666}]
[3431,79,79,null,null,null,null,null,null,null,null,null,{"$f":"Control!$C$20+Control!$C$21*A3431+Control!$C$22*A3431^2","v":1013.9251698941874}]
[3434,79,79,null,null,null,null,null,null,null,null,null,{"$f":"Control!$C$20+Control!$C$21*A3434+Control!$C$22*A3434^2","v":1014.8157956876632}]
[3438,67,67,null,null,null,null,null,null,null,null,null,{"$f":"Control!$C$20+Control!$C$21*A3438+Control!$C$22*A3438^2","v":1016.0032980845278}]
[3441,84,84,null,null,null,null,null,null,null,null,null,{"$f":"Control!$C$20+Control!$C$21*A3441+Control!$C$22*A3441^2","v":1016.8939258863489}]
[3444,77,74,5,null,null,null,null,null,null,null,null,{"$f":"Control!$C$20+Control!$C$21*A3444+Control!$C$22*A3444^2","v":1017.7845545488897}]
[3447,228,214,156,null,null,null,null,null,null,null,null,{"$f":"Control!$C$20+Control!$C$21*A3447+Control!$C$22*A3447^2","v":1018.6751840721498}]
[3450,925,903,853,null,null,null,null,null,null,null,null,{"$f":"Control!$C$20+Control!$C$21*A3450+Control!$C$22*A3450^2","v":1019.5658144561296}]
[3451,1098,1085,1026,null,null,null,null,null,null,null,null,{"$f":"Control!$C$20+Control!$C$21*A3451+Control!$C$22*A3451^2","v":1019.8626914420604}]
[3454,638,649,566,null,null,null,null,null,null,null,null,{"$f":"Control!$C$20+Control!$C$21*A3454+Control!$C$22*A3454^2","v":1020.7533229736662}]
[3457,128,121,56,null,null,null,null,null,null,null,null,{"$f":"Control!$C$20+Control!$C$21*A3457+Control!$C$22*A3457^2","v":1021.6439553659912}]
[3461,74,74,null,null,null,null,null,null,null,null,null,{"$f":"Control!$C$20+Control!$C$21*A3461+Control!$C$22*A3461^2","v":1022.8314665613218}]
[3464,72,72,null,null,null,null,null,null,null,null,null,{"$f":"Control!$C$20+Control!$C$21*A3464+Control!$C$22*A3464^2","v":1023.7221009619925}]
[3466,67,67,null,null,null,null,null,null,null,null,null,{"$f":"Control!$C$20+Control!$C$21*A3466+Control!$C$22*A3466^2","v":1024.3158577072838}]
[3470,80,80,null,null,null,null,null,null,null,null,null,{"$f":"Control!$C$20+Control!$C$21*A3470+Control!$C$22*A3470^2","v":1025.5033723454924}]
[3473,80,80,null,null,null,null,null,null,null,null,null,{"$f":"Control!$C$20+Control!$C$21*A3473+Control!$C$22*A3473^2","v":1026.3940093283215}]
[3474,52,52,null,null,null,null,null,null,null,null,null,{"$f":"Control!$C$20+Control!$C$21*A3474+Control!$C$22*A3474^2","v":1026.6908885138689}]
[3477,67,67,null,null,null,null,null,null,null,null,null,{"$f":"Control!$C$20+Control!$C$21*A3477+Control!$C$22*A3477^2","v":1027.581526644324}]
[3480,72,72,null,null,null,null,null,null,null,null,null,{"$f":"Control!$C$20+Control!$C$21*A3480+Control!$C$22*A3480^2","v":1028.4721656354986}]
[3484,75,75,null,null,null,null,null,null,null,null,null,{"$f":"Control!$C$20+Control!$C$21*A3484+Control!$C$22*A3484^2","v":1029.6596856292952}]
[3487,66,66,null,null,null,null,null,null,null,null,null,{"$f":"Control!$C$20+Control!$C$21*A3487+Control!$C$22*A3487^2","v":1030.5503266288154}]
[3490,71,71,null,null,null,null,null,null,null,null,null,{"$f":"Control!$C$20+Control!$C$21*A3490+Control!$C$22*A3490^2","v":1031.440968489055}]
[3493,70,70,null,null,null,null,null,null,null,null,null,{"$f":"Control!$C$20+Control!$C$21*A3493+Control!$C$22*A3493^2","v":1032.331611210014}]
[3496,76,76,null,null,null,null,null,null,null,null,null,{"$f":"Control!$C$20+Control!$C$21*A3496+Control!$C$22*A3496^2","v":1033.2222547916926}]
[3497,78,78,null,null,null,null,null,null,null,null,null,{"$f":"Control!$C$20+Control!$C$21*A3497+Control!$C$22*A3497^2","v":1033.5191361768566}]
[3500,59,59,null,null,null,null,null,null,null,null,null,{"$f":"Control!$C$20+Control!$C$21*A3500+Control!$C$22*A3500^2","v":1034.4097809061611}]
[3503,82,82,null,null,null,null,null,null,null,null,null,{"$f":"Control!$C$20+Control!$C$21*A3503+Control!$C$22*A3503^2","v":1035.3004264961853}]
[3506,60,60,null,null,null,null,null,null,null,null,null,{"$f":"Control!$C$20+Control!$C$21*A3506+Control!$C$22*A3506^2","v":1036.1910729469289}]
[3509,67,67,null,null,null,null,null,null,null,null,null,{"$f":"Control!$C$20+Control!$C$21*A3509+Control!$C$22*A3509^2","v":1037.0817202583919}]
[3513,61,61,null,null,null,null,null,null,null,null,null,{"$f":"Control!$C$20+Control!$C$21*A3513+Control!$C$22*A3513^2","v":1038.2692513459065}]
[3516,57,57,null,null,null,null,null,null,null,null,null,{"$f":"Control!$C$20+Control!$C$21*A3516+Control!$C$22*A3516^2","v":1039.159900665715}]
[3519,55,55,null,null,null,null,null,null,null,null,null,{"$f":"Control!$C$20+Control!$C$21*A3519+Control!$C$22*A3519^2","v":1040.0505508462431}]
[3520,60,60,null,null,null,null,null,null,null,null,null,{"$f":"Control!$C$20+Control!$C$21*A3520+Control!$C$22*A3520^2","v":1040.3474344310234}]
[3523,84,84,null,null,null,null,null,null,null,null,null,{"$f":"Control!$C$20+Control!$C$21*A3523+Control!$C$22*A3523^2","v":1041.2380857591775}]
[3527,68,68,null,null,null,null,null,null,null,null,null,{"$f":"Control!$C$20+Control!$C$21*A3527+Control!$C$22*A3527^2","v":1042.42562220228}]
[3529,63,63,null,null,null,null,null,null,null,null,null,{"$f":"Control!$C$20+Control!$C$21*A3529+Control!$C$22*A3529^2","v":1043.0193909976442}]
[3532,82,82,null,null,null,null,null,null,null,null,null,{"$f":"Control!$C$20+Control!$C$21*A3532+Control!$C$22*A3532^2","v":1043.9100449079567}]
[3536,76,76,null,null,null,null,null,null,null,null,null,{"$f":"Control!$C$20+Control!$C$21*A3536+Control!$C$22*A3536^2","v":1045.0975847939371}]
[3539,74,74,null,null,null,null,null,null,null,null,null,{"$f":"Control!$C$20+Control!$C$21*A3539+Control!$C$22*A3539^2","v":1045.9882407125951}]
[3542,81,81,null,null,null,null,null,null,null,null,null,{"$f":"Control!$C$20+Control!$C$21*A3542+Control!$C$22*A3542^2","v":1046.8788974919728}]
[3543,75,75,null,null,null,null,null,null,null,null,null,{"$f":"Control!$C$20+Control!$C$21*A3543+Control!$C$22*A3543^2","v":1047.1757832763697}]
[3546,57,57,null,null,null,null,null,null,null,null,null,{"$f":"Control!$C$20+Control!$C$21*A3546+Control!$C$22*A3546^2","v":1048.0664412033732}]
[3549,76,76,null,null,null,null,null,null,null,null,null,{"$f":"Control!$C$20+Control!$C$21*A3549+Control!$C$22*A3549^2","v":1048.9570999910961}]
[3552,73,73,null,null,null,null,null,null,null,null,null,{"$f":"Control!$C$20+Control!$C$21*A3552+Control!$C$22*A3552^2","v":1049.8477596395387}]
[3555,76,76,null,null,null,null,null,null,null,null,null,{"$f":"Control!$C$20+Control!$C$21*A3555+Control!$C$22*A3555^2","v":1050.7384201487007}]
[3559,67,67,null,null,null,null,null,null,null,null,null,{"$f":"Control!$C$20+Control!$C$21*A3559+Control!$C$22*A3559^2","v":1051.9259688331472}]
[3562,80,80,null,null,null,null,null,null,null,null,null,{"$f":"Control!$C$20+Control!$C$21*A3562+Control!$C$22*A3562^2","v":1052.8166313506547}]
[3565,62,62,null,null,null,null,null,null,null,null,null,{"$f":"Control!$C$20+Control!$C$21*A3565+Control!$C$22*A3565^2","v":1053.7072947288816}]
[3567,68,68,null,null,null,null,null,null,null,null,null,{"$f":"Control!$C$20+Control!$C$21*A3567+Control!$C$22*A3567^2","v":1054.3010707925439}]
[3568,74,74,null,null,null,null,null,null,null,null,null,{"$f":"Control!$C$20+Control!$C$21*A3568+Control!$C$22*A3568^2","v":1054.5979589678282}]
[3572,66,66,null,null,null,null,null,null,null,null,null,{"$f":"Control!$C$20+Control!$C$21*A3572+Control!$C$22*A3572^2","v":1055.7855126253205}]
[3575,75,75,null,null,null,null,null,null,null,null,null,{"$f":"Control!$C$20+Control!$C$21*A3575+Control!$C$22*A3575^2","v":1056.6761788726126}]
[3578,50,50,null,null,null,null,null,null,null,null,null,{"$f":"Control!$C$20+Control!$C$21*A3578+Control!$C$22*A3578^2","v":1057.5668459806241}]
[3582,74,74,null,null,null,null,null,null,null,null,null,{"$f":"Control!$C$20+Control!$C$21*A3582+Control!$C$22*A3582^2","v":1058.7544034635364}]
[3585,77,77,null,null,null,null,null,null,null,null,null,{"$f":"Control!$C$20+Control!$C$21*A3585+Control!$C$22*A3585^2","v":1059.6450725798934}]
[3586,69,69,null,null,null,null,null,null,null,null,null,{"$f":"Control!$C$20+Control!$C$21*A3586+Control!$C$22*A3586^2","v":1059.9419624766167}]
[3588,68,68,null,null,null,null,null,null,null,null,null,{"$f":"Control!$C$20+Control!$C$21*A3588+Control!$C$22*A3588^2","v":1060.5357425569698}]
[3591,73,73,null,null,null,null,null,null,null,null,null,{"$f":"Control!$C$20+Control!$C$21*A3591+Control!$C$22*A3591^2","v":1061.4264133947659}]
[3595,85,85,null,null,null,null,null,null,null,null,null,{"$f":"Control!$C$20+Control!$C$21*A3595+Control!$C$22*A3595^2","v":1062.613975850724}]
[3598,82,82,null,null,null,null,null,null,null,null,null,{"$f":"Control!$C$20+Control!$C$21*A3598+Control!$C$22*A3598^2","v":1063.5046486968656}]
[3601,67,67,null,null,null,null,null,null,null,null,null,{"$f":"Control!$C$20+Control!$C$21*A3601+Control!$C$22*A3601^2","v":1064.3953224037266}]
[3605,63,63,null,null,null,null,null,null,null,null,null,{"$f":"Control!$C$20+Control!$C$21*A3605+Control!$C$22*A3605^2","v":1065.5828886851048}]
[3607,69,69,null,null,null,null,null,null,null,null,null,{"$f":"Control!$C$20+Control!$C$21*A3607+Control!$C$22*A3607^2","v":1066.176672399607}]
[3608,77,77,null,null,null,null,null,null,null,null,null,{"$f":"Control!$C$20+Control!$C$21*A3608+Control!$C$22*A3608^2","v":1066.4735644003113}]
[3611,79,79,null,null,null,null,null,null,null,null,null,{"$f":"Control!$C$20+Control!$C$21*A3611+Control!$C$22*A3611^2","v":1067.3642409762372}]
[3614,97,83,29,null,null,null,null,null,null,null,null,{"$f":"Control!$C$20+Control!$C$21*A3614+Control!$C$22*A3614^2","v":1068.2549184128827}]
[3618,562,537,494,null,null,null,null,null,null,null,null,{"$f":"Control!$C$20+Control!$C$21*A3618+Control!$C$22*A3618^2","v":1069.442489667307}]
[3621,676,658,608,null,null,null,null,null,null,null,null,{"$f":"Control!$C$20+Control!$C$21*A3621+Control!$C$22*A3621^2","v":1070.3331691122978}]
[3624,212,218,144,null,null,null,null,null,null,null,null,{"$f":"Control!$C$20+Control!$C$21*A3624+Control!$C$22*A3624^2","v":1071.2238494180083}]
[3626,90,89,22,null,null,null,null,null,null,null,null,{"$f":"Control!$C$20+Control!$C$21*A3626+Control!$C$22*A3626^2","v":1071.8176367666595}]
[3630,76,76,null,null,null,null,null,null,null,null,null,{"$f":"Control!$C$20+Control!$C$21*A3630+Control!$C$22*A3630^2","v":1073.0052126115877}]
[3631,71,71,null,null,null,null,null,null,null,null,null,{"$f":"Control!$C$20+Control!$C$21*A3631+Control!$C$22*A3631^2","v":1073.3021068119085}]
[3634,60,60,null,null,null,null,null,null,null,null,null,{"$f":"Control!$C$20+Control!$C$21*A3634+Control!$C$22*A3634^2","v":1074.1927899866839}]
[3637,61,61,null,null,null,null,null,null,null,null,null,{"$f":"Control!$C$20+Control!$C$21*A3637+Control!$C$22*A3637^2","v":1075.0834740221787}]
[3641,66,66,null,null,null,null,null,null,null,null,null,{"$f":"Control!$C$20+Control!$C$21*A3641+Control!$C$22*A3641^2","v":1076.2710540750691}]
[3644,79,79,null,null,null,null,null,null,null,null,null,{"$f":"Control!$C$20+Control!$C$21*A3644+Control!$C$22*A3644^2","v":1077.1617401189094}]
[3647,65,65,null,null,null,null,null,null,null,null,null,{"$f":"Control!$C$20+Control!$C$21*A3647+Control!$C$22*A3647^2","v":1078.0524270234694}]
[3650,78,78,null,null,null,null,null,null,null,null,null,{"$f":"Control!$C$20+Control!$C$21*A3650+Control!$C$22*A3650^2","v":1078.9431147887487}]
[3653,73,73,null,null,null,null,null,null,null,null,null,{"$f":"Control!$C$20+Control!$C$21*A3653+Control!$C$22*A3653^2","v":1079.8338034147475}]
[3654,48,48,null,null,null,null,null,null,null,null,null,{"$f":"Control!$C$20+Control!$C$21*A3654+Control!$C$22*A3654^2","v":1080.1306998146849}]
[3657,80,80,null,null,null,null,null,null,null,null,null,{"$f":"Control!$C$20+Control!$C$21*A3657+Control!$C$22*A3657^2","v":1081.0213895883098}]
[3660,71,71,null,null,null,null,null,null,null,null,null,{"$f":"Control!$C$20+Control!$C$21*A3660+Control!$C$22*A3660^2","v":1081.9120802226541}]
[3664,70,70,null,null,null,null,null,null,null,null,null,{"$f":"Control!$C$20+Control!$C$21*A3664+Control!$C$22*A3664^2","v":1083.0996690740103}]
[3666,61,61,null,null,null,null,null,null,null,null,null,{"$f":"Control!$C$20+Control!$C$21*A3666+Control!$C$22*A3666^2","v":1083.6934640735014}]
[3670,74,74,null,null,null,null,null,null,null,null,null,{"$f":"Control!$C$20+Control!$C$21*A3670+Control!$C$22*A3670^2","v":1084.8810552201096}]
[3673,55,55,null,null,null,null,null,null,null,null,null,{"$f":"Control!$C$20+Control!$C$21*A3673+Control!$C$22*A3673^2","v":1085.7717495842385}]
[3676,65,65,null,null,null,null,null,null,null,null,null,{"$f":"Control!$C$20+Control!$C$21*A3676+Control!$C$22*A3676^2","v":1086.6624448090868}]
[3677,67,67,null,null,null,null,null,null,null,null,null,{"$f":"Control!$C$20+Control!$C$21*A3677+Control!$C$22*A3677^2","v":1086.9593434086405}]
[3680,69,69,null,null,null,null,null,null,null,null,null,{"$f":"Control!$C$20+Control!$C$21*A3680+Control!$C$22*A3680^2","v":1087.8500397811149}]
[3683,68,68,null,null,null,null,null,null,null,null,null,{"$f":"Control!$C$20+Control!$C$21*A3683+Control!$C$22*A3683^2","v":1088.7407370143087}]
[3687,59,59,null,null,null,null,null,null,null,null,null,{"$f":"Control!$C$20+Control!$C$21*A3687+Control!$C$22*A3687^2","v":1089.9283346641309}]
[3689,65,65,null,null,null,null,null,null,null,null,null,{"$f":"Control!$C$20+Control!$C$21*A3689+Control!$C$22*A3689^2","v":1090.522134062855}]
[3693,72,72,null,null,null,null,null,null,null,null,null,{"$f":"Control!$C$20+Control!$C$21*A3693+Control!$C$22*A3693^2","v":1091.709734007929}]
[3696,67,67,null,null,null,null,null,null,null,null,null,{"$f":"Control!$C$20+Control!$C$21*A3696+Control!$C$22*A3696^2","v":1092.6004349709074}]
[3699,75,75,null,null,null,null,null,null,null,null,null,{"$f":"Control!$C$20+Control!$C$21*A3699+Control!$C$22*A3699^2","v":1093.4911367946052}]
[3700,70,70,null,null,null,null,null,null,null,null,null,{"$f":"Control!$C$20+Control!$C$21*A3700+Control!$C$22*A3700^2","v":1093.7880375937755}]
[3703,72,72,null,null,null,null,null,null,null,null,null,{"$f":"Control!$C$20+Control!$C$21*A3703+Control!$C$22*A3703^2","v":1094.6787405650994}]
[3706,65,65,null,null,null,null,null,null,null,null,null,{"$f":"Control!$C$20+Control!$C$21*A3706+Control!$C$22*A3706^2","v":1095.5694443971427}]
[3709,69,69,null,null,null,null,null,null,null,null,null,{"$f":"Control!$C$20+Control!$C$21*A3709+Control!$C$22*A3709^2","v":1096.4601490899054}]
[3712,85,85,null,null,null,null,null,null,null,null,null,{"$f":"Control!$C$20+Control!$C$21*A3712+Control!$C$22*A3712^2","v":1097.3508546433877}]
[3716,105,110,39,null,null,null,null,null,null,null,null,{"$f":"Control!$C$20+Control!$C$21*A3716+Control!$C$22*A3716^2","v":1098.5384633869278}]
[3719,308,288,242,null,null,null,null,null,null,null,null,{"$f":"Control!$C$20+Control!$C$21*A3719+Control!$C$22*A3719^2","v":1099.4291709487557}]
[3722,370,372,304,null,null,null,null,null,null,null,null,{"$f":"Control!$C$20+Control!$C$21*A3722+Control!$C$22*A3722^2","v":1100.3198793713029}]
[3723,295,293,229,null,null,null,null,null,null,null,null,{"$f":"Control!$C$20+Control!$C$21*A3723+Control!$C$22*A3723^2","v":1100.6167823700896}]
[3727,79,94,13,null,null,null,null,null,null,null,null,{"$f":"Control!$C$20+Control!$C$21*A3727+Control!$C$22*A3727^2","v":1101.8043953215918}]
[3729,77,77,null,null,null,null,null,null,null,null,null,{"$f":"Control!$C$20+Control!$C$21*A3729+Control!$C$22*A3729^2","v":1102.3982023711558}]
[3732,84,84,null,null,null,null,null,null,null,null,null,{"$f":"Control!$C$20+Control!$C$21*A3732+Control!$C$22*A3732^2","v":1103.288913662768}]
[3735,63,63,null,null,null,null,null,null,null,null,null,{"$f":"Control!$C$20+Control!$C$21*A3735+Control!$C$22*A3735^2","v":1104.1796258150998}]
[3739,67,67,null,null,null,null,null,null,null,null,null,{"$f":"Control!$C$20+Control!$C$21*A3739+Control!$C$22*A3739^2","v":1105.3672433571057}]
[3742,61,61,null,null,null,null,null,null,null,null,null,{"$f":"Control!$C$20+Control!$C$21*A3742+Control!$C$22*A3742^2","v":1106.2579575177831}]
[3745,64,64,null,null,null,null,null,null,null,null,null,{"$f":"Control!$C$20+Control!$C$21*A3745+Control!$C$22*A3745^2","v":1107.1486725391799}]
[3746,61,61,null,null,null,null,null,null,null,null,null,{"$f":"Control!$C$20+Control!$C$21*A3746+Control!$C$22*A3746^2","v":1107.4455777375831}]
[3748,70,70,null,null,null,null,null,null,null,null,null,{"$f":"Control!$C$20+Control!$C$21*A3748+Control!$C$22*A3748^2","v":1108.0393884212961}]
[3752,61,61,null,null,null,null,null,null,null,null,null,{"$f":"Control!$C$20+Control!$C$21*A3752+Control!$C$22*A3752^2","v":1109.2270109363481}]
[3755,73,73,null,null,null,null,null,null,null,null,null,{"$f":"Control!$C$20+Control!$C$21*A3755+Control!$C$22*A3755^2","v":1110.1177288268098}]
[3758,56,56,null,null,null,null,null,null,null,null,null,{"$f":"Control!$C$20+Control!$C$21*A3758+Control!$C$22*A3758^2","v":1111.0084475779911}]
[3762,65,65,null,null,null,null,null,null,null,null,null,{"$f":"Control!$C$20+Control!$C$21*A3762+Control!$C$22*A3762^2","v":1112.1960739184631}]
[3765,76,76,null,null,null,null,null,null,null,null,null,{"$f":"Control!$C$20+Control!$C$21*A3765+Control!$C$22*A3765^2","v":1113.0867946779897}]
[3767,68,68,null,null,null,null,null,null,null,null,null,{"$f":"Control!$C$20+Control!$C$21*A3767+Control!$C$22*A3767^2","v":1113.6806089958518}]
[3768,68,68,null,null,null,null,null,null,null,null,null,{"$f":"Control!$C$20+Control!$C$21*A3768+Control!$C$22*A3768^2","v":1113.977516298236}]
[3771,75,75,null,null,null,null,null,null,null,null,null,{"$f":"Control!$C$20+Control!$C$21*A3771+Control!$C$22*A3771^2","v":1114.8682387792016}]
[3775,72,72,null,null,null,null,null,null,null,null,null,{"$f":"Control!$C$20+Control!$C$21*A3775+Control!$C$22*A3775^2","v":1116.0558700927197}]
[3778,74,74,null,null,null,null,null,null,null,null,null,{"$f":"Control!$C$20+Control!$C$21*A3778+Control!$C$22*A3778^2","v":1116.9465945820309}]
[3781,76,76,null,null,null,null,null,null,null,null,null,{"$f":"Control!$C$20+Control!$C$21*A3781+Control!$C$22*A3781^2","v":1117.8373199320615}]
[3785,126,126,null,null,null,null,null,null,null,null,null,{"$f":"Control!$C$20+Control!$C$21*A3785+Control!$C$22*A3785^2","v":1119.0249550709996}]
[3786,173,173,null,null,null,null,null,null,null,null,null,{"$f":"Control!$C$20+Control!$C$21*A3786+Control!$C$22*A3786^2","v":1119.3218640948228}]
[3788,262,262,null,null,null,null,null,null,null,null,null,{"$f":"Control!$C$20+Control!$C$21*A3788+Control!$C$22*A3788^2","v":1119.9156824293757}]
[3791,200,200,null,null,null,null,null,null,null,null,null,{"$f":"Control!$C$20+Control!$C$21*A3791+Control!$C$22*A3791^2","v":1120.8064106484715}]
[3794,78,78,null,null,null,null,null,null,null,null,null,{"$f":"Control!$C$20+Control!$C$21*A3794+Control!$C$22*A3794^2","v":1121.6971397282866}]
[3798,77,77,null,null,null,null,null,null,null,null,null,{"$f":"Control!$C$20+Control!$C$21*A3798+Control!$C$22*A3798^2","v":1122.8847798402705}]
[3801,52,52,null,null,null,null,null,null,null,null,null,{"$f":"Control!$C$20+Control!$C$21*A3801+Control!$C$22*A3801^2","v":1123.7755109284312}]
[3803,59,59,null,null,null,null,null,null,null,null,null,{"$f":"Control!$C$20+Control!$C$21*A3803+Control!$C$22*A3803^2","v":1124.3693321320491}]
[3807,50,50,null,null,null,null,null,null,null,null,null,{"$f":"Control!$C$20+Control!$C$21*A3807+Control!$C$22*A3807^2","v":1125.5569756869111}]
[3810,72,72,null,null,null,null,null,null,null,null,null,{"$f":"Control!$C$20+Control!$C$21*A3810+Control!$C$22*A3810^2","v":1126.4477093572302}]
[3811,63,63,null,null,null,null,null,null,null,null,null,{"$f":"Control!$C$20+Control!$C$21*A3811+Control!$C$22*A3811^2","v":1126.7446207719408}]
[3814,53,53,null,null,null,null,null,null,null,null,null,{"$f":"Control!$C$20+Control!$C$21*A3814+Control!$C$22*A3814^2","v":1127.6353555898861}]
[3817,75,75,null,null,null,null,null,null,null,null,null,{"$f":"Control!$C$20+Control!$C$21*A3817+Control!$C$22*A3817^2","v":1128.5260912685508}]
[3821,57,57,null,null,null,null,null,null,null,null,null,{"$f":"Control!$C$20+Control!$C$21*A3821+Control!$C$22*A3821^2","v":1129.7137401790005}]
[3824,60,60,null,null,null,null,null,null,null,null,null,{"$f":"Control!$C$20+Control!$C$21*A3824+Control!$C$22*A3824^2","v":1130.6044778660107}]
[3827,59,59,null,null,null,null,null,null,null,null,null,{"$f":"Control!$C$20+Control!$C$21*A3827+Control!$C$22*A3827^2","v":1131.4952164137403}]
[3830,69,69,null,null,null,null,null,null,null,null,null,{"$f":"Control!$C$20+Control!$C$21*A3830+Control!$C$22*A3830^2","v":1132.3859558221895}]
[3833,62,62,null,null,null,null,null,null,null,null,null,{"$f":"Control!$C$20+Control!$C$21*A3833+Control!$C$22*A3833^2","v":1133.2766960913582}]
[3834,67,67,null,null,null,null,null,null,null,null,null,{"$f":"Control!$C$20+Control!$C$21*A3834+Control!$C$22*A3834^2","v":1133.5736097056854}]
[3837,76,76,null,null,null,null,null,null,null,null,null,{"$f":"Control!$C$20+Control!$C$21*A3837+Control!$C$22*A3837^2","v":1134.4643511224799}]
[3840,64,64,null,null,null,null,null,null,null,null,null,{"$f":"Control!$C$20+Control!$C$21*A3840+Control!$C$22*A3840^2","v":1135.3550933999941}]
[3843,65,65,null,null,null,null,null,null,null,null,null,{"$f":"Control!$C$20+Control!$C$21*A3843+Control!$C$22*A3843^2","v":1136.2458365382276}]
[3846,66,66,null,null,null,null,null,null,null,null,null,{"$f":"Control!$C$20+Control!$C$21*A3846+Control!$C$22*A3846^2","v":1137.1365805371809}]
[3850,74,76,11,null,null,null,null,null,null,null,null,{"$f":"Control!$C$20+Control!$C$21*A3850+Control!$C$22*A3850^2","v":1138.3242405413487}]
[3853,154,160,91,null,null,null,null,null,null,null,null,{"$f":"Control!$C$20+Control!$C$21*A3853+Control!$C$22*A3853^2","v":1139.2149865486472}]
[3856,227,242,164,null,null,null,null,null,null,null,null,{"$f":"Control!$C$20+Control!$C$21*A3856+Control!$C$22*A3856^2","v":1140.1057334166653}]
[3857,204,192,141,null,null,null,null,null,null,null,null,{"$f":"Control!$C$20+Control!$C$21*A3857+Control!$C$22*A3857^2","v":1140.4026492306091}]
[3860,95,94,32,null,null,null,null,null,null,null,null,{"$f":"Control!$C$20+Control!$C$21*A3860+Control!$C$22*A3860^2","v":1141.2933972462531}]
[3864,61,61,null,null,null,null,null,null,null,null,null,{"$f":"Control!$C$20+Control!$C$21*A3864+Control!$C$22*A3864^2","v":1142.4810626060089}]
[3866,65,65,null,null,null,null,null,null,null,null,null,{"$f":"Control!$C$20+Control!$C$21*A3866+Control!$C$22*A3866^2","v":1143.0748958596998}]
[3869,68,68,null,null,null,null,null,null,null,null,null,{"$f":"Control!$C$20+Control!$C$21*A3869+Control!$C$22*A3869^2","v":1143.9656464575023}]
[3873,55,55,null,null,null,null,null,null,null,null,null,{"$f":"Control!$C$20+Control!$C$21*A3873+Control!$C$22*A3873^2","v":1145.1533152601362}]
[3876,67,67,null,null,null,null,null,null,null,null,null,{"$f":"Control!$C$20+Control!$C$21*A3876+Control!$C$22*A3876^2","v":1146.0440678662842}]
[3879,72,72,null,null,null,null,null,null,null,null,null,{"$f":"Control!$C$20+Control!$C$21*A3879+Control!$C$22*A3879^2","v":1146.9348213331518}]
[3880,64,64,null,null,null,null,null,null,null,null,null,{"$f":"Control!$C$20+Control!$C$21*A3880+Control!$C$22*A3880^2","v":1147.2317393467119}]
[3883,52,52,null,null,null,null,null,null,null,null,null,{"$f":"Control!$C$20+Control!$C$21*A3883+Control!$C$22*A3883^2","v":1148.1224939612055}]
[3886,43,43,null,null,null,null,null,null,null,null,null,{"$f":"Control!$C$20+Control!$C$21*A3886+Control!$C$22*A3886^2","v":1149.0132494364186}]
[3889,58,58,null,null,null,null,null,null,null,null,null,{"$f":"Control!$C$20+Control!$C$21*A3889+Control!$C$22*A3889^2","v":1149.9040057723512}]
[3892,57,57,null,null,null,null,null,null,null,null,null,{"$f":"Control!$C$20+Control!$C$21*A3892+Control!$C$22*A3892^2","v":1150.7947629690032}]
[3896,70,70,null,null,null,null,null,null,null,null,null,{"$f":"Control!$C$20+Control!$C$21*A3896+Control!$C$22*A3896^2","v":1151.9824405701029}]
[3899,54,54,null,null,null,null,null,null,null,null,null,{"$f":"Control!$C$20+Control!$C$21*A3899+Control!$C$22*A3899^2","v":1152.8731997751004}]
[3900,71,71,null,null,null,null,null,null,null,null,null,{"$f":"Control!$C$20+Control!$C$21*A3900+Control!$C$22*A3900^2","v":1153.1701197013706}]
[3904,88,88,null,null,null,null,null,null,null,null,null,{"$f":"Control!$C$20+Control!$C$21*A3904+Control!$C$22*A3904^2","v":1154.3578003628063}]
[3905,88,88,null,null,null,null,null,null,null,null,null,{"$f":"Control!$C$20+Control!$C$21*A3905+Control!$C$22*A3905^2","v":1154.654720767254}]
[3909,69,69,null,null,null,null,null,null,null,null,null,{"$f":"Control!$C$20+Control!$C$21*A3909+Control!$C$22*A3909^2","v":1155.8424033413996}]
[3912,62,62,null,null,null,null,null,null,null,null,null,{"$f":"Control!$C$20+Control!$C$21*A3912+Control!$C$22*A3912^2","v":1156.7331662761817}]
[3915,43,43,null,null,null,null,null,null,null,null,null,{"$f":"Control!$C$20+Control!$C$21*A3915+Control!$C$22*A3915^2","v":1157.6239300716832}]
[3919,47,47,null,null,null,null,null,null,null,null,null,{"$f":"Control!$C$20+Control!$C$21*A3919+Control!$C$22*A3919^2","v":1158.811616471249}]
[3922,65,65,null,null,null,null,null,null,null,null,null,{"$f":"Control!$C$20+Control!$C$21*A3922+Control!$C$22*A3922^2","v":1159.7023822750959}]
[3923,60,60,null,null,null,null,null,null,null,null,null,{"$f":"Control!$C$20+Control!$C$21*A3923+Control!$C$22*A3923^2","v":1159.9993044009825}]
[3925,56,56,null,null,null,null,null,null,null,null,null,{"$f":"Control!$C$20+Control!$C$21*A3925+Control!$C$22*A3925^2","v":1160.5931489396623}]
[3928,63,63,null,null,null,null,null,null,null,null,null,{"$f":"Control!$C$20+Control!$C$21*A3928+Control!$C$22*A3928^2","v":1161.4839164649484}]
[3932,48,48,null,null,null,null,null,null,null,null,null,{"$f":"Control!$C$20+Control!$C$21*A3932+Control!$C$22*A3932^2","v":1162.67160783756}]
[3935,64,64,null,null,null,null,null,null,null,null,null,{"$f":"Control!$C$20+Control!$C$21*A3935+Control!$C$22*A3935^2","v":1163.5623773711916}]
[3938,72,72,null,null,null,null,null,null,null,null,null,{"$f":"Control!$C$20+Control!$C$21*A3938+Control!$C$22*A3938^2","v":1164.4531477655426}]
[3942,71,71,null,null,null,null,null,null,null,null,null,{"$f":"Control!$C$20+Control!$C$21*A3942+Control!$C$22*A3942^2","v":1165.6408429635742}]
[3944,55,55,null,null,null,null,null,null,null,null,null,{"$f":"Control!$C$20+Control!$C$21*A3944+Control!$C$22*A3944^2","v":1166.2346911364029}]
[3945,52,52,null,null,null,null,null,null,null,null,null,{"$f":"Control!$C$20+Control!$C$21*A3945+Control!$C$22*A3945^2","v":1166.5316153662707}]
[3948,63,63,null,null,null,null,null,null,null,null,null,{"$f":"Control!$C$20+Control!$C$21*A3948+Control!$C$22*A3948^2","v":1167.4223886296866}]
[3951,61,61,null,null,null,null,null,null,null,null,null,{"$f":"Control!$C$20+Control!$C$21*A3951+Control!$C$22*A3951^2","v":1168.3131627538221}]
[3955,65,65,null,null,null,null,null,null,null,null,null,{"$f":"Control!$C$20+Control!$C$21*A3955+Control!$C$22*A3955^2","v":1169.5008629248996}]
[3958,77,77,null,null,null,null,null,null,null,null,null,{"$f":"Control!$C$20+Control!$C$21*A3958+Control!$C$22*A3958^2","v":1170.3916390573806}]
[3962,64,64,null,null,null,null,null,null,null,null,null,{"$f":"Control!$C$20+Control!$C$21*A3962+Control!$C$22*A3962^2","v":1171.5793419062522}]
[3963,67,67,null,null,null,null,null,null,null,null,null,{"$f":"Control!$C$20+Control!$C$21*A3963+Control!$C$22*A3963^2","v":1171.8762678575588}]
[3967,97,97,null,null,null,null,null,null,null,null,null,{"$f":"Control!$C$20+Control!$C$21*A3967+Control!$C$22*A3967^2","v":1173.0639726191405}]
[3968,68,68,null,null,null,null,null,null,null,null,null,{"$f":"Control!$C$20+Control!$C$21*A3968+Control!$C$22*A3968^2","v":1173.3608990486246}]
[3971,84,84,null,null,null,null,null,null,null,null,null,{"$f":"Control!$C$20+Control!$C$21*A3971+Control!$C$22*A3971^2","v":1174.25167891089}]
[3974,56,56,null,null,null,null,null,null,null,null,null,{"$f":"Control!$C$20+Control!$C$21*A3974+Control!$C$22*A3974^2","v":1175.142459633875}]
[3978,59,59,null,null,null,null,null,null,null,null,null,{"$f":"Control!$C$20+Control!$C$21*A3978+Control!$C$22*A3978^2","v":1176.3301686034185}]
[3981,55,55,null,null,null,null,null,null,null,null,null,{"$f":"Control!$C$20+Control!$C$21*A3981+Control!$C$22*A3981^2","v":1177.2209513347489}]
[3984,60,61,3,null,null,null,null,null,null,null,null,{"$f":"Control!$C$20+Control!$C$21*A3984+Control!$C$22*A3984^2","v":1178.1117349267988}]
[3987,89,89,32,null,null,null,null,null,null,null,null,{"$f":"Control!$C$20+Control!$C$21*A3987+Control!$C$22*A3987^2","v":1179.0025193795682}]
[3990,138,126,81,null,null,null,null,null,null,null,null,{"$f":"Control!$C$20+Control!$C$21*A3990+Control!$C$22*A3990^2","v":1179.8933046930572}]
[3991,136,163,79,null,null,null,null,null,null,null,null,{"$f":"Control!$C$20+Control!$C$21*A3991+Control!$C$22*A3991^2","v":1180.1902333221578}]
[3994,84,88,27,null,null,null,null,null,null,null,null,{"$f":"Control!$C$20+Control!$C$21*A3994+Control!$C$22*A3994^2","v":1181.0810197832727}]
[3997,59,60,2,null,null,null,null,null,null,null,null,{"$f":"Control!$C$20+Control!$C$21*A3997+Control!$C$22*A3997^2","v":1181.971807105107}]
[4001,59,59,null,null,null,null,null,null,null,null,null,{"$f":"Control!$C$20+Control!$C$21*A4001+Control!$C$22*A4001^2","v":1183.1595248731167}]
[4003,65,65,null,null,null,null,null,null,null,null,null,{"$f":"Control!$C$20+Control!$C$21*A4003+Control!$C$22*A4003^2","v":1183.7533843309343}]
[4007,48,48,null,null,null,null,null,null,null,null,null,{"$f":"Control!$C$20+Control!$C$21*A4007+Control!$C$22*A4007^2","v":1184.9411043941959}]
[4010,57,57,null,null,null,null,null,null,null,null,null,{"$f":"Control!$C$20+Control!$C$21*A4010+Control!$C$22*A4010^2","v":1185.8318954458148}]
[4013,42,42,null,null,null,null,null,null,null,null,null,{"$f":"Control!$C$20+Control!$C$21*A4013+Control!$C$22*A4013^2","v":1186.7226873581531}]
[4014,60,60,null,null,null,null,null,null,null,null,null,{"$f":"Control!$C$20+Control!$C$21*A4014+Control!$C$22*A4014^2","v":1187.0196181868703}]
[4017,53,53,null,null,null,null,null,null,null,null,null,{"$f":"Control!$C$20+Control!$C$21*A4017+Control!$C$22*A4017^2","v":1187.9104112468347}]
[4021,51,51,null,null,null,null,null,null,null,null,null,{"$f":"Control!$C$20+Control!$C$21*A4021+Control!$C$22*A4021^2","v":1189.098136665684}]
[4024,62,62,null,null,null,null,null,null,null,null,null,{"$f":"Control!$C$20+Control!$C$21*A4024+Control!$C$22*A4024^2","v":1189.9889317339939}]
[4026,61,61,null,null,null,null,null,null,null,null,null,{"$f":"Control!$C$20+Control!$C$21*A4026+Control!$C$22*A4026^2","v":1190.5827955910447}]
[4030,64,64,null,null,null,null,null,null,null,null,null,{"$f":"Control!$C$20+Control!$C$21*A4030+Control!$C$22*A4030^2","v":1191.7705244527722}]
[4033,62,62,null,null,null,null,null,null,null,null,null,{"$f":"Control!$C$20+Control!$C$21*A4033+Control!$C$22*A4033^2","v":1192.6613221032405}]
[4036,60,60,null,null,null,null,null,null,null,null,null,{"$f":"Control!$C$20+Control!$C$21*A4036+Control!$C$22*A4036^2","v":1193.5521206144283}]
[4037,77,77,null,null,null,null,null,null,null,null,null,{"$f":"Control!$C$20+Control!$C$21*A4037+Control!$C$22*A4037^2","v":1193.8490536427619}]
[4040,72,72,null,null,null,null,null,null,null,null,null,{"$f":"Control!$C$20+Control!$C$21*A4040+Control!$C$22*A4040^2","v":1194.7398533015757}]
[4043,68,68,null,null,null,null,null,null,null,null,null,{"$f":"Control!$C$20+Control!$C$21*A4043+Control!$C$22*A4043^2","v":1195.630653821109}]
[4046,54,54,null,null,null,null,null,null,null,null,null,{"$f":"Control!$C$20+Control!$C$21*A4046+Control!$C$22*A4046^2","v":1196.521455201362}]
[4049,53,53,null,null,null,null,null,null,null,null,null,{"$f":"Control!$C$20+Control!$C$21*A4049+Control!$C$22*A4049^2","v":1197.4122574423343}]
[4053,48,48,null,null,null,null,null,null,null,null,null,{"$f":"Control!$C$20+Control!$C$21*A4053+Control!$C$22*A4053^2","v":1198.5999951025276}]
[4056,57,57,null,null,null,null,null,null,null,null,null,{"$f":"Control!$C$20+Control!$C$21*A4056+Control!$C$22*A4056^2","v":1199.4907993518455}]
[4057,73,73,null,null,null,null,null,null,null,null,null,{"$f":"Control!$C$20+Control!$C$21*A4057+Control!$C$22*A4057^2","v":1199.7877342928891}]
[4060,53,53,null,null,null,null,null,null,null,null,null,{"$f":"Control!$C$20+Control!$C$21*A4060+Control!$C$22*A4060^2","v":1200.6785396898329}]
[4064,64,64,null,null,null,null,null,null,null,null,null,{"$f":"Control!$C$20+Control!$C$21*A4064+Control!$C$22*A4064^2","v":1201.8662815579883}]
[4066,73,73,null,null,null,null,null,null,null,null,null,{"$f":"Control!$C$20+Control!$C$21*A4066+Control!$C$22*A4066^2","v":1202.460153065879}]
[4069,50,50,null,null,null,null,null,null,null,null,null,{"$f":"Control!$C$20+Control!$C$21*A4069+Control!$C$22*A4069^2","v":1203.3509610449812}]
[4072,54,54,null,null,null,null,null,null,null,null,null,{"$f":"Control!$C$20+Control!$C$21*A4072+Control!$C$22*A4072^2","v":1204.241769884803}]
[4076,57,57,null,null,null,null,null,null,null,null,null,{"$f":"Control!$C$20+Control!$C$21*A4076+Control!$C$22*A4076^2","v":1205.4295163434624}]
[4079,53,53,null,null,null,null,null,null,null,null,null,{"$f":"Control!$C$20+Control!$C$21*A4079+Control!$C$22*A4079^2","v":1206.3203271916298}]
[4080,52,52,null,null,null,null,null,null,null,null,null,{"$f":"Control!$C$20+Control!$C$21*A4080+Control!$C$22*A4080^2","v":1206.6172643322898}]
[4083,57,57,null,null,null,null,null,null,null,null,null,{"$f":"Control!$C$20+Control!$C$21*A4083+Control!$C$22*A4083^2","v":1207.508076328083}]
[4085,70,70,null,null,null,null,null,null,null,null,null,{"$f":"Control!$C$20+Control!$C$21*A4085+Control!$C$22*A4085^2","v":1208.1019514701227}]
[4089,53,53,null,null,null,null,null,null,null,null,null,{"$f":"Control!$C$20+Control!$C$21*A4089+Control!$C$22*A4089^2","v":1209.2897029018282}]
[4092,47,47,null,null,null,null,null,null,null,null,null,{"$f":"Control!$C$20+Control!$C$21*A4092+Control!$C$22*A4092^2","v":1210.1805174797798}]
[4095,56,56,null,null,null,null,null,null,null,null,null,{"$f":"Control!$C$20+Control!$C$21*A4095+Control!$C$22*A4095^2","v":1211.0713329184512}]
[4099,60,60,null,null,null,null,null,null,null,null,null,{"$f":"Control!$C$20+Control!$C$21*A4099+Control!$C$22*A4099^2","v":1212.2590881755764}]
[4102,63,63,null,null,null,null,null,null,null,null,null,{"$f":"Control!$C$20+Control!$C$21*A4102+Control!$C$22*A4102^2","v":1213.1499056225932}]
[4104,49,49,null,null,null,null,null,null,null,null,null,{"$f":"Control!$C$20+Control!$C$21*A4104+Control!$C$22*A4104^2","v":1213.7437843987818}]
[4105,59,59,null,null,null,null,null,null,null,null,null,{"$f":"Control!$C$20+Control!$C$21*A4105+Control!$C$22*A4105^2","v":1214.0407239303295}]
[4108,55,55,null,null,null,null,null,null,null,null,null,{"$f":"Control!$C$20+Control!$C$21*A4108+Control!$C$22*A4108^2","v":1214.9315430987851}]
[4112,65,65,null,null,null,null,null,null,null,null,null,{"$f":"Control!$C$20+Control!$C$21*A4112+Control!$C$22*A4112^2","v":1216.1193033289564}]
[4115,69,69,null,null,null,null,null,null,null,null,null,{"$f":"Control!$C$20+Control!$C$21*A4115+Control!$C$22*A4115^2","v":1217.0101245057576}]
[4119,145,131,82,null,null,null,null,null,null,null,null,{"$f":"Control!$C$20+Control!$C$21*A4119+Control!$C$22*A4119^2","v":1218.197887413723}]
[4122,812,846,749,null,null,null,null,null,null,null,null,{"$f":"Control!$C$20+Control!$C$21*A4122+Control!$C$22*A4122^2","v":1219.0887105988697}]
[4123,1198,1219,1135,null,null,null,null,null,null,null,null,{"$f":"Control!$C$20+Control!$C$21*A4123+Control!$C$22*A4123^2","v":1219.3856518518562}]
[4125,1666,1669,1603,null,null,null,null,null,null,null,null,{"$f":"Control!$C$20+Control!$C$21*A4125+Control!$C$22*A4125^2","v":1219.9795346447358}]
[4128,864,860,801,null,null,null,null,null,null,null,null,{"$f":"Control!$C$20+Control!$C$21*A4128+Control!$C$22*A4128^2","v":1220.8703595513216}]
[4131,157,158,94,null,null,null,null,null,null,null,null,{"$f":"Control!$C$20+Control!$C$21*A4131+Control!$C$22*A4131^2","v":1221.7611853186268}]
[4135,56,56,null,null,null,null,null,null,null,null,null,{"$f":"Control!$C$20+Control!$C$21*A4135+Control!$C$22*A4135^2","v":1222.9489543472641}]
[4138,62,62,null,null,null,null,null,null,null,null,null,{"$f":"Control!$C$20+Control!$C$21*A4138+Control!$C$22*A4138^2","v":1223.8397821229148}]
[4142,63,63,null,null,null,null,null,null,null,null,null,{"$f":"Control!$C$20+Control!$C$21*A4142+Control!$C$22*A4142^2","v":1225.0275538293461}]
[4144,59,59,null,null,null,null,null,null,null,null,null,{"$f":"Control!$C$20+Control!$C$21*A4144+Control!$C$22*A4144^2","v":1225.6214402563746}]
[4147,72,72,null,null,null,null,null,null,null,null,null,{"$f":"Control!$C$20+Control!$C$21*A4147+Control!$C$22*A4147^2","v":1226.5122706141838}]
[4148,66,66,null,null,null,null,null,null,null,null,null,{"$f":"Control!$C$20+Control!$C$21*A4148+Control!$C$22*A4148^2","v":1226.8092142580579}]
[4151,72,72,null,null,null,null,null,null,null,null,null,{"$f":"Control!$C$20+Control!$C$21*A4151+Control!$C$22*A4151^2","v":1227.7000457634931}]
[4155,48,48,null,null,null,null,null,null,null,null,null,{"$f":"Control!$C$20+Control!$C$21*A4155+Control!$C$22*A4155^2","v":1228.8878224429702}]
[4158,67,67,null,null,null,null,null,null,null,null,null,{"$f":"Control!$C$20+Control!$C$21*A4158+Control!$C$22*A4158^2","v":1229.778655956751}]
[4161,49,49,null,null,null,null,null,null,null,null,null,{"$f":"Control!$C$20+Control!$C$21*A4161+Control!$C$22*A4161^2","v":1230.6694903312512}]
[4164,53,53,null,null,null,null,null,null,null,null,null,{"$f":"Control!$C$20+Control!$C$21*A4164+Control!$C$22*A4164^2","v":1231.5603255664707}]
[4167,63,63,null,null,null,null,null,null,null,null,null,{"$f":"Control!$C$20+Control!$C$21*A4167+Control!$C$22*A4167^2","v":1232.45116166241}]
[4170,49,49,null,null,null,null,null,null,null,null,null,{"$f":"Control!$C$20+Control!$C$21*A4170+Control!$C$22*A4170^2","v":1233.3419986190686}]
[4171,48,48,null,null,null,null,null,null,null,null,null,{"$f":"Control!$C$20+Control!$C$21*A4171+Control!$C$22*A4171^2","v":1233.638944462559}]
[4174,59,59,null,null,null,null,null,null,null,null,null,{"$f":"Control!$C$20+Control!$C$21*A4174+Control!$C$22*A4174^2","v":1234.5297825668438}]
[4178,63,63,null,null,null,null,null,null,null,null,null,{"$f":"Control!$C$20+Control!$C$21*A4178+Control!$C$22*A4178^2","v":1235.717568044787}]
[4180,57,57,null,null,null,null,null,null,null,null,null,{"$f":"Control!$C$20+Control!$C$21*A4180+Control!$C$22*A4180^2","v":1236.3114613575715}]
[4183,114,114,null,null,null,null,null,null,null,null,null,{"$f":"Control!$C$20+Control!$C$21*A4183+Control!$C$22*A4183^2","v":1237.2023020440147}]
[4187,112,112,null,null,null,null,null,null,null,null,null,{"$f":"Control!$C$20+Control!$C$21*A4187+Control!$C$22*A4187^2","v":1238.3900909648357}]
[4190,73,73,null,null,null,null,null,null,null,null,null,{"$f":"Control!$C$20+Control!$C$21*A4190+Control!$C$22*A4190^2","v":1239.2809336596245}]
[4193,67,67,null,null,null,null,null,null,null,null,null,{"$f":"Control!$C$20+Control!$C$21*A4193+Control!$C$22*A4193^2","v":1240.1717772151326}]
[4194,48,48,null,null,null,null,null,null,null,null,null,{"$f":"Control!$C$20+Control!$C$21*A4194+Control!$C$22*A4194^2","v":1240.4687252582396}]
[4197,61,61,null,null,null,null,null,null,null,null,null,{"$f":"Control!$C$20+Control!$C$21*A4197+Control!$C$22*A4197^2","v":1241.3595699613736}]
[4201,52,52,null,null,null,null,null,null,null,null,null,{"$f":"Control!$C$20+Control!$C$21*A4201+Control!$C$22*A4201^2","v":1242.5473642377829}]
[4203,57,57,null,null,null,null,null,null,null,null,null,{"$f":"Control!$C$20+Control!$C$21*A4203+Control!$C$22*A4203^2","v":1243.1412619498003}]
[4206,43,43,null,null,null,null,null,null,null,null,null,{"$f":"Control!$C$20+Control!$C$21*A4206+Control!$C$22*A4206^2","v":1244.032109235093}]
[4210,46,46,null,null,null,null,null,null,null,null,null,{"$f":"Control!$C$20+Control!$C$21*A4210+Control!$C$22*A4210^2","v":1245.2199069543801}]
[4213,68,68,null,null,null,null,null,null,null,null,null,{"$f":"Control!$C$20+Control!$C$21*A4213+Control!$C$22*A4213^2","v":1246.1107562480181}]
[4214,63,63,null,null,null,null,null,null,null,null,null,{"$f":"Control!$C$20+Control!$C$21*A4214+Control!$C$22*A4214^2","v":1246.4077062038352}]
[4217,63,63,null,null,null,null,null,null,null,null,null,{"$f":"Control!$C$20+Control!$C$21*A4217+Control!$C$22*A4217^2","v":1247.2985566450993}]
[4220,56,56,null,null,null,null,null,null,null,null,null,{"$f":"Control!$C$20+Control!$C$21*A4220+Control!$C$22*A4220^2","v":1248.1894079470828}]
[4223,46,46,null,null,null,null,null,null,null,null,null,{"$f":"Control!$C$20+Control!$C$21*A4223+Control!$C$22*A4223^2","v":1249.080260109786}]
[4226,50,50,null,null,null,null,null,null,null,null,null,{"$f":"Control!$C$20+Control!$C$21*A4226+Control!$C$22*A4226^2","v":1249.9711131332085}]
[4229,62,62,null,null,null,null,null,null,null,null,null,{"$f":"Control!$C$20+Control!$C$21*A4229+Control!$C$22*A4229^2","v":1250.8619670173505}]
[4233,64,64,null,null,null,null,null,null,null,null,null,{"$f":"Control!$C$20+Control!$C$21*A4233+Control!$C$22*A4233^2","v":1252.0497735351037}]
[4236,71,71,null,null,null,null,null,null,null,null,null,{"$f":"Control!$C$20+Control!$C$21*A4236+Control!$C$22*A4236^2","v":1252.9406294275911}]
[4237,67,67,null,null,null,null,null,null,null,null,null,{"$f":"Control!$C$20+Control!$C$21*A4237+Control!$C$22*A4237^2","v":1253.2375815830246}]
[4241,50,50,null,null,null,null,null,null,null,null,null,{"$f":"Control!$C$20+Control!$C$21*A4241+Control!$C$22*A4241^2","v":1254.4253911611138}]
[4242,46,46,null,null,null,null,null,null,null,null,null,{"$f":"Control!$C$20+Control!$C$21*A4242+Control!$C$22*A4242^2","v":1254.7223437947248}]
[4246,58,58,null,null,null,null,null,null,null,null,null,{"$f":"Control!$C$20+Control!$C$21*A4246+Control!$C$22*A4246^2","v":1255.9101552855238}]
[4249,56,56,null,null,null,null,null,null,null,null,null,{"$f":"Control!$C$20+Control!$C$21*A4249+Control!$C$22*A4249^2","v":1256.8010149077959}]
[4252,59,59,null,null,null,null,null,null,null,null,null,{"$f":"Control!$C$20+Control!$C$21*A4252+Control!$C$22*A4252^2","v":1257.6918753907873}]
[4256,465,473,414,null,null,null,null,null,null,null,null,{"$f":"Control!$C$20+Control!$C$21*A4256+Control!$C$22*A4256^2","v":1258.8796907070064}]
[4259,1256,1285,1205,null,null,null,null,null,null,null,null,{"$f":"Control!$C$20+Control!$C$21*A4259+Control!$C$22*A4259^2","v":1259.7705531983434}]
[4260,1309,1297,1258,null,null,null,null,null,null,null,null,{"$f":"Control!$C$20+Control!$C$21*A4260+Control!$C$22*A4260^2","v":1260.0675075533934}]
[4262,907,939,856,null,null,null,null,null,null,null,null,{"$f":"Control!$C$20+Control!$C$21*A4262+Control!$C$22*A4262^2","v":1260.6614165504}]
[4265,200,189,149,null,null,null,null,null,null,null,null,{"$f":"Control!$C$20+Control!$C$21*A4265+Control!$C$22*A4265^2","v":1261.552280763176}]
[4269,42,42,null,null,null,null,null,null,null,null,null,{"$f":"Control!$C$20+Control!$C$21*A4269+Control!$C$22*A4269^2","v":1262.7401010524409}]
[4272,47,47,null,null,null,null,null,null,null,null,null,{"$f":"Control!$C$20+Control!$C$21*A4272+Control!$C$22*A4272^2","v":1263.6309672735624}]
[4276,57,57,null,null,null,null,null,null,null,null,null,{"$f":"Control!$C$20+Control!$C$21*A4276+Control!$C$22*A4276^2","v":1264.8187902406214}]
[4279,57,57,null,null,null,null,null,null,null,null,null,{"$f":"Control!$C$20+Control!$C$21*A4279+Control!$C$22*A4279^2","v":1265.7096584700885}]
[4281,48,48,null,null,null,null,null,null,null,null,null,{"$f":"Control!$C$20+Control!$C$21*A4281+Control!$C$22*A4281^2","v":1266.303571101244}]
[4282,46,46,null,null,null,null,null,null,null,null,null,{"$f":"Control!$C$20+Control!$C$21*A4282+Control!$C$22*A4282^2","v":1266.6005275602749}]
[4285,49,49,null,null,null,null,null,null,null,null,null,{"$f":"Control!$C$20+Control!$C$21*A4285+Control!$C$22*A4285^2","v":1267.4913975111808}]
[4288,61,61,null,null,null,null,null,null,null,null,null,{"$f":"Control!$C$20+Control!$C$21*A4288+Control!$C$22*A4288^2","v":1268.3822683228063}]
[4292,55,55,null,null,null,null,null,null,null,null,null,{"$f":"Control!$C$20+Control!$C$21*A4292+Control!$C$22*A4292^2","v":1269.5700974105373}]
[4295,60,60,null,null,null,null,null,null,null,null,null,{"$f":"Control!$C$20+Control!$C$21*A4295+Control!$C$22*A4295^2","v":1270.4609702305083}]
[4299,51,51,null,null,null,null,null,null,null,null,null,{"$f":"Control!$C$20+Control!$C$21*A4299+Control!$C$22*A4299^2","v":1271.6488019960332}]
[4300,44,44,null,null,null,null,null,null,null,null,null,{"$f":"Control!$C$20+Control!$C$21*A4300+Control!$C$22*A4300^2","v":1271.9457601765032}]
[4304,52,52,null,null,null,null,null,null,null,null,null,{"$f":"Control!$C$20+Control!$C$21*A4304+Control!$C$22*A4304^2","v":1273.1335938547381}]
[4305,43,43,null,null,null,null,null,null,null,null,null,{"$f":"Control!$C$20+Control!$C$21*A4305+Control!$C$22*A4305^2","v":1273.4305525133857}]
[4308,51,51,null,null,null,null,null,null,null,null,null,{"$f":"Control!$C$20+Control!$C$21*A4308+Control!$C$22*A4308^2","v":1274.3214290631411}]
[4312,62,62,null,null,null,null,null,null,null,null,null,{"$f":"Control!$C$20+Control!$C$21*A4312+Control!$C$22*A4312^2","v":1275.509265801712}]
[4315,49,49,null,null,null,null,null,null,null,null,null,{"$f":"Control!$C$20+Control!$C$21*A4315+Control!$C$22*A4315^2","v":1276.4001443598129}]
[4318,46,46,null,null,null,null,null,null,null,null,null,{"$f":"Control!$C$20+Control!$C$21*A4318+Control!$C$22*A4318^2","v":1277.2910237786334}]
[4321,50,50,null,null,null,null,null,null,null,null,null,{"$f":"Control!$C$20+Control!$C$21*A4321+Control!$C$22*A4321^2","v":1278.1819040581734}]
[4324,55,55,null,null,null,null,null,null,null,null,null,{"$f":"Control!$C$20+Control!$C$21*A4324+Control!$C$22*A4324^2","v":1279.0727851984327}]
[4327,63,63,null,null,null,null,null,null,null,null,null,{"$f":"Control!$C$20+Control!$C$21*A4327+Control!$C$22*A4327^2","v":1279.9636671994117}]
[4328,43,43,null,null,null,null,null,null,null,null,null,{"$f":"Control!$C$20+Control!$C$21*A4328+Control!$C$22*A4328^2","v":1280.2606280576756}]
[4331,66,66,null,null,null,null,null,null,null,null,null,{"$f":"Control!$C$20+Control!$C$21*A4331+Control!$C$22*A4331^2","v":1281.1515112062805}]
[4335,48,48,null,null,null,null,null,null,null,null,null,{"$f":"Control!$C$20+Control!$C$21*A4335+Control!$C$22*A4335^2","v":1282.3393567433175}]
[4338,41,41,null,null,null,null,null,null,null,null,null,{"$f":"Control!$C$20+Control!$C$21*A4338+Control!$C$22*A4338^2","v":1283.2302419002679}]
[4340,60,60,null,null,null,null,null,null,null,null,null,{"$f":"Control!$C$20+Control!$C$21*A4340+Control!$C$22*A4340^2","v":1283.8241658164122}]
[4344,62,62,null,null,null,null,null,null,null,null,null,{"$f":"Control!$C$20+Control!$C$21*A4344+Control!$C$22*A4344^2","v":1285.0120147963271}]
[4347,48,48,null,null,null,null,null,null,null,null,null,{"$f":"Control!$C$20+Control!$C$21*A4347+Control!$C$22*A4347^2","v":1285.9029025354359}]
[4350,43,43,null,null,null,null,null,null,null,null,null,{"$f":"Control!$C$20+Control!$C$21*A4350+Control!$C$22*A4350^2","v":1286.7937911352644}]
[4351,57,57,null,null,null,null,null,null,null,null,null,{"$f":"Control!$C$20+Control!$C$21*A4351+Control!$C$22*A4351^2","v":1287.0907541931449}]
[4354,49,49,null,null,null,null,null,null,null,null,null,{"$f":"Control!$C$20+Control!$C$21*A4354+Control!$C$22*A4354^2","v":1287.9816439405993}]
[4358,46,46,null,null,null,null,null,null,null,null,null,{"$f":"Control!$C$20+Control!$C$21*A4358+Control!$C$22*A4358^2","v":1289.1694982761021}]
[4361,39,39,null,null,null,null,null,null,null,null,null,{"$f":"Control!$C$20+Control!$C$21*A4361+Control!$C$22*A4361^2","v":1290.060390031902}]
[4363,41,41,null,null,null,null,null,null,null,null,null,{"$f":"Control!$C$20+Control!$C$21*A4363+Control!$C$22*A4363^2","v":1290.6543183472793}]
[4367,57,57,null,null,null,null,null,null,null,null,null,{"$f":"Control!$C$20+Control!$C$21*A4367+Control!$C$22*A4367^2","v":1291.8421761256602}]
[4370,54,54,null,null,null,null,null,null,null,null,null,{"$f":"Control!$C$20+Control!$C$21*A4370+Control!$C$22*A4370^2","v":1292.7330704636186}]
[4371,46,46,null,null,null,null,null,null,null,null,null,{"$f":"Control!$C$20+Control!$C$21*A4371+Control!$C$22*A4371^2","v":1293.0300354342089}]
[4374,63,63,null,null,null,null,null,null,null,null,null,{"$f":"Control!$C$20+Control!$C$21*A4374+Control!$C$22*A4374^2","v":1293.9209309197934}]
[4377,59,59,null,null,null,null,null,null,null,null,null,{"$f":"Control!$C$20+Control!$C$21*A4377+Control!$C$22*A4377^2","v":1294.8118272660972}]
[4380,48,48,null,null,null,null,null,null,null,null,null,{"$f":"Control!$C$20+Control!$C$21*A4380+Control!$C$22*A4380^2","v":1295.7027244731205}]
[4383,46,46,null,null,null,null,null,null,null,null,null,{"$f":"Control!$C$20+Control!$C$21*A4383+Control!$C$22*A4383^2","v":1296.5936225408634}]
[4386,43,43,null,null,null,null,null,null,null,null,null,{"$f":"Control!$C$20+Control!$C$21*A4386+Control!$C$22*A4386^2","v":1297.4845214693257}]
[4390,251,262,204,null,null,null,null,null,null,null,null,{"$f":"Control!$C$20+Control!$C$21*A4390+Control!$C$22*A4390^2","v":1298.6723880461725}]
[4393,839,824,792,null,null,null,null,null,null,null,null,{"$f":"Control!$C$20+Control!$C$21*A4393+Control!$C$22*A4393^2","v":1299.5632889829803}]
[4394,965,1017,918,null,null,null,null,null,null,null,null,{"$f":"Control!$C$20+Control!$C$21*A4394+Control!$C$22*A4394^2","v":1299.8602561531873}]
[4397,621,610,574,null,null,null,null,null,null,null,null,{"$f":"Control!$C$20+Control!$C$21*A4397+Control!$C$22*A4397^2","v":1300.751158237621}]
[4401,84,75,37,null,null,null,null,null,null,null,null,{"$f":"Control!$C$20+Control!$C$21*A4401+Control!$C$22*A4401^2","v":1301.9390290224298}]
[4403,47,47,null,null,null,null,null,null,null,null,null,{"$f":"Control!$C$20+Control!$C$21*A4403+Control!$C$22*A4403^2","v":1302.5329649886471}]
[4406,61,61,null,null,null,null,null,null,null,null,null,{"$f":"Control!$C$20+Control!$C$21*A4406+Control!$C$22*A4406^2","v":1303.4238696552395}]
[4409,53,53,null,null,null,null,null,null,null,null,null,{"$f":"Control!$C$20+Control!$C$21*A4409+Control!$C$22*A4409^2","v":1304.3147751825513}]
[4413,59,59,null,null,null,null,null,null,null,null,null,{"$f":"Control!$C$20+Control!$C$21*A4413+Control!$C$22*A4413^2","v":1305.5026505578639}]
[4416,44,44,null,null,null,null,null,null,null,null,null,{"$f":"Control!$C$20+Control!$C$21*A4416+Control!$C$22*A4416^2","v":1306.3935580935213}]
[4417,48,48,null,null,null,null,null,null,null,null,null,{"$f":"Control!$C$20+Control!$C$21*A4417+Control!$C$22*A4417^2","v":1306.6905274633448}]
[4420,59,59,null,null,null,null,null,null,null,null,null,{"$f":"Control!$C$20+Control!$C$21*A4420+Control!$C$22*A4420^2","v":1307.581436146628}]
[4422,40,40,null,null,null,null,null,null,null,null,null,{"$f":"Control!$C$20+Control!$C$21*A4422+Control!$C$22*A4422^2","v":1308.1753757469944}]
[4426,47,47,null,null,null,null,null,null,null,null,null,{"$f":"Control!$C$20+Control!$C$21*A4426+Control!$C$22*A4426^2","v":1309.3632560953531}]
[4429,45,45,null,null,null,null,null,null,null,null,null,{"$f":"Control!$C$20+Control!$C$21*A4429+Control!$C$22*A4429^2","v":1310.2541673607948}]
[4433,46,46,null,null,null,null,null,null,null,null,null,{"$f":"Control!$C$20+Control!$C$21*A4433+Control!$C$22*A4433^2","v":1311.4420503869476}]
[4436,37,37,null,null,null,null,null,null,null,null,null,{"$f":"Control!$C$20+Control!$C$21*A4436+Control!$C$22*A4436^2","v":1312.3329636607348}]
[4439,44,44,null,null,null,null,null,null,null,null,null,{"$f":"Control!$C$20+Control!$C$21*A4439+Control!$C$22*A4439^2","v":1313.2238777952416}]
[4441,49,49,null,null,null,null,null,null,null,null,null,{"$f":"Control!$C$20+Control!$C$21*A4441+Control!$C$22*A4441^2","v":1313.8178210297569}]
[4442,65,65,null,null,null,null,null,null,null,null,null,{"$f":"Control!$C$20+Control!$C$21*A4442+Control!$C$22*A4442^2","v":1314.1147927904678}]
[4445,46,46,null,null,null,null,null,null,null,null,null,{"$f":"Control!$C$20+Control!$C$21*A4445+Control!$C$22*A4445^2","v":1315.0057086464135}]
[4449,50,50,null,null,null,null,null,null,null,null,null,{"$f":"Control!$C$20+Control!$C$21*A4449+Control!$C$22*A4449^2","v":1316.1935977932383}]
[4452,45,45,null,null,null,null,null,null,null,null,null,{"$f":"Control!$C$20+Control!$C$21*A4452+Control!$C$22*A4452^2","v":1317.0845156575294}]
[4456,43,43,null,null,null,null,null,null,null,null,null,{"$f":"Control!$C$20+Control!$C$21*A4456+Control!$C$22*A4456^2","v":1318.2724074821481}]
[4459,46,46,null,null,null,null,null,null,null,null,null,{"$f":"Control!$C$20+Control!$C$21*A4459+Control!$C$22*A4459^2","v":1319.1633273547848}]
[4460,46,46,null,null,null,null,null,null,null,null,null,{"$f":"Control!$C$20+Control!$C$21*A4460+Control!$C$22*A4460^2","v":1319.4603008369347}]
[4462,40,40,null,null,null,null,null,null,null,null,null,{"$f":"Control!$C$20+Control!$C$21*A4462+Control!$C$22*A4462^2","v":1320.0542480881411}]
[4465,33,33,null,null,null,null,null,null,null,null,null,{"$f":"Control!$C$20+Control!$C$21*A4465+Control!$C$22*A4465^2","v":1320.9451696822168}]
[4469,45,45,null,null,null,null,null,null,null,null,null,{"$f":"Control!$C$20+Control!$C$21*A4469+Control!$C$22*A4469^2","v":1322.1330664798813}]
[4472,52,52,null,null,null,null,null,null,null,null,null,{"$f":"Control!$C$20+Control!$C$21*A4472+Control!$C$22*A4472^2","v":1323.0239900823026}]
[4475,45,45,null,null,null,null,null,null,null,null,null,{"$f":"Control!$C$20+Control!$C$21*A4475+Control!$C$22*A4475^2","v":1323.9149145454433}]
[4479,55,55,null,null,null,null,null,null,null,null,null,{"$f":"Control!$C$20+Control!$C$21*A4479+Control!$C$22*A4479^2","v":1325.102815168528}]
[4481,48,48,null,null,null,null,null,null,null,null,null,{"$f":"Control!$C$20+Control!$C$21*A4481+Control!$C$22*A4481^2","v":1325.6967660538833}]
[4484,44,44,null,null,null,null,null,null,null,null,null,{"$f":"Control!$C$20+Control!$C$21*A4484+Control!$C$22*A4484^2","v":1326.5876930991824}]
[4485,47,47,null,null,null,null,null,null,null,null,null,{"$f":"Control!$C$20+Control!$C$21*A4485+Control!$C$22*A4485^2","v":1326.8846689722197}]
[4488,45,45,null,null,null,null,null,null,null,null,null,{"$f":"Control!$C$20+Control!$C$21*A4488+Control!$C$22*A4488^2","v":1327.775597165145}]
[4492,39,39,null,null,null,null,null,null,null,null,null,{"$f":"Control!$C$20+Control!$C$21*A4492+Control!$C$22*A4492^2","v":1328.9635027612755}]
[4495,51,51,null,null,null,null,null,null,null,null,null,{"$f":"Control!$C$20+Control!$C$21*A4495+Control!$C$22*A4495^2","v":1329.8544329625463}]
[4498,46,46,null,null,null,null,null,null,null,null,null,{"$f":"Control!$C$20+Control!$C$21*A4498+Control!$C$22*A4498^2","v":1330.7453640245365}]
[4500,48,48,null,null,null,null,null,null,null,null,null,{"$f":"Control!$C$20+Control!$C$21*A4500+Control!$C$22*A4500^2","v":1331.3393185440407}]
[4504,55,55,null,null,null,null,null,null,null,null,null,{"$f":"Control!$C$20+Control!$C$21*A4504+Control!$C$22*A4504^2","v":1332.5272287306752}]
[4507,56,56,null,null,null,null,null,null,null,null,null,{"$f":"Control!$C$20+Control!$C$21*A4507+Control!$C$22*A4507^2","v":1333.4181623748239}]
[4508,36,36,null,null,null,null,null,null,null,null,null,{"$f":"Control!$C$20+Control!$C$21*A4508+Control!$C$22*A4508^2","v":1333.7151404474778}]
[4511,42,42,null,null,null,null,null,null,null,null,null,{"$f":"Control!$C$20+Control!$C$21*A4511+Control!$C$22*A4511^2","v":1334.6060752392525}]
[4515,46,46,null,null,null,null,null,null,null,null,null,{"$f":"Control!$C$20+Control!$C$21*A4515+Control!$C$22*A4515^2","v":1335.7939896338489}]
[4517,41,41,null,null,null,null,null,null,null,null,null,{"$f":"Control!$C$20+Control!$C$21*A4517+Control!$C$22*A4517^2","v":1336.3879474049602}]
[4520,48,48,null,null,null,null,null,null,null,null,null,{"$f":"Control!$C$20+Control!$C$21*A4520+Control!$C$22*A4520^2","v":1337.2788847788934}]
[4524,128,126,86,null,null,null,null,null,null,null,null,{"$f":"Control!$C$20+Control!$C$21*A4524+Control!$C$22*A4524^2","v":1338.4668026163679}]
[4527,476,456,434,null,null,null,null,null,null,null,null,{"$f":"Control!$C$20+Control!$C$21*A4527+Control!$C$22*A4527^2","v":1339.3577419986466}]
[4528,597,595,555,null,null,null,null,null,null,null,null,{"$f":"Control!$C$20+Control!$C$21*A4528+Control!$C$22*A4528^2","v":1339.6547219840104}]
[4531,520,540,478,null,null,null,null,null,null,null,null,{"$f":"Control!$C$20+Control!$C$21*A4531+Control!$C$22*A4531^2","v":1340.545662513915}]
[4534,151,160,109,null,null,null,null,null,null,null,null,{"$f":"Control!$C$20+Control!$C$21*A4534+Control!$C$22*A4534^2","v":1341.4366039045392}]
[4538,43,43,null,null,null,null,null,null,null,null,null,{"$f":"Control!$C$20+Control!$C$21*A4538+Control!$C$22*A4538^2","v":1342.6245270976017}]
[4540,32,32,null,null,null,null,null,null,null,null,null,{"$f":"Control!$C$20+Control!$C$21*A4540+Control!$C$22*A4540^2","v":1343.2184892679459}]
[4543,40,40,null,null,null,null,null,null,null,null,null,{"$f":"Control!$C$20+Control!$C$21*A4543+Control!$C$22*A4543^2","v":1344.1094332407285}]
[4547,47,47,null,null,null,null,null,null,null,null,null,{"$f":"Control!$C$20+Control!$C$21*A4547+Control!$C$22*A4547^2","v":1345.2973598766689}]
[4550,43,43,null,null,null,null,null,null,null,null,null,{"$f":"Control!$C$20+Control!$C$21*A4550+Control!$C$22*A4550^2","v":1346.1883058577971}]
[4551,45,45,null,null,null,null,null,null,null,null,null,{"$f":"Control!$C$20+Control!$C$21*A4551+Control!$C$22*A4551^2","v":1346.4852880427775}]
[4554,28,28,null,null,null,null,null,null,null,null,null,{"$f":"Control!$C$20+Control!$C$21*A4554+Control!$C$22*A4554^2","v":1347.3762351715316}]
[4557,31,31,null,null,null,null,null,null,null,null,null,{"$f":"Control!$C$20+Control!$C$21*A4557+Control!$C$22*A4557^2","v":1348.2671831610051}]
[4560,55,55,null,null,null,null,null,null,null,null,null,{"$f":"Control!$C$20+Control!$C$21*A4560+Control!$C$22*A4560^2","v":1349.1581320111982}]
[4563,38,38,null,null,null,null,null,null,null,null,null,{"$f":"Control!$C$20+Control!$C$21*A4563+Control!$C$22*A4563^2","v":1350.0490817221107}]
[4567,38,38,null,null,null,null,null,null,null,null,null,{"$f":"Control!$C$20+Control!$C$21*A4567+Control!$C$22*A4567^2","v":1351.2370160088913}]
[4570,36,36,null,null,null,null,null,null,null,null,null,{"$f":"Control!$C$20+Control!$C$21*A4570+Control!$C$22*A4570^2","v":1352.1279677281493}]
[4573,46,46,null,null,null,null,null,null,null,null,null,{"$f":"Control!$C$20+Control!$C$21*A4573+Control!$C$22*A4573^2","v":1353.0189203081268}]
[4574,44,44,null,null,null,null,null,null,null,null,null,{"$f":"Control!$C$20+Control!$C$21*A4574+Control!$C$22*A4574^2","v":1353.3159046927237}]
[4578,49,49,null,null,null,null,null,null,null,null,null,{"$f":"Control!$C$20+Control!$C$21*A4578+Control!$C$22*A4578^2","v":1354.5038431874661}]
[4579,28,28,null,null,null,null,null,null,null,null,null,{"$f":"Control!$C$20+Control!$C$21*A4579+Control!$C$22*A4579^2","v":1354.8008280502404}]
[4583,44,44,null,null,null,null,null,null,null,null,null,{"$f":"Control!$C$20+Control!$C$21*A4583+Control!$C$22*A4583^2","v":1355.9887684576929}]
[4586,49,49,null,null,null,null,null,null,null,null,null,{"$f":"Control!$C$20+Control!$C$21*A4586+Control!$C$22*A4586^2","v":1356.8797247674549}]
[4590,42,42,null,null,null,null,null,null,null,null,null,{"$f":"Control!$C$20+Control!$C$21*A4590+Control!$C$22*A4590^2","v":1358.0676678527013}]
[4593,35,35,null,null,null,null,null,null,null,null,null,{"$f":"Control!$C$20+Control!$C$21*A4593+Control!$C$22*A4593^2","v":1358.9586261708089}]
[4596,52,52,null,null,null,null,null,null,null,null,null,{"$f":"Control!$C$20+Control!$C$21*A4596+Control!$C$22*A4596^2","v":1359.8495853496358}]
[4597,43,43,null,null,null,null,null,null,null,null,null,{"$f":"Control!$C$20+Control!$C$21*A4597+Control!$C$22*A4597^2","v":1360.1465719338491}]
[4599,38,38,null,null,null,null,null,null,null,null,null,{"$f":"Control!$C$20+Control!$C$21*A4599+Control!$C$22*A4599^2","v":1360.7405453891824}]
[4602,43,43,null,null,null,null,null,null,null,null,null,{"$f":"Control!$C$20+Control!$C$21*A4602+Control!$C$22*A4602^2","v":1361.6315062894485}]
[4606,43,43,null,null,null,null,null,null,null,null,null,{"$f":"Control!$C$20+Control!$C$21*A4606+Control!$C$22*A4606^2","v":1362.8194554953668}]
[4609,40,40,null,null,null,null,null,null,null,null,null,{"$f":"Control!$C$20+Control!$C$21*A4609+Control!$C$22*A4609^2","v":1363.7104184039783}]
[4613,53,53,null,null,null,null,null,null,null,null,null,{"$f":"Control!$C$20+Control!$C$21*A4613+Control!$C$22*A4613^2","v":1364.8983702876906}]
[4616,40,40,null,null,null,null,null,null,null,null,null,{"$f":"Control!$C$20+Control!$C$21*A4616+Control!$C$22*A4616^2","v":1365.7893352046476}]
[4618,43,43,null,null,null,null,null,null,null,null,null,{"$f":"Control!$C$20+Control!$C$21*A4618+Control!$C$22*A4618^2","v":1366.3833122941298}]
[4619,41,41,null,null,null,null,null,null,null,null,null,{"$f":"Control!$C$20+Control!$C$21*A4619+Control!$C$22*A4619^2","v":1366.6803009823241}]
[4622,48,48,null,null,null,null,null,null,null,null,null,{"$f":"Control!$C$20+Control!$C$21*A4622+Control!$C$22*A4622^2","v":1367.5712676207202}]
[4626,46,46,null,null,null,null,null,null,null,null,null,{"$f":"Control!$C$20+Control!$C$21*A4626+Control!$C$22*A4626^2","v":1368.7592244774785}]
[4629,48,48,null,null,null,null,null,null,null,null,null,{"$f":"Control!$C$20+Control!$C$21*A4629+Control!$C$22*A4629^2","v":1369.6501931242199}]
[4632,49,49,null,null,null,null,null,null,null,null,null,{"$f":"Control!$C$20+Control!$C$21*A4632+Control!$C$22*A4632^2","v":1370.5411626316809}]
[4636,46,46,null,null,null,null,null,null,null,null,null,{"$f":"Control!$C$20+Control!$C$21*A4636+Control!$C$22*A4636^2","v":1371.7291233138592}]
[4637,39,39,null,null,null,null,null,null,null,null,null,{"$f":"Control!$C$20+Control!$C$21*A4637+Control!$C$22*A4637^2","v":1372.0261137234925}]
[4641,38,38,null,null,null,null,null,null,null,null,null,{"$f":"Control!$C$20+Control!$C$21*A4641+Control!$C$22*A4641^2","v":1373.2140763183809}]
[4642,32,32,null,null,null,null,null,null,null,null,null,{"$f":"Control!$C$20+Control!$C$21*A4642+Control!$C$22*A4642^2","v":1373.5110672061917}]
[4645,49,49,null,null,null,null,null,null,null,null,null,{"$f":"Control!$C$20+Control!$C$21*A4645+Control!$C$22*A4645^2","v":1374.402040443437}]
[4649,41,41,null,null,null,null,null,null,null,null,null,{"$f":"Control!$C$20+Control!$C$21*A4649+Control!$C$22*A4649^2","v":1375.5900060986614}]
[4652,58,58,null,null,null,null,null,null,null,null,null,{"$f":"Control!$C$20+Control!$C$21*A4652+Control!$C$22*A4652^2","v":1376.4809813442523}]
[4655,102,102,null,null,null,null,null,null,null,null,null,{"$f":"Control!$C$20+Control!$C$21*A4655+Control!$C$22*A4655^2","v":1377.3719574505628}]
[4658,87,87,null,null,null,null,null,null,null,null,null,{"$f":"Control!$C$20+Control!$C$21*A4658+Control!$C$22*A4658^2","v":1378.2629344175928}]
[4661,61,61,null,null,null,null,null,null,null,null,null,{"$f":"Control!$C$20+Control!$C$21*A4661+Control!$C$22*A4661^2","v":1379.1539122453421}]
[4664,37,37,null,null,null,null,null,null,null,null,null,{"$f":"Control!$C$20+Control!$C$21*A4664+Control!$C$22*A4664^2","v":1380.0448909338111}]
[4665,39,39,null,null,null,null,null,null,null,null,null,{"$f":"Control!$C$20+Control!$C$21*A4665+Control!$C$22*A4665^2","v":1380.3418840212385}]
[4668,41,41,null,null,null,null,null,null,null,null,null,{"$f":"Control!$C$20+Control!$C$21*A4668+Control!$C$22*A4668^2","v":1381.2328638573333}]
[4672,28,28,null,null,null,null,null,null,null,null,null,{"$f":"Control!$C$20+Control!$C$21*A4672+Control!$C$22*A4672^2","v":1382.4208383110235}]
[4675,35,35,null,null,null,null,null,null,null,null,null,{"$f":"Control!$C$20+Control!$C$21*A4675+Control!$C$22*A4675^2","v":1383.3118201554639}]
[4677,43,43,null,null,null,null,null,null,null,null,null,{"$f":"Control!$C$20+Control!$C$21*A4677+Control!$C$22*A4677^2","v":1383.905808529935}]
[4681,33,33,null,null,null,null,null,null,null,null,null,{"$f":"Control!$C$20+Control!$C$21*A4681+Control!$C$22*A4681^2","v":1385.0937864265034}]
[4684,45,45,null,null,null,null,null,null,null,null,null,{"$f":"Control!$C$20+Control!$C$21*A4684+Control!$C$22*A4684^2","v":1385.9847708531022}]
[4685,33,33,null,null,null,null,null,null,null,null,null,{"$f":"Control!$C$20+Control!$C$21*A4685+Control!$C$22*A4685^2","v":1386.2817658532394}]
[4688,43,43,null,null,null,null,null,null,null,null,null,{"$f":"Control!$C$20+Control!$C$21*A4688+Control!$C$22*A4688^2","v":1387.1727514274644}]
[4691,55,46,15,null,null,null,null,null,null,null,null,{"$f":"Control!$C$20+Control!$C$21*A4691+Control!$C$22*A4691^2","v":1388.0637378624087}]
[4695,232,234,192,null,null,null,null,null,null,null,null,{"$f":"Control!$C$20+Control!$C$21*A4695+Control!$C$22*A4695^2","v":1389.251721114565}]
[4698,336,350,296,null,null,null,null,null,null,null,null,{"$f":"Control!$C$20+Control!$C$21*A4698+Control!$C$22*A4698^2","v":1390.1427095578549}]
[4700,234,235,194,null,null,null,null,null,null,null,null,{"$f":"Control!$C$20+Control!$C$21*A4700+Control!$C$22*A4700^2","v":1390.7367023315589}]
[4704,55,55,15,null,null,null,null,null,null,null,null,{"$f":"Control!$C$20+Control!$C$21*A4704+Control!$C$22*A4704^2","v":1391.9246890265931}]
[4707,35,35,null,null,null,null,null,null,null,null,null,{"$f":"Control!$C$20+Control!$C$21*A4707+Control!$C$22*A4707^2","v":1392.8156800520414}]
[4708,40,40,null,null,null,null,null,null,null,null,null,{"$f":"Control!$C$20+Control!$C$21*A4708+Control!$C$22*A4708^2","v":1393.1126772517953}]
[4711,29,29,null,null,null,null,null,null,null,null,null,{"$f":"Control!$C$20+Control!$C$21*A4711+Control!$C$22*A4711^2","v":1394.0036694248697}]
[4714,36,36,null,null,null,null,null,null,null,null,null,{"$f":"Control!$C$20+Control!$C$21*A4714+Control!$C$22*A4714^2","v":1394.8946624586636}]
[4717,41,41,null,null,null,null,null,null,null,null,null,{"$f":"Control!$C$20+Control!$C$21*A4717+Control!$C$22*A4717^2","v":1395.7856563531768}]
[4720,39,39,null,null,null,null,null,null,null,null,null,{"$f":"Control!$C$20+Control!$C$21*A4720+Control!$C$22*A4720^2","v":1396.6766511084097}]
[4724,37,37,null,null,null,null,null,null,null,null,null,{"$f":"Control!$C$20+Control!$C$21*A4724+Control!$C$22*A4724^2","v":1397.8646454542838}]
[4727,26,26,null,null,null,null,null,null,null,null,null,{"$f":"Control!$C$20+Control!$C$21*A4727+Control!$C$22*A4727^2","v":1398.7556422178623}]
[4730,46,46,null,null,null,null,null,null,null,null,null,{"$f":"Control!$C$20+Control!$C$21*A4730+Control!$C$22*A4730^2","v":1399.6466398421601}]
[4731,50,50,null,null,null,null,null,null,null,null,null,{"$f":"Control!$C$20+Control!$C$21*A4731+Control!$C$22*A4731^2","v":1399.9436392415303}]
[4734,47,47,null,null,null,null,null,null,null,null,null,{"$f":"Control!$C$20+Control!$C$21*A4734+Control!$C$22*A4734^2","v":1400.8346380134542}]
[4738,43,43,null,null,null,null,null,null,null,null,null,{"$f":"Control!$C$20+Control!$C$21*A4738+Control!$C$22*A4738^2","v":1402.0226377149163}]
[4740,51,51,null,null,null,null,null,null,null,null,null,{"$f":"Control!$C$20+Control!$C$21*A4740+Control!$C$22*A4740^2","v":1402.6166381394603}]
[4743,36,36,null,null,null,null,null,null,null,null,null,{"$f":"Control!$C$20+Control!$C$21*A4743+Control!$C$22*A4743^2","v":1403.5076394935427}]
[4747,26,26,null,null,null,null,null,null,null,null,null,{"$f":"Control!$C$20+Control!$C$21*A4747+Control!$C$22*A4747^2","v":1404.6956426378827}]
[4750,38,38,null,null,null,null,null,null,null,null,null,{"$f":"Control!$C$20+Control!$C$21*A4750+Control!$C$22*A4750^2","v":1405.5866460003106}]
[4753,49,49,null,null,null,null,null,null,null,null,null,{"$f":"Control!$C$20+Control!$C$21*A4753+Control!$C$22*A4753^2","v":1406.4776502234579}]
[4754,54,54,null,null,null,null,null,null,null,null,null,{"$f":"Control!$C$20+Control!$C$21*A4754+Control!$C$22*A4754^2","v":1406.7746518224446}]
[4757,71,71,null,null,null,null,null,null,null,null,null,{"$f":"Control!$C$20+Control!$C$21*A4757+Control!$C$22*A4757^2","v":1407.6656571932178}]
[4759,64,64,null,null,null,null,null,null,null,null,null,{"$f":"Control!$C$20+Control!$C$21*A4759+Control!$C$22*A4759^2","v":1408.259661251911}]
[4763,43,43,null,null,null,null,null,null,null,null,null,{"$f":"Control!$C$20+Control!$C$21*A4763+Control!$C$22*A4763^2","v":1409.4476705169229}]
[4766,39,39,null,null,null,null,null,null,null,null,null,{"$f":"Control!$C$20+Control!$C$21*A4766+Control!$C$22*A4766^2","v":1410.3386784698548}]
[4770,36,36,null,null,null,null,null,null,null,null,null,{"$f":"Control!$C$20+Control!$C$21*A4770+Control!$C$22*A4770^2","v":1411.5266904126609}]
[4773,32,32,null,null,null,null,null,null,null,null,null,{"$f":"Control!$C$20+Control!$C$21*A4773+Control!$C$22*A4773^2","v":1412.417700373938}]
[4776,27,27,null,null,null,null,null,null,null,null,null,{"$f":"Control!$C$20+Control!$C$21*A4776+Control!$C$22*A4776^2","v":1413.3087111959348}]
[4778,37,37,null,null,null,null,null,null,null,null,null,{"$f":"Control!$C$20+Control!$C$21*A4778+Control!$C$22*A4778^2","v":1413.9027188887769}]
[4779,40,40,null,null,null,null,null,null,null,null,null,{"$f":"Control!$C$20+Control!$C$21*A4779+Control!$C$22*A4779^2","v":1414.1997228786511}]
[4783,34,34,null,null,null,null,null,null,null,null,null,{"$f":"Control!$C$20+Control!$C$21*A4783+Control!$C$22*A4783^2","v":1415.3877397945032}]
[4786,36,36,null,null,null,null,null,null,null,null,null,{"$f":"Control!$C$20+Control!$C$21*A4786+Control!$C$22*A4786^2","v":1416.2787534855649}]
[4789,42,42,null,null,null,null,null,null,null,null,null,{"$f":"Control!$C$20+Control!$C$21*A4789+Control!$C$22*A4789^2","v":1417.1697680373461}]
[4793,56,49,18,null,null,null,null,null,null,null,null,{"$f":"Control!$C$20+Control!$C$21*A4793+Control!$C$22*A4793^2","v":1418.3577887786182}]
[4796,133,129,95,null,null,null,null,null,null,null,null,{"$f":"Control!$C$20+Control!$C$21*A4796+Control!$C$22*A4796^2","v":1419.2488053387449}]
[4797,165,152,127,null,null,null,null,null,null,null,null,{"$f":"Control!$C$20+Control!$C$21*A4797+Control!$C$22*A4797^2","v":1419.5458110500581}]
[4799,185,180,147,null,null,null,null,null,null,null,null,{"$f":"Control!$C$20+Control!$C$21*A4799+Control!$C$22*A4799^2","v":1420.1398227595912}]
[4802,102,98,64,null,null,null,null,null,null,null,null,{"$f":"Control!$C$20+Control!$C$21*A4802+Control!$C$22*A4802^2","v":1421.0308410411569}]
[4806,41,48,3,null,null,null,null,null,null,null,null,{"$f":"Control!$C$20+Control!$C$21*A4806+Control!$C$22*A4806^2","v":1422.2188667554749}]
[4809,38,38,null,null,null,null,null,null,null,null,null,{"$f":"Control!$C$20+Control!$C$21*A4809+Control!$C$22*A4809^2","v":1423.1098870453861}]
[4812,33,33,null,null,null,null,null,null,null,null,null,{"$f":"Control!$C$20+Control!$C$21*A4812+Control!$C$22*A4812^2","v":1424.0009081960168}]
[4816,24,24,null,null,null,null,null,null,null,null,null,{"$f":"Control!$C$20+Control!$C$21*A4816+Control!$C$22*A4816^2","v":1425.1889377357547}]
[4818,24,24,null,null,null,null,null,null,null,null,null,{"$f":"Control!$C$20+Control!$C$21*A4818+Control!$C$22*A4818^2","v":1425.7829530794368}]
[4819,29,29,null,null,null,null,null,null,null,null,null,{"$f":"Control!$C$20+Control!$C$21*A4819+Control!$C$22*A4819^2","v":1426.0799608947309}]
[4822,34,34,null,null,null,null,null,null,null,null,null,{"$f":"Control!$C$20+Control!$C$21*A4822+Control!$C$22*A4822^2","v":1426.9709849144267}]
[4825,38,38,null,null,null,null,null,null,null,null,null,{"$f":"Control!$C$20+Control!$C$21*A4825+Control!$C$22*A4825^2","v":1427.8620097948419}]
[4829,34,34,null,null,null,null,null,null,null,null,null,{"$f":"Control!$C$20+Control!$C$21*A4829+Control!$C$22*A4829^2","v":1429.0500443076257}]
[4832,52,52,null,null,null,null,null,null,null,null,null,{"$f":"Control!$C$20+Control!$C$21*A4832+Control!$C$22*A4832^2","v":1429.9410711963865}]
[4835,54,54,null,null,null,null,null,null,null,null,null,{"$f":"Control!$C$20+Control!$C$21*A4835+Control!$C$22*A4835^2","v":1430.8320989458666}]
[4837,31,31,null,null,null,null,null,null,null,null,null,{"$f":"Control!$C$20+Control!$C$21*A4837+Control!$C$22*A4837^2","v":1431.4261179236976}]
[4841,31,31,null,null,null,null,null,null,null,null,null,{"$f":"Control!$C$20+Control!$C$21*A4841+Control!$C$22*A4841^2","v":1432.6141570269856}]
[4842,30,30,null,null,null,null,null,null,null,null,null,{"$f":"Control!$C$20+Control!$C$21*A4842+Control!$C$22*A4842^2","v":1432.9111670418963}]
[4845,42,42,null,null,null,null,null,null,null,null,null,{"$f":"Control!$C$20+Control!$C$21*A4845+Control!$C$22*A4845^2","v":1433.8021976604414}]
[4848,40,40,null,null,null,null,null,null,null,null,null,{"$f":"Control!$C$20+Control!$C$21*A4848+Control!$C$22*A4848^2","v":1434.6932291397061}]
[4852,44,44,null,null,null,null,null,null,null,null,null,{"$f":"Control!$C$20+Control!$C$21*A4852+Control!$C$22*A4852^2","v":1435.881272450956}]
[4855,31,31,null,null,null,null,null,null,null,null,null,{"$f":"Control!$C$20+Control!$C$21*A4855+Control!$C$22*A4855^2","v":1436.7723059385662}]
[4858,38,38,null,null,null,null,null,null,null,null,null,{"$f":"Control!$C$20+Control!$C$21*A4858+Control!$C$22*A4858^2","v":1437.6633402868958}]
[4861,29,29,null,null,null,null,null,null,null,null,null,{"$f":"Control!$C$20+Control!$C$21*A4861+Control!$C$22*A4861^2","v":1438.5543754959449}]
[4864,37,37,null,null,null,null,null,null,null,null,null,{"$f":"Control!$C$20+Control!$C$21*A4864+Control!$C$22*A4864^2","v":1439.4454115657136}]
[4865,37,37,null,null,null,null,null,null,null,null,null,{"$f":"Control!$C$20+Control!$C$21*A4865+Control!$C$22*A4865^2","v":1439.7424237802409}]
[4868,41,41,null,null,null,null,null,null,null,null,null,{"$f":"Control!$C$20+Control!$C$21*A4868+Control!$C$22*A4868^2","v":1440.6334609976354}]
[4871,38,38,null,null,null,null,null,null,null,null,null,{"$f":"Control!$C$20+Control!$C$21*A4871+Control!$C$22*A4871^2","v":1441.5244990757496}]
[4875,28,28,null,null,null,null,null,null,null,null,null,{"$f":"Control!$C$20+Control!$C$21*A4875+Control!$C$22*A4875^2","v":1442.7125511854654}]
[4877,35,35,null,null,null,null,null,null,null,null,null,{"$f":"Control!$C$20+Control!$C$21*A4877+Control!$C$22*A4877^2","v":1443.3065778141363}]
[4881,35,35,null,null,null,null,null,null,null,null,null,{"$f":"Control!$C$20+Control!$C$21*A4881+Control!$C$22*A4881^2","v":1444.4946322191042}]
[4884,43,43,null,null,null,null,null,null,null,null,null,{"$f":"Control!$C$20+Control!$C$21*A4884+Control!$C$22*A4884^2","v":1445.3856740270028}]
[4887,33,33,null,null,null,null,null,null,null,null,null,{"$f":"Control!$C$20+Control!$C$21*A4887+Control!$C$22*A4887^2","v":1446.276716695621}]
[4888,48,48,null,null,null,null,null,null,null,null,null,{"$f":"Control!$C$20+Control!$C$21*A4888+Control!$C$22*A4888^2","v":1446.5737311097646}]
[4891,34,34,null,null,null,null,null,null,null,null,null,{"$f":"Control!$C$20+Control!$C$21*A4891+Control!$C$22*A4891^2","v":1447.4647749260087}]
[4894,50,50,null,null,null,null,null,null,null,null,null,{"$f":"Control!$C$20+Control!$C$21*A4894+Control!$C$22*A4894^2","v":1448.3558196029724}]
[4897,37,37,null,null,null,null,null,null,null,null,null,{"$f":"Control!$C$20+Control!$C$21*A4897+Control!$C$22*A4897^2","v":1449.2468651406555}]
[4900,37,37,null,null,null,null,null,null,null,null,null,{"$f":"Control!$C$20+Control!$C$21*A4900+Control!$C$22*A4900^2","v":1450.137911539058}]
[4904,42,42,null,null,null,null,null,null,null,null,null,{"$f":"Control!$C$20+Control!$C$21*A4904+Control!$C$22*A4904^2","v":1451.3259747424918}]
[4907,47,47,null,null,null,null,null,null,null,null,null,{"$f":"Control!$C$20+Control!$C$21*A4907+Control!$C$22*A4907^2","v":1452.2170231492398}]
[4910,39,39,null,null,null,null,null,null,null,null,null,{"$f":"Control!$C$20+Control!$C$21*A4910+Control!$C$22*A4910^2","v":1453.1080724167075}]
[4911,37,37,null,null,null,null,null,null,null,null,null,{"$f":"Control!$C$20+Control!$C$21*A4911+Control!$C$22*A4911^2","v":1453.4050890304677}]
[4915,29,29,null,null,null,null,null,null,null,null,null,{"$f":"Control!$C$20+Control!$C$21*A4915+Control!$C$22*A4915^2","v":1454.5931564418634}]
[4916,31,31,null,null,null,null,null,null,null,null,null,{"$f":"Control!$C$20+Control!$C$21*A4916+Control!$C$22*A4916^2","v":1454.8901735338011}]
[4920,45,45,null,null,null,null,null,null,null,null,null,{"$f":"Control!$C$20+Control!$C$21*A4920+Control!$C$22*A4920^2","v":1456.0782428579068}]
[4923,36,36,null,null,null,null,null,null,null,null,null,{"$f":"Control!$C$20+Control!$C$21*A4923+Control!$C$22*A4923^2","v":1456.9692958551589}]
[4927,57,57,null,null,null,null,null,null,null,null,null,{"$f":"Control!$C$20+Control!$C$21*A4927+Control!$C$22*A4927^2","v":1458.1573678570587}]
[4930,111,111,null,null,null,null,null,null,null,null,null,{"$f":"Control!$C$20+Control!$C$21*A4930+Control!$C$22*A4930^2","v":1459.0484228626563}]
[4933,516,516,null,null,null,null,null,null,null,null,null,{"$f":"Control!$C$20+Control!$C$21*A4933+Control!$C$22*A4933^2","v":1459.9394787289732}]
[4934,658,658,null,null,null,null,null,null,null,null,null,{"$f":"Control!$C$20+Control!$C$21*A4934+Control!$C$22*A4934^2","v":1460.23649754235}]
[4936,864,864,null,null,null,null,null,null,null,null,null,{"$f":"Control!$C$20+Control!$C$21*A4936+Control!$C$22*A4936^2","v":1460.8305354560098}]
[4940,236,236,null,null,null,null,null,null,null,null,null,{"$f":"Control!$C$20+Control!$C$21*A4940+Control!$C$22*A4940^2","v":1462.0186124309555}]
[4943,49,49,null,null,null,null,null,null,null,null,null,{"$f":"Control!$C$20+Control!$C$21*A4943+Control!$C$22*A4943^2","v":1462.9096711663376}]
[4946,32,32,null,null,null,null,null,null,null,null,null,{"$f":"Control!$C$20+Control!$C$21*A4946+Control!$C$22*A4946^2","v":1463.8007307624391}]
[4950,24,24,null,null,null,null,null,null,null,null,null,{"$f":"Control!$C$20+Control!$C$21*A4950+Control!$C$22*A4950^2","v":1464.9888115628048}]
[4953,38,38,null,null,null,null,null,{"$f":"0.939*SUM(D4953:D4972)*Control!C21/Spectrum!D4962","v":{"$error":"#DIV/0!"}},null,null,null,{"$f":"Control!$C$20+Control!$C$21*A4953+Control!$C$22*A4953^2","v":1465.8798731672518}]
[4955,31,31,null,null,null,null,null,null,null,null,null,{"$f":"Control!$C$20+Control!$C$21*A4955+Control!$C$22*A4955^2","v":1466.4739147150606}]
[4956,38,38,null,null,null,null,null,null,null,null,null,{"$f":"Control!$C$20+Control!$C$21*A4956+Control!$C$22*A4956^2","v":1466.7709356324183}]
[4959,34,34,null,null,null,null,null,null,null,null,null,{"$f":"Control!$C$20+Control!$C$21*A4959+Control!$C$22*A4959^2","v":1467.6619989583044}]
[4963,31,31,null,null,null,null,null,null,null,null,null,{"$f":"Control!$C$20+Control!$C$21*A4963+Control!$C$22*A4963^2","v":1468.8500847317159}]
[4966,30,30,null,null,null,null,null,null,null,null,null,{"$f":"Control!$C$20+Control!$C$21*A4966+Control!$C$22*A4966^2","v":1469.7411500659475}]
[4969,20,20,null,null,null,null,null,null,null,null,null,{"$f":"Control!$C$20+Control!$C$21*A4969+Control!$C$22*A4969^2","v":1470.6322162608985}]
[4973,31,31,null,null,null,null,null,null,null,null,null,{"$f":"Control!$C$20+Control!$C$21*A4973+Control!$C$22*A4973^2","v":1471.8203058597301}]
[4974,28,28,null,null,null,null,null,null,null,null,null,{"$f":"Control!$C$20+Control!$C$21*A4974+Control!$C$22*A4974^2","v":1472.1173284985268}]
[4976,37,37,null,null,null,null,null,null,null,null,null,{"$f":"Control!$C$20+Control!$C$21*A4976+Control!$C$22*A4976^2","v":1472.7113740630266}]
[4979,28,28,null,null,null,null,null,null,null,null,null,{"$f":"Control!$C$20+Control!$C$21*A4979+Control!$C$22*A4979^2","v":1473.6024431270425}]
[4982,29,29,null,null,null,null,null,null,null,null,null,{"$f":"Control!$C$20+Control!$C$21*A4982+Control!$C$22*A4982^2","v":1474.4935130517781}]
[4986,28,28,null,null,null,null,null,null,null,null,null,{"$f":"Control!$C$20+Control!$C$21*A4986+Control!$C$22*A4986^2","v":1475.6816076236557}]
[4989,33,33,null,null,null,null,null,null,null,null,null,{"$f":"Control!$C$20+Control!$C$21*A4989+Control!$C$22*A4989^2","v":1476.5726795567366}]
[4992,28,28,null,null,null,null,null,null,null,null,null,{"$f":"Control!$C$20+Control!$C$21*A4992+Control!$C$22*A4992^2","v":1477.4637523505371}]
[4995,38,31,9,null,null,null,null,null,null,null,null,{"$f":"Control!$C$20+Control!$C$21*A4995+Control!$C$22*A4995^2","v":1478.354826005057}]
[4998,76,73,47,null,null,null,null,null,null,null,null,{"$f":"Control!$C$20+Control!$C$21*A4998+Control!$C$22*A4998^2","v":1479.2459005202966}]
[4999,91,96,62,null,null,null,null,null,null,null,null,{"$f":"Control!$C$20+Control!$C$21*A4999+Control!$C$22*A4999^2","v":1479.5429255499807}]
[5002,92,93,63,null,null,null,null,null,null,null,null,{"$f":"Control!$C$20+Control!$C$21*A5002+Control!$C$22*A5002^2","v":1480.4340012128462}]
[5005,48,42,19,null,null,null,null,null,null,null,null,{"$f":"Control!$C$20+Control!$C$21*A5005+Control!$C$22*A5005^2","v":1481.325077736431}]
[5009,30,28,1,null,null,null,null,null,null,null,null,{"$f":"Control!$C$20+Control!$C$21*A5009+Control!$C$22*A5009^2","v":1482.5131811067747}]
[5012,37,37,null,null,null,null,null,null,null,null,null,{"$f":"Control!$C$20+Control!$C$21*A5012+Control!$C$22*A5012^2","v":1483.4042596387051}]
[5014,24,24,null,null,null,null,null,null,null,null,null,{"$f":"Control!$C$20+Control!$C$21*A5014+Control!$C$22*A5014^2","v":1483.9983124715029}]
[5018,38,38,null,null,null,null,null,null,null,null,null,{"$f":"Control!$C$20+Control!$C$21*A5018+Control!$C$22*A5018^2","v":1485.1864192847245}]
[5021,27,27,null,null,null,null,null,null,null,null,null,{"$f":"Control!$C$20+Control!$C$21*A5021+Control!$C$22*A5021^2","v":1486.0775003988133}]
[5022,17,17,null,null,null,null,null,null,null,null,null,{"$f":"Control!$C$20+Control!$C$21*A5022+Control!$C$22*A5022^2","v":1486.374527628114}]
[5025,22,22,null,null,null,null,null,null,null,null,null,{"$f":"Control!$C$20+Control!$C$21*A5025+Control!$C$22*A5025^2","v":1487.265609889829}]
[5028,28,28,null,null,null,null,null,null,null,null,null,{"$f":"Control!$C$20+Control!$C$21*A5028+Control!$C$22*A5028^2","v":1488.1566930122633}]
[5032,27,27,null,null,null,null,null,null,null,null,null,{"$f":"Control!$C$20+Control!$C$21*A5032+Control!$C$22*A5032^2","v":1489.3448051810728}]
[5035,33,33,null,null,null,null,null,null,null,null,null,{"$f":"Control!$C$20+Control!$C$21*A5035+Control!$C$22*A5035^2","v":1490.2358903118527}]
[5038,36,36,null,null,null,null,null,null,null,null,null,{"$f":"Control!$C$20+Control!$C$21*A5038+Control!$C$22*A5038^2","v":1491.1269763033522}]
[5041,28,28,null,null,null,null,null,null,null,null,null,{"$f":"Control!$C$20+Control!$C$21*A5041+Control!$C$22*A5041^2","v":1492.0180631555711}]
[5044,19,19,null,null,null,null,null,null,null,null,null,{"$f":"Control!$C$20+Control!$C$21*A5044+Control!$C$22*A5044^2","v":1492.9091508685094}]
[5045,31,31,null,null,null,null,null,null,null,null,null,{"$f":"Control!$C$20+Control!$C$21*A5045+Control!$C$22*A5045^2","v":1493.2061802974265}]
[5048,30,30,null,null,null,null,null,null,null,null,null,{"$f":"Control!$C$20+Control!$C$21*A5048+Control!$C$22*A5048^2","v":1494.0972691579909}]
[5051,42,42,null,null,null,null,null,null,null,null,null,{"$f":"Control!$C$20+Control!$C$21*A5051+Control!$C$22*A5051^2","v":1494.9883588792748}]
[5054,31,31,null,null,null,null,null,null,null,null,null,{"$f":"Control!$C$20+Control!$C$21*A5054+Control!$C$22*A5054^2","v":1495.8794494612782}]
[5057,34,34,null,null,null,null,null,null,null,null,null,{"$f":"Control!$C$20+Control!$C$21*A5057+Control!$C$22*A5057^2","v":1496.7705409040011}]
[5061,95,91,64,null,null,null,null,null,null,null,null,{"$f":"Control!$C$20+Control!$C$21*A5061+Control!$C$22*A5061^2","v":1497.9586641665285}]
[5064,569,536,538,null,null,null,null,null,null,null,null,{"$f":"Control!$C$20+Control!$C$21*A5064+Control!$C$22*A5064^2","v":1498.8497576175969}]
[5067,1410,1455,1379,null,null,null,null,null,null,null,null,{"$f":"Control!$C$20+Control!$C$21*A5067+Control!$C$22*A5067^2","v":1499.7408519293847}]
[5068,1480,1468,1449,null,null,null,null,null,null,null,null,{"$f":"Control!$C$20+Control!$C$21*A5068+Control!$C$22*A5068^2","v":1500.0378835579183}]
[5071,791,772,760,null,null,null,null,null,null,null,null,{"$f":"Control!$C$20+Control!$C$21*A5071+Control!$C$22*A5071^2","v":1500.9289790173323}]
[5075,82,83,51,null,null,null,null,null,null,null,null,{"$f":"Control!$C$20+Control!$C$21*A5075+Control!$C$22*A5075^2","v":1502.1171076354476}]
[5077,27,27,null,null,null,null,null,null,null,null,null,{"$f":"Control!$C$20+Control!$C$21*A5077+Control!$C$22*A5077^2","v":1502.7111725183183}]
[5080,27,27,null,null,null,null,null,null,null,null,null,{"$f":"Control!$C$20+Control!$C$21*A5080+Control!$C$22*A5080^2","v":1503.6022705598907}]
[5084,32,32,null,null,null,null,null,null,null,null,null,{"$f":"Control!$C$20+Control!$C$21*A5084+Control!$C$22*A5084^2","v":1504.7904026208842}]
[5087,22,22,null,null,null,null,null,null,null,null,null,{"$f":"Control!$C$20+Control!$C$21*A5087+Control!$C$22*A5087^2","v":1505.681502670802}]
[5090,33,33,null,null,null,null,null,null,null,null,null,{"$f":"Control!$C$20+Control!$C$21*A5090+Control!$C$22*A5090^2","v":1506.5726035814394}]
[5091,30,30,null,null,null,null,null,null,null,null,null,{"$f":"Control!$C$20+Control!$C$21*A5091+Control!$C$22*A5091^2","v":1506.8696374095894}]
[5094,35,35,null,null,null,null,null,null,null,null,null,{"$f":"Control!$C$20+Control!$C$21*A5094+Control!$C$22*A5094^2","v":1507.7607394678528}]
[5097,51,51,null,null,null,null,null,null,null,null,null,{"$f":"Control!$C$20+Control!$C$21*A5097+Control!$C$22*A5097^2","v":1508.6518423868356}]
[5100,61,61,null,null,null,null,null,null,null,null,null,{"$f":"Control!$C$20+Control!$C$21*A5100+Control!$C$22*A5100^2","v":1509.5429461665378}]
[5103,48,48,null,null,null,null,null,null,null,null,null,{"$f":"Control!$C$20+Control!$C$21*A5103+Control!$C$22*A5103^2","v":1510.4340508069597}]
[5107,40,40,null,null,null,null,null,null,null,null,null,{"$f":"Control!$C$20+Control!$C$21*A5107+Control!$C$22*A5107^2","v":1511.622191666419}]
[5110,28,28,null,null,null,null,null,null,null,null,null,{"$f":"Control!$C$20+Control!$C$21*A5110+Control!$C$22*A5110^2","v":1512.5132983151864}]
[5113,41,41,null,null,null,null,null,null,null,null,null,{"$f":"Control!$C$20+Control!$C$21*A5113+Control!$C$22*A5113^2","v":1513.4044058246732}]
[5115,25,25,null,null,null,null,null,null,null,null,null,{"$f":"Control!$C$20+Control!$C$21*A5115+Control!$C$22*A5115^2","v":1513.9984779758418}]
[5116,24,24,null,null,null,null,null,null,null,null,null,{"$f":"Control!$C$20+Control!$C$21*A5116+Control!$C$22*A5116^2","v":1514.2955141948794}]
[5120,36,36,null,null,null,null,null,null,null,null,null,{"$f":"Control!$C$20+Control!$C$21*A5120+Control!$C$22*A5120^2","v":1515.4836600273848}]
[5123,31,31,null,null,null,null,null,null,null,null,null,{"$f":"Control!$C$20+Control!$C$21*A5123+Control!$C$22*A5123^2","v":1516.3747704059365}]
[5126,23,23,null,null,null,null,null,null,null,null,null,{"$f":"Control!$C$20+Control!$C$21*A5126+Control!$C$22*A5126^2","v":1517.2658816452079}]
[5130,30,30,null,null,null,null,null,null,null,null,null,{"$f":"Control!$C$20+Control!$C$21*A5130+Control!$C$22*A5130^2","v":1518.4540313031332}]
[5133,32,32,null,null,null,null,null,null,null,null,null,{"$f":"Control!$C$20+Control!$C$21*A5133+Control!$C$22*A5133^2","v":1519.3451445507499}]
[5134,28,28,null,null,null,null,null,null,null,null,null,{"$f":"Control!$C$20+Control!$C$21*A5134+Control!$C$22*A5134^2","v":1519.6421824912265}]
[5136,27,27,null,null,null,null,null,null,null,null,null,{"$f":"Control!$C$20+Control!$C$21*A5136+Control!$C$22*A5136^2","v":1520.2362586590862}]
[5139,24,24,null,null,null,null,null,null,null,null,null,{"$f":"Control!$C$20+Control!$C$21*A5139+Control!$C$22*A5139^2","v":1521.1273736281419}]
[5143,27,27,null,null,null,null,null,null,null,null,null,{"$f":"Control!$C$20+Control!$C$21*A5143+Control!$C$22*A5143^2","v":1522.3155282591133}]
[5146,17,17,null,null,null,null,null,null,null,null,null,{"$f":"Control!$C$20+Control!$C$21*A5146+Control!$C$22*A5146^2","v":1523.2066452365145}]
[5149,20,20,null,null,null,null,null,null,null,null,null,{"$f":"Control!$C$20+Control!$C$21*A5149+Control!$C$22*A5149^2","v":1524.0977630746352}]
[5153,17,17,null,null,null,null,null,null,null,null,null,{"$f":"Control!$C$20+Control!$C$21*A5153+Control!$C$22*A5153^2","v":1525.2859215310266}]
[5155,29,29,null,null,null,null,null,null,null,null,null,{"$f":"Control!$C$20+Control!$C$21*A5155+Control!$C$22*A5155^2","v":1525.8800013330351}]
[5156,27,27,null,null,null,null,null,null,null,null,null,{"$f":"Control!$C$20+Control!$C$21*A5156+Control!$C$22*A5156^2","v":1526.1770413774927}]
[5159,23,23,null,null,null,null,null,null,null,null,null,{"$f":"Control!$C$20+Control!$C$21*A5159+Control!$C$22*A5159^2","v":1527.0681620846785}]
[5162,30,30,null,null,null,null,null,null,null,null,null,{"$f":"Control!$C$20+Control!$C$21*A5162+Control!$C$22*A5162^2","v":1527.9592836525837}]
[5166,24,24,null,null,null,null,null,null,null,null,null,{"$f":"Control!$C$20+Control!$C$21*A5166+Control!$C$22*A5166^2","v":1529.147447082021}]
[5169,28,28,null,null,null,null,null,null,null,null,null,{"$f":"Control!$C$20+Control!$C$21*A5169+Control!$C$22*A5169^2","v":1530.0385706582717}]
[5172,31,31,null,null,null,null,null,null,null,null,null,{"$f":"Control!$C$20+Control!$C$21*A5172+Control!$C$22*A5172^2","v":1530.9296950952419}]
[5174,26,26,null,null,null,null,null,null,null,null,null,{"$f":"Control!$C$20+Control!$C$21*A5174+Control!$C$22*A5174^2","v":1531.5237785313996}]
[5178,27,27,null,null,null,null,null,null,null,null,null,{"$f":"Control!$C$20+Control!$C$21*A5178+Control!$C$22*A5178^2","v":1532.7119465513408}]
[5179,23,23,null,null,null,null,null,null,null,null,null,{"$f":"Control!$C$20+Control!$C$21*A5179+Control!$C$22*A5179^2","v":1533.0089887954148}]
[5182,22,22,null,null,null,null,null,null,null,null,null,{"$f":"Control!$C$20+Control!$C$21*A5182+Control!$C$22*A5182^2","v":1533.9001161014501}]
[5185,24,24,null,null,null,null,null,null,null,null,null,{"$f":"Control!$C$20+Control!$C$21*A5185+Control!$C$22*A5185^2","v":1534.7912442682048}]
[5189,33,33,null,null,null,null,null,null,null,null,null,{"$f":"Control!$C$20+Control!$C$21*A5189+Control!$C$22*A5189^2","v":1535.9794164961079}]
[5192,31,31,null,null,null,null,null,null,null,null,null,{"$f":"Control!$C$20+Control!$C$21*A5192+Control!$C$22*A5192^2","v":1536.8705466712081}]
[5195,57,52,30,null,null,null,null,null,null,null,null,{"$f":"Control!$C$20+Control!$C$21*A5195+Control!$C$22*A5195^2","v":1537.7616777070277}]
[5198,332,306,305,null,null,null,null,null,null,null,null,{"$f":"Control!$C$20+Control!$C$21*A5198+Control!$C$22*A5198^2","v":1538.652809603567}]
[5201,1011,1017,984,null,null,null,null,null,null,null,null,{"$f":"Control!$C$20+Control!$C$21*A5201+Control!$C$22*A5201^2","v":1539.5439423608257}]
[5202,1151,1159,1124,null,null,null,null,null,null,null,null,{"$f":"Control!$C$20+Control!$C$21*A5202+Control!$C$22*A5202^2","v":1539.8409868045162}]
[5205,802,777,775,null,null,null,null,null,null,null,null,{"$f":"Control!$C$20+Control!$C$21*A5205+Control!$C$22*A5205^2","v":1540.7321207094008}]
[5208,194,199,167,null,null,null,null,null,null,null,null,{"$f":"Control!$C$20+Control!$C$21*A5208+Control!$C$22*A5208^2","v":1541.623255475005}]
[5212,30,30,null,null,null,null,null,null,null,null,null,{"$f":"Control!$C$20+Control!$C$21*A5212+Control!$C$22*A5212^2","v":1542.8114365013741}]
[5214,35,35,null,null,null,null,null,null,null,null,null,{"$f":"Control!$C$20+Control!$C$21*A5214+Control!$C$22*A5214^2","v":1543.4055275883718}]
[5218,29,29,null,null,null,null,null,null,null,null,null,{"$f":"Control!$C$20+Control!$C$21*A5218+Control!$C$22*A5218^2","v":1544.593710909993}]
[5221,23,23,null,null,null,null,null,null,null,null,null,{"$f":"Control!$C$20+Control!$C$21*A5221+Control!$C$22*A5221^2","v":1545.4848494053815}]
[5224,23,23,null,null,null,null,null,null,null,null,null,{"$f":"Control!$C$20+Control!$C$21*A5224+Control!$C$22*A5224^2","v":1546.3759887614897}]
[5225,29,29,null,null,null,null,null,null,null,null,null,{"$f":"Control!$C$20+Control!$C$21*A5225+Control!$C$22*A5225^2","v":1546.6730354047968}]
[5228,27,27,null,null,null,null,null,null,null,null,null,{"$f":"Control!$C$20+Control!$C$21*A5228+Control!$C$22*A5228^2","v":1547.5641759085308}]
[5231,30,30,null,null,null,null,null,null,null,null,null,{"$f":"Control!$C$20+Control!$C$21*A5231+Control!$C$22*A5231^2","v":1548.4553172729845}]
[5234,25,25,null,null,null,null,null,null,null,null,null,{"$f":"Control!$C$20+Control!$C$21*A5234+Control!$C$22*A5234^2","v":1549.3464594981576}]
[5237,22,22,null,null,null,null,null,null,null,null,null,{"$f":"Control!$C$20+Control!$C$21*A5237+Control!$C$22*A5237^2","v":1550.2376025840501}]
[5241,21,21,null,null,null,null,null,null,null,null,null,{"$f":"Control!$C$20+Control!$C$21*A5241+Control!$C$22*A5241^2","v":1551.4257947041374}]
[5244,17,17,null,null,null,null,null,null,null,null,null,{"$f":"Control!$C$20+Control!$C$21*A5244+Control!$C$22*A5244^2","v":1552.3169397983754}]
[5247,21,21,null,null,null,null,null,null,null,null,null,{"$f":"Control!$C$20+Control!$C$21*A5247+Control!$C$22*A5247^2","v":1553.2080857533331}]
[5248,25,25,null,null,null,null,null,null,null,null,null,{"$f":"Control!$C$20+Control!$C$21*A5248+Control!$C$22*A5248^2","v":1553.5051345962565}]
[5252,29,29,null,null,null,null,null,null,null,null,null,{"$f":"Control!$C$20+Control!$C$21*A5252+Control!$C$22*A5252^2","v":1554.6933309243057}]
[5254,20,20,null,null,null,null,null,null,null,null,null,{"$f":"Control!$C$20+Control!$C$21*A5254+Control!$C$22*A5254^2","v":1555.2874296621433}]
[5257,26,26,null,null,null,null,null,null,null,null,null,{"$f":"Control!$C$20+Control!$C$21*A5257+Control!$C$22*A5257^2","v":1556.1785784861659}]
[5260,25,25,null,null,null,null,null,null,null,null,null,{"$f":"Control!$C$20+Control!$C$21*A5260+Control!$C$22*A5260^2","v":1557.0697281709079}]
[5264,29,29,null,null,null,null,null,null,null,null,null,{"$f":"Control!$C$20+Control!$C$21*A5264+Control!$C$22*A5264^2","v":1558.257929089461}]
[5267,32,32,null,null,null,null,null,null,null,null,null,{"$f":"Control!$C$20+Control!$C$21*A5267+Control!$C$22*A5267^2","v":1559.1490807825485}]
[5270,31,31,null,null,null,null,null,null,null,null,null,{"$f":"Control!$C$20+Control!$C$21*A5270+Control!$C$22*A5270^2","v":1560.0402333363556}]
[5271,19,19,null,null,null,null,null,null,null,null,null,{"$f":"Control!$C$20+Control!$C$21*A5271+Control!$C$22*A5271^2","v":1560.3372843788957}]
[5273,28,28,null,null,null,null,null,null,null,null,null,{"$f":"Control!$C$20+Control!$C$21*A5273+Control!$C$22*A5273^2","v":1560.9313867508822}]
[5277,20,20,null,null,null,null,null,null,null,null,null,{"$f":"Control!$C$20+Control!$C$21*A5277+Control!$C$22*A5277^2","v":1562.1195926424812}]
[5280,29,29,null,null,null,null,null,null,null,null,null,{"$f":"Control!$C$20+Control!$C$21*A5280+Control!$C$22*A5280^2","v":1563.0107480653533}]
[5283,24,24,null,null,null,null,null,null,null,null,null,{"$f":"Control!$C$20+Control!$C$21*A5283+Control!$C$22*A5283^2","v":1563.9019043489448}]
[5287,31,31,null,null,null,null,null,null,null,null,null,{"$f":"Control!$C$20+Control!$C$21*A5287+Control!$C$22*A5287^2","v":1565.0901140659639}]
[5290,27,27,null,null,null,null,null,null,null,null,null,{"$f":"Control!$C$20+Control!$C$21*A5290+Control!$C$22*A5290^2","v":1565.9812723579009}]
[5292,36,36,null,null,null,null,null,null,null,null,null,{"$f":"Control!$C$20+Control!$C$21*A5292+Control!$C$22*A5292^2","v":1566.5753783640364}]
[5293,16,16,null,null,null,null,null,null,null,null,null,{"$f":"Control!$C$20+Control!$C$21*A5293+Control!$C$22*A5293^2","v":1566.8724315105574}]
[5296,21,21,null,null,null,null,null,null,null,null,null,{"$f":"Control!$C$20+Control!$C$21*A5296+Control!$C$22*A5296^2","v":1567.7635915239334}]
[5300,20,20,null,null,null,null,null,null,null,null,null,{"$f":"Control!$C$20+Control!$C$21*A5300+Control!$C$22*A5300^2","v":1568.9518062139985}]
[5303,33,33,null,null,null,null,null,null,null,null,null,{"$f":"Control!$C$20+Control!$C$21*A5303+Control!$C$22*A5303^2","v":1569.84296823572}]
[5306,28,28,null,null,null,null,null,null,null,null,null,{"$f":"Control!$C$20+Control!$C$21*A5306+Control!$C$22*A5306^2","v":1570.734131118161}]
[5310,19,19,null,null,null,null,null,null,null,null,null,{"$f":"Control!$C$20+Control!$C$21*A5310+Control!$C$22*A5310^2","v":1571.922349633646}]
[5311,23,23,null,null,null,null,null,null,null,null,null,{"$f":"Control!$C$20+Control!$C$21*A5311+Control!$C$22*A5311^2","v":1572.219404501606}]
[5313,27,27,null,null,null,null,null,null,null,null,null,{"$f":"Control!$C$20+Control!$C$21*A5313+Control!$C$22*A5313^2","v":1572.8135145244325}]
[5316,13,13,null,null,null,null,null,null,null,null,null,{"$f":"Control!$C$20+Control!$C$21*A5316+Control!$C$22*A5316^2","v":1573.7046802759385}]
[5319,30,30,null,null,null,null,null,null,null,null,null,{"$f":"Control!$C$20+Control!$C$21*A5319+Control!$C$22*A5319^2","v":1574.595846888164}]
[5323,24,24,null,null,null,null,null,null,null,null,null,{"$f":"Control!$C$20+Control!$C$21*A5323+Control!$C$22*A5323^2","v":1575.7840703766949}]
[5326,21,21,null,null,null,null,null,null,null,null,null,{"$f":"Control!$C$20+Control!$C$21*A5326+Control!$C$22*A5326^2","v":1576.675238997266}]
[5329,42,38,13,null,null,null,null,null,null,null,null,{"$f":"Control!$C$20+Control!$C$21*A5329+Control!$C$22*A5329^2","v":1577.5664084785565}]
[5332,185,208,156,null,null,null,null,null,null,null,null,{"$f":"Control!$C$20+Control!$C$21*A5332+Control!$C$22*A5332^2","v":1578.4575788205664}]
[5335,656,621,627,null,null,null,null,null,null,null,null,{"$f":"Control!$C$20+Control!$C$21*A5335+Control!$C$22*A5335^2","v":1579.3487500232959}]
[5336,805,833,776,null,null,null,null,null,null,null,null,{"$f":"Control!$C$20+Control!$C$21*A5336+Control!$C$22*A5336^2","v":1579.6458072821433}]
[5339,720,725,691,null,null,null,null,null,null,null,null,{"$f":"Control!$C$20+Control!$C$21*A5339+Control!$C$22*A5339^2","v":1580.5369796324987}]
[5342,228,224,199,null,null,null,null,null,null,null,null,{"$f":"Control!$C$20+Control!$C$21*A5342+Control!$C$22*A5342^2","v":1581.4281528435738}]
[5346,30,30,null,null,null,null,null,null,null,null,null,{"$f":"Control!$C$20+Control!$C$21*A5346+Control!$C$22*A5346^2","v":1582.6163851305707}]
[5349,38,38,null,null,null,null,null,null,null,null,null,{"$f":"Control!$C$20+Control!$C$21*A5349+Control!$C$22*A5349^2","v":1583.5075603499911}]
[5351,37,37,null,null,null,null,null,null,null,null,null,{"$f":"Control!$C$20+Control!$C$21*A5351+Control!$C$22*A5351^2","v":1584.1016776411157}]
[5355,22,22,null,null,null,null,null,null,null,null,null,{"$f":"Control!$C$20+Control!$C$21*A5355+Control!$C$22*A5355^2","v":1585.2899133709905}]
[5358,23,23,null,null,null,null,null,null,null,null,null,{"$f":"Control!$C$20+Control!$C$21*A5358+Control!$C$22*A5358^2","v":1586.1810911725695}]
[5359,21,21,null,null,null,null,null,null,null,null,null,{"$f":"Control!$C$20+Control!$C$21*A5359+Control!$C$22*A5359^2","v":1586.4781506310335}]
[5362,49,49,null,null,null,null,null,null,null,null,null,{"$f":"Control!$C$20+Control!$C$21*A5362+Control!$C$22*A5362^2","v":1587.3693295802384}]
[5365,56,56,null,null,null,null,null,null,null,null,null,{"$f":"Control!$C$20+Control!$C$21*A5365+Control!$C$22*A5365^2","v":1588.2605093901627}]
[5369,45,45,null,null,null,null,null,null,null,null,null,{"$f":"Control!$C$20+Control!$C$21*A5369+Control!$C$22*A5369^2","v":1589.4487504756257}]
[5372,22,22,null,null,null,null,null,null,null,null,null,{"$f":"Control!$C$20+Control!$C$21*A5372+Control!$C$22*A5372^2","v":1590.3399322938956}]
[5375,29,29,null,null,null,null,null,null,null,null,null,{"$f":"Control!$C$20+Control!$C$21*A5375+Control!$C$22*A5375^2","v":1591.2311149728851}]
[5378,57,57,null,null,null,null,null,null,null,null,null,{"$f":"Control!$C$20+Control!$C$21*A5378+Control!$C$22*A5378^2","v":1592.1222985125939}]
[5381,39,39,null,null,null,null,null,null,null,null,null,{"$f":"Control!$C$20+Control!$C$21*A5381+Control!$C$22*A5381^2","v":1593.0134829130222}]
[5382,39,39,null,null,null,null,null,null,null,null,null,{"$f":"Control!$C$20+Control!$C$21*A5382+Control!$C$22*A5382^2","v":1593.3105445711028}]
[5385,13,13,null,null,null,null,null,null,null,null,null,{"$f":"Control!$C$20+Control!$C$21*A5385+Control!$C$22*A5385^2","v":1594.2017301191572}]
[5389,24,24,null,null,null,null,null,null,null,null,null,{"$f":"Control!$C$20+Control!$C$21*A5389+Control!$C$22*A5389^2","v":1595.38997885546}]
[5391,22,22,null,null,null,null,null,null,null,null,null,{"$f":"Control!$C$20+Control!$C$21*A5391+Control!$C$22*A5391^2","v":1595.9841037974245}]
[5394,28,28,null,null,null,null,null,null,null,null,null,{"$f":"Control!$C$20+Control!$C$21*A5394+Control!$C$22*A5394^2","v":1596.8752919276374}]
[5398,24,24,null,null,null,null,null,null,null,null,null,{"$f":"Control!$C$20+Control!$C$21*A5398+Control!$C$22*A5398^2","v":1598.0635441068182}]
[5401,22,22,null,null,null,null,null,null,null,null,null,{"$f":"Control!$C$20+Control!$C$21*A5401+Control!$C$22*A5401^2","v":1598.9547342453766}]
[5404,22,22,null,null,null,null,null,null,null,null,null,{"$f":"Control!$C$20+Control!$C$21*A5404+Control!$C$22*A5404^2","v":1599.8459252446544}]
[5405,28,28,null,null,null,null,null,null,null,null,null,{"$f":"Control!$C$20+Control!$C$21*A5405+Control!$C$22*A5405^2","v":1600.1429891023513}]
[5408,28,28,null,null,null,null,null,null,null,null,null,{"$f":"Control!$C$20+Control!$C$21*A5408+Control!$C$22*A5408^2","v":1601.0341812492552}]
[5412,27,27,null,null,null,null,null,null,null,null,null,{"$f":"Control!$C$20+Control!$C$21*A5412+Control!$C$22*A5412^2","v":1602.222438784024}]
[5414,21,21,null,null,null,null,null,null,null,null,null,{"$f":"Control!$C$20+Control!$C$21*A5414+Control!$C$22*A5414^2","v":1602.8165681252215}]
[5417,23,23,null,null,null,null,null,null,null,null,null,{"$f":"Control!$C$20+Control!$C$21*A5417+Control!$C$22*A5417^2","v":1603.7077628542838}]
[5421,18,18,null,null,null,null,null,null,null,null,null,{"$f":"Control!$C$20+Control!$C$21*A5421+Control!$C$22*A5421^2","v":1604.8960238319305}]
[5424,19,19,null,null,null,null,null,null,null,null,null,{"$f":"Control!$C$20+Control!$C$21*A5424+Control!$C$22*A5424^2","v":1605.7872205693384}]
[5427,18,18,null,null,null,null,null,null,null,null,null,{"$f":"Control!$C$20+Control!$C$21*A5427+Control!$C$22*A5427^2","v":1606.6784181674657}]
[5428,21,21,null,null,null,null,null,null,null,null,null,{"$f":"Control!$C$20+Control!$C$21*A5428+Control!$C$22*A5428^2","v":1606.9754842247792}]
[5431,30,30,null,null,null,null,null,null,null,null,null,{"$f":"Control!$C$20+Control!$C$21*A5431+Control!$C$22*A5431^2","v":1607.8666829705326}]
[5434,27,27,null,null,null,null,null,null,null,null,null,{"$f":"Control!$C$20+Control!$C$21*A5434+Control!$C$22*A5434^2","v":1608.7578825770054}]
[5437,14,14,null,null,null,null,null,null,null,null,null,{"$f":"Control!$C$20+Control!$C$21*A5437+Control!$C$22*A5437^2","v":1609.6490830441976}]
[5440,19,19,null,null,null,null,null,null,null,null,null,{"$f":"Control!$C$20+Control!$C$21*A5440+Control!$C$22*A5440^2","v":1610.5402843721095}]
[5444,28,28,null,null,null,null,null,null,null,null,null,{"$f":"Control!$C$20+Control!$C$21*A5444+Control!$C$22*A5444^2","v":1611.7285541482222}]
[5447,18,18,null,null,null,null,null,null,null,null,null,{"$f":"Control!$C$20+Control!$C$21*A5447+Control!$C$22*A5447^2","v":1612.6197574844796}]
[5448,30,30,null,null,null,null,null,null,null,null,null,{"$f":"Control!$C$20+Control!$C$21*A5448+Control!$C$22*A5448^2","v":1612.9168254545029}]
[5452,22,22,null,null,null,null,null,null,null,null,null,{"$f":"Control!$C$20+Control!$C$21*A5452+Control!$C$22*A5452^2","v":1614.1050982909517}]
[5453,23,23,null,null,null,null,null,null,null,null,null,{"$f":"Control!$C$20+Control!$C$21*A5453+Control!$C$22*A5453^2","v":1614.4021667391526}]
[5457,27,27,null,null,null,null,null,null,null,null,null,{"$f":"Control!$C$20+Control!$C$21*A5457+Control!$C$22*A5457^2","v":1615.5904414883114}]
[5460,27,27,null,null,null,null,null,null,null,null,null,{"$f":"Control!$C$20+Control!$C$21*A5460+Control!$C$22*A5460^2","v":1616.4816485543531}]
[5463,21,21,null,null,null,null,null,null,null,null,null,{"$f":"Control!$C$20+Control!$C$21*A5463+Control!$C$22*A5463^2","v":1617.3728564811145}]
[5467,25,25,null,null,null,null,null,null,null,null,null,{"$f":"Control!$C$20+Control!$C$21*A5467+Control!$C$22*A5467^2","v":1618.5611350556931}]
[5470,29,29,null,null,null,null,null,null,null,null,null,{"$f":"Control!$C$20+Control!$C$21*A5470+Control!$C$22*A5470^2","v":1619.4523449907999}]
[5471,31,31,null,null,null,null,null,null,null,null,null,{"$f":"Control!$C$20+Control!$C$21*A5471+Control!$C$22*A5471^2","v":1619.7494151604399}]
[5473,44,44,null,null,null,null,null,null,null,null,null,{"$f":"Control!$C$20+Control!$C$21*A5473+Control!$C$22*A5473^2","v":1620.3435557866262}]
[5476,38,38,null,null,null,null,null,null,null,null,null,{"$f":"Control!$C$20+Control!$C$21*A5476+Control!$C$22*A5476^2","v":1621.2347674431719}]
[5480,24,24,null,null,null,null,null,null,null,null,null,{"$f":"Control!$C$20+Control!$C$21*A5480+Control!$C$22*A5480^2","v":1622.4230509907966}]
[5483,102,94,78,null,null,null,null,null,null,null,null,{"$f":"Control!$C$20+Control!$C$21*A5483+Control!$C$22*A5483^2","v":1623.3142646556878}]
[5486,384,374,360,null,null,null,null,null,null,null,null,{"$f":"Control!$C$20+Control!$C$21*A5486+Control!$C$22*A5486^2","v":1624.2054791812986}]
[5490,525,515,501,null,null,null,null,null,null,null,null,{"$f":"Control!$C$20+Control!$C$21*A5490+Control!$C$22*A5490^2","v":1625.3937665543433}]
[5492,308,361,284,null,null,null,null,null,null,null,null,{"$f":"Control!$C$20+Control!$C$21*A5492+Control!$C$22*A5492^2","v":1625.9879108146786}]
[5493,202,199,178,null,null,null,null,null,null,null,null,{"$f":"Control!$C$20+Control!$C$21*A5493+Control!$C$22*A5493^2","v":1626.2849830882994}]
[5496,45,44,21,null,null,null,null,null,null,null,null,{"$f":"Control!$C$20+Control!$C$21*A5496+Control!$C$22*A5496^2","v":1627.1762004829752}]
[5499,32,32,null,null,null,null,null,null,null,null,null,{"$f":"Control!$C$20+Control!$C$21*A5499+Control!$C$22*A5499^2","v":1628.0674187383704}]
[5503,29,29,null,null,null,null,null,null,null,null,null,{"$f":"Control!$C$20+Control!$C$21*A5503+Control!$C$22*A5503^2","v":1629.2557110844612}]
[5506,31,31,null,null,null,null,null,null,null,null,null,{"$f":"Control!$C$20+Control!$C$21*A5506+Control!$C$22*A5506^2","v":1630.1469313482019}]
[5510,35,35,null,null,null,null,null,null,null,null,null,{"$f":"Control!$C$20+Control!$C$21*A5510+Control!$C$22*A5510^2","v":1631.3352263720865}]
[5511,31,31,null,null,null,null,null,null,null,null,null,{"$f":"Control!$C$20+Control!$C$21*A5511+Control!$C$22*A5511^2","v":1631.6323003671464}]
[5515,24,24,null,null,null,null,null,null,null,null,null,{"$f":"Control!$C$20+Control!$C$21*A5515+Control!$C$22*A5515^2","v":1632.8205973037409}]
[5516,18,18,null,null,null,null,null,null,null,null,null,{"$f":"Control!$C$20+Control!$C$21*A5516+Control!$C$22*A5516^2","v":1633.1176717769783}]
[5519,33,33,null,null,null,null,null,null,null,null,null,{"$f":"Control!$C$20+Control!$C$21*A5519+Control!$C$22*A5519^2","v":1634.0088957705036}]
[5522,23,23,null,null,null,null,null,null,null,null,null,{"$f":"Control!$C$20+Control!$C$21*A5522+Control!$C$22*A5522^2","v":1634.9001206247483}]
[5526,29,29,null,null,null,null,null,null,null,null,null,{"$f":"Control!$C$20+Control!$C$21*A5526+Control!$C$22*A5526^2","v":1636.0884217693049}]
[5529,27,27,null,null,null,null,null,null,null,null,null,{"$f":"Control!$C$20+Control!$C$21*A5529+Control!$C$22*A5529^2","v":1636.9796486318951}]
[5532,17,17,null,null,null,null,null,null,null,null,null,{"$f":"Control!$C$20+Control!$C$21*A5532+Control!$C$22*A5532^2","v":1637.8708763552047}]
[5535,31,31,null,null,null,null,null,null,null,null,null,{"$f":"Control!$C$20+Control!$C$21*A5535+Control!$C$22*A5535^2","v":1638.762104939234}]
[5538,21,21,null,null,null,null,null,null,null,null,null,{"$f":"Control!$C$20+Control!$C$21*A5538+Control!$C$22*A5538^2","v":1639.6533343839826}]
[5539,30,30,null,null,null,null,null,null,null,null,null,{"$f":"Control!$C$20+Control!$C$21*A5539+Control!$C$22*A5539^2","v":1639.9504110568364}]
[5542,20,20,null,null,null,null,null,null,null,null,null,{"$f":"Control!$C$20+Control!$C$21*A5542+Control!$C$22*A5542^2","v":1640.8416416492112}]
[5546,24,24,null,null,null,null,null,null,null,null,null,{"$f":"Control!$C$20+Control!$C$21*A5546+Control!$C$22*A5546^2","v":1642.0299504446077}]
[5549,26,26,null,null,null,null,null,null,null,null,null,{"$f":"Control!$C$20+Control!$C$21*A5549+Control!$C$22*A5549^2","v":1642.9211830453278}]
[5551,13,13,null,null,null,null,null,null,null,null,null,{"$f":"Control!$C$20+Control!$C$21*A5551+Control!$C$22*A5551^2","v":1643.5153385906522}]
[5555,24,24,null,null,null,null,null,null,null,null,null,{"$f":"Control!$C$20+Control!$C$21*A5555+Control!$C$22*A5555^2","v":1644.7036508289266}]
[5558,24,24,null,null,null,null,null,null,null,null,null,{"$f":"Control!$C$20+Control!$C$21*A5558+Control!$C$22*A5558^2","v":1645.5948860118053}]
[5561,14,14,null,null,null,null,null,null,null,null,null,{"$f":"Control!$C$20+Control!$C$21*A5561+Control!$C$22*A5561^2","v":1646.4861220554035}]
[5562,22,22,null,null,null,null,null,null,null,null,null,{"$f":"Control!$C$20+Control!$C$21*A5562+Control!$C$22*A5562^2","v":1646.7832009278738}]
[5565,22,22,null,null,null,null,null,null,null,null,null,{"$f":"Control!$C$20+Control!$C$21*A5565+Control!$C$22*A5565^2","v":1647.6744381190979}]
[5569,22,22,null,null,null,null,null,null,null,null,null,{"$f":"Control!$C$20+Control!$C$21*A5569+Control!$C$22*A5569^2","v":1648.8627557129605}]
[5572,18,18,null,null,null,null,null,null,null,null,null,{"$f":"Control!$C$20+Control!$C$21*A5572+Control!$C$22*A5572^2","v":1649.7539949125301}]
[5574,22,22,null,null,null,null,null,null,null,null,null,{"$f":"Control!$C$20+Control!$C$21*A5574+Control!$C$22*A5574^2","v":1650.3481548570874}]
[5578,18,18,null,null,null,null,null,null,null,null,null,{"$f":"Control!$C$20+Control!$C$21*A5578+Control!$C$22*A5578^2","v":1651.5364758938279}]
[5581,15,15,null,null,null,null,null,null,null,null,null,{"$f":"Control!$C$20+Control!$C$21*A5581+Control!$C$22*A5581^2","v":1652.4277176755559}]
[5584,19,19,null,null,null,null,null,null,null,null,null,{"$f":"Control!$C$20+Control!$C$21*A5584+Control!$C$22*A5584^2","v":1653.3189603180035}]
[5585,26,26,null,null,null,null,null,null,null,null,null,{"$f":"Control!$C$20+Control!$C$21*A5585+Control!$C$22*A5585^2","v":1653.6160413900905}]
[5589,19,19,null,null,null,null,null,null,null,null,null,{"$f":"Control!$C$20+Control!$C$21*A5589+Control!$C$22*A5589^2","v":1654.8043666347928}]
[5591,15,15,null,null,null,null,null,null,null,null,null,{"$f":"Control!$C$20+Control!$C$21*A5591+Control!$C$22*A5591^2","v":1655.3985298309572}]
[5594,18,18,null,null,null,null,null,null,null,null,null,{"$f":"Control!$C$20+Control!$C$21*A5594+Control!$C$22*A5594^2","v":1656.2897753424697}]
[5597,27,27,null,null,null,null,null,null,null,null,null,{"$f":"Control!$C$20+Control!$C$21*A5597+Control!$C$22*A5597^2","v":1657.1810217147017}]
[5601,73,73,46,null,null,null,null,null,null,null,null,{"$f":"Control!$C$20+Control!$C$21*A5601+Control!$C$22*A5601^2","v":1658.3693515499083}]
[5604,218,208,191,null,null,null,null,null,null,null,null,{"$f":"Control!$C$20+Control!$C$21*A5604+Control!$C$22*A5604^2","v":1659.2605999304858}]
[5605,269,267,242,null,null,null,null,null,null,null,null,{"$f":"Control!$C$20+Control!$C$21*A5605+Control!$C$22*A5605^2","v":1659.5576829152826}]
[5608,268,276,241,null,null,null,null,null,null,null,null,{"$f":"Control!$C$20+Control!$C$21*A5608+Control!$C$22*A5608^2","v":1660.4489324434862}]
[5610,159,149,132,null,null,null,null,null,null,null,null,{"$f":"Control!$C$20+Control!$C$21*A5610+Control!$C$22*A5610^2","v":1661.0430992737995}]
[5614,36,49,9,null,null,null,null,null,null,null,null,{"$f":"Control!$C$20+Control!$C$21*A5614+Control!$C$22*A5614^2","v":1662.2314340820519}]
[5617,31,31,null,null,null,null,null,null,null,null,null,{"$f":"Control!$C$20+Control!$C$21*A5617+Control!$C$22*A5617^2","v":1663.122686192414}]
[5620,21,21,null,null,null,null,null,null,null,null,null,{"$f":"Control!$C$20+Control!$C$21*A5620+Control!$C$22*A5620^2","v":1664.0139391634955}]
[5624,21,21,null,null,null,null,null,null,null,null,null,{"$f":"Control!$C$20+Control!$C$21*A5624+Control!$C$22*A5624^2","v":1665.2022777971679}]
[5627,26,26,null,null,null,null,null,null,null,null,null,{"$f":"Control!$C$20+Control!$C$21*A5627+Control!$C$22*A5627^2","v":1666.0935327765949}]
[5629,24,24,null,null,null,null,null,null,null,null,null,{"$f":"Control!$C$20+Control!$C$21*A5629+Control!$C$22*A5629^2","v":1666.6877032410571}]
[5630,20,20,null,null,null,null,null,null,null,null,null,{"$f":"Control!$C$20+Control!$C$21*A5630+Control!$C$22*A5630^2","v":1666.9847886167415}]
[5633,28,28,null,null,null,null,null,null,null,null,null,{"$f":"Control!$C$20+Control!$C$21*A5633+Control!$C$22*A5633^2","v":1667.8760453176076}]
[5637,11,11,null,null,null,null,null,null,null,null,null,{"$f":"Control!$C$20+Control!$C$21*A5637+Control!$C$22*A5637^2","v":1669.0643889243258}]
[5640,24,24,null,null,null,null,null,null,null,null,null,{"$f":"Control!$C$20+Control!$C$21*A5640+Control!$C$22*A5640^2","v":1669.9556476335374}]
[5644,16,16,null,null,null,null,null,null,null,null,null,{"$f":"Control!$C$20+Control!$C$21*A5644+Control!$C$22*A5644^2","v":1671.1439939180498}]
[5647,24,24,null,null,null,null,null,null,null,null,null,{"$f":"Control!$C$20+Control!$C$21*A5647+Control!$C$22*A5647^2","v":1672.0352546356069}]
[5648,26,26,null,null,null,null,null,null,null,null,null,{"$f":"Control!$C$20+Control!$C$21*A5648+Control!$C$22*A5648^2","v":1672.3323417327301}]
[5650,23,23,null,null,null,null,null,null,null,null,null,{"$f":"Control!$C$20+Control!$C$21*A5650+Control!$C$22*A5650^2","v":1672.9265162138834}]
[5653,19,19,null,null,null,null,null,null,null,null,null,{"$f":"Control!$C$20+Control!$C$21*A5653+Control!$C$22*A5653^2","v":1673.8177786528793}]
[5656,24,24,null,null,null,null,null,null,null,null,null,{"$f":"Control!$C$20+Control!$C$21*A5656+Control!$C$22*A5656^2","v":1674.7090419525948}]
[5660,20,20,null,null,null,null,null,null,null,null,null,{"$f":"Control!$C$20+Control!$C$21*A5660+Control!$C$22*A5660^2","v":1675.8973943577791}]
[5663,20,20,null,null,null,null,null,null,null,null,null,{"$f":"Control!$C$20+Control!$C$21*A5663+Control!$C$22*A5663^2","v":1676.7886596658402}]
[5667,26,26,null,null,null,null,null,null,null,null,null,{"$f":"Control!$C$20+Control!$C$21*A5667+Control!$C$22*A5667^2","v":1677.9770147488184}]
[5669,21,21,null,null,null,null,null,null,null,null,null,{"$f":"Control!$C$20+Control!$C$21*A5669+Control!$C$22*A5669^2","v":1678.5711928641206}]
[5672,28,28,null,null,null,null,null,null,null,null,null,{"$f":"Control!$C$20+Control!$C$21*A5672+Control!$C$22*A5672^2","v":1679.4624607543401}]
[5673,27,27,null,null,null,null,null,null,null,null,null,{"$f":"Control!$C$20+Control!$C$21*A5673+Control!$C$22*A5673^2","v":1679.759550242351}]
[5676,18,18,null,null,null,null,null,null,null,null,null,{"$f":"Control!$C$20+Control!$C$21*A5676+Control!$C$22*A5676^2","v":1680.6508192801964}]
[5679,16,16,null,null,null,null,null,null,null,null,null,{"$f":"Control!$C$20+Control!$C$21*A5679+Control!$C$22*A5679^2","v":1681.5420891787614}]
[5683,23,23,null,null,null,null,null,null,null,null,null,{"$f":"Control!$C$20+Control!$C$21*A5683+Control!$C$22*A5683^2","v":1682.7304503824116}]
[5686,26,26,null,null,null,null,null,null,null,null,null,{"$f":"Control!$C$20+Control!$C$21*A5686+Control!$C$22*A5686^2","v":1683.6217222893222}]
[5688,27,27,null,null,null,null,null,null,null,null,null,{"$f":"Control!$C$20+Control!$C$21*A5688+Control!$C$22*A5688^2","v":1684.2159040387733}]
[5692,22,22,null,null,null,null,null,null,null,null,null,{"$f":"Control!$C$20+Control!$C$21*A5692+Control!$C$22*A5692^2","v":1685.4042686853015}]
[5695,28,28,null,null,null,null,null,null,null,null,null,{"$f":"Control!$C$20+Control!$C$21*A5695+Control!$C$22*A5695^2","v":1686.2955431743706}]
[5696,15,15,null,null,null,null,null,null,null,null,null,{"$f":"Control!$C$20+Control!$C$21*A5696+Control!$C$22*A5696^2","v":1686.5926348619978}]
[5699,20,20,null,null,null,null,null,null,null,null,null,{"$f":"Control!$C$20+Control!$C$21*A5699+Control!$C$22*A5699^2","v":1687.4839104986927}]
[5703,28,28,null,null,null,null,null,null,null,null,null,{"$f":"Control!$C$20+Control!$C$21*A5703+Control!$C$22*A5703^2","v":1688.6722793531831}]
[5706,17,17,null,null,null,null,null,null,null,null,null,{"$f":"Control!$C$20+Control!$C$21*A5706+Control!$C$22*A5706^2","v":1689.5635569982235}]
[5709,16,16,null,null,null,null,null,null,null,null,null,{"$f":"Control!$C$20+Control!$C$21*A5709+Control!$C$22*A5709^2","v":1690.4548355039833}]
[5712,28,28,null,null,null,null,null,null,null,null,null,{"$f":"Control!$C$20+Control!$C$21*A5712+Control!$C$22*A5712^2","v":1691.3461148704628}]
[5715,26,26,null,null,null,null,null,null,null,null,null,{"$f":"Control!$C$20+Control!$C$21*A5715+Control!$C$22*A5715^2","v":1692.2373950976616}]
[5718,25,25,null,null,null,null,null,null,null,null,null,{"$f":"Control!$C$20+Control!$C$21*A5718+Control!$C$22*A5718^2","v":1693.1286761855802}]
[5719,30,30,null,null,null,null,null,null,null,null,null,{"$f":"Control!$C$20+Control!$C$21*A5719+Control!$C$22*A5719^2","v":1693.425770072824}]
[5722,23,23,null,null,null,null,null,null,null,null,null,{"$f":"Control!$C$20+Control!$C$21*A5722+Control!$C$22*A5722^2","v":1694.3170523083684}]
[5726,20,20,null,null,null,null,null,null,null,null,null,{"$f":"Control!$C$20+Control!$C$21*A5726+Control!$C$22*A5726^2","v":1695.5054299613246}]
[5728,15,15,null,null,null,null,null,null,null,null,null,{"$f":"Control!$C$20+Control!$C$21*A5728+Control!$C$22*A5728^2","v":1696.0996193616156}]
[5731,13,13,null,null,null,null,null,null,null,null,null,{"$f":"Control!$C$20+Control!$C$21*A5731+Control!$C$22*A5731^2","v":1696.9909041793185}]
[5735,35,30,15,null,null,null,null,null,null,null,null,{"$f":"Control!$C$20+Control!$C$21*A5735+Control!$C$22*A5735^2","v":1698.1792852751528}]
[5738,97,95,77,null,null,null,null,null,null,null,null,{"$f":"Control!$C$20+Control!$C$21*A5738+Control!$C$22*A5738^2","v":1699.0705721012012}]
[5741,156,149,136,null,null,null,null,null,null,null,null,{"$f":"Control!$C$20+Control!$C$21*A5741+Control!$C$22*A5741^2","v":1699.9618597879689}]
[5742,150,140,130,null,null,null,null,null,null,null,null,{"$f":"Control!$C$20+Control!$C$21*A5742+Control!$C$22*A5742^2","v":1700.2589558748293}]
[5745,77,70,57,null,null,null,null,null,null,null,null,{"$f":"Control!$C$20+Control!$C$21*A5745+Control!$C$22*A5745^2","v":1701.1502447092232}]
[5749,24,23,4,null,null,null,null,null,null,null,null,{"$f":"Control!$C$20+Control!$C$21*A5749+Control!$C$22*A5749^2","v":1702.3386311606453}]
[5751,15,15,null,null,null,null,null,null,null,null,null,{"$f":"Control!$C$20+Control!$C$21*A5751+Control!$C$22*A5751^2","v":1702.9328249601695}]
[5754,19,19,null,null,null,null,null,null,null,null,null,{"$f":"Control!$C$20+Control!$C$21*A5754+Control!$C$22*A5754^2","v":1703.8241163767218}]
[5758,24,24,null,null,null,null,null,null,null,null,null,{"$f":"Control!$C$20+Control!$C$21*A5758+Control!$C$22*A5758^2","v":1705.0125062710219}]
[5761,14,14,null,null,null,null,null,null,null,null,null,{"$f":"Control!$C$20+Control!$C$21*A5761+Control!$C$22*A5761^2","v":1705.9037996959198}]
[5762,18,18,null,null,null,null,null,null,null,null,null,{"$f":"Control!$C$20+Control!$C$21*A5762+Control!$C$22*A5762^2","v":1706.2008976954901}]
[5765,20,20,null,null,null,null,null,null,null,null,null,{"$f":"Control!$C$20+Control!$C$21*A5765+Control!$C$22*A5765^2","v":1707.0921922680138}]
[5768,20,20,null,null,null,null,null,null,null,null,null,{"$f":"Control!$C$20+Control!$C$21*A5768+Control!$C$22*A5768^2","v":1707.9834877012572}]
[5771,20,20,null,null,null,null,null,null,null,null,null,{"$f":"Control!$C$20+Control!$C$21*A5771+Control!$C$22*A5771^2","v":1708.87478399522}]
[5774,13,13,null,null,null,null,null,null,null,null,null,{"$f":"Control!$C$20+Control!$C$21*A5774+Control!$C$22*A5774^2","v":1709.7660811499024}]
[5777,20,20,null,null,null,null,null,null,null,null,null,{"$f":"Control!$C$20+Control!$C$21*A5777+Control!$C$22*A5777^2","v":1710.6573791653043}]
[5781,12,12,null,null,null,null,null,null,null,null,null,{"$f":"Control!$C$20+Control!$C$21*A5781+Control!$C$22*A5781^2","v":1711.8457778580703}]
[5784,22,22,null,null,null,null,null,null,null,null,null,{"$f":"Control!$C$20+Control!$C$21*A5784+Control!$C$22*A5784^2","v":1712.7370778818176}]
[5785,17,17,null,null,null,null,null,null,null,null,null,{"$f":"Control!$C$20+Control!$C$21*A5785+Control!$C$22*A5785^2","v":1713.0341780810045}]
[5789,15,15,null,null,null,null,null,null,null,null,null,{"$f":"Control!$C$20+Control!$C$21*A5789+Control!$C$22*A5789^2","v":1714.2225798341065}]
[5790,18,18,null,null,null,null,null,null,null,null,null,{"$f":"Control!$C$20+Control!$C$21*A5790+Control!$C$22*A5790^2","v":1714.5196805114708}]
[5794,16,16,null,null,null,null,null,null,null,null,null,{"$f":"Control!$C$20+Control!$C$21*A5794+Control!$C$22*A5794^2","v":1715.7080841772829}]
[5797,10,10,null,null,null,null,null,null,null,null,null,{"$f":"Control!$C$20+Control!$C$21*A5797+Control!$C$22*A5797^2","v":1716.5993879308146}]
[5801,21,21,null,null,null,null,null,null,null,null,null,{"$f":"Control!$C$20+Control!$C$21*A5801+Control!$C$22*A5801^2","v":1717.7877942744208}]
[5804,21,21,null,null,null,null,null,null,null,null,null,{"$f":"Control!$C$20+Control!$C$21*A5804+Control!$C$22*A5804^2","v":1718.679100036298}]
[5807,17,17,null,null,null,null,null,null,null,null,null,{"$f":"Control!$C$20+Control!$C$21*A5807+Control!$C$22*A5807^2","v":1719.5704066588949}]
[5808,19,19,null,null,null,null,null,null,null,null,null,{"$f":"Control!$C$20+Control!$C$21*A5808+Control!$C$22*A5808^2","v":1719.867509057698}]
[5810,19,19,null,null,null,null,null,null,null,null,null,{"$f":"Control!$C$20+Control!$C$21*A5810+Control!$C$22*A5810^2","v":1720.4617141422111}]
[5813,21,21,null,null,null,null,null,null,null,null,null,{"$f":"Control!$C$20+Control!$C$21*A5813+Control!$C$22*A5813^2","v":1721.3530224862468}]
[5817,25,25,null,null,null,null,null,null,null,null,null,{"$f":"Control!$C$20+Control!$C$21*A5817+Control!$C$22*A5817^2","v":1722.5414349505249}]
[5820,14,14,null,null,null,null,null,null,null,null,null,{"$f":"Control!$C$20+Control!$C$21*A5820+Control!$C$22*A5820^2","v":1723.4327453029061}]
[5824,29,29,null,null,null,null,null,null,null,null,null,{"$f":"Control!$C$20+Control!$C$21*A5824+Control!$C$22*A5824^2","v":1724.6211604449782}]
[5827,19,19,null,null,null,null,null,null,null,null,null,{"$f":"Control!$C$20+Control!$C$21*A5827+Control!$C$22*A5827^2","v":1725.5124728057049}]
[5829,20,20,null,null,null,null,null,null,null,null,null,{"$f":"Control!$C$20+Control!$C$21*A5829+Control!$C$22*A5829^2","v":1726.1066815243669}]
[5830,17,17,null,null,null,null,null,null,null,null,null,{"$f":"Control!$C$20+Control!$C$21*A5830+Control!$C$22*A5830^2","v":1726.4037860271512}]
[5833,24,24,null,null,null,null,null,null,null,null,null,{"$f":"Control!$C$20+Control!$C$21*A5833+Control!$C$22*A5833^2","v":1727.295100109317}]
[5836,22,22,null,null,null,null,null,null,null,null,null,{"$f":"Control!$C$20+Control!$C$21*A5836+Control!$C$22*A5836^2","v":1728.1864150522022}]
[5840,48,48,null,null,null,null,null,null,null,null,null,{"$f":"Control!$C$20+Control!$C$21*A5840+Control!$C$22*A5840^2","v":1729.3748363149462}]
[5843,32,32,null,null,null,null,null,null,null,null,null,{"$f":"Control!$C$20+Control!$C$21*A5843+Control!$C$22*A5843^2","v":1730.2661532661768}]
[5847,23,23,null,null,null,null,null,null,null,null,null,{"$f":"Control!$C$20+Control!$C$21*A5847+Control!$C$22*A5847^2","v":1731.4545772067149}]
[5848,21,21,null,null,null,null,null,null,null,null,null,{"$f":"Control!$C$20+Control!$C$21*A5848+Control!$C$22*A5848^2","v":1731.7516834309381}]
[5852,18,18,null,null,null,null,null,null,null,null,null,{"$f":"Control!$C$20+Control!$C$21*A5852+Control!$C$22*A5852^2","v":1732.9401092841861}]
[5853,17,17,null,null,null,null,null,null,null,null,null,{"$f":"Control!$C$20+Control!$C$21*A5853+Control!$C$22*A5853^2","v":1733.2372159865868}]
[5856,20,20,null,null,null,null,null,null,null,null,null,{"$f":"Control!$C$20+Control!$C$21*A5856+Control!$C$22*A5856^2","v":1734.128536667602}]
[5860,21,21,null,null,null,null,null,null,null,null,null,{"$f":"Control!$C$20+Control!$C$21*A5860+Control!$C$22*A5860^2","v":1735.316965581186}]
[5863,21,21,null,null,null,null,null,null,null,null,null,{"$f":"Control!$C$20+Control!$C$21*A5863+Control!$C$22*A5863^2","v":1736.2082882705467}]
[5866,17,17,null,null,null,null,null,null,null,null,null,{"$f":"Control!$C$20+Control!$C$21*A5866+Control!$C$22*A5866^2","v":1737.0996118206269}]
[5869,23,25,5,null,null,null,null,null,null,null,null,{"$f":"Control!$C$20+Control!$C$21*A5869+Control!$C$22*A5869^2","v":1737.9909362314265}]
[5872,48,35,30,null,null,null,null,null,null,null,null,{"$f":"Control!$C$20+Control!$C$21*A5872+Control!$C$22*A5872^2","v":1738.8822615029458}]
[5875,83,83,65,null,null,null,null,null,null,null,null,{"$f":"Control!$C$20+Control!$C$21*A5875+Control!$C$22*A5875^2","v":1739.7735876351844}]
[5876,85,83,67,null,null,null,null,null,null,null,null,{"$f":"Control!$C$20+Control!$C$21*A5876+Control!$C$22*A5876^2","v":1740.0706965372017}]
[5879,55,45,37,null,null,null,null,null,null,null,null,{"$f":"Control!$C$20+Control!$C$21*A5879+Control!$C$22*A5879^2","v":1740.9620238170664}]
[5883,21,21,3,null,null,null,null,null,null,null,null,{"$f":"Control!$C$20+Control!$C$21*A5883+Control!$C$22*A5883^2","v":1742.1504615291162}]
[5886,18,18,null,null,null,null,null,null,null,null,null,{"$f":"Control!$C$20+Control!$C$21*A5886+Control!$C$22*A5886^2","v":1743.0417908173265}]
[5888,16,16,null,null,null,null,null,null,null,null,null,{"$f":"Control!$C$20+Control!$C$21*A5888+Control!$C$22*A5888^2","v":1743.6360108209774}]
[5892,23,23,null,null,null,null,null,null,null,null,null,{"$f":"Control!$C$20+Control!$C$21*A5892+Control!$C$22*A5892^2","v":1744.8244519759053}]
[5895,18,18,null,null,null,null,null,null,null,null,null,{"$f":"Control!$C$20+Control!$C$21*A5895+Control!$C$22*A5895^2","v":1745.715783846274}]
[5896,20,20,null,null,null,null,null,null,null,null,null,{"$f":"Control!$C$20+Control!$C$21*A5896+Control!$C$22*A5896^2","v":1746.0128946610012}]
[5899,12,12,null,null,null,null,null,null,null,null,null,{"$f":"Control!$C$20+Control!$C$21*A5899+Control!$C$22*A5899^2","v":1746.9042276789958}]
[5902,13,13,null,null,null,null,null,null,null,null,null,{"$f":"Control!$C$20+Control!$C$21*A5902+Control!$C$22*A5902^2","v":1747.79556155771}]
[5906,20,20,null,null,null,null,null,null,null,null,null,{"$f":"Control!$C$20+Control!$C$21*A5906+Control!$C$22*A5906^2","v":1748.9840080682259}]
[5909,21,21,null,null,null,null,null,null,null,null,null,{"$f":"Control!$C$20+Control!$C$21*A5909+Control!$C$22*A5909^2","v":1749.8753439552854}]
[5911,22,22,null,null,null,null,null,null,null,null,null,{"$f":"Control!$C$20+Control!$C$21*A5911+Control!$C$22*A5911^2","v":1750.4695683581695}]
[5915,20,20,null,null,null,null,null,null,null,null,null,{"$f":"Control!$C$20+Control!$C$21*A5915+Control!$C$22*A5915^2","v":1751.6580183115632}]
[5918,29,29,null,null,null,null,null,null,null,null,null,{"$f":"Control!$C$20+Control!$C$21*A5918+Control!$C$22*A5918^2","v":1752.5493567807814}]
[5919,26,26,null,null,null,null,null,null,null,null,null,{"$f":"Control!$C$20+Control!$C$21*A5919+Control!$C$22*A5919^2","v":1752.8464697951251}]
[5922,14,14,null,null,null,null,null,null,null,null,null,{"$f":"Control!$C$20+Control!$C$21*A5922+Control!$C$22*A5922^2","v":1753.7378094119692}]
[5925,21,21,null,null,null,null,null,null,null,null,null,{"$f":"Control!$C$20+Control!$C$21*A5925+Control!$C$22*A5925^2","v":1754.6291498895328}]
[5928,25,25,null,null,null,null,null,null,null,null,null,{"$f":"Control!$C$20+Control!$C$21*A5928+Control!$C$22*A5928^2","v":1755.5204912278159}]
[5931,18,18,null,null,null,null,null,null,null,null,null,{"$f":"Control!$C$20+Control!$C$21*A5931+Control!$C$22*A5931^2","v":1756.4118334268185}]
[5934,13,13,null,null,null,null,null,null,null,null,null,{"$f":"Control!$C$20+Control!$C$21*A5934+Control!$C$22*A5934^2","v":1757.3031764865407}]
[5938,16,16,null,null,null,null,null,null,null,null,null,{"$f":"Control!$C$20+Control!$C$21*A5938+Control!$C$22*A5938^2","v":1758.4916352384005}]
[5941,19,19,null,null,null,null,null,null,null,null,null,{"$f":"Control!$C$20+Control!$C$21*A5941+Control!$C$22*A5941^2","v":1759.382980306468}]
[5942,23,23,null,null,null,null,null,null,null,null,null,{"$f":"Control!$C$20+Control!$C$21*A5942+Control!$C$22*A5942^2","v":1759.6800955204283}]
[5945,21,21,null,null,null,null,null,null,null,null,null,{"$f":"Control!$C$20+Control!$C$21*A5945+Control!$C$22*A5945^2","v":1760.5714417361219}]
[5947,13,13,null,null,null,null,null,null,null,null,null,{"$f":"Control!$C$20+Control!$C$21*A5947+Control!$C$22*A5947^2","v":1761.1656730247616}]
[5951,26,26,null,null,null,null,null,null,null,null,null,{"$f":"Control!$C$20+Control!$C$21*A5951+Control!$C$22*A5951^2","v":1762.3541367496675}]
[5954,74,74,null,null,null,null,null,null,null,null,null,{"$f":"Control!$C$20+Control!$C$21*A5954+Control!$C$22*A5954^2","v":1763.2454855475196}]
[5958,196,196,null,null,null,null,null,null,null,null,null,{"$f":"Control!$C$20+Control!$C$21*A5958+Control!$C$22*A5958^2","v":1764.4339519502194}]
[5961,164,164,null,null,null,null,null,null,null,null,null,{"$f":"Control!$C$20+Control!$C$21*A5961+Control!$C$22*A5961^2","v":1765.3253027564169}]
[5964,46,46,null,null,null,null,null,null,null,null,null,{"$f":"Control!$C$20+Control!$C$21*A5964+Control!$C$22*A5964^2","v":1766.2166544233339}]
[5966,27,27,null,null,null,null,null,null,null,null,null,{"$f":"Control!$C$20+Control!$C$21*A5966+Control!$C$22*A5966^2","v":1766.8108893461228}]
[5967,18,18,null,null,null,null,null,null,null,null,null,{"$f":"Control!$C$20+Control!$C$21*A5967+Control!$C$22*A5967^2","v":1767.1080069509705}]
[5970,25,25,null,null,null,null,null,null,null,null,null,{"$f":"Control!$C$20+Control!$C$21*A5970+Control!$C$22*A5970^2","v":1767.9993603393266}]
[5974,17,17,null,null,null,null,null,null,null,null,null,{"$f":"Control!$C$20+Control!$C$21*A5974+Control!$C$22*A5974^2","v":1769.1878328626983}]
[5977,10,10,null,null,null,null,null,null,null,null,null,{"$f":"Control!$C$20+Control!$C$21*A5977+Control!$C$22*A5977^2","v":1770.0791882593999}]
[5981,14,14,null,null,null,null,null,null,null,null,null,{"$f":"Control!$C$20+Control!$C$21*A5981+Control!$C$22*A5981^2","v":1771.2676634605655}]
[5984,18,18,null,null,null,null,null,null,null,null,null,{"$f":"Control!$C$20+Control!$C$21*A5984+Control!$C$22*A5984^2","v":1772.1590208656125}]
[5985,17,17,null,null,null,null,null,null,null,null,null,{"$f":"Control!$C$20+Control!$C$21*A5985+Control!$C$22*A5985^2","v":1772.4561401918993}]
[5987,15,15,null,null,null,null,null,null,null,null,null,{"$f":"Control!$C$20+Control!$C$21*A5987+Control!$C$22*A5987^2","v":1773.050379131379}]
[5990,25,25,null,null,null,null,null,null,null,null,null,{"$f":"Control!$C$20+Control!$C$21*A5990+Control!$C$22*A5990^2","v":1773.9417382578652}]
[5993,15,15,null,null,null,null,null,null,null,null,null,{"$f":"Control!$C$20+Control!$C$21*A5993+Control!$C$22*A5993^2","v":1774.8330982450707}]
[5997,17,17,null,null,null,null,null,null,null,null,null,{"$f":"Control!$C$20+Control!$C$21*A5997+Control!$C$22*A5997^2","v":1776.0215795669083}]
[6000,13,13,null,null,null,null,null,null,null,null,null,{"$f":"Control!$C$20+Control!$C$21*A6000+Control!$C$22*A6000^2","v":1776.9129415624593}]
[6004,154,138,137,null,null,null,null,null,null,null,null,{"$f":"Control!$C$20+Control!$C$21*A6004+Control!$C$22*A6004^2","v":1778.101425562091}]
[6006,472,497,455,null,null,null,null,null,null,null,null,{"$f":"Control!$C$20+Control!$C$21*A6006+Control!$C$22*A6006^2","v":1778.6956681357199}]
[6009,1214,1212,1197,null,null,null,null,null,null,null,null,{"$f":"Control!$C$20+Control!$C$21*A6009+Control!$C$22*A6009^2","v":1779.5870327134294}]
[6010,1339,1375,1322,null,null,null,null,null,null,null,null,{"$f":"Control!$C$20+Control!$C$21*A6010+Control!$C$22*A6010^2","v":1779.8841544306035}]
[6013,928,933,911,null,null,null,null,null,null,null,null,{"$f":"Control!$C$20+Control!$C$21*A6013+Control!$C$22*A6013^2","v":1780.7755201559389}]
[6017,133,135,116,null,null,null,null,null,null,null,null,{"$f":"Control!$C$20+Control!$C$21*A6017+Control!$C$22*A6017^2","v":1781.9640091286167}]
[6020,17,17,null,null,null,null,null,null,null,null,null,{"$f":"Control!$C$20+Control!$C$21*A6020+Control!$C$22*A6020^2","v":1782.8553768622976}]
[6023,14,14,null,null,null,null,null,null,null,null,null,{"$f":"Control!$C$20+Control!$C$21*A6023+Control!$C$22*A6023^2","v":1783.7467454566981}]
[6025,25,25,null,null,null,null,null,null,null,null,null,{"$f":"Control!$C$20+Control!$C$21*A6025+Control!$C$22*A6025^2","v":1784.340991664476}]
[6029,14,14,null,null,null,null,null,null,null,null,null,{"$f":"Control!$C$20+Control!$C$21*A6029+Control!$C$22*A6029^2","v":1785.5294852276575}]
[6032,22,22,null,null,null,null,null,null,null,null,null,{"$f":"Control!$C$20+Control!$C$21*A6032+Control!$C$22*A6032^2","v":1786.4208564042165}]
[6033,22,22,null,null,null,null,null,null,null,null,null,{"$f":"Control!$C$20+Control!$C$21*A6033+Control!$C$22*A6033^2","v":1786.7179803210072}]
[6036,21,21,null,null,null,null,null,null,null,null,null,{"$f":"Control!$C$20+Control!$C$21*A6036+Control!$C$22*A6036^2","v":1787.6093526451921}]
[6040,12,12,null,null,null,null,null,null,null,null,null,{"$f":"Control!$C$20+Control!$C$21*A6040+Control!$C$22*A6040^2","v":1788.7978504163357}]
[6043,14,14,null,null,null,null,null,null,null,null,null,{"$f":"Control!$C$20+Control!$C$21*A6043+Control!$C$22*A6043^2","v":1789.6892247488661}]
[6046,16,16,null,null,null,null,null,null,null,null,null,{"$f":"Control!$C$20+Control!$C$21*A6046+Control!$C$22*A6046^2","v":1790.5805999421161}]
[6049,15,15,null,null,null,null,null,null,null,null,null,{"$f":"Control!$C$20+Control!$C$21*A6049+Control!$C$22*A6049^2","v":1791.4719759960856}]
[6052,22,22,null,null,null,null,null,null,null,null,null,{"$f":"Control!$C$20+Control!$C$21*A6052+Control!$C$22*A6052^2","v":1792.3633529107744}]
[6053,23,23,null,null,null,null,null,null,null,null,null,{"$f":"Control!$C$20+Control!$C$21*A6053+Control!$C$22*A6053^2","v":1792.660478740275}]
[6056,14,14,null,null,null,null,null,null,null,null,null,{"$f":"Control!$C$20+Control!$C$21*A6056+Control!$C$22*A6056^2","v":1793.55185680259}]
[6059,19,19,null,null,null,null,null,null,null,null,null,{"$f":"Control!$C$20+Control!$C$21*A6059+Control!$C$22*A6059^2","v":1794.4432357256244}]
[6063,13,13,null,null,null,null,null,null,null,null,null,{"$f":"Control!$C$20+Control!$C$21*A6063+Control!$C$22*A6063^2","v":1795.6317422952341}]
[6065,15,15,null,null,null,null,null,null,null,null,null,{"$f":"Control!$C$20+Control!$C$21*A6065+Control!$C$22*A6065^2","v":1796.2259961538518}]
[6068,15,15,null,null,null,null,null,null,null,null,null,{"$f":"Control!$C$20+Control!$C$21*A6068+Control!$C$22*A6068^2","v":1797.1173776590447}]
[6072,15,15,null,null,null,null,null,null,null,null,null,{"$f":"Control!$C$20+Control!$C$21*A6072+Control!$C$22*A6072^2","v":1798.3058876715322}]
[6075,18,18,null,null,null,null,null,null,null,null,null,{"$f":"Control!$C$20+Control!$C$21*A6075+Control!$C$22*A6075^2","v":1799.1972711850706}]
[6076,23,23,null,null,null,null,null,null,null,null,null,{"$f":"Control!$C$20+Control!$C$21*A6076+Control!$C$22*A6076^2","v":1799.4943992141878}]
[6079,18,18,null,null,null,null,null,null,null,null,null,{"$f":"Control!$C$20+Control!$C$21*A6079+Control!$C$22*A6079^2","v":1800.3857838753522}]
[6082,16,16,null,null,null,null,null,null,null,null,null,{"$f":"Control!$C$20+Control!$C$21*A6082+Control!$C$22*A6082^2","v":1801.2771693972361}]
[6086,20,20,null,null,null,null,null,null,null,null,null,{"$f":"Control!$C$20+Control!$C$21*A6086+Control!$C$22*A6086^2","v":1802.4656847653116}]
[6088,17,17,null,null,null,null,null,null,null,null,null,{"$f":"Control!$C$20+Control!$C$21*A6088+Control!$C$22*A6088^2","v":1803.0599430231623}]
[6091,13,13,null,null,null,null,null,null,null,null,null,{"$f":"Control!$C$20+Control!$C$21*A6091+Control!$C$22*A6091^2","v":1803.9513311272046}]
[6095,16,16,null,null,null,null,null,null,null,null,null,{"$f":"Control!$C$20+Control!$C$21*A6095+Control!$C$22*A6095^2","v":1805.1398499381582}]
[6098,20,20,null,null,null,null,null,null,null,null,null,{"$f":"Control!$C$20+Control!$C$21*A6098+Control!$C$22*A6098^2","v":1806.0312400505461}]
[6099,10,10,null,null,null,null,null,null,null,null,null,{"$f":"Control!$C$20+Control!$C$21*A6099+Control!$C$22*A6099^2","v":1806.3283702792796}]
[6102,18,18,null,null,null,null,null,null,null,null,null,{"$f":"Control!$C$20+Control!$C$21*A6102+Control!$C$22*A6102^2","v":1807.2197615392936}]
[6105,20,20,null,null,null,null,null,null,null,null,null,{"$f":"Control!$C$20+Control!$C$21*A6105+Control!$C$22*A6105^2","v":1808.111153660027}]
[6108,27,27,null,null,null,null,null,null,null,null,null,{"$f":"Control!$C$20+Control!$C$21*A6108+Control!$C$22*A6108^2","v":1809.0025466414797}]
[6111,19,19,null,null,null,null,null,null,null,null,null,{"$f":"Control!$C$20+Control!$C$21*A6111+Control!$C$22*A6111^2","v":1809.8939404836522}]
[6115,17,17,null,null,null,null,null,null,null,null,null,{"$f":"Control!$C$20+Control!$C$21*A6115+Control!$C$22*A6115^2","v":1811.0824669454455}]
[6118,21,21,null,null,null,null,null,null,null,null,null,{"$f":"Control!$C$20+Control!$C$21*A6118+Control!$C$22*A6118^2","v":1811.9738627959634}]
[6121,17,17,null,null,null,null,null,null,null,null,null,{"$f":"Control!$C$20+Control!$C$21*A6121+Control!$C$22*A6121^2","v":1812.8652595072008}]
[6122,25,25,null,null,null,null,null,null,null,null,null,{"$f":"Control!$C$20+Control!$C$21*A6122+Control!$C$22*A6122^2","v":1813.1623919355509}]
[6126,16,16,null,null,null,null,null,null,null,null,null,{"$f":"Control!$C$20+Control!$C$21*A6126+Control!$C$22*A6126^2","v":1814.3509226053063}]
[6127,13,13,null,null,null,null,null,null,null,null,null,{"$f":"Control!$C$20+Control!$C$21*A6127+Control!$C$22*A6127^2","v":1814.6480555118339}]
[6131,22,22,null,null,null,null,null,null,null,null,null,{"$f":"Control!$C$20+Control!$C$21*A6131+Control!$C$22*A6131^2","v":1815.8365880942993}]
[6134,18,18,null,null,null,null,null,null,null,null,null,{"$f":"Control!$C$20+Control!$C$21*A6134+Control!$C$22*A6134^2","v":1816.7279885353212}]
[6138,88,93,72,null,null,null,null,null,null,null,null,{"$f":"Control!$C$20+Control!$C$21*A6138+Control!$C$22*A6138^2","v":1817.9165237955806}]
[6141,454,480,438,null,null,null,null,null,null,null,null,{"$f":"Control!$C$20+Control!$C$21*A6141+Control!$C$22*A6141^2","v":1818.8079262449478}]
[6144,1013,1053,997,null,null,null,null,null,null,null,null,{"$f":"Control!$C$20+Control!$C$21*A6144+Control!$C$22*A6144^2","v":1819.6993295550346}]
[6145,1071,1070,1055,null,null,null,null,null,null,null,null,{"$f":"Control!$C$20+Control!$C$21*A6145+Control!$C$22*A6145^2","v":1819.9964641830013}]
[6147,866,878,850,null,null,null,null,null,null,null,null,{"$f":"Control!$C$20+Control!$C$21*A6147+Control!$C$22*A6147^2","v":1820.5907337258409}]
[6150,287,296,271,null,null,null,null,null,null,null,null,{"$f":"Control!$C$20+Control!$C$21*A6150+Control!$C$22*A6150^2","v":1821.4821387573668}]
[6154,29,34,13,null,null,null,null,null,null,null,null,{"$f":"Control!$C$20+Control!$C$21*A6154+Control!$C$22*A6154^2","v":1822.6706801382982}]
[6157,18,18,null,null,null,null,null,null,null,null,null,{"$f":"Control!$C$20+Control!$C$21*A6157+Control!$C$22*A6157^2","v":1823.5620871781693}]
[6161,9,9,null,null,null,null,null,null,null,null,null,{"$f":"Control!$C$20+Control!$C$21*A6161+Control!$C$22*A6161^2","v":1824.7506312368948}]
[6164,15,15,null,null,null,null,null,null,null,null,null,{"$f":"Control!$C$20+Control!$C$21*A6164+Control!$C$22*A6164^2","v":1825.6420402851115}]
[6166,5,5,null,null,null,null,null,null,null,null,null,{"$f":"Control!$C$20+Control!$C$21*A6166+Control!$C$22*A6166^2","v":1826.2363134621003}]
[6167,18,18,null,null,null,null,null,null,null,null,null,{"$f":"Control!$C$20+Control!$C$21*A6167+Control!$C$22*A6167^2","v":1826.5334501940479}]
[6170,24,24,null,null,null,null,null,null,null,null,null,{"$f":"Control!$C$20+Control!$C$21*A6170+Control!$C$22*A6170^2","v":1827.4248609637036}]
[6174,20,20,null,null,null,null,null,null,null,null,null,{"$f":"Control!$C$20+Control!$C$21*A6174+Control!$C$22*A6174^2","v":1828.613409995475}]
[6177,11,11,null,null,null,null,null,null,null,null,null,{"$f":"Control!$C$20+Control!$C$21*A6177+Control!$C$22*A6177^2","v":1829.5048227734762}]
[6180,14,14,null,null,null,null,null,null,null,null,null,{"$f":"Control!$C$20+Control!$C$21*A6180+Control!$C$22*A6180^2","v":1830.3962364121969}]
[6184,18,18,null,null,null,null,null,null,null,null,null,{"$f":"Control!$C$20+Control!$C$21*A6184+Control!$C$22*A6184^2","v":1831.5847892693882}]
[6185,16,16,null,null,null,null,null,null,null,null,null,{"$f":"Control!$C$20+Control!$C$21*A6185+Control!$C$22*A6185^2","v":1831.8819277227749}]
[6189,22,22,null,null,null,null,null,null,null,null,null,{"$f":"Control!$C$20+Control!$C$21*A6189+Control!$C$22*A6189^2","v":1833.0704824926761}]
[6190,14,14,null,null,null,null,null,null,null,null,null,{"$f":"Control!$C$20+Control!$C$21*A6190+Control!$C$22*A6190^2","v":1833.3676214242403}]
[6193,14,14,null,null,null,null,null,null,null,null,null,{"$f":"Control!$C$20+Control!$C$21*A6193+Control!$C$22*A6193^2","v":1834.2590387927455}]
[6197,21,21,null,null,null,null,null,null,null,null,null,{"$f":"Control!$C$20+Control!$C$21*A6197+Control!$C$22*A6197^2","v":1835.4475966229827}]
[6200,16,16,null,null,null,null,null,null,null,null,null,{"$f":"Control!$C$20+Control!$C$21*A6200+Control!$C$22*A6200^2","v":1836.3390159998335}]
[6203,19,19,null,null,null,null,null,null,null,null,null,{"$f":"Control!$C$20+Control!$C$21*A6203+Control!$C$22*A6203^2","v":1837.2304362374036}]
[6206,15,15,null,null,null,null,null,null,null,null,null,{"$f":"Control!$C$20+Control!$C$21*A6206+Control!$C$22*A6206^2","v":1838.1218573356934}]
[6209,24,24,null,null,null,null,null,null,null,null,null,{"$f":"Control!$C$20+Control!$C$21*A6209+Control!$C$22*A6209^2","v":1839.0132792947027}]
[6210,20,20,null,null,null,null,null,null,null,null,null,{"$f":"Control!$C$20+Control!$C$21*A6210+Control!$C$22*A6210^2","v":1839.3104201389767}]
[6213,18,18,null,null,null,null,null,null,null,null,null,{"$f":"Control!$C$20+Control!$C$21*A6213+Control!$C$22*A6213^2","v":1840.2018432456118}]
[6216,18,18,null,null,null,null,null,null,null,null,null,{"$f":"Control!$C$20+Control!$C$21*A6216+Control!$C$22*A6216^2","v":1841.0932672129666}]
[6220,18,18,null,null,null,null,null,null,null,null,null,{"$f":"Control!$C$20+Control!$C$21*A6220+Control!$C$22*A6220^2","v":1842.2818338416698}]
[6223,22,22,null,null,null,null,null,null,null,null,null,{"$f":"Control!$C$20+Control!$C$21*A6223+Control!$C$22*A6223^2","v":1843.1732598173701}]
[6225,16,16,null,null,null,null,null,null,null,null,null,{"$f":"Control!$C$20+Control!$C$21*A6225+Control!$C$22*A6225^2","v":1843.7675442793477}]
[6229,28,28,null,null,null,null,null,null,null,null,null,{"$f":"Control!$C$20+Control!$C$21*A6229+Control!$C$22*A6229^2","v":1844.9561143509288}]
[6232,17,17,null,null,null,null,null,null,null,null,null,{"$f":"Control!$C$20+Control!$C$21*A6232+Control!$C$22*A6232^2","v":1845.8475429087875}]
[6233,29,29,null,null,null,null,null,null,null,null,null,{"$f":"Control!$C$20+Control!$C$21*A6233+Control!$C$22*A6233^2","v":1846.1446859526782}]
[6236,30,30,null,null,null,null,null,null,null,null,null,{"$f":"Control!$C$20+Control!$C$21*A6236+Control!$C$22*A6236^2","v":1847.0361156581628}]
[6239,46,46,null,null,null,null,null,null,null,null,null,{"$f":"Control!$C$20+Control!$C$21*A6239+Control!$C$22*A6239^2","v":1847.927546224367}]
[6243,20,20,null,null,null,null,null,null,null,null,null,{"$f":"Control!$C$20+Control!$C$21*A6243+Control!$C$22*A6243^2","v":1849.1161216515361}]
[6246,16,16,null,null,null,null,null,null,null,null,null,{"$f":"Control!$C$20+Control!$C$21*A6246+Control!$C$22*A6246^2","v":1850.0075542260859}]
[6248,22,22,null,null,null,null,null,null,null,null,null,{"$f":"Control!$C$20+Control!$C$21*A6248+Control!$C$22*A6248^2","v":1850.6018430872964}]
[6252,20,20,null,null,null,null,null,null,null,null,null,{"$f":"Control!$C$20+Control!$C$21*A6252+Control!$C$22*A6252^2","v":1851.7904219573436}]
[6255,19,19,null,null,null,null,null,null,null,null,null,{"$f":"Control!$C$20+Control!$C$21*A6255+Control!$C$22*A6255^2","v":1852.6818571140518}]
[6256,23,23,null,null,null,null,null,null,null,null,null,{"$f":"Control!$C$20+Control!$C$21*A6256+Control!$C$22*A6256^2","v":1852.9790023575588}]
[6259,15,15,null,null,null,null,null,null,null,null,null,{"$f":"Control!$C$20+Control!$C$21*A6259+Control!$C$22*A6259^2","v":1853.8704386618929}]
[6262,16,16,null,null,null,null,null,null,null,null,null,{"$f":"Control!$C$20+Control!$C$21*A6262+Control!$C$22*A6262^2","v":1854.7618758269466}]
[6265,27,27,null,null,null,null,null,null,null,null,null,{"$f":"Control!$C$20+Control!$C$21*A6265+Control!$C$22*A6265^2","v":1855.6533138527197}]
[6268,14,14,null,null,null,null,null,null,null,null,null,{"$f":"Control!$C$20+Control!$C$21*A6268+Control!$C$22*A6268^2","v":1856.5447527392123}]
[6272,50,63,35,null,null,null,null,null,null,null,null,{"$f":"Control!$C$20+Control!$C$21*A6272+Control!$C$22*A6272^2","v":1857.7333392600995}]
[6275,264,279,249,null,null,null,null,null,null,null,null,{"$f":"Control!$C$20+Control!$C$21*A6275+Control!$C$22*A6275^2","v":1858.6247801549375}]
[6278,694,721,679,null,null,null,null,null,null,null,null,{"$f":"Control!$C$20+Control!$C$21*A6278+Control!$C$22*A6278^2","v":1859.5162219104952}]
[6279,781,778,766,null,null,null,null,null,null,null,null,{"$f":"Control!$C$20+Control!$C$21*A6279+Control!$C$22*A6279^2","v":1859.8133693536188}]
[6282,594,528,579,null,null,null,null,null,null,null,null,{"$f":"Control!$C$20+Control!$C$21*A6282+Control!$C$22*A6282^2","v":1860.7048122568024}]
[6286,104,126,89,null,null,null,null,null,null,null,null,{"$f":"Control!$C$20+Control!$C$21*A6286+Control!$C$22*A6286^2","v":1861.8934041332775}]
[6288,33,27,18,null,null,null,null,null,null,null,null,{"$f":"Control!$C$20+Control!$C$21*A6288+Control!$C$22*A6288^2","v":1862.487700645328}]
[6291,18,18,null,null,null,null,null,null,null,null,null,{"$f":"Control!$C$20+Control!$C$21*A6291+Control!$C$22*A6291^2","v":1863.3791461306701}]
[6295,21,21,null,null,null,null,null,null,null,null,null,{"$f":"Control!$C$20+Control!$C$21*A6295+Control!$C$22*A6295^2","v":1864.5677414500233}]
[6298,14,14,null,null,null,null,null,null,null,null,null,{"$f":"Control!$C$20+Control!$C$21*A6298+Control!$C$22*A6298^2","v":1865.4591889437108}]
[6301,12,12,null,null,null,null,null,null,null,null,null,{"$f":"Control!$C$20+Control!$C$21*A6301+Control!$C$22*A6301^2","v":1866.3506372981178}]
[6303,17,17,null,null,null,null,null,null,null,null,null,{"$f":"Control!$C$20+Control!$C$21*A6303+Control!$C$22*A6303^2","v":1866.9449366792335}]
[6304,7,7,null,null,null,null,null,null,null,null,null,{"$f":"Control!$C$20+Control!$C$21*A6304+Control!$C$22*A6304^2","v":1867.2420865132444}]
[6308,11,11,null,null,null,null,null,null,null,null,null,{"$f":"Control!$C$20+Control!$C$21*A6308+Control!$C$22*A6308^2","v":1868.4306868056435}]
[6311,13,13,null,null,null,null,null,null,null,null,null,{"$f":"Control!$C$20+Control!$C$21*A6311+Control!$C$22*A6311^2","v":1869.3221380291156}]
[6314,14,14,null,null,null,null,null,null,null,null,null,{"$f":"Control!$C$20+Control!$C$21*A6314+Control!$C$22*A6314^2","v":1870.2135901133072}]
[6318,13,13,null,null,null,null,null,null,null,null,null,{"$f":"Control!$C$20+Control!$C$21*A6318+Control!$C$22*A6318^2","v":1871.4021942311263}]
[6321,24,24,null,null,null,null,null,null,null,null,null,{"$f":"Control!$C$20+Control!$C$21*A6321+Control!$C$22*A6321^2","v":1872.2936483236633}]
[6322,20,20,null,null,null,null,null,null,null,null,null,{"$f":"Control!$C$20+Control!$C$21*A6322+Control!$C$22*A6322^2","v":1872.5907998791133}]
[6324,15,15,null,null,null,null,null,null,null,null,null,{"$f":"Control!$C$20+Control!$C$21*A6324+Control!$C$22*A6324^2","v":1873.1851032769198}]
[6327,22,22,null,null,null,null,null,null,null,null,null,{"$f":"Control!$C$20+Control!$C$21*A6327+Control!$C$22*A6327^2","v":1874.0765590908959}]
[6331,16,16,null,null,null,null,null,null,null,null,null,{"$f":"Control!$C$20+Control!$C$21*A6331+Control!$C$22*A6331^2","v":1875.2651681817608}]
[6334,14,14,null,null,null,null,null,null,null,null,null,{"$f":"Control!$C$20+Control!$C$21*A6334+Control!$C$22*A6334^2","v":1876.1566260040825}]
[6337,16,16,null,null,null,null,null,null,null,null,null,{"$f":"Control!$C$20+Control!$C$21*A6337+Control!$C$22*A6337^2","v":1877.0480846871235}]
[6341,10,10,null,null,null,null,null,null,null,null,null,{"$f":"Control!$C$20+Control!$C$21*A6341+Control!$C$22*A6341^2","v":1878.2366976034084}]
[6343,10,10,null,null,null,null,null,null,null,null,null,{"$f":"Control!$C$20+Control!$C$21*A6343+Control!$C$22*A6343^2","v":1878.831004635364}]
[6346,15,15,null,null,null,null,null,null,null,null,null,{"$f":"Control!$C$20+Control!$C$21*A6346+Control!$C$22*A6346^2","v":1879.7224659005635}]
[6347,9,9,null,null,null,null,null,null,null,null,null,{"$f":"Control!$C$20+Control!$C$21*A6347+Control!$C$22*A6347^2","v":1880.0196198469009}]
[6350,14,14,null,null,null,null,null,null,null,null,null,{"$f":"Control!$C$20+Control!$C$21*A6350+Control!$C$22*A6350^2","v":1880.9110822597265}]
[6354,18,18,null,null,null,null,null,null,null,null,null,{"$f":"Control!$C$20+Control!$C$21*A6354+Control!$C$22*A6354^2","v":1882.0997001490575}]
[6357,15,15,null,null,null,null,null,null,null,null,null,{"$f":"Control!$C$20+Control!$C$21*A6357+Control!$C$22*A6357^2","v":1882.9911645702284}]
[6360,17,17,null,null,null,null,null,null,null,null,null,{"$f":"Control!$C$20+Control!$C$21*A6360+Control!$C$22*A6360^2","v":1883.882629852119}]
[6362,10,10,null,null,null,null,null,null,null,null,null,{"$f":"Control!$C$20+Control!$C$21*A6362+Control!$C$22*A6362^2","v":1884.4769405182235}]
[6366,10,10,null,null,null,null,null,null,null,null,null,{"$f":"Control!$C$20+Control!$C$21*A6366+Control!$C$22*A6366^2","v":1885.6655629980585}]
[6367,14,14,null,null,null,null,null,null,null,null,null,{"$f":"Control!$C$20+Control!$C$21*A6367+Control!$C$22*A6367^2","v":1885.962718857106}]
[6370,15,15,null,null,null,null,null,null,null,null,null,{"$f":"Control!$C$20+Control!$C$21*A6370+Control!$C$22*A6370^2","v":1886.8541870080614}]
[6373,10,10,null,null,null,null,null,null,null,null,null,{"$f":"Control!$C$20+Control!$C$21*A6373+Control!$C$22*A6373^2","v":1887.7456560197363}]
[6377,16,16,null,null,null,null,null,null,null,null,null,{"$f":"Control!$C$20+Control!$C$21*A6377+Control!$C$22*A6377^2","v":1888.9342827075334}]
[6380,10,10,null,null,null,null,null,null,null,null,null,{"$f":"Control!$C$20+Control!$C$21*A6380+Control!$C$22*A6380^2","v":1889.8257537275538}]
[6383,14,14,null,null,null,null,null,null,null,null,null,{"$f":"Control!$C$20+Control!$C$21*A6383+Control!$C$22*A6383^2","v":1890.7172256082938}]
[6386,22,22,null,null,null,null,null,null,null,null,null,{"$f":"Control!$C$20+Control!$C$21*A6386+Control!$C$22*A6386^2","v":1891.6086983497532}]
[6389,13,13,null,null,null,null,null,null,null,null,null,{"$f":"Control!$C$20+Control!$C$21*A6389+Control!$C$22*A6389^2","v":1892.5001719519321}]
[6390,14,14,null,null,null,null,null,null,null,null,null,{"$f":"Control!$C$20+Control!$C$21*A6390+Control!$C$22*A6390^2","v":1892.7973300105962}]
[6393,20,20,null,null,null,null,null,null,null,null,null,{"$f":"Control!$C$20+Control!$C$21*A6393+Control!$C$22*A6393^2","v":1893.6888047604011}]
[6396,17,17,null,null,null,null,null,null,null,null,null,{"$f":"Control!$C$20+Control!$C$21*A6396+Control!$C$22*A6396^2","v":1894.5802803709255}]
[6400,14,14,null,null,null,null,null,null,null,null,null,{"$f":"Control!$C$20+Control!$C$21*A6400+Control!$C$22*A6400^2","v":1895.7689158571884}]
[6402,17,17,null,null,null,null,null,null,null,null,null,{"$f":"Control!$C$20+Control!$C$21*A6402+Control!$C$22*A6402^2","v":1896.3632341741329}]
[6405,21,19,6,null,null,null,null,null,null,null,null,{"$f":"Control!$C$20+Control!$C$21*A6405+Control!$C$22*A6405^2","v":1897.2547123668157}]
[6409,138,152,123,null,null,null,null,null,null,null,null,{"$f":"Control!$C$20+Control!$C$21*A6409+Control!$C$22*A6409^2","v":1898.4433512959567}]
[6412,412,413,397,null,null,null,null,null,null,null,null,{"$f":"Control!$C$20+Control!$C$21*A6412+Control!$C$22*A6412^2","v":1899.3348314969851}]
[6413,492,493,477,null,null,null,null,null,null,null,null,{"$f":"Control!$C$20+Control!$C$21*A6413+Control!$C$22*A6413^2","v":1899.6319917552655}]
[6416,454,444,439,null,null,null,null,null,null,null,null,{"$f":"Control!$C$20+Control!$C$21*A6416+Control!$C$22*A6416^2","v":1900.52347310392}]
[6419,173,196,158,null,null,null,null,null,null,null,null,{"$f":"Control!$C$20+Control!$C$21*A6419+Control!$C$22*A6419^2","v":1901.4149553132938}]
[6423,24,25,9,null,null,null,null,null,null,null,null,{"$f":"Control!$C$20+Control!$C$21*A6423+Control!$C$22*A6423^2","v":1902.6035995980228}]
[6425,14,14,null,null,null,null,null,null,null,null,null,{"$f":"Control!$C$20+Control!$C$21*A6425+Control!$C$22*A6425^2","v":1903.1979223142002}]
[6429,15,15,null,null,null,null,null,null,null,null,null,{"$f":"Control!$C$20+Control!$C$21*A6429+Control!$C$22*A6429^2","v":1904.386568894181}]
[6432,15,15,null,null,null,null,null,null,null,null,null,{"$f":"Control!$C$20+Control!$C$21*A6432+Control!$C$22*A6432^2","v":1905.2780548333394}]
[6435,17,17,null,null,null,null,null,null,null,null,null,{"$f":"Control!$C$20+Control!$C$21*A6435+Control!$C$22*A6435^2","v":1906.1695416332172}]
[6436,18,18,null,null,null,null,null,null,null,null,null,{"$f":"Control!$C$20+Control!$C$21*A6436+Control!$C$22*A6436^2","v":1906.4667040911143}]
[6439,13,13,null,null,null,null,null,null,null,null,null,{"$f":"Control!$C$20+Control!$C$21*A6439+Control!$C$22*A6439^2","v":1907.3581920386182}]
[6442,13,13,null,null,null,null,null,null,null,null,null,{"$f":"Control!$C$20+Control!$C$21*A6442+Control!$C$22*A6442^2","v":1908.2496808468416}]
[6445,12,12,null,null,null,null,null,null,null,null,null,{"$f":"Control!$C$20+Control!$C$21*A6445+Control!$C$22*A6445^2","v":1909.1411705157843}]
[6448,12,12,null,null,null,null,null,null,null,null,null,{"$f":"Control!$C$20+Control!$C$21*A6448+Control!$C$22*A6448^2","v":1910.0326610454467}]
[6452,16,16,null,null,null,null,null,null,null,null,null,{"$f":"Control!$C$20+Control!$C$21*A6452+Control!$C$22*A6452^2","v":1911.2213164238935}]
[6455,16,16,null,null,null,null,null,null,null,null,null,{"$f":"Control!$C$20+Control!$C$21*A6455+Control!$C$22*A6455^2","v":1912.1128089619015}]
[6458,15,15,null,null,null,null,null,null,null,null,null,{"$f":"Control!$C$20+Control!$C$21*A6458+Control!$C$22*A6458^2","v":1913.0043023606288}]
[6459,14,14,null,null,null,null,null,null,null,null,null,{"$f":"Control!$C$20+Control!$C$21*A6459+Control!$C$22*A6459^2","v":1913.3014670181421}]
[6463,13,13,null,null,null,null,null,null,null,null,null,{"$f":"Control!$C$20+Control!$C$21*A6463+Control!$C$22*A6463^2","v":1914.4901266045511}]
[6465,19,19,null,null,null,null,null,null,null,null,null,{"$f":"Control!$C$20+Control!$C$21*A6465+Control!$C$22*A6465^2","v":1915.0844569715684}]
[6468,17,17,null,null,null,null,null,null,null,null,null,{"$f":"Control!$C$20+Control!$C$21*A6468+Control!$C$22*A6468^2","v":1915.9759532393607}]
[6471,18,18,null,null,null,null,null,null,null,null,null,{"$f":"Control!$C$20+Control!$C$21*A6471+Control!$C$22*A6471^2","v":1916.8674503678726}]
[6475,17,17,null,null,null,null,null,null,null,null,null,{"$f":"Control!$C$20+Control!$C$21*A6475+Control!$C$22*A6475^2","v":1918.0561145447853}]
[6478,4,4,null,null,null,null,null,null,null,null,null,{"$f":"Control!$C$20+Control!$C$21*A6478+Control!$C$22*A6478^2","v":1918.9476136816427}]
[6481,15,15,null,null,null,null,null,null,null,null,null,{"$f":"Control!$C$20+Control!$C$21*A6481+Control!$C$22*A6481^2","v":1919.8391136792195}]
[6482,13,13,null,null,null,null,null,null,null,null,null,{"$f":"Control!$C$20+Control!$C$21*A6482+Control!$C$22*A6482^2","v":1920.1362805363494}]
[6484,11,11,null,null,null,null,null,null,null,null,null,{"$f":"Control!$C$20+Control!$C$21*A6484+Control!$C$22*A6484^2","v":1920.7306145375157}]
[6488,16,16,null,null,null,null,null,null,null,null,null,{"$f":"Control!$C$20+Control!$C$21*A6488+Control!$C$22*A6488^2","v":1921.9192836874745}]
[6491,8,8,null,null,null,null,null,null,null,null,null,{"$f":"Control!$C$20+Control!$C$21*A6491+Control!$C$22*A6491^2","v":1922.8107865541162}]
[6494,17,17,null,null,null,null,null,null,null,null,null,{"$f":"Control!$C$20+Control!$C$21*A6494+Control!$C$22*A6494^2","v":1923.7022902814776}]
[6498,16,16,null,null,null,null,null,null,null,null,null,{"$f":"Control!$C$20+Control!$C$21*A6498+Control!$C$22*A6498^2","v":1924.8909632568564}]
[6501,21,21,null,null,null,null,null,null,null,null,null,{"$f":"Control!$C$20+Control!$C$21*A6501+Control!$C$22*A6501^2","v":1925.7824689925631}]
[6503,13,13,null,null,null,null,null,null,null,null,null,{"$f":"Control!$C$20+Control!$C$21*A6503+Control!$C$22*A6503^2","v":1926.3768066278785}]
[6504,10,10,null,null,null,null,null,null,null,null,null,{"$f":"Control!$C$20+Control!$C$21*A6504+Control!$C$22*A6504^2","v":1926.6739755889894}]
[6507,10,10,null,null,null,null,null,null,null,null,null,{"$f":"Control!$C$20+Control!$C$21*A6507+Control!$C$22*A6507^2","v":1927.5654830461351}]
[6511,16,16,null,null,null,null,null,null,null,null,null,{"$f":"Control!$C$20+Control!$C$21*A6511+Control!$C$22*A6511^2","v":1928.7541609945599}]
[6514,14,14,null,null,null,null,null,null,null,null,null,{"$f":"Control!$C$20+Control!$C$21*A6514+Control!$C$22*A6514^2","v":1929.6456704600512}]
[6517,24,24,null,null,null,null,null,null,null,null,null,{"$f":"Control!$C$20+Control!$C$21*A6517+Control!$C$22*A6517^2","v":1930.5371807862618}]
[6521,10,10,null,null,null,null,null,null,null,null,null,{"$f":"Control!$C$20+Control!$C$21*A6521+Control!$C$22*A6521^2","v":1931.7258625601066}]
[6522,13,13,null,null,null,null,null,null,null,null,null,{"$f":"Control!$C$20+Control!$C$21*A6522+Control!$C$22*A6522^2","v":1932.0230332426565}]
[6524,19,19,null,null,null,null,null,null,null,null,null,{"$f":"Control!$C$20+Control!$C$21*A6524+Control!$C$22*A6524^2","v":1932.6173748946628}]
[6527,13,13,null,null,null,null,null,null,null,null,null,{"$f":"Control!$C$20+Control!$C$21*A6527+Control!$C$22*A6527^2","v":1933.5088880899386}]
[6530,14,14,null,null,null,null,null,null,null,null,null,{"$f":"Control!$C$20+Control!$C$21*A6530+Control!$C$22*A6530^2","v":1934.4004021459339}]
[6534,11,11,null,null,null,null,null,null,null,null,null,{"$f":"Control!$C$20+Control!$C$21*A6534+Control!$C$22*A6534^2","v":1935.5890888928245}]
[6537,14,14,null,null,null,null,null,null,null,null,null,{"$f":"Control!$C$20+Control!$C$21*A6537+Control!$C$22*A6537^2","v":1936.4806049571653}]
[6540,19,19,5,null,null,null,null,null,null,null,null,{"$f":"Control!$C$20+Control!$C$21*A6540+Control!$C$22*A6540^2","v":1937.3721218822254}]
[6543,58,55,44,null,null,null,null,null,null,null,null,{"$f":"Control!$C$20+Control!$C$21*A6543+Control!$C$22*A6543^2","v":1938.2636396680052}]
[6546,183,208,169,null,null,null,null,null,null,null,null,{"$f":"Control!$C$20+Control!$C$21*A6546+Control!$C$22*A6546^2","v":1939.1551583145044}]
[6547,229,227,215,null,null,null,null,null,null,null,null,{"$f":"Control!$C$20+Control!$C$21*A6547+Control!$C$22*A6547^2","v":1939.4523313879417}]
[6550,253,249,239,null,null,null,null,null,null,null,null,{"$f":"Control!$C$20+Control!$C$21*A6550+Control!$C$22*A6550^2","v":1940.3438511820671}]
[6553,119,128,105,null,null,null,null,null,null,null,null,{"$f":"Control!$C$20+Control!$C$21*A6553+Control!$C$22*A6553^2","v":1941.2353718369118}]
[6557,22,21,8,null,null,null,null,null,null,null,null,{"$f":"Control!$C$20+Control!$C$21*A6557+Control!$C$22*A6557^2","v":1942.4240673822683}]
[6560,15,15,null,null,null,null,null,null,null,null,null,{"$f":"Control!$C$20+Control!$C$21*A6560+Control!$C$22*A6560^2","v":1943.3155900454585}]
[6562,14,14,null,null,null,null,null,null,null,null,null,{"$f":"Control!$C$20+Control!$C$21*A6562+Control!$C$22*A6562^2","v":1943.9099389657629}]
[6566,15,15,null,null,null,null,null,null,null,null,null,{"$f":"Control!$C$20+Control!$C$21*A6566+Control!$C$22*A6566^2","v":1945.0986379539975}]
[6569,12,12,null,null,null,null,null,null,null,null,null,{"$f":"Control!$C$20+Control!$C$21*A6569+Control!$C$22*A6569^2","v":1945.9901631993462}]
[6570,18,18,null,null,null,null,null,null,null,null,null,{"$f":"Control!$C$20+Control!$C$21*A6570+Control!$C$22*A6570^2","v":1946.2873384724001}]
[6573,16,16,null,null,null,null,null,null,null,null,null,{"$f":"Control!$C$20+Control!$C$21*A6573+Control!$C$22*A6573^2","v":1947.1788648653746}]
[6576,11,11,null,null,null,null,null,null,null,null,null,{"$f":"Control!$C$20+Control!$C$21*A6576+Control!$C$22*A6576^2","v":1948.0703921190689}]
[6580,13,13,null,null,null,null,null,null,null,null,null,{"$f":"Control!$C$20+Control!$C$21*A6580+Control!$C$22*A6580^2","v":1949.2590964628914}]
[6583,18,18,null,null,null,null,null,null,null,null,null,{"$f":"Control!$C$20+Control!$C$21*A6583+Control!$C$22*A6583^2","v":1950.1506257249312}]
[6586,14,14,null,null,null,null,null,null,null,null,null,{"$f":"Control!$C$20+Control!$C$21*A6586+Control!$C$22*A6586^2","v":1951.0421558476903}]
[6589,13,13,null,null,null,null,null,null,null,null,null,{"$f":"Control!$C$20+Control!$C$21*A6589+Control!$C$22*A6589^2","v":1951.9336868311689}]
[6592,16,16,null,null,null,null,null,null,null,null,null,{"$f":"Control!$C$20+Control!$C$21*A6592+Control!$C$22*A6592^2","v":1952.8252186753671}]
[6593,15,15,null,null,null,null,null,null,null,null,null,{"$f":"Control!$C$20+Control!$C$21*A6593+Control!$C$22*A6593^2","v":1953.1223961480375}]
[6596,10,10,null,null,null,null,null,null,null,null,null,{"$f":"Control!$C$20+Control!$C$21*A6596+Control!$C$22*A6596^2","v":1954.0139291398616}]
[6599,18,18,null,null,null,null,null,null,null,null,null,{"$f":"Control!$C$20+Control!$C$21*A6599+Control!$C$22*A6599^2","v":1954.9054629924053}]
[6602,15,15,null,null,null,null,null,null,null,null,null,{"$f":"Control!$C$20+Control!$C$21*A6602+Control!$C$22*A6602^2","v":1955.7969977056684}]
[6605,17,17,null,null,null,null,null,null,null,null,null,{"$f":"Control!$C$20+Control!$C$21*A6605+Control!$C$22*A6605^2","v":1956.688533279651}]
[6609,12,12,null,null,null,null,null,null,null,null,null,{"$f":"Control!$C$20+Control!$C$21*A6609+Control!$C$22*A6609^2","v":1957.8772487171916}]
[6612,15,15,null,null,null,null,null,null,null,null,null,{"$f":"Control!$C$20+Control!$C$21*A6612+Control!$C$22*A6612^2","v":1958.7687862995197}]
[6615,18,18,null,null,null,null,null,null,null,null,null,{"$f":"Control!$C$20+Control!$C$21*A6615+Control!$C$22*A6615^2","v":1959.6603247425674}]
[6616,15,15,null,null,null,null,null,null,null,null,null,{"$f":"Control!$C$20+Control!$C$21*A6616+Control!$C$22*A6616^2","v":1959.9575044148542}]
[6619,18,18,null,null,null,null,null,null,null,null,null,{"$f":"Control!$C$20+Control!$C$21*A6619+Control!$C$22*A6619^2","v":1960.8490440055277}]
[6623,11,11,null,null,null,null,null,null,null,null,null,{"$f":"Control!$C$20+Control!$C$21*A6623+Control!$C$22*A6623^2","v":1962.0377647986563}]
[6625,15,15,null,null,null,null,null,null,null,null,null,{"$f":"Control!$C$20+Control!$C$21*A6625+Control!$C$22*A6625^2","v":1962.6321257690336}]
[6628,17,17,null,null,null,null,null,null,null,null,null,{"$f":"Control!$C$20+Control!$C$21*A6628+Control!$C$22*A6628^2","v":1963.5236679418656}]
[6632,18,18,null,null,null,null,null,null,null,null,null,{"$f":"Control!$C$20+Control!$C$21*A6632+Control!$C$22*A6632^2","v":1964.7123921778721}]
[6635,12,12,null,null,null,null,null,null,null,null,null,{"$f":"Control!$C$20+Control!$C$21*A6635+Control!$C$22*A6635^2","v":1965.6039363590496}]
[6638,18,18,null,null,null,null,null,null,null,null,null,{"$f":"Control!$C$20+Control!$C$21*A6638+Control!$C$22*A6638^2","v":1966.4954814009468}]
[6639,15,15,null,null,null,null,null,null,null,null,null,{"$f":"Control!$C$20+Control!$C$21*A6639+Control!$C$22*A6639^2","v":1966.7926632728502}]
[6642,15,15,null,null,null,null,null,null,null,null,null,{"$f":"Control!$C$20+Control!$C$21*A6642+Control!$C$22*A6642^2","v":1967.6842094623732}]
[6645,17,17,null,null,null,null,null,null,null,null,null,{"$f":"Control!$C$20+Control!$C$21*A6645+Control!$C$22*A6645^2","v":1968.5757565126157}]
[6648,14,14,null,null,null,null,null,null,null,null,null,{"$f":"Control!$C$20+Control!$C$21*A6648+Control!$C$22*A6648^2","v":1969.4673044235778}]
[6651,13,13,null,null,null,null,null,null,null,null,null,{"$f":"Control!$C$20+Control!$C$21*A6651+Control!$C$22*A6651^2","v":1970.3588531952594}]
[6655,19,19,null,null,null,null,null,null,null,null,null,{"$f":"Control!$C$20+Control!$C$21*A6655+Control!$C$22*A6655^2","v":1971.5475862297319}]
[6658,4,4,null,null,null,null,null,null,null,null,null,{"$f":"Control!$C$20+Control!$C$21*A6658+Control!$C$22*A6658^2","v":1972.439137009759}]
[6659,17,17,null,null,null,null,null,null,null,null,null,{"$f":"Control!$C$20+Control!$C$21*A6659+Control!$C$22*A6659^2","v":1972.7363207943722}]
[6661,15,15,null,null,null,null,null,null,null,null,null,{"$f":"Control!$C$20+Control!$C$21*A6661+Control!$C$22*A6661^2","v":1973.3306886505054}]
[6664,9,9,null,null,null,null,null,null,null,null,null,{"$f":"Control!$C$20+Control!$C$21*A6664+Control!$C$22*A6664^2","v":1974.2222411519715}]
[6668,14,14,null,null,null,null,null,null,null,null,null,{"$f":"Control!$C$20+Control!$C$21*A6668+Control!$C$22*A6668^2","v":1975.4109791594899}]
[6671,14,14,null,null,null,null,null,null,null,null,null,{"$f":"Control!$C$20+Control!$C$21*A6671+Control!$C$22*A6671^2","v":1976.3025336693015}]
[6674,15,15,1,null,null,null,null,null,null,null,null,{"$f":"Control!$C$20+Control!$C$21*A6674+Control!$C$22*A6674^2","v":1977.1940890398325}]
[6678,43,43,29,null,null,null,null,null,null,null,null,{"$f":"Control!$C$20+Control!$C$21*A6678+Control!$C$22*A6678^2","v":1978.3828308727709}]
[6680,84,97,70,null,null,null,null,null,null,null,null,{"$f":"Control!$C$20+Control!$C$21*A6680+Control!$C$22*A6680^2","v":1978.977202363053}]
[6681,108,87,94,null,null,null,null,null,null,null,null,{"$f":"Control!$C$20+Control!$C$21*A6681+Control!$C$22*A6681^2","v":1979.2743882516475}]
[6684,139,126,125,null,null,null,null,null,null,null,null,{"$f":"Control!$C$20+Control!$C$21*A6684+Control!$C$22*A6684^2","v":1980.1659464912434}]
[6687,81,98,67,null,null,null,null,null,null,null,null,{"$f":"Control!$C$20+Control!$C$21*A6687+Control!$C$22*A6687^2","v":1981.057505591559}]
[6691,21,20,7,null,null,null,null,null,null,null,null,{"$f":"Control!$C$20+Control!$C$21*A6691+Control!$C$22*A6691^2","v":1982.2462523975432}]
[6694,12,12,null,null,null,null,null,null,null,null,null,{"$f":"Control!$C$20+Control!$C$21*A6694+Control!$C$22*A6694^2","v":1983.1378135062043}]
[6697,8,8,null,null,null,null,null,null,null,null,null,{"$f":"Control!$C$20+Control!$C$21*A6697+Control!$C$22*A6697^2","v":1984.0293754755849}]
[6699,20,20,null,null,null,null,null,null,null,null,null,{"$f":"Control!$C$20+Control!$C$21*A6699+Control!$C$22*A6699^2","v":1984.6237506000159}]
[6703,16,16,null,null,null,null,null,null,null,null,null,{"$f":"Control!$C$20+Control!$C$21*A6703+Control!$C$22*A6703^2","v":1985.8125019965044}]
[6704,19,19,null,null,null,null,null,null,null,null,null,{"$f":"Control!$C$20+Control!$C$21*A6704+Control!$C$22*A6704^2","v":1986.1096900847151}]
[6707,16,16,null,null,null,null,null,null,null,null,null,{"$f":"Control!$C$20+Control!$C$21*A6707+Control!$C$22*A6707^2","v":1987.0012549231606}]
[6710,11,11,null,null,null,null,null,null,null,null,null,{"$f":"Control!$C$20+Control!$C$21*A6710+Control!$C$22*A6710^2","v":1987.8928206223256}]
[6714,13,13,null,null,null,null,null,null,null,null,null,{"$f":"Control!$C$20+Control!$C$21*A6714+Control!$C$22*A6714^2","v":1989.081576226776}]
[6717,11,11,null,null,null,null,null,null,null,null,null,{"$f":"Control!$C$20+Control!$C$21*A6717+Control!$C$22*A6717^2","v":1989.9731439342863}]
[6720,11,11,null,null,null,null,null,null,null,null,null,{"$f":"Control!$C$20+Control!$C$21*A6720+Control!$C$22*A6720^2","v":1990.8647125025163}]
[6723,10,10,null,null,null,null,null,null,null,null,null,{"$f":"Control!$C$20+Control!$C$21*A6723+Control!$C$22*A6723^2","v":1991.7562819314658}]
[6726,14,14,null,null,null,null,null,null,null,null,null,{"$f":"Control!$C$20+Control!$C$21*A6726+Control!$C$22*A6726^2","v":1992.6478522211348}]
[6727,16,16,null,null,null,null,null,null,null,null,null,{"$f":"Control!$C$20+Control!$C$21*A6727+Control!$C$22*A6727^2","v":1992.9450425089622}]
[6730,14,14,null,null,null,null,null,null,null,null,null,{"$f":"Control!$C$20+Control!$C$21*A6730+Control!$C$22*A6730^2","v":1993.8366139462571}]
[6733,11,11,null,null,null,null,null,null,null,null,null,{"$f":"Control!$C$20+Control!$C$21*A6733+Control!$C$22*A6733^2","v":1994.7281862442715}]
[6737,17,17,null,null,null,null,null,null,null,null,null,{"$f":"Control!$C$20+Control!$C$21*A6737+Control!$C$22*A6737^2","v":1995.9169506471878}]
[6739,9,9,null,null,null,null,null,null,null,null,null,{"$f":"Control!$C$20+Control!$C$21*A6739+Control!$C$22*A6739^2","v":1996.5113334224588}]
[6743,15,15,null,null,null,null,null,null,null,null,null,{"$f":"Control!$C$20+Control!$C$21*A6743+Control!$C$22*A6743^2","v":1997.7001001206272}]
[6746,12,12,null,null,null,null,null,null,null,null,null,{"$f":"Control!$C$20+Control!$C$21*A6746+Control!$C$22*A6746^2","v":1998.5916761484261}]
[6749,9,9,null,null,null,null,null,null,null,null,null,{"$f":"Control!$C$20+Control!$C$21*A6749+Control!$C$22*A6749^2","v":1999.4832530369445}]
[6750,17,17,null,null,null,null,null,null,null,null,null,{"$f":"Control!$C$20+Control!$C$21*A6750+Control!$C$22*A6750^2","v":1999.7804455243884}]
[6753,20,20,null,null,null,null,null,null,null,null,null,{"$f":"Control!$C$20+Control!$C$21*A6753+Control!$C$22*A6753^2","v":2000.6720235605328}]
[6756,15,15,null,null,null,null,null,null,null,null,null,{"$f":"Control!$C$20+Control!$C$21*A6756+Control!$C$22*A6756^2","v":2001.5636024573967}]
[6760,13,13,null,null,null,null,null,null,null,null,null,{"$f":"Control!$C$20+Control!$C$21*A6760+Control!$C$22*A6760^2","v":2002.7523756587789}]
[6762,12,12,null,null,null,null,null,null,null,null,null,{"$f":"Control!$C$20+Control!$C$21*A6762+Control!$C$22*A6762^2","v":2003.346762833283}]
[6766,11,11,null,null,null,null,null,null,null,null,null,{"$f":"Control!$C$20+Control!$C$21*A6766+Control!$C$22*A6766^2","v":2004.5355383299172}]
[6769,14,14,null,null,null,null,null,null,null,null,null,{"$f":"Control!$C$20+Control!$C$21*A6769+Control!$C$22*A6769^2","v":2005.4271209565657}]
[6772,18,18,null,null,null,null,null,null,null,null,null,{"$f":"Control!$C$20+Control!$C$21*A6772+Control!$C$22*A6772^2","v":2006.3187044439335}]
[6773,19,19,null,null,null,null,null,null,null,null,null,{"$f":"Control!$C$20+Control!$C$21*A6773+Control!$C$22*A6773^2","v":2006.6158991309937}]
[6776,9,9,null,null,null,null,null,null,null,null,null,{"$f":"Control!$C$20+Control!$C$21*A6776+Control!$C$22*A6776^2","v":2007.5074837659877}]
[6779,8,8,null,null,null,null,null,null,null,null,null,{"$f":"Control!$C$20+Control!$C$21*A6779+Control!$C$22*A6779^2","v":2008.399069261701}]
[6782,20,20,null,null,null,null,null,null,null,null,null,{"$f":"Control!$C$20+Control!$C$21*A6782+Control!$C$22*A6782^2","v":2009.290655618134}]
[6785,15,15,null,null,null,null,null,null,null,null,null,{"$f":"Control!$C$20+Control!$C$21*A6785+Control!$C$22*A6785^2","v":2010.1822428352864}]
[6789,14,14,null,null,null,null,null,null,null,null,null,{"$f":"Control!$C$20+Control!$C$21*A6789+Control!$C$22*A6789^2","v":2011.3710271303864}]
[6792,19,19,null,null,null,null,null,null,null,null,null,{"$f":"Control!$C$20+Control!$C$21*A6792+Control!$C$22*A6792^2","v":2012.2626163558843}]
[6795,19,19,null,null,null,null,null,null,null,null,null,{"$f":"Control!$C$20+Control!$C$21*A6795+Control!$C$22*A6795^2","v":2013.1542064421017}]
[6796,11,11,null,null,null,null,null,null,null,null,null,{"$f":"Control!$C$20+Control!$C$21*A6796+Control!$C$22*A6796^2","v":2013.4514033287785}]
[6800,11,11,null,null,null,null,null,null,null,null,null,{"$f":"Control!$C$20+Control!$C$21*A6800+Control!$C$22*A6800^2","v":2014.6401918318406}]
[6802,10,10,null,null,null,null,null,null,null,null,null,{"$f":"Control!$C$20+Control!$C$21*A6802+Control!$C$22*A6802^2","v":2015.2345866571848}]
[6805,12,12,null,null,null,null,null,null,null,null,null,{"$f":"Control!$C$20+Control!$C$21*A6805+Control!$C$22*A6805^2","v":2016.126179612467}]
[6808,15,15,null,null,null,null,null,null,null,null,null,{"$f":"Control!$C$20+Control!$C$21*A6808+Control!$C$22*A6808^2","v":2017.0177734284689}]
[6812,22,17,10,null,null,null,null,null,null,null,null,{"$f":"Control!$C$20+Control!$C$21*A6812+Control!$C$22*A6812^2","v":2018.206566522035}]
[6815,52,55,40,null,null,null,null,null,null,null,null,{"$f":"Control!$C$20+Control!$C$21*A6815+Control!$C$22*A6815^2","v":2019.0981623463824}]
[6818,75,74,63,null,null,null,null,null,null,null,null,{"$f":"Control!$C$20+Control!$C$21*A6818+Control!$C$22*A6818^2","v":2019.9897590314492}]
[6819,72,79,60,null,null,null,null,null,null,null,null,{"$f":"Control!$C$20+Control!$C$21*A6819+Control!$C$22*A6819^2","v":2020.2869581177424}]
[6821,53,67,41,null,null,null,null,null,null,null,null,{"$f":"Control!$C$20+Control!$C$21*A6821+Control!$C$22*A6821^2","v":2020.8813565772355}]
[6825,18,18,6,null,null,null,null,null,null,null,null,{"$f":"Control!$C$20+Control!$C$21*A6825+Control!$C$22*A6825^2","v":2022.0701546438477}]
[6828,14,14,null,null,null,null,null,null,null,null,null,{"$f":"Control!$C$20+Control!$C$21*A6828+Control!$C$22*A6828^2","v":2022.9617541979794}]
[6831,13,13,null,null,null,null,null,null,null,null,null,{"$f":"Control!$C$20+Control!$C$21*A6831+Control!$C$22*A6831^2","v":2023.8533546128308}]
[6835,14,14,null,null,null,null,null,null,null,null,null,{"$f":"Control!$C$20+Control!$C$21*A6835+Control!$C$22*A6835^2","v":2025.0421565048628}]
[6838,9,9,null,null,null,null,null,null,null,null,null,{"$f":"Control!$C$20+Control!$C$21*A6838+Control!$C$22*A6838^2","v":2025.9337589280597}]
[6840,7,7,null,null,null,null,null,null,null,null,null,{"$f":"Control!$C$20+Control!$C$21*A6840+Control!$C$22*A6840^2","v":2026.5281610217016}]
[6841,14,14,null,null,null,null,null,null,null,null,null,{"$f":"Control!$C$20+Control!$C$21*A6841+Control!$C$22*A6841^2","v":2026.825362211976}]
[6844,14,14,null,null,null,null,null,null,null,null,null,{"$f":"Control!$C$20+Control!$C$21*A6844+Control!$C$22*A6844^2","v":2027.7169663566117}]
[6848,20,20,null,null,null,null,null,null,null,null,null,{"$f":"Control!$C$20+Control!$C$21*A6848+Control!$C$22*A6848^2","v":2028.9057732216897}]
[6851,10,10,null,null,null,null,null,null,null,null,null,{"$f":"Control!$C$20+Control!$C$21*A6851+Control!$C$22*A6851^2","v":2029.797379374671}]
[6854,15,15,null,null,null,null,null,null,null,null,null,{"$f":"Control!$C$20+Control!$C$21*A6854+Control!$C$22*A6854^2","v":2030.6889863883719}]
[6858,13,13,null,null,null,null,null,null,null,null,null,{"$f":"Control!$C$20+Control!$C$21*A6858+Control!$C$22*A6858^2","v":2031.8777970788699}]
[6859,9,9,null,null,null,null,null,null,null,null,null,{"$f":"Control!$C$20+Control!$C$21*A6859+Control!$C$22*A6859^2","v":2032.174999990583}]
[6861,13,13,null,null,null,null,null,null,null,null,null,{"$f":"Control!$C$20+Control!$C$21*A6861+Control!$C$22*A6861^2","v":2032.7694061009161}]
[6864,13,13,null,null,null,null,null,null,null,null,null,{"$f":"Control!$C$20+Control!$C$21*A6864+Control!$C$22*A6864^2","v":2033.6610159836819}]
[6867,14,14,null,null,null,null,null,null,null,null,null,{"$f":"Control!$C$20+Control!$C$21*A6867+Control!$C$22*A6867^2","v":2034.5526267271671}]
[6871,15,15,null,null,null,null,null,null,null,null,null,{"$f":"Control!$C$20+Control!$C$21*A6871+Control!$C$22*A6871^2","v":2035.7414423907112}]
[6874,11,11,null,null,null,null,null,null,null,null,null,{"$f":"Control!$C$20+Control!$C$21*A6874+Control!$C$22*A6874^2","v":2036.6330551425419}]
[6878,9,9,null,null,null,null,null,null,null,null,null,{"$f":"Control!$C$20+Control!$C$21*A6878+Control!$C$22*A6878^2","v":2037.8218734838799}]
[6880,15,15,null,null,null,null,null,null,null,null,null,{"$f":"Control!$C$20+Control!$C$21*A6880+Control!$C$22*A6880^2","v":2038.4162832283619}]
[6883,12,12,null,null,null,null,null,null,null,null,null,{"$f":"Control!$C$20+Control!$C$21*A6883+Control!$C$22*A6883^2","v":2039.3078985623511}]
[6884,11,11,null,null,null,null,null,null,null,null,null,{"$f":"Control!$C$20+Control!$C$21*A6884+Control!$C$22*A6884^2","v":2039.6051038649518}]
[6887,18,18,null,null,null,null,null,null,null,null,null,{"$f":"Control!$C$20+Control!$C$21*A6887+Control!$C$22*A6887^2","v":2040.4967203465671}]
[6890,12,12,null,null,null,null,null,null,null,null,null,{"$f":"Control!$C$20+Control!$C$21*A6890+Control!$C$22*A6890^2","v":2041.3883376889019}]
[6894,18,18,null,null,null,null,null,null,null,null,null,{"$f":"Control!$C$20+Control!$C$21*A6894+Control!$C$22*A6894^2","v":2042.5771621509118}]
[6897,21,21,null,null,null,null,null,null,null,null,null,{"$f":"Control!$C$20+Control!$C$21*A6897+Control!$C$22*A6897^2","v":2043.468781501592}]
[6899,12,12,null,null,null,null,null,null,null,null,null,{"$f":"Control!$C$20+Control!$C$21*A6899+Control!$C$22*A6899^2","v":2044.0631948802229}]
[6903,10,10,null,null,null,null,null,null,null,null,null,{"$f":"Control!$C$20+Control!$C$21*A6903+Control!$C$22*A6903^2","v":2045.252022785111}]
[6906,11,11,null,null,null,null,null,null,null,null,null,{"$f":"Control!$C$20+Control!$C$21*A6906+Control!$C$22*A6906^2","v":2046.1436447179497}]
[6907,16,16,null,null,null,null,null,null,null,null,null,{"$f":"Control!$C$20+Control!$C$21*A6907+Control!$C$22*A6907^2","v":2046.4408522201668}]
[6910,8,8,null,null,null,null,null,null,null,null,null,{"$f":"Control!$C$20+Control!$C$21*A6910+Control!$C$22*A6910^2","v":2047.3324753006316}]
[6913,7,7,null,null,null,null,null,null,null,null,null,{"$f":"Control!$C$20+Control!$C$21*A6913+Control!$C$22*A6913^2","v":2048.2240992418156}]
[6917,13,13,null,null,null,null,null,null,null,null,null,{"$f":"Control!$C$20+Control!$C$21*A6917+Control!$C$22*A6917^2","v":2049.4129325022918}]
[6920,16,16,null,null,null,null,null,null,null,null,null,{"$f":"Control!$C$20+Control!$C$21*A6920+Control!$C$22*A6920^2","v":2050.3045584518213}]
[6923,15,15,null,null,null,null,null,null,null,null,null,{"$f":"Control!$C$20+Control!$C$21*A6923+Control!$C$22*A6923^2","v":2051.1961852620707}]
[6926,14,14,null,null,null,null,null,null,null,null,null,{"$f":"Control!$C$20+Control!$C$21*A6926+Control!$C$22*A6926^2","v":2052.087812933039}]
[6929,5,5,null,null,null,null,null,null,null,null,null,{"$f":"Control!$C$20+Control!$C$21*A6929+Control!$C$22*A6929^2","v":2052.9794414647272}]
[6930,16,16,null,null,null,null,null,null,null,null,null,{"$f":"Control!$C$20+Control!$C$21*A6930+Control!$C$22*A6930^2","v":2053.2766511665609}]
[6933,16,16,null,null,null,null,null,null,null,null,null,{"$f":"Control!$C$20+Control!$C$21*A6933+Control!$C$22*A6933^2","v":2054.1682808458754}]
[6937,16,16,null,null,null,null,null,null,null,null,null,{"$f":"Control!$C$20+Control!$C$21*A6937+Control!$C$22*A6937^2","v":2055.3571217571912}]
[6939,14,14,null,null,null,null,null,null,null,null,null,{"$f":"Control!$C$20+Control!$C$21*A6939+Control!$C$22*A6939^2","v":2055.9515427866622}]
[6942,11,11,null,null,null,null,null,null,null,null,null,{"$f":"Control!$C$20+Control!$C$21*A6942+Control!$C$22*A6942^2","v":2056.8431750481345}]
[6946,162,182,149,null,null,null,null,null,null,null,null,{"$f":"Control!$C$20+Control!$C$21*A6946+Control!$C$22*A6946^2","v":2058.0320194023284}]
[6949,671,709,658,null,null,null,null,null,null,null,null,{"$f":"Control!$C$20+Control!$C$21*A6949+Control!$C$22*A6949^2","v":2058.9236536721469}]
[6952,1231,1234,1218,null,null,null,null,null,null,null,null,{"$f":"Control!$C$20+Control!$C$21*A6952+Control!$C$22*A6952^2","v":2059.8152888026843}]
[6953,1246,1205,1233,null,null,null,null,null,null,null,null,{"$f":"Control!$C$20+Control!$C$21*A6953+Control!$C$22*A6953^2","v":2060.1125007041346}]
[6956,727,737,714,null,null,null,null,null,null,null,null,{"$f":"Control!$C$20+Control!$C$21*A6956+Control!$C$22*A6956^2","v":2061.0041369822984}]
[6960,102,112,89,null,null,null,null,null,null,null,null,{"$f":"Control!$C$20+Control!$C$21*A6960+Control!$C$22*A6960^2","v":2062.19298669208}]
[6962,31,24,18,null,null,null,null,null,null,null,null,{"$f":"Control!$C$20+Control!$C$21*A6962+Control!$C$22*A6962^2","v":2062.7874121207838}]
[6965,11,11,null,null,null,null,null,null,null,null,null,{"$f":"Control!$C$20+Control!$C$21*A6965+Control!$C$22*A6965^2","v":2063.6790509811062}]
[6969,13,13,null,null,null,null,null,null,null,null,null,{"$f":"Control!$C$20+Control!$C$21*A6969+Control!$C$22*A6969^2","v":2064.8679041337659}]
[6972,10,10,null,null,null,null,null,null,null,null,null,{"$f":"Control!$C$20+Control!$C$21*A6972+Control!$C$22*A6972^2","v":2065.7595450024337}]
[6973,11,11,null,null,null,null,null,null,null,null,null,{"$f":"Control!$C$20+Control!$C$21*A6973+Control!$C$22*A6973^2","v":2066.0567588165936}]
[6976,16,16,null,null,null,null,null,null,null,null,null,{"$f":"Control!$C$20+Control!$C$21*A6976+Control!$C$22*A6976^2","v":2066.9484008328873}]
[6979,10,10,null,null,null,null,null,null,null,null,null,{"$f":"Control!$C$20+Control!$C$21*A6979+Control!$C$22*A6979^2","v":2067.8400437099003}]
[6982,14,14,null,null,null,null,null,null,null,null,null,{"$f":"Control!$C$20+Control!$C$21*A6982+Control!$C$22*A6982^2","v":2068.7316874476328}]
[6985,9,9,null,null,null,null,null,null,null,null,null,{"$f":"Control!$C$20+Control!$C$21*A6985+Control!$C$22*A6985^2","v":2069.6233320460851}]
[6988,15,15,null,null,null,null,null,null,null,null,null,{"$f":"Control!$C$20+Control!$C$21*A6988+Control!$C$22*A6988^2","v":2070.5149775052569}]
[6992,20,20,null,null,null,null,null,null,null,null,null,{"$f":"Control!$C$20+Control!$C$21*A6992+Control!$C$22*A6992^2","v":2071.7038394563824}]
[6995,7,7,null,null,null,null,null,null,null,null,null,{"$f":"Control!$C$20+Control!$C$21*A6995+Control!$C$22*A6995^2","v":2072.5954869238994}]
[6996,12,12,null,null,null,null,null,null,null,null,null,{"$f":"Control!$C$20+Control!$C$21*A6996+Control!$C$22*A6996^2","v":2072.8927029376764}]
[7000,15,15,null,null,null,null,null,null,null,null,null,{"$f":"Control!$C$20+Control!$C$21*A7000+Control!$C$22*A7000^2","v":2074.0815679491379}]
[7001,17,17,null,null,null,null,null,null,null,null,null,{"$f":"Control!$C$20+Control!$C$21*A7001+Control!$C$22*A7001^2","v":2074.3787844410922}]
[7005,15,15,null,null,null,null,null,null,null,null,null,{"$f":"Control!$C$20+Control!$C$21*A7005+Control!$C$22*A7005^2","v":2075.5676513652638}]
[7008,11,11,null,null,null,null,null,null,null,null,null,{"$f":"Control!$C$20+Control!$C$21*A7008+Control!$C$22*A7008^2","v":2076.4593025625654}]
[7011,8,8,null,null,null,null,null,null,null,null,null,{"$f":"Control!$C$20+Control!$C$21*A7011+Control!$C$22*A7011^2","v":2077.3509546205864}]
[7015,4,4,null,null,null,null,null,null,null,null,null,{"$f":"Control!$C$20+Control!$C$21*A7015+Control!$C$22*A7015^2","v":2078.5398253701783}]
[7017,12,12,null,null,null,null,null,null,null,null,null,{"$f":"Control!$C$20+Control!$C$21*A7017+Control!$C$22*A7017^2","v":2079.1342613187871}]
[7018,11,11,null,null,null,null,null,null,null,null,null,{"$f":"Control!$C$20+Control!$C$21*A7018+Control!$C$22*A7018^2","v":2079.4314794365446}]
[7021,15,15,null,null,null,null,null,null,null,null,null,{"$f":"Control!$C$20+Control!$C$21*A7021+Control!$C$22*A7021^2","v":2080.3231343636307}]
[7024,12,12,null,null,null,null,null,null,null,null,null,{"$f":"Control!$C$20+Control!$C$21*A7024+Control!$C$22*A7024^2","v":2081.2147901514363}]
[7028,9,9,null,null,null,null,null,null,null,null,null,{"$f":"Control!$C$20+Control!$C$21*A7028+Control!$C$22*A7028^2","v":2082.4036658740742}]
[7031,14,14,null,null,null,null,null,null,null,null,null,{"$f":"Control!$C$20+Control!$C$21*A7031+Control!$C$22*A7031^2","v":2083.2953236702251}]
[7035,12,12,null,null,null,null,null,null,null,null,null,{"$f":"Control!$C$20+Control!$C$21*A7035+Control!$C$22*A7035^2","v":2084.4842020706569}]
[7036,8,8,null,null,null,null,null,null,null,null,null,{"$f":"Control!$C$20+Control!$C$21*A7036+Control!$C$22*A7036^2","v":2084.7814219098536}]
[7040,13,13,null,null,null,null,null,null,null,null,null,{"$f":"Control!$C$20+Control!$C$21*A7040+Control!$C$22*A7040^2","v":2085.9703022229951}]
[7041,7,7,null,null,null,null,null,null,null,null,null,{"$f":"Control!$C$20+Control!$C$21*A7041+Control!$C$22*A7041^2","v":2086.2675225403691}]
[7044,14,14,null,null,null,null,null,null,null,null,null,{"$f":"Control!$C$20+Control!$C$21*A7044+Control!$C$22*A7044^2","v":2087.159184066305}]
[7047,8,8,null,null,null,null,null,null,null,null,null,{"$f":"Control!$C$20+Control!$C$21*A7047+Control!$C$22*A7047^2","v":2088.0508464529598}]
[7051,10,10,null,null,null,null,null,null,null,null,null,{"$f":"Control!$C$20+Control!$C$21*A7051+Control!$C$22*A7051^2","v":2089.2397309740636}]
[7054,11,11,null,null,null,null,null,null,null,null,null,{"$f":"Control!$C$20+Control!$C$21*A7054+Control!$C$22*A7054^2","v":2090.1313953690637}]
[7057,12,12,null,null,null,null,null,null,null,null,null,{"$f":"Control!$C$20+Control!$C$21*A7057+Control!$C$22*A7057^2","v":2091.0230606247837}]
[7060,14,14,null,null,null,null,null,null,null,null,null,{"$f":"Control!$C$20+Control!$C$21*A7060+Control!$C$22*A7060^2","v":2091.9147267412236}]
[7063,16,16,null,null,null,null,null,null,null,null,null,{"$f":"Control!$C$20+Control!$C$21*A7063+Control!$C$22*A7063^2","v":2092.8063937183824}]
[7064,23,23,null,null,null,null,null,null,null,null,null,{"$f":"Control!$C$20+Control!$C$21*A7064+Control!$C$22*A7064^2","v":2093.103616235373}]
[7067,16,16,null,null,null,null,null,null,null,null,null,{"$f":"Control!$C$20+Control!$C$21*A7067+Control!$C$22*A7067^2","v":2093.9952843601582}]
[7070,12,12,null,null,null,null,null,null,null,null,null,{"$f":"Control!$C$20+Control!$C$21*A7070+Control!$C$22*A7070^2","v":2094.8869533456623}]
[7074,14,14,null,null,null,null,null,null,null,null,null,{"$f":"Control!$C$20+Control!$C$21*A7074+Control!$C$22*A7074^2","v":2096.0758466652319}]
[7076,14,14,null,null,null,null,null,null,null,null,null,{"$f":"Control!$C$20+Control!$C$21*A7076+Control!$C$22*A7076^2","v":2096.6702938988301}]
[7080,14,14,null,null,null,null,null,null,null,null,null,{"$f":"Control!$C$20+Control!$C$21*A7080+Control!$C$22*A7080^2","v":2097.8591895136515}]
[7083,10,10,null,null,null,null,null,null,null,null,null,{"$f":"Control!$C$20+Control!$C$21*A7083+Control!$C$22*A7083^2","v":2098.7508622289406}]
[7086,12,12,null,null,null,null,null,null,null,null,null,{"$f":"Control!$C$20+Control!$C$21*A7086+Control!$C$22*A7086^2","v":2099.6425358049487}]
[7087,11,11,null,null,null,null,null,null,null,null,null,{"$f":"Control!$C$20+Control!$C$21*A7087+Control!$C$22*A7087^2","v":2099.9397605215559}]
[7090,9,9,null,null,null,null,null,null,null,null,null,{"$f":"Control!$C$20+Control!$C$21*A7090+Control!$C$22*A7090^2","v":2100.8314352451903}]
[7094,29,29,null,null,null,null,null,null,null,null,null,{"$f":"Control!$C$20+Control!$C$21*A7094+Control!$C$22*A7094^2","v":2102.0203362155999}]
[7097,32,32,null,null,null,null,null,null,null,null,null,{"$f":"Control!$C$20+Control!$C$21*A7097+Control!$C$22*A7097^2","v":2102.91201294758}]
[7099,42,42,null,null,null,null,null,null,null,null,null,{"$f":"Control!$C$20+Control!$C$21*A7099+Control!$C$22*A7099^2","v":2103.5064645804109}]
[7103,43,43,null,null,null,null,null,null,null,null,null,{"$f":"Control!$C$20+Control!$C$21*A7103+Control!$C$22*A7103^2","v":2104.6953689936981}]
[7106,26,26,null,null,null,null,null,null,null,null,null,{"$f":"Control!$C$20+Control!$C$21*A7106+Control!$C$22*A7106^2","v":2105.5870483078365}]
[7109,20,20,null,null,null,null,null,null,null,null,null,{"$f":"Control!$C$20+Control!$C$21*A7109+Control!$C$22*A7109^2","v":2106.4787284826948}]
[7110,9,9,null,null,null,null,null,null,null,null,null,{"$f":"Control!$C$20+Control!$C$21*A7110+Control!$C$22*A7110^2","v":2106.7759553989181}]
[7113,16,16,null,null,null,null,null,null,null,null,null,{"$f":"Control!$C$20+Control!$C$21*A7113+Control!$C$22*A7113^2","v":2107.6676367214022}]
[7116,11,11,null,null,null,null,null,null,null,null,null,{"$f":"Control!$C$20+Control!$C$21*A7116+Control!$C$22*A7116^2","v":2108.5593189046058}]
[7119,17,17,null,null,null,null,null,null,null,null,null,{"$f":"Control!$C$20+Control!$C$21*A7119+Control!$C$22*A7119^2","v":2109.4510019485283}]
[7122,13,13,null,null,null,null,null,null,null,null,null,{"$f":"Control!$C$20+Control!$C$21*A7122+Control!$C$22*A7122^2","v":2110.3426858531707}]
[7126,10,10,null,null,null,null,null,null,null,null,null,{"$f":"Control!$C$20+Control!$C$21*A7126+Control!$C$22*A7126^2","v":2111.5315990649242}]
[7129,10,10,null,null,null,null,null,null,null,null,null,{"$f":"Control!$C$20+Control!$C$21*A7129+Control!$C$22*A7129^2","v":2112.4232849779123}]
[7130,11,11,null,null,null,null,null,null,null,null,null,{"$f":"Control!$C$20+Control!$C$21*A7130+Control!$C$22*A7130^2","v":2112.7205138068457}]
[7133,16,16,null,null,null,null,null,null,null,null,null,{"$f":"Control!$C$20+Control!$C$21*A7133+Control!$C$22*A7133^2","v":2113.6122008674597}]
[7137,6,6,null,null,null,null,null,null,null,null,null,{"$f":"Control!$C$20+Control!$C$21*A7137+Control!$C$22*A7137^2","v":2114.8011182871751}]
[7139,7,7,null,null,null,null,null,null,null,null,null,{"$f":"Control!$C$20+Control!$C$21*A7139+Control!$C$22*A7139^2","v":2115.3955775708459}]
[7142,8,8,null,null,null,null,null,null,null,null,null,{"$f":"Control!$C$20+Control!$C$21*A7142+Control!$C$22*A7142^2","v":2116.2872672136182}]
[7145,16,16,null,null,null,null,null,null,null,null,null,{"$f":"Control!$C$20+Control!$C$21*A7145+Control!$C$22*A7145^2","v":2117.1789577171103}]
[7149,26,26,null,null,null,null,null,null,null,null,null,{"$f":"Control!$C$20+Control!$C$21*A7149+Control!$C$22*A7149^2","v":2118.3678797273296}]
[7152,24,24,null,null,null,null,null,null,null,null,null,{"$f":"Control!$C$20+Control!$C$21*A7152+Control!$C$22*A7152^2","v":2119.259572239167}]
[7153,22,22,null,null,null,null,null,null,null,null,null,{"$f":"Control!$C$20+Control!$C$21*A7153+Control!$C$22*A7153^2","v":2119.556803267717}]
[7156,13,13,null,null,null,null,null,null,null,null,null,{"$f":"Control!$C$20+Control!$C$21*A7156+Control!$C$22*A7156^2","v":2120.4484969271807}]
[7158,13,13,null,null,null,null,null,null,null,null,null,{"$f":"Control!$C$20+Control!$C$21*A7158+Control!$C$22*A7158^2","v":2121.042959845}]
[7162,20,20,null,null,null,null,null,null,null,null,null,{"$f":"Control!$C$20+Control!$C$21*A7162+Control!$C$22*A7162^2","v":2122.2318868282655}]
[7165,10,10,null,null,null,null,null,null,null,null,null,{"$f":"Control!$C$20+Control!$C$21*A7165+Control!$C$22*A7165^2","v":2123.1235830698874}]
[7168,11,11,null,null,null,null,null,null,null,null,null,{"$f":"Control!$C$20+Control!$C$21*A7168+Control!$C$22*A7168^2","v":2124.0152801722288}]
[7172,14,14,null,null,null,null,null,null,null,null,null,{"$f":"Control!$C$20+Control!$C$21*A7172+Control!$C$22*A7172^2","v":2125.2042109809145}]
[7175,15,15,null,null,null,null,null,null,null,null,null,{"$f":"Control!$C$20+Control!$C$21*A7175+Control!$C$22*A7175^2","v":2126.0959100916011}]
[7177,14,14,null,null,null,null,null,null,null,null,null,{"$f":"Control!$C$20+Control!$C$21*A7177+Control!$C$22*A7177^2","v":2126.6903766435698}]
[7178,10,10,null,null,null,null,null,null,null,null,null,{"$f":"Control!$C$20+Control!$C$21*A7178+Control!$C$22*A7178^2","v":2126.9876100630072}]
[7181,19,19,null,null,null,null,null,null,null,null,null,{"$f":"Control!$C$20+Control!$C$21*A7181+Control!$C$22*A7181^2","v":2127.8793108951331}]
[7185,11,11,null,null,null,null,null,null,null,null,null,{"$f":"Control!$C$20+Control!$C$21*A7185+Control!$C$22*A7185^2","v":2129.0682466768644}]
[7188,14,14,null,null,null,null,null,null,null,null,null,{"$f":"Control!$C$20+Control!$C$21*A7188+Control!$C$22*A7188^2","v":2129.9599495173361}]
[7192,14,14,null,null,null,null,null,null,null,null,null,{"$f":"Control!$C$20+Control!$C$21*A7192+Control!$C$22*A7192^2","v":2131.1488879768613}]
[7195,9,9,null,null,null,null,null,null,null,null,null,{"$f":"Control!$C$20+Control!$C$21*A7195+Control!$C$22*A7195^2","v":2132.0405928256782}]
[7196,15,15,null,null,null,null,null,null,null,null,null,{"$f":"Control!$C$20+Control!$C$21*A7196+Control!$C$22*A7196^2","v":2132.3378279665549}]
[7198,10,10,null,null,null,null,null,null,null,null,null,{"$f":"Control!$C$20+Control!$C$21*A7198+Control!$C$22*A7198^2","v":2132.9322985352142}]
[7201,15,15,null,null,null,null,null,null,null,null,null,{"$f":"Control!$C$20+Control!$C$21*A7201+Control!$C$22*A7201^2","v":2133.82400510547}]
[7204,17,17,null,null,null,null,null,null,null,null,null,{"$f":"Control!$C$20+Control!$C$21*A7204+Control!$C$22*A7204^2","v":2134.7157125364456}]
[7208,11,11,null,null,null,null,null,null,null,null,null,{"$f":"Control!$C$20+Control!$C$21*A7208+Control!$C$22*A7208^2","v":2135.9046571166427}]
[7211,11,11,null,null,null,null,null,null,null,null,null,{"$f":"Control!$C$20+Control!$C$21*A7211+Control!$C$22*A7211^2","v":2136.7963665559637}]
[7215,11,11,null,null,null,null,null,null,null,null,null,{"$f":"Control!$C$20+Control!$C$21*A7215+Control!$C$22*A7215^2","v":2137.9853138139547}]
[7217,6,6,null,null,null,null,null,null,null,null,null,{"$f":"Control!$C$20+Control!$C$21*A7217+Control!$C$22*A7217^2","v":2138.5797880167634}]
[7220,17,17,null,null,null,null,null,null,null,null,null,{"$f":"Control!$C$20+Control!$C$21*A7220+Control!$C$22*A7220^2","v":2139.471500038243}]
[7221,10,10,null,null,null,null,null,null,null,null,null,{"$f":"Control!$C$20+Control!$C$21*A7221+Control!$C$22*A7221^2","v":2139.768737570007}]
[7224,15,15,null,null,null,null,null,null,null,null,null,{"$f":"Control!$C$20+Control!$C$21*A7224+Control!$C$22*A7224^2","v":2140.6604507391121}]
[7227,17,17,null,null,null,null,null,null,null,null,null,{"$f":"Control!$C$20+Control!$C$21*A7227+Control!$C$22*A7227^2","v":2141.552164768937}]
[7231,6,6,null,null,null,null,null,null,null,null,null,{"$f":"Control!$C$20+Control!$C$21*A7231+Control!$C$22*A7231^2","v":2142.7411181476}]
[7234,12,12,null,null,null,null,null,null,null,null,null,{"$f":"Control!$C$20+Control!$C$21*A7234+Control!$C$22*A7234^2","v":2143.6328341857702}]
[7236,15,15,null,null,null,null,null,null,null,null,null,{"$f":"Control!$C$20+Control!$C$21*A7236+Control!$C$22*A7236^2","v":2144.2273120227283}]
[7240,6,6,null,null,null,null,null,null,null,null,null,{"$f":"Control!$C$20+Control!$C$21*A7240+Control!$C$22*A7240^2","v":2145.4162688442693}]
[7243,12,12,null,null,null,null,null,null,null,null,null,{"$f":"Control!$C$20+Control!$C$21*A7243+Control!$C$22*A7243^2","v":2146.3079874645982}]
[7244,6,6,null,null,null,null,null,null,null,null,null,{"$f":"Control!$C$20+Control!$C$21*A7244+Control!$C$22*A7244^2","v":2146.6052271959788}]
[7247,7,7,null,null,null,null,null,null,null,null,null,{"$f":"Control!$C$20+Control!$C$21*A7247+Control!$C$22*A7247^2","v":2147.4969469639332}]
[7251,7,7,null,null,null,null,null,null,null,null,null,{"$f":"Control!$C$20+Control!$C$21*A7251+Control!$C$22*A7251^2","v":2148.6859079934366}]
[7254,12,12,null,null,null,null,null,null,null,null,null,{"$f":"Control!$C$20+Control!$C$21*A7254+Control!$C$22*A7254^2","v":2149.5776297697366}]
[7257,10,10,null,null,null,null,null,null,null,null,null,{"$f":"Control!$C$20+Control!$C$21*A7257+Control!$C$22*A7257^2","v":2150.4693524067566}]
[7260,14,14,null,null,null,null,null,null,null,null,null,{"$f":"Control!$C$20+Control!$C$21*A7260+Control!$C$22*A7260^2","v":2151.3610759044959}]
[7263,18,18,null,null,null,null,null,null,null,null,null,{"$f":"Control!$C$20+Control!$C$21*A7263+Control!$C$22*A7263^2","v":2152.2528002629542}]
[7266,7,7,null,null,null,null,null,null,null,null,null,{"$f":"Control!$C$20+Control!$C$21*A7266+Control!$C$22*A7266^2","v":2153.1445254821324}]
[7267,13,13,null,null,null,null,null,null,null,null,null,{"$f":"Control!$C$20+Control!$C$21*A7267+Control!$C$22*A7267^2","v":2153.4417674131296}]
[7270,13,13,null,null,null,null,null,null,null,null,null,{"$f":"Control!$C$20+Control!$C$21*A7270+Control!$C$22*A7270^2","v":2154.3334937799336}]
[7274,17,17,null,null,null,null,null,null,null,null,null,{"$f":"Control!$C$20+Control!$C$21*A7274+Control!$C$22*A7274^2","v":2155.5224636079029}]
[7276,9,9,null,null,null,null,null,null,null,null,null,{"$f":"Control!$C$20+Control!$C$21*A7276+Control!$C$22*A7276^2","v":2156.1169490957009}]
[7279,12,12,null,null,null,null,null,null,null,null,null,{"$f":"Control!$C$20+Control!$C$21*A7279+Control!$C$22*A7279^2","v":2157.0086780446632}]
[7283,5,5,null,null,null,null,null,null,null,null,null,{"$f":"Control!$C$20+Control!$C$21*A7283+Control!$C$22*A7283^2","v":2158.1976513155105}]
[7286,15,15,null,null,null,null,null,null,null,null,null,{"$f":"Control!$C$20+Control!$C$21*A7286+Control!$C$22*A7286^2","v":2159.0893822728185}]
[7287,7,7,null,null,null,null,null,null,null,null,null,{"$f":"Control!$C$20+Control!$C$21*A7287+Control!$C$22*A7287^2","v":2159.3866261165258}]
[7290,12,12,null,null,null,null,null,null,null,null,null,{"$f":"Control!$C$20+Control!$C$21*A7290+Control!$C$22*A7290^2","v":2160.2783582214597}]
[7293,9,9,null,null,null,null,null,null,null,null,null,{"$f":"Control!$C$20+Control!$C$21*A7293+Control!$C$22*A7293^2","v":2161.1700911871135}]
[7297,11,11,null,null,null,null,null,null,null,null,null,{"$f":"Control!$C$20+Control!$C$21*A7297+Control!$C$22*A7297^2","v":2162.3590698135486}]
[7299,12,12,null,null,null,null,null,null,null,null,null,{"$f":"Control!$C$20+Control!$C$21*A7299+Control!$C$22*A7299^2","v":2162.9535597005793}]
[7302,7,7,null,null,null,null,null,null,null,null,null,{"$f":"Control!$C$20+Control!$C$21*A7302+Control!$C$22*A7302^2","v":2163.8452952483913}]
[7306,15,15,null,null,null,null,null,null,null,null,null,{"$f":"Control!$C$20+Control!$C$21*A7306+Control!$C$22*A7306^2","v":2165.0342773177044}]
[7309,14,14,null,null,null,null,null,null,null,null,null,{"$f":"Control!$C$20+Control!$C$21*A7309+Control!$C$22*A7309^2","v":2165.9260148738622}]
[7310,16,16,null,null,null,null,null,null,null,null,null,{"$f":"Control!$C$20+Control!$C$21*A7310+Control!$C$22*A7310^2","v":2166.2232609171856}]
[7313,14,14,null,null,null,null,null,null,null,null,null,{"$f":"Control!$C$20+Control!$C$21*A7313+Control!$C$22*A7313^2","v":2167.1149996209692}]
[7316,14,14,null,null,null,null,null,null,null,null,null,{"$f":"Control!$C$20+Control!$C$21*A7316+Control!$C$22*A7316^2","v":2168.0067391854727}]
[7319,16,16,null,null,null,null,null,null,null,null,null,{"$f":"Control!$C$20+Control!$C$21*A7319+Control!$C$22*A7319^2","v":2168.8984796106952}]
[7322,12,12,null,null,null,null,null,null,null,null,null,{"$f":"Control!$C$20+Control!$C$21*A7322+Control!$C$22*A7322^2","v":2169.790220896637}]
[7325,11,11,null,null,null,null,null,null,null,null,null,{"$f":"Control!$C$20+Control!$C$21*A7325+Control!$C$22*A7325^2","v":2170.6819630432988}]
[7329,16,16,null,null,null,null,null,null,null,null,null,{"$f":"Control!$C$20+Control!$C$21*A7329+Control!$C$22*A7329^2","v":2171.8709539110778}]
[7332,15,15,null,null,null,null,null,null,null,null,null,{"$f":"Control!$C$20+Control!$C$21*A7332+Control!$C$22*A7332^2","v":2172.7626980660852}]
[7333,16,16,null,null,null,null,null,null,null,null,null,{"$f":"Control!$C$20+Control!$C$21*A7333+Control!$C$22*A7333^2","v":2173.0599463090252}]
[7337,8,8,null,null,null,null,null,null,null,null,null,{"$f":"Control!$C$20+Control!$C$21*A7337+Control!$C$22*A7337^2","v":2174.2489402371402}]
[7338,12,12,null,null,null,null,null,null,null,null,null,{"$f":"Control!$C$20+Control!$C$21*A7338+Control!$C$22*A7338^2","v":2174.5461889582575}]
[7342,12,12,null,null,null,null,null,null,null,null,null,{"$f":"Control!$C$20+Control!$C$21*A7342+Control!$C$22*A7342^2","v":2175.7351847990826}]
[7345,18,18,null,null,null,null,null,null,null,null,null,{"$f":"Control!$C$20+Control!$C$21*A7345+Control!$C$22*A7345^2","v":2176.6269326838742}]
[7349,11,11,null,null,null,null,null,null,null,null,null,{"$f":"Control!$C$20+Control!$C$21*A7349+Control!$C$22*A7349^2","v":2177.8159312024936}]
[7352,14,14,null,null,null,null,null,null,null,null,null,{"$f":"Control!$C$20+Control!$C$21*A7352+Control!$C$22*A7352^2","v":2178.7076810956305}]
[7355,17,17,null,null,null,null,null,null,null,null,null,{"$f":"Control!$C$20+Control!$C$21*A7355+Control!$C$22*A7355^2","v":2179.5994318494872}]
[7356,12,12,null,null,null,null,null,null,null,null,null,{"$f":"Control!$C$20+Control!$C$21*A7356+Control!$C$22*A7356^2","v":2179.8966822920438}]
[7358,14,14,null,null,null,null,null,null,null,null,null,{"$f":"Control!$C$20+Control!$C$21*A7358+Control!$C$22*A7358^2","v":2180.4911834640629}]
[7361,9,9,null,null,null,null,null,null,null,null,null,{"$f":"Control!$C$20+Control!$C$21*A7361+Control!$C$22*A7361^2","v":2181.3829359393585}]
[7365,11,11,null,null,null,null,null,null,null,null,null,{"$f":"Control!$C$20+Control!$C$21*A7365+Control!$C$22*A7365^2","v":2182.5719405786499}]
[7368,6,6,null,null,null,null,null,null,null,null,null,{"$f":"Control!$C$20+Control!$C$21*A7368+Control!$C$22*A7368^2","v":2183.4636950622908}]
[7372,8,8,null,null,null,null,null,null,null,null,null,{"$f":"Control!$C$20+Control!$C$21*A7372+Control!$C$22*A7372^2","v":2184.652702379376}]
[7373,12,12,null,null,null,null,null,null,null,null,null,{"$f":"Control!$C$20+Control!$C$21*A7373+Control!$C$22*A7373^2","v":2184.9499544477358}]
[7377,13,13,null,null,null,null,null,null,null,null,null,{"$f":"Control!$C$20+Control!$C$21*A7377+Control!$C$22*A7377^2","v":2186.1389636775307}]
[7378,15,15,null,null,null,null,null,null,null,null,null,{"$f":"Control!$C$20+Control!$C$21*A7378+Control!$C$22*A7378^2","v":2186.4362162240682}]
[7381,15,15,null,null,null,null,null,null,null,null,null,{"$f":"Control!$C$20+Control!$C$21*A7381+Control!$C$22*A7381^2","v":2187.327974437494}]
[7385,16,16,null,null,null,null,null,null,null,null,null,{"$f":"Control!$C$20+Control!$C$21*A7385+Control!$C$22*A7385^2","v":2188.516986727625}]
[7388,13,13,null,null,null,null,null,null,null,null,null,{"$f":"Control!$C$20+Control!$C$21*A7388+Control!$C$22*A7388^2","v":2189.4087469493961}]
[7391,10,10,null,null,null,null,null,null,null,null,null,{"$f":"Control!$C$20+Control!$C$21*A7391+Control!$C$22*A7391^2","v":2190.3005080318862}]
[7394,12,12,null,null,null,null,null,null,null,null,null,{"$f":"Control!$C$20+Control!$C$21*A7394+Control!$C$22*A7394^2","v":2191.1922699750962}]
[7397,12,12,null,null,null,null,null,null,null,null,null,{"$f":"Control!$C$20+Control!$C$21*A7397+Control!$C$22*A7397^2","v":2192.0840327790261}]
[7400,7,7,null,null,null,null,null,null,null,null,null,{"$f":"Control!$C$20+Control!$C$21*A7400+Control!$C$22*A7400^2","v":2192.9757964436749}]
[7401,7,7,null,null,null,null,null,null,null,null,null,{"$f":"Control!$C$20+Control!$C$21*A7401+Control!$C$22*A7401^2","v":2193.2730511898289}]
[7404,11,11,null,null,null,null,null,null,null,null,null,{"$f":"Control!$C$20+Control!$C$21*A7404+Control!$C$22*A7404^2","v":2194.1648160021041}]
[7408,3,3,null,null,null,null,null,null,null,null,null,{"$f":"Control!$C$20+Control!$C$21*A7408+Control!$C$22*A7408^2","v":2195.3538370907008}]
[7411,17,17,null,null,null,null,null,null,null,null,null,{"$f":"Control!$C$20+Control!$C$21*A7411+Control!$C$22*A7411^2","v":2196.2456039113213}]
[7413,16,16,null,null,null,null,null,null,null,null,null,{"$f":"Control!$C$20+Control!$C$21*A7413+Control!$C$22*A7413^2","v":2196.840115603246}]
[7417,10,10,null,null,null,null,null,null,null,null,null,{"$f":"Control!$C$20+Control!$C$21*A7417+Control!$C$22*A7417^2","v":2198.0291401347208}]
[7420,11,11,null,null,null,null,null,null,null,null,null,{"$f":"Control!$C$20+Control!$C$21*A7420+Control!$C$22*A7420^2","v":2198.9209095374999}]
[7423,10,10,null,null,null,null,null,null,null,null,null,{"$f":"Control!$C$20+Control!$C$21*A7423+Control!$C$22*A7423^2","v":2199.812679800998}]
[7424,11,11,null,null,null,null,null,null,null,null,null,{"$f":"Control!$C$20+Control!$C$21*A7424+Control!$C$22*A7424^2","v":2200.1099367467687}]
[7427,8,8,null,null,null,null,null,null,null,null,null,{"$f":"Control!$C$20+Control!$C$21*A7427+Control!$C$22*A7427^2","v":2201.0017081578931}]
[7431,20,20,null,null,null,null,null,null,null,null,null,{"$f":"Control!$C$20+Control!$C$21*A7431+Control!$C$22*A7431^2","v":2202.1907380449561}]
[7434,35,35,null,null,null,null,null,null,null,null,null,{"$f":"Control!$C$20+Control!$C$21*A7434+Control!$C$22*A7434^2","v":2203.0825114644258}]
[7436,38,38,null,null,null,null,null,null,null,null,null,{"$f":"Control!$C$20+Control!$C$21*A7436+Control!$C$22*A7436^2","v":2203.6770275555837}]
[7440,50,50,null,null,null,null,null,null,null,null,null,{"$f":"Control!$C$20+Control!$C$21*A7440+Control!$C$22*A7440^2","v":2204.8660608855243}]
[7443,32,32,null,null,null,null,null,null,null,null,null,{"$f":"Control!$C$20+Control!$C$21*A7443+Control!$C$22*A7443^2","v":2205.7578368871527}]
[7444,36,36,null,null,null,null,null,null,null,null,null,{"$f":"Control!$C$20+Control!$C$21*A7444+Control!$C$22*A7444^2","v":2206.0550957456335}]
[7447,13,13,null,null,null,null,null,null,null,null,null,{"$f":"Control!$C$20+Control!$C$21*A7447+Control!$C$22*A7447^2","v":2206.9468728948877}]
[7450,12,12,null,null,null,null,null,null,null,null,null,{"$f":"Control!$C$20+Control!$C$21*A7450+Control!$C$22*A7450^2","v":2207.8386509048614}]
[7453,7,7,null,null,null,null,null,null,null,null,null,{"$f":"Control!$C$20+Control!$C$21*A7453+Control!$C$22*A7453^2","v":2208.730429775555}]
[7456,13,13,null,null,null,null,null,null,null,null,null,{"$f":"Control!$C$20+Control!$C$21*A7456+Control!$C$22*A7456^2","v":2209.6222095069679}]
[7459,14,14,null,null,null,null,null,null,null,null,null,{"$f":"Control!$C$20+Control!$C$21*A7459+Control!$C$22*A7459^2","v":2210.5139900991003}]
[7463,13,13,null,null,null,null,null,null,null,null,null,{"$f":"Control!$C$20+Control!$C$21*A7463+Control!$C$22*A7463^2","v":2211.7030322275073}]
[7466,10,10,null,null,null,null,null,null,null,null,null,{"$f":"Control!$C$20+Control!$C$21*A7466+Control!$C$22*A7466^2","v":2212.5948148279849}]
[7467,10,10,null,null,null,null,null,null,null,null,null,{"$f":"Control!$C$20+Control!$C$21*A7467+Control!$C$22*A7467^2","v":2212.8920758860822}]
[7470,10,10,null,null,null,null,null,null,null,null,null,{"$f":"Control!$C$20+Control!$C$21*A7470+Control!$C$22*A7470^2","v":2213.7838596341858}]
[7474,12,12,null,null,null,null,null,null,null,null,null,{"$f":"Control!$C$20+Control!$C$21*A7474+Control!$C$22*A7474^2","v":2214.9729059705546}]
[7476,17,17,null,null,null,null,null,null,null,null,null,{"$f":"Control!$C$20+Control!$C$21*A7476+Control!$C$22*A7476^2","v":2215.5674297125524}]
[7479,11,11,null,null,null,null,null,null,null,null,null,{"$f":"Control!$C$20+Control!$C$21*A7479+Control!$C$22*A7479^2","v":2216.4592160428147}]
[7482,7,7,null,null,null,null,null,null,null,null,null,{"$f":"Control!$C$20+Control!$C$21*A7482+Control!$C$22*A7482^2","v":2217.3510032337963}]
[7486,14,14,null,null,null,null,null,null,null,null,null,{"$f":"Control!$C$20+Control!$C$21*A7486+Control!$C$22*A7486^2","v":2218.5400541606691}]
[7489,10,10,null,null,null,null,null,null,null,null,null,{"$f":"Control!$C$20+Control!$C$21*A7489+Control!$C$22*A7489^2","v":2219.4318433599965}]
[7490,11,11,null,null,null,null,null,null,null,null,null,{"$f":"Control!$C$20+Control!$C$21*A7490+Control!$C$22*A7490^2","v":2219.7291066177099}]
[7493,4,4,null,null,null,null,null,null,null,null,null,{"$f":"Control!$C$20+Control!$C$21*A7493+Control!$C$22*A7493^2","v":2220.6208969646636}]
[7495,10,10,null,null,null,null,null,null,null,null,null,{"$f":"Control!$C$20+Control!$C$21*A7495+Control!$C$22*A7495^2","v":2221.2154243408099}]
[7499,9,9,null,null,null,null,null,null,null,null,null,{"$f":"Control!$C$20+Control!$C$21*A7499+Control!$C$22*A7499^2","v":2222.4044802407288}]
[7502,15,15,null,null,null,null,null,null,null,null,null,{"$f":"Control!$C$20+Control!$C$21*A7502+Control!$C$22*A7502^2","v":2223.2962731698403}]
[7506,11,11,null,null,null,null,null,null,null,null,null,{"$f":"Control!$C$20+Control!$C$21*A7506+Control!$C$22*A7506^2","v":2224.4853317475531}]
[7509,7,7,null,null,null,null,null,null,null,null,null,{"$f":"Control!$C$20+Control!$C$21*A7509+Control!$C$22*A7509^2","v":2225.3771266850108}]
[7512,19,19,null,null,null,null,null,null,null,null,null,{"$f":"Control!$C$20+Control!$C$21*A7512+Control!$C$22*A7512^2","v":2226.2689224831875}]
[7514,14,14,null,null,null,null,null,null,null,null,null,{"$f":"Control!$C$20+Control!$C$21*A7514+Control!$C$22*A7514^2","v":2226.8634534934827}]
[7515,11,11,null,null,null,null,null,null,null,null,null,{"$f":"Control!$C$20+Control!$C$21*A7515+Control!$C$22*A7515^2","v":2227.160719142084}]
[7518,8,8,null,null,null,null,null,null,null,null,null,{"$f":"Control!$C$20+Control!$C$21*A7518+Control!$C$22*A7518^2","v":2228.0525166616994}]
[7522,8,8,null,null,null,null,null,null,null,null,null,{"$f":"Control!$C$20+Control!$C$21*A7522+Control!$C$22*A7522^2","v":2229.2415813600842}]
[7525,11,11,null,null,null,null,null,null,null,null,null,{"$f":"Control!$C$20+Control!$C$21*A7525+Control!$C$22*A7525^2","v":2230.1333808880458}]
[7529,15,15,null,null,null,null,null,null,null,null,null,{"$f":"Control!$C$20+Control!$C$21*A7529+Control!$C$22*A7529^2","v":2231.3224482642245}]
[7532,9,9,null,null,null,null,null,null,null,null,null,{"$f":"Control!$C$20+Control!$C$21*A7532+Control!$C$22*A7532^2","v":2232.2142498005314}]
[7533,14,14,null,null,null,null,null,null,null,null,null,{"$f":"Control!$C$20+Control!$C$21*A7533+Control!$C$22*A7533^2","v":2232.5115171705711}]
[7535,6,6,null,null,null,null,null,null,null,null,null,{"$f":"Control!$C$20+Control!$C$21*A7535+Control!$C$22*A7535^2","v":2233.1060521975573}]
[7538,12,12,null,null,null,null,null,null,null,null,null,{"$f":"Control!$C$20+Control!$C$21*A7538+Control!$C$22*A7538^2","v":2233.9978554553031}]
[7542,11,11,null,null,null,null,null,null,null,null,null,{"$f":"Control!$C$20+Control!$C$21*A7542+Control!$C$22*A7542^2","v":2235.1869278045278}]
[7545,9,9,null,null,null,null,null,null,null,null,null,{"$f":"Control!$C$20+Control!$C$21*A7545+Control!$C$22*A7545^2","v":2236.0787330706194}]
[7548,9,9,null,null,null,null,null,null,null,null,null,{"$f":"Control!$C$20+Control!$C$21*A7548+Control!$C$22*A7548^2","v":2236.9705391974303}]
[7552,11,11,null,null,null,null,null,null,null,null,null,{"$f":"Control!$C$20+Control!$C$21*A7552+Control!$C$22*A7552^2","v":2238.1596153720748}]
[7554,7,7,null,null,null,null,null,null,null,null,null,{"$f":"Control!$C$20+Control!$C$21*A7554+Control!$C$22*A7554^2","v":2238.7541540332099}]
[7557,8,8,null,null,null,null,null,null,null,null,null,{"$f":"Control!$C$20+Control!$C$21*A7557+Control!$C$22*A7557^2","v":2239.6459627421796}]
[7558,17,17,null,null,null,null,null,null,null,null,null,{"$f":"Control!$C$20+Control!$C$21*A7558+Control!$C$22*A7558^2","v":2239.9432325031066}]
[7561,10,10,null,null,null,null,null,null,null,null,null,{"$f":"Control!$C$20+Control!$C$21*A7561+Control!$C$22*A7561^2","v":2240.8350423597021}]
[7565,15,15,null,null,null,null,null,null,null,null,null,{"$f":"Control!$C$20+Control!$C$21*A7565+Control!$C$22*A7565^2","v":2242.0241235073927}]
[7568,12,12,null,null,null,null,null,null,null,null,null,{"$f":"Control!$C$20+Control!$C$21*A7568+Control!$C$22*A7568^2","v":2242.9159353723335}]
[7571,13,13,null,null,null,null,null,null,null,null,null,{"$f":"Control!$C$20+Control!$C$21*A7571+Control!$C$22*A7571^2","v":2243.8077480979937}]
[7573,17,17,null,null,null,null,null,null,null,null,null,{"$f":"Control!$C$20+Control!$C$21*A7573+Control!$C$22*A7573^2","v":2244.4022903932782}]
[7577,8,8,null,null,null,null,null,null,null,null,null,{"$f":"Control!$C$20+Control!$C$21*A7577+Control!$C$22*A7577^2","v":2245.5913761314728}]
[7580,10,10,null,null,null,null,null,null,null,null,null,{"$f":"Control!$C$20+Control!$C$21*A7580+Control!$C$22*A7580^2","v":2246.4831914392917}]
[7581,9,9,null,null,null,null,null,null,null,null,null,{"$f":"Control!$C$20+Control!$C$21*A7581+Control!$C$22*A7581^2","v":2246.7804633998353}]
[7584,12,12,null,null,null,null,null,null,null,null,null,{"$f":"Control!$C$20+Control!$C$21*A7584+Control!$C$22*A7584^2","v":2247.6722798552801}]
[7588,13,13,null,null,null,null,null,null,null,null,null,{"$f":"Control!$C$20+Control!$C$21*A7588+Control!$C$22*A7588^2","v":2248.8613698014369}]
[7591,10,10,null,null,null,null,null,null,null,null,null,{"$f":"Control!$C$20+Control!$C$21*A7591+Control!$C$22*A7591^2","v":2249.753188265227}]
[7594,12,12,null,null,null,null,null,null,null,null,null,{"$f":"Control!$C$20+Control!$C$21*A7594+Control!$C$22*A7594^2","v":2250.6450075897365}]
[7597,14,14,null,null,null,null,null,null,null,null,null,{"$f":"Control!$C$20+Control!$C$21*A7597+Control!$C$22*A7597^2","v":2251.5368277749658}]
[7600,12,12,null,null,null,null,null,null,null,null,null,{"$f":"Control!$C$20+Control!$C$21*A7600+Control!$C$22*A7600^2","v":2252.4286488209145}]
[7601,11,11,null,null,null,null,null,null,null,null,null,{"$f":"Control!$C$20+Control!$C$21*A7601+Control!$C$22*A7601^2","v":2252.7259226941683}]
[7604,16,16,null,null,null,null,null,null,null,null,null,{"$f":"Control!$C$20+Control!$C$21*A7604+Control!$C$22*A7604^2","v":2253.6177448877434}]
[7607,7,7,null,null,null,null,null,null,null,null,null,{"$f":"Control!$C$20+Control!$C$21*A7607+Control!$C$22*A7607^2","v":2254.5095679420374}]
[7611,15,15,null,null,null,null,null,null,null,null,null,{"$f":"Control!$C$20+Control!$C$21*A7611+Control!$C$22*A7611^2","v":2255.6986666866601}]
[7613,13,13,null,null,null,null,null,null,null,null,null,{"$f":"Control!$C$20+Control!$C$21*A7613+Control!$C$22*A7613^2","v":2256.2932166327842}]
[7616,14,14,null,null,null,null,null,null,null,null,null,{"$f":"Control!$C$20+Control!$C$21*A7616+Control!$C$22*A7616^2","v":2257.1850422692369}]
[7620,10,10,null,null,null,null,null,null,null,null,null,{"$f":"Control!$C$20+Control!$C$21*A7620+Control!$C$22*A7620^2","v":2258.3741444567377}]
[7623,13,13,null,null,null,null,null,null,null,null,null,{"$f":"Control!$C$20+Control!$C$21*A7623+Control!$C$22*A7623^2","v":2259.2659721015357}]
[7624,16,16,null,null,null,null,null,null,null,null,null,{"$f":"Control!$C$20+Control!$C$21*A7624+Control!$C$22*A7624^2","v":2259.563248174406}]
[7627,15,15,null,null,null,null,null,null,null,null,null,{"$f":"Control!$C$20+Control!$C$21*A7627+Control!$C$22*A7627^2","v":2260.4550769668303}]
[7630,13,13,null,null,null,null,null,null,null,null,null,{"$f":"Control!$C$20+Control!$C$21*A7630+Control!$C$22*A7630^2","v":2261.3469066199737}]
[7634,12,12,null,null,null,null,null,null,null,null,null,{"$f":"Control!$C$20+Control!$C$21*A7634+Control!$C$22*A7634^2","v":2262.5360141630622}]
[7636,14,14,null,null,null,null,null,null,null,null,null,{"$f":"Control!$C$20+Control!$C$21*A7636+Control!$C$22*A7636^2","v":2263.1305685084199}]
[7640,10,10,null,null,null,null,null,null,null,null,null,{"$f":"Control!$C$20+Control!$C$21*A7640+Control!$C$22*A7640^2","v":2264.3196783467602}]
[7643,14,14,null,null,null,null,null,null,null,null,null,{"$f":"Control!$C$20+Control!$C$21*A7643+Control!$C$22*A7643^2","v":2265.2115117296885}]
[7646,16,16,null,null,null,null,null,null,null,null,null,{"$f":"Control!$C$20+Control!$C$21*A7646+Control!$C$22*A7646^2","v":2266.1033459733358}]
[7647,9,9,null,null,null,null,null,null,null,null,null,{"$f":"Control!$C$20+Control!$C$21*A7647+Control!$C$22*A7647^2","v":2266.4006242458227}]
[7650,11,11,null,null,null,null,null,null,null,null,null,{"$f":"Control!$C$20+Control!$C$21*A7650+Control!$C$22*A7650^2","v":2267.2924596370963}]
[7653,9,9,null,null,null,null,null,null,null,null,null,{"$f":"Control!$C$20+Control!$C$21*A7653+Control!$C$22*A7653^2","v":2268.1842958890898}]
[7656,11,11,null,null,null,null,null,null,null,null,null,{"$f":"Control!$C$20+Control!$C$21*A7656+Control!$C$22*A7656^2","v":2269.0761330018022}]
[7659,12,12,null,null,null,null,null,null,null,null,null,{"$f":"Control!$C$20+Control!$C$21*A7659+Control!$C$22*A7659^2","v":2269.9679709752345}]
[7663,14,14,null,null,null,null,null,null,null,null,null,{"$f":"Control!$C$20+Control!$C$21*A7663+Control!$C$22*A7663^2","v":2271.1570896120406}]
[7666,14,14,null,null,null,null,null,null,null,null,null,{"$f":"Control!$C$20+Control!$C$21*A7666+Control!$C$22*A7666^2","v":2272.0489295938182}]
[7669,13,13,null,null,null,null,null,null,null,null,null,{"$f":"Control!$C$20+Control!$C$21*A7669+Control!$C$22*A7669^2","v":2272.9407704363157}]
[7670,9,9,null,null,null,null,null,null,null,null,null,{"$f":"Control!$C$20+Control!$C$21*A7670+Control!$C$22*A7670^2","v":2273.2380509084187}]
[7674,7,7,null,null,null,null,null,null,null,null,null,{"$f":"Control!$C$20+Control!$C$21*A7674+Control!$C$22*A7674^2","v":2274.4271737531872}]
[7675,7,7,null,null,null,null,null,null,null,null,null,{"$f":"Control!$C$20+Control!$C$21*A7675+Control!$C$22*A7675^2","v":2274.7244547034684}]
[7679,11,11,null,null,null,null,null,null,null,null,null,{"$f":"Control!$C$20+Control!$C$21*A7679+Control!$C$22*A7679^2","v":2275.9135794609465}]
[7682,10,10,null,null,null,null,null,null,null,null,null,{"$f":"Control!$C$20+Control!$C$21*A7682+Control!$C$22*A7682^2","v":2276.8054240332281}]
[7686,14,14,null,null,null,null,null,null,null,null,null,{"$f":"Control!$C$20+Control!$C$21*A7686+Control!$C$22*A7686^2","v":2277.9945514685005}]
[7689,16,16,null,null,null,null,null,null,null,null,null,{"$f":"Control!$C$20+Control!$C$21*A7689+Control!$C$22*A7689^2","v":2278.8863980491278}]
[7692,8,8,null,null,null,null,null,null,null,null,null,{"$f":"Control!$C$20+Control!$C$21*A7692+Control!$C$22*A7692^2","v":2279.7782454904745}]
[7693,13,13,null,null,null,null,null,null,null,null,null,{"$f":"Control!$C$20+Control!$C$21*A7693+Control!$C$22*A7693^2","v":2280.0755281621941}]
[7695,9,9,null,null,null,null,null,null,null,null,null,{"$f":"Control!$C$20+Control!$C$21*A7695+Control!$C$22*A7695^2","v":2280.6700937925402}]
[7699,14,14,null,null,null,null,null,null,null,null,null,{"$f":"Control!$C$20+Control!$C$21*A7699+Control!$C$22*A7699^2","v":2281.8592262008588}]
[7702,12,12,null,null,null,null,null,null,null,null,null,{"$f":"Control!$C$20+Control!$C$21*A7702+Control!$C$22*A7702^2","v":2282.7510765112702}]
[7705,9,9,null,null,null,null,null,null,null,null,null,{"$f":"Control!$C$20+Control!$C$21*A7705+Control!$C$22*A7705^2","v":2283.6429276824015}]
[7709,6,6,null,null,null,null,null,null,null,null,null,{"$f":"Control!$C$20+Control!$C$21*A7709+Control!$C$22*A7709^2","v":2284.8320639161398}]
[7712,7,7,null,null,null,null,null,null,null,null,null,{"$f":"Control!$C$20+Control!$C$21*A7712+Control!$C$22*A7712^2","v":2285.7239170956163}]
[7713,11,11,null,null,null,null,null,null,null,null,null,{"$f":"Control!$C$20+Control!$C$21*A7713+Control!$C$22*A7713^2","v":2286.021201680046}]
[7714,16,16,null,null,null,null,null,null,null,null,null,{"$f":"Control!$C$20+Control!$C$21*A7714+Control!$C$22*A7714^2","v":2286.3184863601114}]
[7715,10,10,null,null,null,null,null,null,null,null,null,{"$f":"Control!$C$20+Control!$C$21*A7715+Control!$C$22*A7715^2","v":2286.6157711358123}]
[7716,10,10,null,null,null,null,null,null,null,null,null,{"$f":"Control!$C$20+Control!$C$21*A7716+Control!$C$22*A7716^2","v":2286.913056007149}]
[7717,9,9,null,null,null,null,null,null,null,null,null,{"$f":"Control!$C$20+Control!$C$21*A7717+Control!$C$22*A7717^2","v":2287.2103409741208}]
[7718,8,8,null,null,null,null,null,null,null,null,null,{"$f":"Control!$C$20+Control!$C$21*A7718+Control!$C$22*A7718^2","v":2287.5076260367277}]
[7719,10,10,null,null,null,null,null,null,null,null,null,{"$f":"Control!$C$20+Control!$C$21*A7719+Control!$C$22*A7719^2","v":2287.8049111949708}]
[7720,13,13,null,null,null,null,null,null,null,null,null,{"$f":"Control!$C$20+Control!$C$21*A7720+Control!$C$22*A7720^2","v":2288.1021964488491}]
[7721,10,10,null,null,null,null,null,null,null,null,null,{"$f":"Control!$C$20+Control!$C$21*A7721+Control!$C$22*A7721^2","v":2288.399481798363}]
[7722,12,12,null,null,null,null,null,null,null,null,null,{"$f":"Control!$C$20+Control!$C$21*A7722+Control!$C$22*A7722^2","v":2288.6967672435121}]
[7723,15,15,null,null,null,null,null,null,null,null,null,{"$f":"Control!$C$20+Control!$C$21*A7723+Control!$C$22*A7723^2","v":2288.9940527842973}]
[7724,15,15,null,null,null,null,null,null,null,null,null,{"$f":"Control!$C$20+Control!$C$21*A7724+Control!$C$22*A7724^2","v":2289.2913384207177}]
[7725,12,12,null,null,null,null,null,null,null,null,null,{"$f":"Control!$C$20+Control!$C$21*A7725+Control!$C$22*A7725^2","v":2289.5886241527733}]
[7726,17,17,null,null,null,null,null,null,null,null,null,{"$f":"Control!$C$20+Control!$C$21*A7726+Control!$C$22*A7726^2","v":2289.8859099804645}]
[7727,11,11,null,null,null,null,null,null,null,null,null,{"$f":"Control!$C$20+Control!$C$21*A7727+Control!$C$22*A7727^2","v":2290.1831959037913}]
[7728,13,13,null,null,null,null,null,null,null,null,null,{"$f":"Control!$C$20+Control!$C$21*A7728+Control!$C$22*A7728^2","v":2290.4804819227538}]
[7729,13,13,null,null,null,null,null,null,null,null,null,{"$f":"Control!$C$20+Control!$C$21*A7729+Control!$C$22*A7729^2","v":2290.7777680373515}]
[7730,9,9,null,null,null,null,null,null,null,null,null,{"$f":"Control!$C$20+Control!$C$21*A7730+Control!$C$22*A7730^2","v":2291.0750542475848}]
[7731,13,13,null,null,null,null,null,null,null,null,null,{"$f":"Control!$C$20+Control!$C$21*A7731+Control!$C$22*A7731^2","v":2291.3723405534538}]
[7732,12,12,null,null,null,null,null,null,null,null,null,{"$f":"Control!$C$20+Control!$C$21*A7732+Control!$C$22*A7732^2","v":2291.6696269549584}]
[7733,15,15,null,null,null,null,null,null,null,null,null,{"$f":"Control!$C$20+Control!$C$21*A7733+Control!$C$22*A7733^2","v":2291.9669134520982}]
[7734,9,9,null,null,null,null,null,null,null,null,null,{"$f":"Control!$C$20+Control!$C$21*A7734+Control!$C$22*A7734^2","v":2292.2642000448732}]
[7735,20,20,null,null,null,null,null,null,null,null,null,{"$f":"Control!$C$20+Control!$C$21*A7735+Control!$C$22*A7735^2","v":2292.5614867332843}]
[7736,14,14,null,null,null,null,null,null,null,null,null,{"$f":"Control!$C$20+Control!$C$21*A7736+Control!$C$22*A7736^2","v":2292.8587735173305}]
[7737,11,11,null,null,null,null,null,null,null,null,null,{"$f":"Control!$C$20+Control!$C$21*A7737+Control!$C$22*A7737^2","v":2293.1560603970124}]
[7738,11,11,null,null,null,null,null,null,null,null,null,{"$f":"Control!$C$20+Control!$C$21*A7738+Control!$C$22*A7738^2","v":2293.4533473723295}]
[7739,21,21,null,null,null,null,null,null,null,null,null,{"$f":"Control!$C$20+Control!$C$21*A7739+Control!$C$22*A7739^2","v":2293.7506344432827}]
[7740,19,19,null,null,null,null,null,null,null,null,null,{"$f":"Control!$C$20+Control!$C$21*A7740+Control!$C$22*A7740^2","v":2294.0479216098711}]
[7741,15,15,null,null,null,null,null,null,null,null,null,{"$f":"Control!$C$20+Control!$C$21*A7741+Control!$C$22*A7741^2","v":2294.3452088720946}]
[7742,18,18,null,null,null,null,null,null,null,null,null,{"$f":"Control!$C$20+Control!$C$21*A7742+Control!$C$22*A7742^2","v":2294.6424962299538}]
[7743,13,13,null,null,null,null,null,null,null,null,null,{"$f":"Control!$C$20+Control!$C$21*A7743+Control!$C$22*A7743^2","v":2294.9397836834487}]
[7744,18,18,null,null,null,null,null,null,null,null,null,{"$f":"Control!$C$20+Control!$C$21*A7744+Control!$C$22*A7744^2","v":2295.2370712325792}]
[7745,11,11,null,null,null,null,null,null,null,null,null,{"$f":"Control!$C$20+Control!$C$21*A7745+Control!$C$22*A7745^2","v":2295.5343588773449}]
[7746,15,15,null,null,null,null,null,null,null,null,null,{"$f":"Control!$C$20+Control!$C$21*A7746+Control!$C$22*A7746^2","v":2295.8316466177462}]
[7747,15,15,null,null,null,null,null,null,null,null,null,{"$f":"Control!$C$20+Control!$C$21*A7747+Control!$C$22*A7747^2","v":2296.1289344537831}]
[7748,13,13,null,null,null,null,null,null,null,null,null,{"$f":"Control!$C$20+Control!$C$21*A7748+Control!$C$22*A7748^2","v":2296.4262223854557}]
[7749,6,6,null,null,null,null,null,null,null,null,null,{"$f":"Control!$C$20+Control!$C$21*A7749+Control!$C$22*A7749^2","v":2296.7235104127635}]
[7750,11,11,null,null,null,null,null,null,null,null,null,{"$f":"Control!$C$20+Control!$C$21*A7750+Control!$C$22*A7750^2","v":2297.0207985357065}]
[7751,14,14,null,null,null,null,null,null,null,null,null,{"$f":"Control!$C$20+Control!$C$21*A7751+Control!$C$22*A7751^2","v":2297.3180867542856}]
[7752,10,10,null,null,null,null,null,null,null,null,null,{"$f":"Control!$C$20+Control!$C$21*A7752+Control!$C$22*A7752^2","v":2297.6153750684998}]
[7753,12,12,null,null,null,null,null,null,null,null,null,{"$f":"Control!$C$20+Control!$C$21*A7753+Control!$C$22*A7753^2","v":2297.9126634783497}]
[7754,10,10,null,null,null,null,null,null,null,null,null,{"$f":"Control!$C$20+Control!$C$21*A7754+Control!$C$22*A7754^2","v":2298.2099519838348}]
[7755,10,10,null,null,null,null,null,null,null,null,null,{"$f":"Control!$C$20+Control!$C$21*A7755+Control!$C$22*A7755^2","v":2298.507240584956}]
[7756,9,9,null,null,null,null,null,null,null,null,null,{"$f":"Control!$C$20+Control!$C$21*A7756+Control!$C$22*A7756^2","v":2298.8045292817123}]
[7757,13,13,null,null,null,null,null,null,null,null,null,{"$f":"Control!$C$20+Control!$C$21*A7757+Control!$C$22*A7757^2","v":2299.1018180741039}]
[7758,8,8,null,null,null,null,null,null,null,null,null,{"$f":"Control!$C$20+Control!$C$21*A7758+Control!$C$22*A7758^2","v":2299.3991069621311}]
[7759,15,15,null,null,null,null,null,null,null,null,null,{"$f":"Control!$C$20+Control!$C$21*A7759+Control!$C$22*A7759^2","v":2299.6963959457939}]
[7760,18,18,null,null,null,null,null,null,null,null,null,{"$f":"Control!$C$20+Control!$C$21*A7760+Control!$C$22*A7760^2","v":2299.9936850250924}]
[7761,13,13,null,null,null,null,null,null,null,null,null,{"$f":"Control!$C$20+Control!$C$21*A7761+Control!$C$22*A7761^2","v":2300.2909742000261}]
[7762,17,17,null,null,null,null,null,null,null,null,null,{"$f":"Control!$C$20+Control!$C$21*A7762+Control!$C$22*A7762^2","v":2300.5882634705954}]
[7763,6,6,null,null,null,null,null,null,null,null,null,{"$f":"Control!$C$20+Control!$C$21*A7763+Control!$C$22*A7763^2","v":2300.8855528368003}]
[7764,13,13,null,null,null,null,null,null,null,null,null,{"$f":"Control!$C$20+Control!$C$21*A7764+Control!$C$22*A7764^2","v":2301.1828422986409}]
[7765,14,14,null,null,null,null,null,null,null,null,null,{"$f":"Control!$C$20+Control!$C$21*A7765+Control!$C$22*A7765^2","v":2301.4801318561167}]
[7766,12,12,null,null,null,null,null,null,null,null,null,{"$f":"Control!$C$20+Control!$C$21*A7766+Control!$C$22*A7766^2","v":2301.7774215092277}]
[7767,11,11,null,null,null,null,null,null,null,null,null,{"$f":"Control!$C$20+Control!$C$21*A7767+Control!$C$22*A7767^2","v":2302.0747112579747}]
[7768,11,11,null,null,null,null,null,null,null,null,null,{"$f":"Control!$C$20+Control!$C$21*A7768+Control!$C$22*A7768^2","v":2302.372001102357}]
[7769,13,13,null,null,null,null,null,null,null,null,null,{"$f":"Control!$C$20+Control!$C$21*A7769+Control!$C$22*A7769^2","v":2302.6692910423749}]
[7770,12,12,null,null,null,null,null,null,null,null,null,{"$f":"Control!$C$20+Control!$C$21*A7770+Control!$C$22*A7770^2","v":2302.966581078028}]
[7771,10,10,null,null,null,null,null,null,null,null,null,{"$f":"Control!$C$20+Control!$C$21*A7771+Control!$C$22*A7771^2","v":2303.2638712093171}]
[7772,13,13,null,null,null,null,null,null,null,null,null,{"$f":"Control!$C$20+Control!$C$21*A7772+Control!$C$22*A7772^2","v":2303.5611614362415}]
[7773,13,13,null,null,null,null,null,null,null,null,null,{"$f":"Control!$C$20+Control!$C$21*A7773+Control!$C$22*A7773^2","v":2303.858451758801}]
[7774,10,10,null,null,null,null,null,null,null,null,null,{"$f":"Control!$C$20+Control!$C$21*A7774+Control!$C$22*A7774^2","v":2304.1557421769962}]
[7775,5,5,null,null,null,null,null,null,null,null,null,{"$f":"Control!$C$20+Control!$C$21*A7775+Control!$C$22*A7775^2","v":2304.4530326908271}]
[7776,12,12,null,null,null,null,null,null,null,null,null,{"$f":"Control!$C$20+Control!$C$21*A7776+Control!$C$22*A7776^2","v":2304.7503233002935}]
[7777,11,11,null,null,null,null,null,null,null,null,null,{"$f":"Control!$C$20+Control!$C$21*A7777+Control!$C$22*A7777^2","v":2305.0476140053952}]
[7778,14,14,null,null,null,null,null,null,null,null,null,{"$f":"Control!$C$20+Control!$C$21*A7778+Control!$C$22*A7778^2","v":2305.3449048061325}]
[7779,9,9,null,null,null,null,null,null,null,null,null,{"$f":"Control!$C$20+Control!$C$21*A7779+Control!$C$22*A7779^2","v":2305.6421957025054}]
[7780,14,14,null,null,null,null,null,null,null,null,null,{"$f":"Control!$C$20+Control!$C$21*A7780+Control!$C$22*A7780^2","v":2305.939486694514}]
[7781,13,13,null,null,null,null,null,null,null,null,null,{"$f":"Control!$C$20+Control!$C$21*A7781+Control!$C$22*A7781^2","v":2306.2367777821578}]
[7782,13,13,null,null,null,null,null,null,null,null,null,{"$f":"Control!$C$20+Control!$C$21*A7782+Control!$C$22*A7782^2","v":2306.5340689654367}]
[7783,13,13,null,null,null,null,null,null,null,null,null,{"$f":"Control!$C$20+Control!$C$21*A7783+Control!$C$22*A7783^2","v":2306.8313602443518}]
[7784,7,7,null,null,null,null,null,null,null,null,null,{"$f":"Control!$C$20+Control!$C$21*A7784+Control!$C$22*A7784^2","v":2307.128651618902}]
[7785,12,12,null,null,null,null,null,null,null,null,null,{"$f":"Control!$C$20+Control!$C$21*A7785+Control!$C$22*A7785^2","v":2307.4259430890879}]
[7786,11,11,null,null,null,null,null,null,null,null,null,{"$f":"Control!$C$20+Control!$C$21*A7786+Control!$C$22*A7786^2","v":2307.723234654909}]
[7787,11,11,null,null,null,null,null,null,null,null,null,{"$f":"Control!$C$20+Control!$C$21*A7787+Control!$C$22*A7787^2","v":2308.0205263163662}]
[7788,8,8,null,null,null,null,null,null,null,null,null,{"$f":"Control!$C$20+Control!$C$21*A7788+Control!$C$22*A7788^2","v":2308.3178180734585}]
[7789,12,12,null,null,null,null,null,null,null,null,null,{"$f":"Control!$C$20+Control!$C$21*A7789+Control!$C$22*A7789^2","v":2308.6151099261861}]
[7790,9,9,null,null,null,null,null,null,null,null,null,{"$f":"Control!$C$20+Control!$C$21*A7790+Control!$C$22*A7790^2","v":2308.9124018745492}]
[7791,12,12,null,null,null,null,null,null,null,null,null,{"$f":"Control!$C$20+Control!$C$21*A7791+Control!$C$22*A7791^2","v":2309.2096939185481}]
[7792,11,11,null,null,null,null,null,null,null,null,null,{"$f":"Control!$C$20+Control!$C$21*A7792+Control!$C$22*A7792^2","v":2309.5069860581825}]
[7793,14,14,null,null,null,null,null,null,null,null,null,{"$f":"Control!$C$20+Control!$C$21*A7793+Control!$C$22*A7793^2","v":2309.8042782934522}]
[7794,16,16,null,null,null,null,null,null,null,null,null,{"$f":"Control!$C$20+Control!$C$21*A7794+Control!$C$22*A7794^2","v":2310.1015706243575}]
[7795,13,13,null,null,null,null,null,null,null,null,null,{"$f":"Control!$C$20+Control!$C$21*A7795+Control!$C$22*A7795^2","v":2310.3988630508984}]
[7796,16,16,null,null,null,null,null,null,null,null,null,{"$f":"Control!$C$20+Control!$C$21*A7796+Control!$C$22*A7796^2","v":2310.696155573075}]
[7797,15,15,null,null,null,null,null,null,null,null,null,{"$f":"Control!$C$20+Control!$C$21*A7797+Control!$C$22*A7797^2","v":2310.9934481908867}]
[7798,11,11,null,null,null,null,null,null,null,null,null,{"$f":"Control!$C$20+Control!$C$21*A7798+Control!$C$22*A7798^2","v":2311.2907409043337}]
[7799,13,13,null,null,null,null,null,null,null,null,null,{"$f":"Control!$C$20+Control!$C$21*A7799+Control!$C$22*A7799^2","v":2311.5880337134167}]
[7800,12,12,null,null,null,null,null,null,null,null,null,{"$f":"Control!$C$20+Control!$C$21*A7800+Control!$C$22*A7800^2","v":2311.885326618135}]
[7801,10,10,null,null,null,null,null,null,null,null,null,{"$f":"Control!$C$20+Control!$C$21*A7801+Control!$C$22*A7801^2","v":2312.1826196184888}]
[7802,12,12,null,null,null,null,null,null,null,null,null,{"$f":"Control!$C$20+Control!$C$21*A7802+Control!$C$22*A7802^2","v":2312.4799127144779}]
[7803,10,10,null,null,null,null,null,null,null,null,null,{"$f":"Control!$C$20+Control!$C$21*A7803+Control!$C$22*A7803^2","v":2312.7772059061031}]
[7804,11,11,null,null,null,null,null,null,null,null,null,{"$f":"Control!$C$20+Control!$C$21*A7804+Control!$C$22*A7804^2","v":2313.0744991933634}]
[7805,9,9,null,null,null,null,null,null,null,null,null,{"$f":"Control!$C$20+Control!$C$21*A7805+Control!$C$22*A7805^2","v":2313.3717925762589}]
[7806,11,11,null,null,null,null,null,null,null,null,null,{"$f":"Control!$C$20+Control!$C$21*A7806+Control!$C$22*A7806^2","v":2313.6690860547901}]
[7807,15,15,null,null,null,null,null,null,null,null,null,{"$f":"Control!$C$20+Control!$C$21*A7807+Control!$C$22*A7807^2","v":2313.9663796289569}]
[7808,13,13,null,null,null,null,null,null,null,null,null,{"$f":"Control!$C$20+Control!$C$21*A7808+Control!$C$22*A7808^2","v":2314.2636732987594}]
[7809,18,18,null,null,null,null,null,null,null,null,null,{"$f":"Control!$C$20+Control!$C$21*A7809+Control!$C$22*A7809^2","v":2314.560967064197}]
[7810,14,14,null,null,null,null,null,null,null,null,null,{"$f":"Control!$C$20+Control!$C$21*A7810+Control!$C$22*A7810^2","v":2314.8582609252703}]
[7811,10,10,null,null,null,null,null,null,null,null,null,{"$f":"Control!$C$20+Control!$C$21*A7811+Control!$C$22*A7811^2","v":2315.1555548819792}]
[7812,7,7,null,null,null,null,null,null,null,null,null,{"$f":"Control!$C$20+Control!$C$21*A7812+Control!$C$22*A7812^2","v":2315.4528489343238}]
[7813,15,15,null,null,null,null,null,null,null,null,null,{"$f":"Control!$C$20+Control!$C$21*A7813+Control!$C$22*A7813^2","v":2315.7501430823036}]
[7814,11,11,null,null,null,null,null,null,null,null,null,{"$f":"Control!$C$20+Control!$C$21*A7814+Control!$C$22*A7814^2","v":2316.0474373259185}]
[7815,10,10,null,null,null,null,null,null,null,null,null,{"$f":"Control!$C$20+Control!$C$21*A7815+Control!$C$22*A7815^2","v":2316.3447316651695}]
[7816,14,14,null,null,null,null,null,null,null,null,null,{"$f":"Control!$C$20+Control!$C$21*A7816+Control!$C$22*A7816^2","v":2316.6420261000558}]
[7817,11,11,null,null,null,null,null,null,null,null,null,{"$f":"Control!$C$20+Control!$C$21*A7817+Control!$C$22*A7817^2","v":2316.9393206305776}]
[7818,12,12,null,null,null,null,null,null,null,null,null,{"$f":"Control!$C$20+Control!$C$21*A7818+Control!$C$22*A7818^2","v":2317.2366152567347}]
[7819,9,9,null,null,null,null,null,null,null,null,null,{"$f":"Control!$C$20+Control!$C$21*A7819+Control!$C$22*A7819^2","v":2317.5339099785278}]
[7820,11,11,null,null,null,null,null,null,null,null,null,{"$f":"Control!$C$20+Control!$C$21*A7820+Control!$C$22*A7820^2","v":2317.8312047959562}]
[7821,17,17,null,null,null,null,null,null,null,null,null,{"$f":"Control!$C$20+Control!$C$21*A7821+Control!$C$22*A7821^2","v":2318.1284997090197}]
[7822,14,14,null,null,null,null,null,null,null,null,null,{"$f":"Control!$C$20+Control!$C$21*A7822+Control!$C$22*A7822^2","v":2318.4257947177189}]
[7823,10,10,null,null,null,null,null,null,null,null,null,{"$f":"Control!$C$20+Control!$C$21*A7823+Control!$C$22*A7823^2","v":2318.7230898220537}]
[7824,11,11,null,null,null,null,null,null,null,null,null,{"$f":"Control!$C$20+Control!$C$21*A7824+Control!$C$22*A7824^2","v":2319.0203850220241}]
[7825,10,10,null,null,null,null,null,null,null,null,null,{"$f":"Control!$C$20+Control!$C$21*A7825+Control!$C$22*A7825^2","v":2319.3176803176298}]
[7826,6,6,null,null,null,null,null,null,null,null,null,{"$f":"Control!$C$20+Control!$C$21*A7826+Control!$C$22*A7826^2","v":2319.614975708871}]
[7827,11,11,null,null,null,null,null,null,null,null,null,{"$f":"Control!$C$20+Control!$C$21*A7827+Control!$C$22*A7827^2","v":2319.912271195748}]
[7828,11,11,null,null,null,null,null,null,null,null,null,{"$f":"Control!$C$20+Control!$C$21*A7828+Control!$C$22*A7828^2","v":2320.2095667782605}]
[7829,16,16,null,null,null,null,null,null,null,null,null,{"$f":"Control!$C$20+Control!$C$21*A7829+Control!$C$22*A7829^2","v":2320.5068624564083}]
[7830,15,15,null,null,null,null,null,null,null,null,null,{"$f":"Control!$C$20+Control!$C$21*A7830+Control!$C$22*A7830^2","v":2320.8041582301912}]
[7831,10,10,null,null,null,null,null,null,null,null,null,{"$f":"Control!$C$20+Control!$C$21*A7831+Control!$C$22*A7831^2","v":2321.1014540996102}]
[7832,13,13,null,null,null,null,null,null,null,null,null,{"$f":"Control!$C$20+Control!$C$21*A7832+Control!$C$22*A7832^2","v":2321.3987500646645}]
[7833,16,16,null,null,null,null,null,null,null,null,null,{"$f":"Control!$C$20+Control!$C$21*A7833+Control!$C$22*A7833^2","v":2321.6960461253543}]
[7834,10,10,null,null,null,null,null,null,null,null,null,{"$f":"Control!$C$20+Control!$C$21*A7834+Control!$C$22*A7834^2","v":2321.9933422816794}]
[7835,12,12,null,null,null,null,null,null,null,null,null,{"$f":"Control!$C$20+Control!$C$21*A7835+Control!$C$22*A7835^2","v":2322.2906385336405}]
[7836,14,14,null,null,null,null,null,null,null,null,null,{"$f":"Control!$C$20+Control!$C$21*A7836+Control!$C$22*A7836^2","v":2322.5879348812368}]
[7837,11,11,null,null,null,null,null,null,null,null,null,{"$f":"Control!$C$20+Control!$C$21*A7837+Control!$C$22*A7837^2","v":2322.8852313244684}]
[7838,11,11,null,null,null,null,null,null,null,null,null,{"$f":"Control!$C$20+Control!$C$21*A7838+Control!$C$22*A7838^2","v":2323.1825278633355}]
[7839,10,10,null,null,null,null,null,null,null,null,null,{"$f":"Control!$C$20+Control!$C$21*A7839+Control!$C$22*A7839^2","v":2323.4798244978383}]
[7840,11,11,null,null,null,null,null,null,null,null,null,{"$f":"Control!$C$20+Control!$C$21*A7840+Control!$C$22*A7840^2","v":2323.7771212279767}]
[7841,9,9,null,null,null,null,null,null,null,null,null,{"$f":"Control!$C$20+Control!$C$21*A7841+Control!$C$22*A7841^2","v":2324.0744180537504}]
[7842,14,14,null,null,null,null,null,null,null,null,null,{"$f":"Control!$C$20+Control!$C$21*A7842+Control!$C$22*A7842^2","v":2324.3717149751596}]
[7843,7,7,null,null,null,null,null,null,null,null,null,{"$f":"Control!$C$20+Control!$C$21*A7843+Control!$C$22*A7843^2","v":2324.6690119922046}]
[7844,12,12,null,null,null,null,null,null,null,null,null,{"$f":"Control!$C$20+Control!$C$21*A7844+Control!$C$22*A7844^2","v":2324.9663091048851}]
[7845,9,9,null,null,null,null,null,null,null,null,null,{"$f":"Control!$C$20+Control!$C$21*A7845+Control!$C$22*A7845^2","v":2325.2636063132009}]
[7846,11,11,null,null,null,null,null,null,null,null,null,{"$f":"Control!$C$20+Control!$C$21*A7846+Control!$C$22*A7846^2","v":2325.5609036171518}]
[7847,10,10,null,null,null,null,null,null,null,null,null,{"$f":"Control!$C$20+Control!$C$21*A7847+Control!$C$22*A7847^2","v":2325.8582010167388}]
[7848,15,15,null,null,null,null,null,null,null,null,null,{"$f":"Control!$C$20+Control!$C$21*A7848+Control!$C$22*A7848^2","v":2326.155498511961}]
[7849,15,15,null,null,null,null,null,null,null,null,null,{"$f":"Control!$C$20+Control!$C$21*A7849+Control!$C$22*A7849^2","v":2326.4527961028189}]
[7850,9,9,null,null,null,null,null,null,null,null,null,{"$f":"Control!$C$20+Control!$C$21*A7850+Control!$C$22*A7850^2","v":2326.7500937893119}]
[7851,5,5,null,null,null,null,null,null,null,null,null,{"$f":"Control!$C$20+Control!$C$21*A7851+Control!$C$22*A7851^2","v":2327.047391571441}]
[7852,15,15,null,null,null,null,null,null,null,null,null,{"$f":"Control!$C$20+Control!$C$21*A7852+Control!$C$22*A7852^2","v":2327.3446894492054}]
[7853,14,14,null,null,null,null,null,null,null,null,null,{"$f":"Control!$C$20+Control!$C$21*A7853+Control!$C$22*A7853^2","v":2327.6419874226049}]
[7854,12,12,null,null,null,null,null,null,null,null,null,{"$f":"Control!$C$20+Control!$C$21*A7854+Control!$C$22*A7854^2","v":2327.93928549164}]
[7855,18,18,null,null,null,null,null,null,null,null,null,{"$f":"Control!$C$20+Control!$C$21*A7855+Control!$C$22*A7855^2","v":2328.2365836563108}]
[7856,11,11,null,null,null,null,null,null,null,null,null,{"$f":"Control!$C$20+Control!$C$21*A7856+Control!$C$22*A7856^2","v":2328.5338819166172}]
[7857,14,14,null,null,null,null,null,null,null,null,null,{"$f":"Control!$C$20+Control!$C$21*A7857+Control!$C$22*A7857^2","v":2328.8311802725589}]
[7858,11,11,null,null,null,null,null,null,null,null,null,{"$f":"Control!$C$20+Control!$C$21*A7858+Control!$C$22*A7858^2","v":2329.1284787241361}]
[7859,8,8,null,null,null,null,null,null,null,null,null,{"$f":"Control!$C$20+Control!$C$21*A7859+Control!$C$22*A7859^2","v":2329.425777271349}]
[7860,16,16,null,null,null,null,null,null,null,null,null,{"$f":"Control!$C$20+Control!$C$21*A7860+Control!$C$22*A7860^2","v":2329.7230759141976}]
[7861,10,10,null,null,null,null,null,null,null,null,null,{"$f":"Control!$C$20+Control!$C$21*A7861+Control!$C$22*A7861^2","v":2330.0203746526813}]
[7862,12,12,null,null,null,null,null,null,null,null,null,{"$f":"Control!$C$20+Control!$C$21*A7862+Control!$C$22*A7862^2","v":2330.3176734868002}]
[7863,11,11,null,null,null,null,null,null,null,null,null,{"$f":"Control!$C$20+Control!$C$21*A7863+Control!$C$22*A7863^2","v":2330.6149724165552}]
[7864,15,15,null,null,null,null,null,null,null,null,null,{"$f":"Control!$C$20+Control!$C$21*A7864+Control!$C$22*A7864^2","v":2330.9122714419454}]
[7865,13,13,null,null,null,null,null,null,null,null,null,{"$f":"Control!$C$20+Control!$C$21*A7865+Control!$C$22*A7865^2","v":2331.2095705629713}]
[7866,12,12,null,null,null,null,null,null,null,null,null,{"$f":"Control!$C$20+Control!$C$21*A7866+Control!$C$22*A7866^2","v":2331.5068697796323}]
[7867,13,13,null,null,null,null,null,null,null,null,null,{"$f":"Control!$C$20+Control!$C$21*A7867+Control!$C$22*A7867^2","v":2331.8041690919295}]
[7868,14,14,null,null,null,null,null,null,null,null,null,{"$f":"Control!$C$20+Control!$C$21*A7868+Control!$C$22*A7868^2","v":2332.1014684998618}]
[7869,16,16,null,null,null,null,null,null,null,null,null,{"$f":"Control!$C$20+Control!$C$21*A7869+Control!$C$22*A7869^2","v":2332.3987680034293}]
[7870,10,10,null,null,null,null,null,null,null,null,null,{"$f":"Control!$C$20+Control!$C$21*A7870+Control!$C$22*A7870^2","v":2332.6960676026324}]
[7871,12,12,null,null,null,null,null,null,null,null,null,{"$f":"Control!$C$20+Control!$C$21*A7871+Control!$C$22*A7871^2","v":2332.9933672974712}]
[7872,7,7,null,null,null,null,null,null,null,null,null,{"$f":"Control!$C$20+Control!$C$21*A7872+Control!$C$22*A7872^2","v":2333.2906670879456}]
[7873,14,14,null,null,null,null,null,null,null,null,null,{"$f":"Control!$C$20+Control!$C$21*A7873+Control!$C$22*A7873^2","v":2333.5879669740552}]
[7874,7,7,null,null,null,null,null,null,null,null,null,{"$f":"Control!$C$20+Control!$C$21*A7874+Control!$C$22*A7874^2","v":2333.8852669558005}]
[7875,9,9,null,null,null,null,null,null,null,null,null,{"$f":"Control!$C$20+Control!$C$21*A7875+Control!$C$22*A7875^2","v":2334.1825670331814}]
[7876,12,12,null,null,null,null,null,null,null,null,null,{"$f":"Control!$C$20+Control!$C$21*A7876+Control!$C$22*A7876^2","v":2334.4798672061979}]
[7877,6,6,null,null,null,null,null,null,null,null,null,{"$f":"Control!$C$20+Control!$C$21*A7877+Control!$C$22*A7877^2","v":2334.7771674748496}]
[7878,12,12,null,null,null,null,null,null,null,null,null,{"$f":"Control!$C$20+Control!$C$21*A7878+Control!$C$22*A7878^2","v":2335.0744678391366}]
[7879,14,14,null,null,null,null,null,null,null,null,null,{"$f":"Control!$C$20+Control!$C$21*A7879+Control!$C$22*A7879^2","v":2335.3717682990596}]
[7880,5,5,null,null,null,null,null,null,null,null,null,{"$f":"Control!$C$20+Control!$C$21*A7880+Control!$C$22*A7880^2","v":2335.6690688546178}]
[7881,5,5,null,null,null,null,null,null,null,null,null,{"$f":"Control!$C$20+Control!$C$21*A7881+Control!$C$22*A7881^2","v":2335.9663695058116}]
[7882,8,8,null,null,null,null,null,null,null,null,null,{"$f":"Control!$C$20+Control!$C$21*A7882+Control!$C$22*A7882^2","v":2336.2636702526406}]
[7883,8,8,null,null,null,null,null,null,null,null,null,{"$f":"Control!$C$20+Control!$C$21*A7883+Control!$C$22*A7883^2","v":2336.5609710951057}]
[7884,9,9,null,null,null,null,null,null,null,null,null,{"$f":"Control!$C$20+Control!$C$21*A7884+Control!$C$22*A7884^2","v":2336.858272033206}]
[7885,4,4,null,null,null,null,null,null,null,null,null,{"$f":"Control!$C$20+Control!$C$21*A7885+Control!$C$22*A7885^2","v":2337.1555730669415}]
[7886,21,21,null,null,null,null,null,null,null,null,null,{"$f":"Control!$C$20+Control!$C$21*A7886+Control!$C$22*A7886^2","v":2337.4528741963127}]
[7887,16,16,null,null,null,null,null,null,null,null,null,{"$f":"Control!$C$20+Control!$C$21*A7887+Control!$C$22*A7887^2","v":2337.7501754213195}]
[7888,12,12,null,null,null,null,null,null,null,null,null,{"$f":"Control!$C$20+Control!$C$21*A7888+Control!$C$22*A7888^2","v":2338.0474767419619}]
[7889,20,20,null,null,null,null,null,null,null,null,null,{"$f":"Control!$C$20+Control!$C$21*A7889+Control!$C$22*A7889^2","v":2338.3447781582395}]
[7890,17,17,null,null,null,null,null,null,null,null,null,{"$f":"Control!$C$20+Control!$C$21*A7890+Control!$C$22*A7890^2","v":2338.6420796701527}]
[7891,8,8,null,null,null,null,null,null,null,null,null,{"$f":"Control!$C$20+Control!$C$21*A7891+Control!$C$22*A7891^2","v":2338.9393812777016}]
[7892,11,11,null,null,null,null,null,null,null,null,null,{"$f":"Control!$C$20+Control!$C$21*A7892+Control!$C$22*A7892^2","v":2339.2366829808861}]
[7893,17,17,null,null,null,null,null,null,null,null,null,{"$f":"Control!$C$20+Control!$C$21*A7893+Control!$C$22*A7893^2","v":2339.5339847797059}]
[7894,9,9,null,null,null,null,null,null,null,null,null,{"$f":"Control!$C$20+Control!$C$21*A7894+Control!$C$22*A7894^2","v":2339.8312866741608}]
[7895,11,11,null,null,null,null,null,null,null,null,null,{"$f":"Control!$C$20+Control!$C$21*A7895+Control!$C$22*A7895^2","v":2340.1285886642518}]
[7896,12,12,null,null,null,null,null,null,null,null,null,{"$f":"Control!$C$20+Control!$C$21*A7896+Control!$C$22*A7896^2","v":2340.425890749978}]
[7897,8,8,null,null,null,null,null,null,null,null,null,{"$f":"Control!$C$20+Control!$C$21*A7897+Control!$C$22*A7897^2","v":2340.7231929313398}]
[7898,7,7,null,null,null,null,null,null,null,null,null,{"$f":"Control!$C$20+Control!$C$21*A7898+Control!$C$22*A7898^2","v":2341.0204952083368}]
[7899,6,6,null,null,null,null,null,null,null,null,null,{"$f":"Control!$C$20+Control!$C$21*A7899+Control!$C$22*A7899^2","v":2341.3177975809699}]
[7900,11,11,null,null,null,null,null,null,null,null,null,{"$f":"Control!$C$20+Control!$C$21*A7900+Control!$C$22*A7900^2","v":2341.6151000492382}]
[7901,10,10,null,null,null,null,null,null,null,null,null,{"$f":"Control!$C$20+Control!$C$21*A7901+Control!$C$22*A7901^2","v":2341.9124026131417}]
[7902,11,11,null,null,null,null,null,null,null,null,null,{"$f":"Control!$C$20+Control!$C$21*A7902+Control!$C$22*A7902^2","v":2342.2097052726808}]
[7903,16,16,null,null,null,null,null,null,null,null,null,{"$f":"Control!$C$20+Control!$C$21*A7903+Control!$C$22*A7903^2","v":2342.5070080278556}]
[7904,15,15,null,null,null,null,null,null,null,null,null,{"$f":"Control!$C$20+Control!$C$21*A7904+Control!$C$22*A7904^2","v":2342.804310878666}]
[7905,10,10,null,null,null,null,null,null,null,null,null,{"$f":"Control!$C$20+Control!$C$21*A7905+Control!$C$22*A7905^2","v":2343.1016138251116}]
[7906,17,17,null,null,null,null,null,null,null,null,null,{"$f":"Control!$C$20+Control!$C$21*A7906+Control!$C$22*A7906^2","v":2343.3989168671928}]
[7907,12,12,null,null,null,null,null,null,null,null,null,{"$f":"Control!$C$20+Control!$C$21*A7907+Control!$C$22*A7907^2","v":2343.6962200049097}]
[7908,17,17,null,null,null,null,null,null,null,null,null,{"$f":"Control!$C$20+Control!$C$21*A7908+Control!$C$22*A7908^2","v":2343.9935232382622}]
[7909,15,15,null,null,null,null,null,null,null,null,null,{"$f":"Control!$C$20+Control!$C$21*A7909+Control!$C$22*A7909^2","v":2344.29082656725}]
[7910,10,10,null,null,null,null,null,null,null,null,null,{"$f":"Control!$C$20+Control!$C$21*A7910+Control!$C$22*A7910^2","v":2344.5881299918728}]
[7911,14,14,null,null,null,null,null,null,null,null,null,{"$f":"Control!$C$20+Control!$C$21*A7911+Control!$C$22*A7911^2","v":2344.8854335121318}]
[7912,18,18,null,null,null,null,null,null,null,null,null,{"$f":"Control!$C$20+Control!$C$21*A7912+Control!$C$22*A7912^2","v":2345.182737128026}]
[7913,13,13,null,null,null,null,null,null,null,null,null,{"$f":"Control!$C$20+Control!$C$21*A7913+Control!$C$22*A7913^2","v":2345.4800408395558}]
[7914,18,18,null,null,null,null,null,null,null,null,null,{"$f":"Control!$C$20+Control!$C$21*A7914+Control!$C$22*A7914^2","v":2345.7773446467208}]
[7915,9,9,null,null,null,null,null,null,null,null,null,{"$f":"Control!$C$20+Control!$C$21*A7915+Control!$C$22*A7915^2","v":2346.074648549522}]
[7916,14,14,null,null,null,null,null,null,null,null,null,{"$f":"Control!$C$20+Control!$C$21*A7916+Control!$C$22*A7916^2","v":2346.3719525479582}]
[7917,9,9,null,null,null,null,null,null,null,null,null,{"$f":"Control!$C$20+Control!$C$21*A7917+Control!$C$22*A7917^2","v":2346.6692566420297}]
[7918,11,11,null,null,null,null,null,null,null,null,null,{"$f":"Control!$C$20+Control!$C$21*A7918+Control!$C$22*A7918^2","v":2346.9665608317368}]
[7919,14,14,null,null,null,null,null,null,null,null,null,{"$f":"Control!$C$20+Control!$C$21*A7919+Control!$C$22*A7919^2","v":2347.2638651170796}]
[7920,13,13,null,null,null,null,null,null,null,null,null,{"$f":"Control!$C$20+Control!$C$21*A7920+Control!$C$22*A7920^2","v":2347.561169498058}]
[7921,16,16,null,null,null,null,null,null,null,null,null,{"$f":"Control!$C$20+Control!$C$21*A7921+Control!$C$22*A7921^2","v":2347.8584739746716}]
[7922,20,20,null,null,null,null,null,null,null,null,null,{"$f":"Control!$C$20+Control!$C$21*A7922+Control!$C$22*A7922^2","v":2348.1557785469208}]
[7923,11,11,null,null,null,null,null,null,null,null,null,{"$f":"Control!$C$20+Control!$C$21*A7923+Control!$C$22*A7923^2","v":2348.4530832148057}]
[7924,6,6,null,null,null,null,null,null,null,null,null,{"$f":"Control!$C$20+Control!$C$21*A7924+Control!$C$22*A7924^2","v":2348.7503879783262}]
[7925,10,10,null,null,null,null,null,null,null,null,null,{"$f":"Control!$C$20+Control!$C$21*A7925+Control!$C$22*A7925^2","v":2349.0476928374819}]
[7926,12,12,null,null,null,null,null,null,null,null,null,{"$f":"Control!$C$20+Control!$C$21*A7926+Control!$C$22*A7926^2","v":2349.3449977922728}]
[7927,13,13,null,null,null,null,null,null,null,null,null,{"$f":"Control!$C$20+Control!$C$21*A7927+Control!$C$22*A7927^2","v":2349.6423028426998}]
[7928,11,11,null,null,null,null,null,null,null,null,null,{"$f":"Control!$C$20+Control!$C$21*A7928+Control!$C$22*A7928^2","v":2349.939607988762}]
[7929,6,6,null,null,null,null,null,null,null,null,null,{"$f":"Control!$C$20+Control!$C$21*A7929+Control!$C$22*A7929^2","v":2350.2369132304598}]
[7930,9,9,null,null,null,null,null,null,null,null,null,{"$f":"Control!$C$20+Control!$C$21*A7930+Control!$C$22*A7930^2","v":2350.5342185677928}]
[7931,10,10,null,null,null,null,null,null,null,null,null,{"$f":"Control!$C$20+Control!$C$21*A7931+Control!$C$22*A7931^2","v":2350.8315240007619}]
[7932,19,19,null,null,null,null,null,null,null,null,null,{"$f":"Control!$C$20+Control!$C$21*A7932+Control!$C$22*A7932^2","v":2351.1288295293662}]
[7933,13,13,null,null,null,null,null,null,null,null,null,{"$f":"Control!$C$20+Control!$C$21*A7933+Control!$C$22*A7933^2","v":2351.4261351536056}]
[7934,15,15,null,null,null,null,null,null,null,null,null,{"$f":"Control!$C$20+Control!$C$21*A7934+Control!$C$22*A7934^2","v":2351.7234408734807}]
[7935,16,16,null,null,null,null,null,null,null,null,null,{"$f":"Control!$C$20+Control!$C$21*A7935+Control!$C$22*A7935^2","v":2352.0207466889915}]
[7936,11,11,null,null,null,null,null,null,null,null,null,{"$f":"Control!$C$20+Control!$C$21*A7936+Control!$C$22*A7936^2","v":2352.3180526001379}]
[7937,12,12,null,null,null,null,null,null,null,null,null,{"$f":"Control!$C$20+Control!$C$21*A7937+Control!$C$22*A7937^2","v":2352.6153586069195}]
[7938,13,13,null,null,null,null,null,null,null,null,null,{"$f":"Control!$C$20+Control!$C$21*A7938+Control!$C$22*A7938^2","v":2352.9126647093367}]
[7939,8,8,null,null,null,null,null,null,null,null,null,{"$f":"Control!$C$20+Control!$C$21*A7939+Control!$C$22*A7939^2","v":2353.2099709073896}]
[7940,11,11,null,null,null,null,null,null,null,null,null,{"$f":"Control!$C$20+Control!$C$21*A7940+Control!$C$22*A7940^2","v":2353.5072772010781}]
[7941,13,13,null,null,null,null,null,null,null,null,null,{"$f":"Control!$C$20+Control!$C$21*A7941+Control!$C$22*A7941^2","v":2353.8045835904018}]
[7942,10,10,null,null,null,null,null,null,null,null,null,{"$f":"Control!$C$20+Control!$C$21*A7942+Control!$C$22*A7942^2","v":2354.1018900753606}]
[7943,18,18,null,null,null,null,null,null,null,null,null,{"$f":"Control!$C$20+Control!$C$21*A7943+Control!$C$22*A7943^2","v":2354.3991966559556}]
[7944,10,10,null,null,null,null,null,null,null,null,null,{"$f":"Control!$C$20+Control!$C$21*A7944+Control!$C$22*A7944^2","v":2354.6965033321858}]
[7945,6,6,null,null,null,null,null,null,null,null,null,{"$f":"Control!$C$20+Control!$C$21*A7945+Control!$C$22*A7945^2","v":2354.9938101040516}]
[7946,9,9,null,null,null,null,null,null,null,null,null,{"$f":"Control!$C$20+Control!$C$21*A7946+Control!$C$22*A7946^2","v":2355.2911169715526}]
[7947,16,16,null,null,null,null,null,null,null,null,null,{"$f":"Control!$C$20+Control!$C$21*A7947+Control!$C$22*A7947^2","v":2355.5884239346897}]
[7948,14,14,null,null,null,null,null,null,null,null,null,{"$f":"Control!$C$20+Control!$C$21*A7948+Control!$C$22*A7948^2","v":2355.8857309934619}]
[7949,10,10,null,null,null,null,null,null,null,null,null,{"$f":"Control!$C$20+Control!$C$21*A7949+Control!$C$22*A7949^2","v":2356.1830381478694}]
[7950,19,19,null,null,null,null,null,null,null,null,null,{"$f":"Control!$C$20+Control!$C$21*A7950+Control!$C$22*A7950^2","v":2356.4803453979125}]
[7951,10,10,null,null,null,null,null,null,null,null,null,{"$f":"Control!$C$20+Control!$C$21*A7951+Control!$C$22*A7951^2","v":2356.7776527435913}]
[7952,18,18,null,null,null,null,null,null,null,null,null,{"$f":"Control!$C$20+Control!$C$21*A7952+Control!$C$22*A7952^2","v":2357.0749601849056}]
[7953,8,8,null,null,null,null,null,null,null,null,null,{"$f":"Control!$C$20+Control!$C$21*A7953+Control!$C$22*A7953^2","v":2357.3722677218552}]
[7954,9,9,null,null,null,null,null,null,null,null,null,{"$f":"Control!$C$20+Control!$C$21*A7954+Control!$C$22*A7954^2","v":2357.6695753544404}]
[7955,8,8,null,null,null,null,null,null,null,null,null,{"$f":"Control!$C$20+Control!$C$21*A7955+Control!$C$22*A7955^2","v":2357.9668830826613}]
[7956,11,11,null,null,null,null,null,null,null,null,null,{"$f":"Control!$C$20+Control!$C$21*A7956+Control!$C$22*A7956^2","v":2358.2641909065178}]
[7957,12,12,null,null,null,null,null,null,null,null,null,{"$f":"Control!$C$20+Control!$C$21*A7957+Control!$C$22*A7957^2","v":2358.5614988260095}]
[7958,7,7,null,null,null,null,null,null,null,null,null,{"$f":"Control!$C$20+Control!$C$21*A7958+Control!$C$22*A7958^2","v":2358.8588068411364}]
[7959,12,12,null,null,null,null,null,null,null,null,null,{"$f":"Control!$C$20+Control!$C$21*A7959+Control!$C$22*A7959^2","v":2359.1561149518993}]
[7960,7,7,null,null,null,null,null,null,null,null,null,{"$f":"Control!$C$20+Control!$C$21*A7960+Control!$C$22*A7960^2","v":2359.4534231582975}]
[7961,14,14,null,null,null,null,null,null,null,null,null,{"$f":"Control!$C$20+Control!$C$21*A7961+Control!$C$22*A7961^2","v":2359.7507314603313}]
[7962,17,17,null,null,null,null,null,null,null,null,null,{"$f":"Control!$C$20+Control!$C$21*A7962+Control!$C$22*A7962^2","v":2360.0480398580003}]
[7963,18,18,null,null,null,null,null,null,null,null,null,{"$f":"Control!$C$20+Control!$C$21*A7963+Control!$C$22*A7963^2","v":2360.3453483513053}]
[7964,6,6,null,null,null,null,null,null,null,null,null,{"$f":"Control!$C$20+Control!$C$21*A7964+Control!$C$22*A7964^2","v":2360.6426569402456}]
[7965,14,14,null,null,null,null,null,null,null,null,null,{"$f":"Control!$C$20+Control!$C$21*A7965+Control!$C$22*A7965^2","v":2360.9399656248211}]
[7966,17,17,null,null,null,null,null,null,null,null,null,{"$f":"Control!$C$20+Control!$C$21*A7966+Control!$C$22*A7966^2","v":2361.2372744050322}]
[7967,17,17,null,null,null,null,null,null,null,null,null,{"$f":"Control!$C$20+Control!$C$21*A7967+Control!$C$22*A7967^2","v":2361.5345832808789}]
[7968,14,14,null,null,null,null,null,null,null,null,null,{"$f":"Control!$C$20+Control!$C$21*A7968+Control!$C$22*A7968^2","v":2361.8318922523613}]
[7969,12,12,null,null,null,null,null,null,null,null,null,{"$f":"Control!$C$20+Control!$C$21*A7969+Control!$C$22*A7969^2","v":2362.1292013194789}]
[7970,24,24,null,null,null,null,null,null,null,null,null,{"$f":"Control!$C$20+Control!$C$21*A7970+Control!$C$22*A7970^2","v":2362.4265104822321}]
[7971,22,22,null,null,null,null,null,null,null,null,null,{"$f":"Control!$C$20+Control!$C$21*A7971+Control!$C$22*A7971^2","v":2362.7238197406209}]
[7972,15,15,null,null,null,null,null,null,null,null,null,{"$f":"Control!$C$20+Control!$C$21*A7972+Control!$C$22*A7972^2","v":2363.0211290946454}]
[7973,16,16,null,null,null,null,null,null,null,null,null,{"$f":"Control!$C$20+Control!$C$21*A7973+Control!$C$22*A7973^2","v":2363.3184385443051}]
[7974,10,10,null,null,null,null,null,null,null,null,null,{"$f":"Control!$C$20+Control!$C$21*A7974+Control!$C$22*A7974^2","v":2363.6157480895999}]
[7975,12,12,null,null,null,null,null,null,null,null,null,{"$f":"Control!$C$20+Control!$C$21*A7975+Control!$C$22*A7975^2","v":2363.9130577305309}]
[7976,10,10,null,null,null,null,null,null,null,null,null,{"$f":"Control!$C$20+Control!$C$21*A7976+Control!$C$22*A7976^2","v":2364.2103674670971}]
[7977,9,9,null,null,null,null,null,null,null,null,null,{"$f":"Control!$C$20+Control!$C$21*A7977+Control!$C$22*A7977^2","v":2364.5076772992988}]
[7978,12,12,null,null,null,null,null,null,null,null,null,{"$f":"Control!$C$20+Control!$C$21*A7978+Control!$C$22*A7978^2","v":2364.8049872271358}]
[7979,17,17,null,null,null,null,null,null,null,null,null,{"$f":"Control!$C$20+Control!$C$21*A7979+Control!$C$22*A7979^2","v":2365.1022972506089}]
[7980,7,7,null,null,null,null,null,null,null,null,null,{"$f":"Control!$C$20+Control!$C$21*A7980+Control!$C$22*A7980^2","v":2365.3996073697172}]
[7981,10,10,null,null,null,null,null,null,null,null,null,{"$f":"Control!$C$20+Control!$C$21*A7981+Control!$C$22*A7981^2","v":2365.6969175844606}]
[7982,12,12,null,null,null,null,null,null,null,null,null,{"$f":"Control!$C$20+Control!$C$21*A7982+Control!$C$22*A7982^2","v":2365.9942278948397}]
[7983,10,10,null,null,null,null,null,null,null,null,null,{"$f":"Control!$C$20+Control!$C$21*A7983+Control!$C$22*A7983^2","v":2366.2915383008544}]
[7984,8,8,null,null,null,null,null,null,null,null,null,{"$f":"Control!$C$20+Control!$C$21*A7984+Control!$C$22*A7984^2","v":2366.5888488025048}]
[7985,8,8,null,null,null,null,null,null,null,null,null,{"$f":"Control!$C$20+Control!$C$21*A7985+Control!$C$22*A7985^2","v":2366.8861593997904}]
[7986,13,13,null,null,null,null,null,null,null,null,null,{"$f":"Control!$C$20+Control!$C$21*A7986+Control!$C$22*A7986^2","v":2367.1834700927116}]
[7987,9,9,null,null,null,null,null,null,null,null,null,{"$f":"Control!$C$20+Control!$C$21*A7987+Control!$C$22*A7987^2","v":2367.4807808812684}]
[7988,8,8,null,null,null,null,null,null,null,null,null,{"$f":"Control!$C$20+Control!$C$21*A7988+Control!$C$22*A7988^2","v":2367.7780917654609}]
[7989,10,10,null,null,null,null,null,null,null,null,null,{"$f":"Control!$C$20+Control!$C$21*A7989+Control!$C$22*A7989^2","v":2368.0754027452886}]
[7990,12,12,null,null,null,null,null,null,null,null,null,{"$f":"Control!$C$20+Control!$C$21*A7990+Control!$C$22*A7990^2","v":2368.3727138207514}]
[7991,13,13,null,null,null,null,null,null,null,null,null,{"$f":"Control!$C$20+Control!$C$21*A7991+Control!$C$22*A7991^2","v":2368.6700249918504}]
[7992,12,12,null,null,null,null,null,null,null,null,null,{"$f":"Control!$C$20+Control!$C$21*A7992+Control!$C$22*A7992^2","v":2368.9673362585845}]
[7993,10,10,null,null,null,null,null,null,null,null,null,{"$f":"Control!$C$20+Control!$C$21*A7993+Control!$C$22*A7993^2","v":2369.2646476209543}]
[7994,8,8,null,null,null,null,null,null,null,null,null,{"$f":"Control!$C$20+Control!$C$21*A7994+Control!$C$22*A7994^2","v":2369.5619590789593}]
[7995,9,9,null,null,null,null,null,null,null,null,null,{"$f":"Control!$C$20+Control!$C$21*A7995+Control!$C$22*A7995^2","v":2369.8592706326003}]
[7996,13,13,null,null,null,null,null,null,null,null,null,{"$f":"Control!$C$20+Control!$C$21*A7996+Control!$C$22*A7996^2","v":2370.1565822818766}]
[7997,8,8,null,null,null,null,null,null,null,null,null,{"$f":"Control!$C$20+Control!$C$21*A7997+Control!$C$22*A7997^2","v":2370.453894026788}]
[7998,6,6,null,null,null,null,null,null,null,null,null,{"$f":"Control!$C$20+Control!$C$21*A7998+Control!$C$22*A7998^2","v":2370.7512058673351}]
[7999,14,14,null,null,null,null,null,null,null,null,null,{"$f":"Control!$C$20+Control!$C$21*A7999+Control!$C$22*A7999^2","v":2371.0485178035178}]
[8000,56,56,null,null,null,null,null,null,null,null,null,{"$f":"Control!$C$20+Control!$C$21*A8000+Control!$C$22*A8000^2","v":2371.3458298353362}]
[8001,42,42,null,null,null,null,null,null,null,null,null,{"$f":"Control!$C$20+Control!$C$21*A8001+Control!$C$22*A8001^2","v":2371.6431419627897}]
[8002,54,54,null,null,null,null,null,null,null,null,null,{"$f":"Control!$C$20+Control!$C$21*A8002+Control!$C$22*A8002^2","v":2371.9404541858789}]
[8003,44,44,null,null,null,null,null,null,null,null,null,{"$f":"Control!$C$20+Control!$C$21*A8003+Control!$C$22*A8003^2","v":2372.2377665046038}]
[8004,39,39,null,null,null,null,null,null,null,null,null,{"$f":"Control!$C$20+Control!$C$21*A8004+Control!$C$22*A8004^2","v":2372.5350789189642}]
[8005,43,43,null,null,null,null,null,null,null,null,null,{"$f":"Control!$C$20+Control!$C$21*A8005+Control!$C$22*A8005^2","v":2372.8323914289599}]
[8006,31,31,null,null,null,null,null,null,null,null,null,{"$f":"Control!$C$20+Control!$C$21*A8006+Control!$C$22*A8006^2","v":2373.1297040345908}]
[8007,40,40,null,null,null,null,null,null,null,null,null,{"$f":"Control!$C$20+Control!$C$21*A8007+Control!$C$22*A8007^2","v":2373.4270167358577}]
[8008,40,40,null,null,null,null,null,null,null,null,null,{"$f":"Control!$C$20+Control!$C$21*A8008+Control!$C$22*A8008^2","v":2373.7243295327598}]
[8009,45,45,null,null,null,null,null,null,null,null,null,{"$f":"Control!$C$20+Control!$C$21*A8009+Control!$C$22*A8009^2","v":2374.0216424252976}]
[8010,34,34,null,null,null,null,null,null,null,null,null,{"$f":"Control!$C$20+Control!$C$21*A8010+Control!$C$22*A8010^2","v":2374.3189554134706}]
[8011,44,44,null,null,null,null,null,null,null,null,null,{"$f":"Control!$C$20+Control!$C$21*A8011+Control!$C$22*A8011^2","v":2374.6162684972796}]
[8012,29,29,null,null,null,null,null,null,null,null,null,{"$f":"Control!$C$20+Control!$C$21*A8012+Control!$C$22*A8012^2","v":2374.9135816767239}]
[8013,36,36,null,null,null,null,null,null,null,null,null,{"$f":"Control!$C$20+Control!$C$21*A8013+Control!$C$22*A8013^2","v":2375.2108949518033}]
[8014,47,47,null,null,null,null,null,null,null,null,null,{"$f":"Control!$C$20+Control!$C$21*A8014+Control!$C$22*A8014^2","v":2375.5082083225184}]
[8015,41,41,null,null,null,null,null,null,null,null,null,{"$f":"Control!$C$20+Control!$C$21*A8015+Control!$C$22*A8015^2","v":2375.8055217888691}]
[8016,34,34,null,null,null,null,null,null,null,null,null,{"$f":"Control!$C$20+Control!$C$21*A8016+Control!$C$22*A8016^2","v":2376.1028353508555}]
[8017,35,35,null,null,null,null,null,null,null,null,null,{"$f":"Control!$C$20+Control!$C$21*A8017+Control!$C$22*A8017^2","v":2376.400149008477}]
[8018,38,38,null,null,null,null,null,null,null,null,null,{"$f":"Control!$C$20+Control!$C$21*A8018+Control!$C$22*A8018^2","v":2376.6974627617342}]
[8019,29,29,null,null,null,null,null,null,null,null,null,{"$f":"Control!$C$20+Control!$C$21*A8019+Control!$C$22*A8019^2","v":2376.994776610627}]
[8020,40,40,null,null,null,null,null,null,null,null,null,{"$f":"Control!$C$20+Control!$C$21*A8020+Control!$C$22*A8020^2","v":2377.2920905551555}]
[8021,31,31,null,null,null,null,null,null,null,null,null,{"$f":"Control!$C$20+Control!$C$21*A8021+Control!$C$22*A8021^2","v":2377.5894045953191}]
[8022,37,37,null,null,null,null,null,null,null,null,null,{"$f":"Control!$C$20+Control!$C$21*A8022+Control!$C$22*A8022^2","v":2377.886718731118}]
[8023,35,35,null,null,null,null,null,null,null,null,null,{"$f":"Control!$C$20+Control!$C$21*A8023+Control!$C$22*A8023^2","v":2378.1840329625529}]
[8024,30,30,null,null,null,null,null,null,null,null,null,{"$f":"Control!$C$20+Control!$C$21*A8024+Control!$C$22*A8024^2","v":2378.481347289623}]
[8025,30,30,null,null,null,null,null,null,null,null,null,{"$f":"Control!$C$20+Control!$C$21*A8025+Control!$C$22*A8025^2","v":2378.7786617123288}]
[8026,33,33,null,null,null,null,null,null,null,null,null,{"$f":"Control!$C$20+Control!$C$21*A8026+Control!$C$22*A8026^2","v":2379.0759762306698}]
[8027,40,40,null,null,null,null,null,null,null,null,null,{"$f":"Control!$C$20+Control!$C$21*A8027+Control!$C$22*A8027^2","v":2379.3732908446468}]
[8028,47,47,null,null,null,null,null,null,null,null,null,{"$f":"Control!$C$20+Control!$C$21*A8028+Control!$C$22*A8028^2","v":2379.6706055542591}]
[8029,40,40,null,null,null,null,null,null,null,null,null,{"$f":"Control!$C$20+Control!$C$21*A8029+Control!$C$22*A8029^2","v":2379.9679203595065}]
[8030,28,28,null,null,null,null,null,null,null,null,null,{"$f":"Control!$C$20+Control!$C$21*A8030+Control!$C$22*A8030^2","v":2380.2652352603895}]
[8031,28,28,null,null,null,null,null,null,null,null,null,{"$f":"Control!$C$20+Control!$C$21*A8031+Control!$C$22*A8031^2","v":2380.5625502569083}]
[8032,37,37,null,null,null,null,null,null,null,null,null,{"$f":"Control!$C$20+Control!$C$21*A8032+Control!$C$22*A8032^2","v":2380.8598653490626}]
[8033,34,34,null,null,null,null,null,null,null,null,null,{"$f":"Control!$C$20+Control!$C$21*A8033+Control!$C$22*A8033^2","v":2381.1571805368521}]
[8034,40,40,null,null,null,null,null,null,null,null,null,{"$f":"Control!$C$20+Control!$C$21*A8034+Control!$C$22*A8034^2","v":2381.4544958202773}]
[8035,37,37,null,null,null,null,null,null,null,null,null,{"$f":"Control!$C$20+Control!$C$21*A8035+Control!$C$22*A8035^2","v":2381.7518111993381}]
[8036,40,40,null,null,null,null,null,null,null,null,null,{"$f":"Control!$C$20+Control!$C$21*A8036+Control!$C$22*A8036^2","v":2382.0491266740346}]
[8037,34,34,null,null,null,null,null,null,null,null,null,{"$f":"Control!$C$20+Control!$C$21*A8037+Control!$C$22*A8037^2","v":2382.3464422443662}]
[8038,41,41,null,null,null,null,null,null,null,null,null,{"$f":"Control!$C$20+Control!$C$21*A8038+Control!$C$22*A8038^2","v":2382.6437579103331}]
[8039,42,42,null,null,null,null,null,null,null,null,null,{"$f":"Control!$C$20+Control!$C$21*A8039+Control!$C$22*A8039^2","v":2382.941073671936}]
[8040,40,40,null,null,null,null,null,null,null,null,null,{"$f":"Control!$C$20+Control!$C$21*A8040+Control!$C$22*A8040^2","v":2383.2383895291741}]
[8041,41,41,null,null,null,null,null,null,null,null,null,{"$f":"Control!$C$20+Control!$C$21*A8041+Control!$C$22*A8041^2","v":2383.5357054820479}]
[8042,32,32,null,null,null,null,null,null,null,null,null,{"$f":"Control!$C$20+Control!$C$21*A8042+Control!$C$22*A8042^2","v":2383.8330215305568}]
[8043,27,27,null,null,null,null,null,null,null,null,null,{"$f":"Control!$C$20+Control!$C$21*A8043+Control!$C$22*A8043^2","v":2384.1303376747019}]
[8044,31,31,null,null,null,null,null,null,null,null,null,{"$f":"Control!$C$20+Control!$C$21*A8044+Control!$C$22*A8044^2","v":2384.4276539144821}]
[8045,37,37,null,null,null,null,null,null,null,null,null,{"$f":"Control!$C$20+Control!$C$21*A8045+Control!$C$22*A8045^2","v":2384.7249702498975}]
[8046,22,22,null,null,null,null,null,null,null,null,null,{"$f":"Control!$C$20+Control!$C$21*A8046+Control!$C$22*A8046^2","v":2385.0222866809486}]
[8047,30,30,null,null,null,null,null,null,null,null,null,{"$f":"Control!$C$20+Control!$C$21*A8047+Control!$C$22*A8047^2","v":2385.3196032076353}]
[8048,31,31,null,null,null,null,null,null,null,null,null,{"$f":"Control!$C$20+Control!$C$21*A8048+Control!$C$22*A8048^2","v":2385.6169198299576}]
[8049,24,24,null,null,null,null,null,null,null,null,null,{"$f":"Control!$C$20+Control!$C$21*A8049+Control!$C$22*A8049^2","v":2385.9142365479152}]
[8050,38,38,null,null,null,null,null,null,null,null,null,{"$f":"Control!$C$20+Control!$C$21*A8050+Control!$C$22*A8050^2","v":2386.2115533615083}]
[8051,34,34,null,null,null,null,null,null,null,null,null,{"$f":"Control!$C$20+Control!$C$21*A8051+Control!$C$22*A8051^2","v":2386.5088702707371}]
[8052,34,34,null,null,null,null,null,null,null,null,null,{"$f":"Control!$C$20+Control!$C$21*A8052+Control!$C$22*A8052^2","v":2386.8061872756016}]
[8053,32,32,null,null,null,null,null,null,null,null,null,{"$f":"Control!$C$20+Control!$C$21*A8053+Control!$C$22*A8053^2","v":2387.1035043761012}]
[8054,37,37,null,null,null,null,null,null,null,null,null,{"$f":"Control!$C$20+Control!$C$21*A8054+Control!$C$22*A8054^2","v":2387.4008215722361}]
[8055,36,36,null,null,null,null,null,null,null,null,null,{"$f":"Control!$C$20+Control!$C$21*A8055+Control!$C$22*A8055^2","v":2387.698138864007}]
[8056,34,34,null,null,null,null,null,null,null,null,null,{"$f":"Control!$C$20+Control!$C$21*A8056+Control!$C$22*A8056^2","v":2387.9954562514131}]
[8057,28,28,null,null,null,null,null,null,null,null,null,{"$f":"Control!$C$20+Control!$C$21*A8057+Control!$C$22*A8057^2","v":2388.2927737344548}]
[8058,28,28,null,null,null,null,null,null,null,null,null,{"$f":"Control!$C$20+Control!$C$21*A8058+Control!$C$22*A8058^2","v":2388.5900913131318}]
[8059,36,36,null,null,null,null,null,null,null,null,null,{"$f":"Control!$C$20+Control!$C$21*A8059+Control!$C$22*A8059^2","v":2388.8874089874448}]
[8060,30,30,null,null,null,null,null,null,null,null,null,{"$f":"Control!$C$20+Control!$C$21*A8060+Control!$C$22*A8060^2","v":2389.184726757393}]
[8061,23,23,null,null,null,null,null,null,null,null,null,{"$f":"Control!$C$20+Control!$C$21*A8061+Control!$C$22*A8061^2","v":2389.4820446229764}]
[8062,31,31,null,null,null,null,null,null,null,null,null,{"$f":"Control!$C$20+Control!$C$21*A8062+Control!$C$22*A8062^2","v":2389.7793625841955}]
[8063,26,26,null,null,null,null,null,null,null,null,null,{"$f":"Control!$C$20+Control!$C$21*A8063+Control!$C$22*A8063^2","v":2390.0766806410502}]
[8064,41,41,null,null,null,null,null,null,null,null,null,{"$f":"Control!$C$20+Control!$C$21*A8064+Control!$C$22*A8064^2","v":2390.3739987935405}]
[8065,24,24,null,null,null,null,null,null,null,null,null,{"$f":"Control!$C$20+Control!$C$21*A8065+Control!$C$22*A8065^2","v":2390.671317041666}]
[8066,30,30,null,null,null,null,null,null,null,null,null,{"$f":"Control!$C$20+Control!$C$21*A8066+Control!$C$22*A8066^2","v":2390.9686353854272}]
[8067,30,30,null,null,null,null,null,null,null,null,null,{"$f":"Control!$C$20+Control!$C$21*A8067+Control!$C$22*A8067^2","v":2391.265953824824}]
[8068,23,23,null,null,null,null,null,null,null,null,null,{"$f":"Control!$C$20+Control!$C$21*A8068+Control!$C$22*A8068^2","v":2391.5632723598565}]
[8069,30,30,null,null,null,null,null,null,null,null,null,{"$f":"Control!$C$20+Control!$C$21*A8069+Control!$C$22*A8069^2","v":2391.8605909905241}]
[8070,25,25,null,null,null,null,null,null,null,null,null,{"$f":"Control!$C$20+Control!$C$21*A8070+Control!$C$22*A8070^2","v":2392.1579097168269}]
[8071,33,33,null,null,null,null,null,null,null,null,null,{"$f":"Control!$C$20+Control!$C$21*A8071+Control!$C$22*A8071^2","v":2392.4552285387658}]
[8072,41,41,null,null,null,null,null,null,null,null,null,{"$f":"Control!$C$20+Control!$C$21*A8072+Control!$C$22*A8072^2","v":2392.7525474563399}]
[8073,23,23,null,null,null,null,null,null,null,null,null,{"$f":"Control!$C$20+Control!$C$21*A8073+Control!$C$22*A8073^2","v":2393.0498664695497}]
[8074,30,30,null,null,null,null,null,null,null,null,null,{"$f":"Control!$C$20+Control!$C$21*A8074+Control!$C$22*A8074^2","v":2393.3471855783946}]
[8075,27,27,null,null,null,null,null,null,null,null,null,{"$f":"Control!$C$20+Control!$C$21*A8075+Control!$C$22*A8075^2","v":2393.6445047828756}]
[8076,22,22,null,null,null,null,null,null,null,null,null,{"$f":"Control!$C$20+Control!$C$21*A8076+Control!$C$22*A8076^2","v":2393.9418240829918}]
[8077,31,31,null,null,null,null,null,null,null,null,null,{"$f":"Control!$C$20+Control!$C$21*A8077+Control!$C$22*A8077^2","v":2394.2391434787432}]
[8078,25,25,null,null,null,null,null,null,null,null,null,{"$f":"Control!$C$20+Control!$C$21*A8078+Control!$C$22*A8078^2","v":2394.5364629701303}]
[8079,23,23,null,null,null,null,null,null,null,null,null,{"$f":"Control!$C$20+Control!$C$21*A8079+Control!$C$22*A8079^2","v":2394.833782557153}]
[8080,23,23,null,null,null,null,null,null,null,null,null,{"$f":"Control!$C$20+Control!$C$21*A8080+Control!$C$22*A8080^2","v":2395.1311022398113}]
[8081,23,23,null,null,null,null,null,null,null,null,null,{"$f":"Control!$C$20+Control!$C$21*A8081+Control!$C$22*A8081^2","v":2395.4284220181048}]
[8082,30,30,null,null,null,null,null,null,null,null,null,{"$f":"Control!$C$20+Control!$C$21*A8082+Control!$C$22*A8082^2","v":2395.725741892034}]
[8083,16,16,null,null,null,null,null,null,null,null,null,{"$f":"Control!$C$20+Control!$C$21*A8083+Control!$C$22*A8083^2","v":2396.0230618615988}]
[8084,32,32,null,null,null,null,null,null,null,null,null,{"$f":"Control!$C$20+Control!$C$21*A8084+Control!$C$22*A8084^2","v":2396.3203819267992}]
[8085,30,30,null,null,null,null,null,null,null,null,null,{"$f":"Control!$C$20+Control!$C$21*A8085+Control!$C$22*A8085^2","v":2396.6177020876348}]
[8086,25,25,null,null,null,null,null,null,null,null,null,{"$f":"Control!$C$20+Control!$C$21*A8086+Control!$C$22*A8086^2","v":2396.9150223441056}]
[8087,21,21,null,null,null,null,null,null,null,null,null,{"$f":"Control!$C$20+Control!$C$21*A8087+Control!$C$22*A8087^2","v":2397.2123426962125}]
[8088,13,13,null,null,null,null,null,null,null,null,null,{"$f":"Control!$C$20+Control!$C$21*A8088+Control!$C$22*A8088^2","v":2397.5096631439546}]
[8089,28,28,null,null,null,null,null,null,null,null,null,{"$f":"Control!$C$20+Control!$C$21*A8089+Control!$C$22*A8089^2","v":2397.8069836873324}]
[8090,25,25,null,null,null,null,null,null,null,null,null,{"$f":"Control!$C$20+Control!$C$21*A8090+Control!$C$22*A8090^2","v":2398.1043043263453}]
[8091,23,23,null,null,null,null,null,null,null,null,null,{"$f":"Control!$C$20+Control!$C$21*A8091+Control!$C$22*A8091^2","v":2398.4016250609943}]
[8092,25,25,null,null,null,null,null,null,null,null,null,{"$f":"Control!$C$20+Control!$C$21*A8092+Control!$C$22*A8092^2","v":2398.6989458912785}]
[8093,25,25,null,null,null,null,null,null,null,null,null,{"$f":"Control!$C$20+Control!$C$21*A8093+Control!$C$22*A8093^2","v":2398.9962668171979}]
[8094,17,17,null,null,null,null,null,null,null,null,null,{"$f":"Control!$C$20+Control!$C$21*A8094+Control!$C$22*A8094^2","v":2399.293587838753}]
[8095,25,25,null,null,null,null,null,null,null,null,null,{"$f":"Control!$C$20+Control!$C$21*A8095+Control!$C$22*A8095^2","v":2399.5909089559436}]
[8096,18,18,null,null,null,null,null,null,null,null,null,{"$f":"Control!$C$20+Control!$C$21*A8096+Control!$C$22*A8096^2","v":2399.88823016877}]
[8097,19,19,null,null,null,null,null,null,null,null,null,{"$f":"Control!$C$20+Control!$C$21*A8097+Control!$C$22*A8097^2","v":2400.1855514772315}]
[8098,24,24,null,null,null,null,null,null,null,null,null,{"$f":"Control!$C$20+Control!$C$21*A8098+Control!$C$22*A8098^2","v":2400.4828728813286}]
[8099,25,25,null,null,null,null,null,null,null,null,null,{"$f":"Control!$C$20+Control!$C$21*A8099+Control!$C$22*A8099^2","v":2400.7801943810614}]
[8100,28,28,null,null,null,null,null,null,null,null,null,{"$f":"Control!$C$20+Control!$C$21*A8100+Control!$C$22*A8100^2","v":2401.0775159764298}]
[8101,24,24,null,null,null,null,null,null,null,null,null,{"$f":"Control!$C$20+Control!$C$21*A8101+Control!$C$22*A8101^2","v":2401.3748376674334}]
[8102,27,27,null,null,null,null,null,null,null,null,null,{"$f":"Control!$C$20+Control!$C$21*A8102+Control!$C$22*A8102^2","v":2401.6721594540722}]
[8103,17,17,null,null,null,null,null,null,null,null,null,{"$f":"Control!$C$20+Control!$C$21*A8103+Control!$C$22*A8103^2","v":2401.9694813363471}]
[8104,22,22,null,null,null,null,null,null,null,null,null,{"$f":"Control!$C$20+Control!$C$21*A8104+Control!$C$22*A8104^2","v":2402.2668033142572}]
[8105,19,19,null,null,null,null,null,null,null,null,null,{"$f":"Control!$C$20+Control!$C$21*A8105+Control!$C$22*A8105^2","v":2402.564125387803}]
[8106,23,23,null,null,null,null,null,null,null,null,null,{"$f":"Control!$C$20+Control!$C$21*A8106+Control!$C$22*A8106^2","v":2402.8614475569839}]
[8107,34,34,null,null,null,null,null,null,null,null,null,{"$f":"Control!$C$20+Control!$C$21*A8107+Control!$C$22*A8107^2","v":2403.1587698218009}]
[8108,19,19,null,null,null,null,null,null,null,null,null,{"$f":"Control!$C$20+Control!$C$21*A8108+Control!$C$22*A8108^2","v":2403.4560921822531}]
[8109,25,25,null,null,null,null,null,null,null,null,null,{"$f":"Control!$C$20+Control!$C$21*A8109+Control!$C$22*A8109^2","v":2403.7534146383405}]
[8110,20,20,null,null,null,null,null,null,null,null,null,{"$f":"Control!$C$20+Control!$C$21*A8110+Control!$C$22*A8110^2","v":2404.0507371900635}]
[8111,37,37,null,null,null,null,null,null,null,null,null,{"$f":"Control!$C$20+Control!$C$21*A8111+Control!$C$22*A8111^2","v":2404.3480598374222}]
[8112,28,28,null,null,null,null,null,null,null,null,null,{"$f":"Control!$C$20+Control!$C$21*A8112+Control!$C$22*A8112^2","v":2404.6453825804165}]
[8113,19,19,null,null,null,null,null,null,null,null,null,{"$f":"Control!$C$20+Control!$C$21*A8113+Control!$C$22*A8113^2","v":2404.942705419046}]
[8114,26,26,null,null,null,null,null,null,null,null,null,{"$f":"Control!$C$20+Control!$C$21*A8114+Control!$C$22*A8114^2","v":2405.2400283533111}]
[8115,32,32,null,null,null,null,null,null,null,null,null,{"$f":"Control!$C$20+Control!$C$21*A8115+Control!$C$22*A8115^2","v":2405.5373513832119}]
[8116,30,30,null,null,null,null,null,null,null,null,null,{"$f":"Control!$C$20+Control!$C$21*A8116+Control!$C$22*A8116^2","v":2405.8346745087483}]
[8117,24,24,null,null,null,null,null,null,null,null,null,{"$f":"Control!$C$20+Control!$C$21*A8117+Control!$C$22*A8117^2","v":2406.1319977299199}]
[8118,23,23,null,null,null,null,null,null,null,null,null,{"$f":"Control!$C$20+Control!$C$21*A8118+Control!$C$22*A8118^2","v":2406.4293210467267}]
[8119,17,17,null,null,null,null,null,null,null,null,null,{"$f":"Control!$C$20+Control!$C$21*A8119+Control!$C$22*A8119^2","v":2406.7266444591696}]
[8120,27,27,null,null,null,null,null,null,null,null,null,{"$f":"Control!$C$20+Control!$C$21*A8120+Control!$C$22*A8120^2","v":2407.0239679672477}]
[8121,21,21,null,null,null,null,null,null,null,null,null,{"$f":"Control!$C$20+Control!$C$21*A8121+Control!$C$22*A8121^2","v":2407.3212915709614}]
[8122,29,29,null,null,null,null,null,null,null,null,null,{"$f":"Control!$C$20+Control!$C$21*A8122+Control!$C$22*A8122^2","v":2407.6186152703103}]
[8123,28,28,null,null,null,null,null,null,null,null,null,{"$f":"Control!$C$20+Control!$C$21*A8123+Control!$C$22*A8123^2","v":2407.9159390652953}]
[8124,26,26,null,null,null,null,null,null,null,null,null,{"$f":"Control!$C$20+Control!$C$21*A8124+Control!$C$22*A8124^2","v":2408.2132629559155}]
[8125,24,24,null,null,null,null,null,null,null,null,null,{"$f":"Control!$C$20+Control!$C$21*A8125+Control!$C$22*A8125^2","v":2408.5105869421709}]
[8126,35,35,null,null,null,null,null,null,null,null,null,{"$f":"Control!$C$20+Control!$C$21*A8126+Control!$C$22*A8126^2","v":2408.8079110240619}]
[8127,25,25,null,null,null,null,null,null,null,null,null,{"$f":"Control!$C$20+Control!$C$21*A8127+Control!$C$22*A8127^2","v":2409.1052352015886}]
[8128,22,22,null,null,null,null,null,null,null,null,null,{"$f":"Control!$C$20+Control!$C$21*A8128+Control!$C$22*A8128^2","v":2409.4025594747509}]
[8129,28,28,null,null,null,null,null,null,null,null,null,{"$f":"Control!$C$20+Control!$C$21*A8129+Control!$C$22*A8129^2","v":2409.6998838435484}]
[8130,24,24,null,null,null,null,null,null,null,null,null,{"$f":"Control!$C$20+Control!$C$21*A8130+Control!$C$22*A8130^2","v":2409.9972083079815}]
[8131,24,24,null,null,null,null,null,null,null,null,null,{"$f":"Control!$C$20+Control!$C$21*A8131+Control!$C$22*A8131^2","v":2410.2945328680503}]
[8132,25,25,null,null,null,null,null,null,null,null,null,{"$f":"Control!$C$20+Control!$C$21*A8132+Control!$C$22*A8132^2","v":2410.5918575237547}]
[8133,25,25,null,null,null,null,null,null,null,null,null,{"$f":"Control!$C$20+Control!$C$21*A8133+Control!$C$22*A8133^2","v":2410.8891822750943}]
[8134,24,24,null,null,null,null,null,null,null,null,null,{"$f":"Control!$C$20+Control!$C$21*A8134+Control!$C$22*A8134^2","v":2411.1865071220691}]
[8135,23,23,null,null,null,null,null,null,null,null,null,{"$f":"Control!$C$20+Control!$C$21*A8135+Control!$C$22*A8135^2","v":2411.48383206468}]
[8136,19,19,null,null,null,null,null,null,null,null,null,{"$f":"Control!$C$20+Control!$C$21*A8136+Control!$C$22*A8136^2","v":2411.781157102926}]
[8137,21,21,null,null,null,null,null,null,null,null,null,{"$f":"Control!$C$20+Control!$C$21*A8137+Control!$C$22*A8137^2","v":2412.0784822368078}]
[8138,31,31,null,null,null,null,null,null,null,null,null,{"$f":"Control!$C$20+Control!$C$21*A8138+Control!$C$22*A8138^2","v":2412.3758074663247}]
[8139,24,24,null,null,null,null,null,null,null,null,null,{"$f":"Control!$C$20+Control!$C$21*A8139+Control!$C$22*A8139^2","v":2412.6731327914777}]
[8140,26,26,null,null,null,null,null,null,null,null,null,{"$f":"Control!$C$20+Control!$C$21*A8140+Control!$C$22*A8140^2","v":2412.9704582122658}]
[8141,33,33,null,null,null,null,null,null,null,null,null,{"$f":"Control!$C$20+Control!$C$21*A8141+Control!$C$22*A8141^2","v":2413.2677837286892}]
[8142,17,17,null,null,null,null,null,null,null,null,null,{"$f":"Control!$C$20+Control!$C$21*A8142+Control!$C$22*A8142^2","v":2413.5651093407482}]
[8143,20,20,null,null,null,null,null,null,null,null,null,{"$f":"Control!$C$20+Control!$C$21*A8143+Control!$C$22*A8143^2","v":2413.8624350484429}]
[8144,25,25,null,null,null,null,null,null,null,null,null,{"$f":"Control!$C$20+Control!$C$21*A8144+Control!$C$22*A8144^2","v":2414.1597608517732}]
[8145,30,30,null,null,null,null,null,null,null,null,null,{"$f":"Control!$C$20+Control!$C$21*A8145+Control!$C$22*A8145^2","v":2414.4570867507387}]
[8146,24,24,null,null,null,null,null,null,null,null,null,{"$f":"Control!$C$20+Control!$C$21*A8146+Control!$C$22*A8146^2","v":2414.7544127453398}]
[8147,17,17,null,null,null,null,null,null,null,null,null,{"$f":"Control!$C$20+Control!$C$21*A8147+Control!$C$22*A8147^2","v":2415.0517388355765}]
[8148,18,18,null,null,null,null,null,null,null,null,null,{"$f":"Control!$C$20+Control!$C$21*A8148+Control!$C$22*A8148^2","v":2415.349065021449}]
[8149,19,19,null,null,null,null,null,null,null,null,null,{"$f":"Control!$C$20+Control!$C$21*A8149+Control!$C$22*A8149^2","v":2415.6463913029565}]
[8150,22,22,null,null,null,null,null,null,null,null,null,{"$f":"Control!$C$20+Control!$C$21*A8150+Control!$C$22*A8150^2","v":2415.9437176800993}]
[8151,33,33,null,null,null,null,null,null,null,null,null,{"$f":"Control!$C$20+Control!$C$21*A8151+Control!$C$22*A8151^2","v":2416.2410441528782}]
[8152,16,16,null,null,null,null,null,null,null,null,null,{"$f":"Control!$C$20+Control!$C$21*A8152+Control!$C$22*A8152^2","v":2416.5383707212923}]
[8153,20,20,null,null,null,null,null,null,null,null,null,{"$f":"Control!$C$20+Control!$C$21*A8153+Control!$C$22*A8153^2","v":2416.835697385342}]
[8154,19,19,null,null,null,null,null,null,null,null,null,{"$f":"Control!$C$20+Control!$C$21*A8154+Control!$C$22*A8154^2","v":2417.1330241450269}]
[8155,20,20,null,null,null,null,null,null,null,null,null,{"$f":"Control!$C$20+Control!$C$21*A8155+Control!$C$22*A8155^2","v":2417.4303510003479}]
[8156,10,10,null,null,null,null,null,null,null,null,null,{"$f":"Control!$C$20+Control!$C$21*A8156+Control!$C$22*A8156^2","v":2417.727677951304}]
[8157,24,24,null,null,null,null,null,null,null,null,null,{"$f":"Control!$C$20+Control!$C$21*A8157+Control!$C$22*A8157^2","v":2418.0250049978954}]
[8158,16,16,null,null,null,null,null,null,null,null,null,{"$f":"Control!$C$20+Control!$C$21*A8158+Control!$C$22*A8158^2","v":2418.3223321401224}]
[8159,26,26,null,null,null,null,null,null,null,null,null,{"$f":"Control!$C$20+Control!$C$21*A8159+Control!$C$22*A8159^2","v":2418.619659377985}]
[8160,18,18,null,null,null,null,null,null,null,null,null,{"$f":"Control!$C$20+Control!$C$21*A8160+Control!$C$22*A8160^2","v":2418.9169867114833}]
[8161,21,21,null,null,null,null,null,null,null,null,null,{"$f":"Control!$C$20+Control!$C$21*A8161+Control!$C$22*A8161^2","v":2419.2143141406168}]
[8162,18,18,null,null,null,null,null,null,null,null,null,{"$f":"Control!$C$20+Control!$C$21*A8162+Control!$C$22*A8162^2","v":2419.5116416653859}]
[8163,13,13,null,null,null,null,null,null,null,null,null,{"$f":"Control!$C$20+Control!$C$21*A8163+Control!$C$22*A8163^2","v":2419.8089692857907}]
[8164,27,27,null,null,null,null,null,null,null,null,null,{"$f":"Control!$C$20+Control!$C$21*A8164+Control!$C$22*A8164^2","v":2420.1062970018311}]
[8165,19,19,null,null,null,null,null,null,null,null,null,{"$f":"Control!$C$20+Control!$C$21*A8165+Control!$C$22*A8165^2","v":2420.4036248135067}]
[8166,20,20,null,null,null,null,null,null,null,null,null,{"$f":"Control!$C$20+Control!$C$21*A8166+Control!$C$22*A8166^2","v":2420.7009527208174}]
[8167,24,24,null,null,null,null,null,null,null,null,null,{"$f":"Control!$C$20+Control!$C$21*A8167+Control!$C$22*A8167^2","v":2420.9982807237643}]
[8168,20,20,null,null,null,null,null,null,null,null,null,{"$f":"Control!$C$20+Control!$C$21*A8168+Control!$C$22*A8168^2","v":2421.2956088223464}]
[8169,17,17,null,null,null,null,null,null,null,null,null,{"$f":"Control!$C$20+Control!$C$21*A8169+Control!$C$22*A8169^2","v":2421.5929370165641}]
[8170,24,24,null,null,null,null,null,null,null,null,null,{"$f":"Control!$C$20+Control!$C$21*A8170+Control!$C$22*A8170^2","v":2421.8902653064169}]
[8171,15,15,null,null,null,null,null,null,null,null,null,{"$f":"Control!$C$20+Control!$C$21*A8171+Control!$C$22*A8171^2","v":2422.1875936919059}]
[8172,13,13,null,null,null,null,null,null,null,null,null,{"$f":"Control!$C$20+Control!$C$21*A8172+Control!$C$22*A8172^2","v":2422.4849221730301}]
[8173,14,14,null,null,null,null,null,null,null,null,null,{"$f":"Control!$C$20+Control!$C$21*A8173+Control!$C$22*A8173^2","v":2422.7822507497895}]
[8174,20,20,null,null,null,null,null,null,null,null,null,{"$f":"Control!$C$20+Control!$C$21*A8174+Control!$C$22*A8174^2","v":2423.0795794221845}]
[8175,21,21,null,null,null,null,null,null,null,null,null,{"$f":"Control!$C$20+Control!$C$21*A8175+Control!$C$22*A8175^2","v":2423.3769081902151}]
[8176,30,30,null,null,null,null,null,null,null,null,null,{"$f":"Control!$C$20+Control!$C$21*A8176+Control!$C$22*A8176^2","v":2423.6742370538814}]
[8177,21,21,null,null,null,null,null,null,null,null,null,{"$f":"Control!$C$20+Control!$C$21*A8177+Control!$C$22*A8177^2","v":2423.9715660131828}]
[8178,17,17,null,null,null,null,null,null,null,null,null,{"$f":"Control!$C$20+Control!$C$21*A8178+Control!$C$22*A8178^2","v":2424.2688950681199}]
[8179,19,19,null,null,null,null,null,null,null,null,null,{"$f":"Control!$C$20+Control!$C$21*A8179+Control!$C$22*A8179^2","v":2424.5662242186927}]
[8180,18,18,null,null,null,null,null,null,null,null,null,{"$f":"Control!$C$20+Control!$C$21*A8180+Control!$C$22*A8180^2","v":2424.8635534649011}]
[8181,23,23,null,null,null,null,null,null,null,null,null,{"$f":"Control!$C$20+Control!$C$21*A8181+Control!$C$22*A8181^2","v":2425.1608828067447}]
[8182,17,17,null,null,null,null,null,null,null,null,null,{"$f":"Control!$C$20+Control!$C$21*A8182+Control!$C$22*A8182^2","v":2425.4582122442234}]
[8183,21,21,null,null,null,null,null,null,null,null,null,{"$f":"Control!$C$20+Control!$C$21*A8183+Control!$C$22*A8183^2","v":2425.7555417773383}]
[8184,14,14,null,null,null,null,null,null,null,null,null,{"$f":"Control!$C$20+Control!$C$21*A8184+Control!$C$22*A8184^2","v":2426.0528714060883}]
[8185,23,23,null,null,null,null,null,null,null,null,null,{"$f":"Control!$C$20+Control!$C$21*A8185+Control!$C$22*A8185^2","v":2426.350201130474}]
[8186,14,14,null,null,null,null,null,null,null,null,null,{"$f":"Control!$C$20+Control!$C$21*A8186+Control!$C$22*A8186^2","v":2426.6475309504949}]
[8187,14,14,null,null,null,null,null,null,null,null,null,{"$f":"Control!$C$20+Control!$C$21*A8187+Control!$C$22*A8187^2","v":2426.9448608661519}]
[8188,13,13,null,null,null,null,null,null,null,null,null,{"$f":"Control!$C$20+Control!$C$21*A8188+Control!$C$22*A8188^2","v":2427.242190877444}]
[8189,10,10,null,null,null,null,null,null,null,null,null,{"$f":"Control!$C$20+Control!$C$21*A8189+Control!$C$22*A8189^2","v":2427.5395209843714}]
[8190,18,18,null,null,null,null,null,null,null,null,null,{"$f":"Control!$C$20+Control!$C$21*A8190+Control!$C$22*A8190^2","v":2427.8368511869344}]
[8191,0,0,null,null,null,null,null,null,null,null,null,{"$f":"Control!$C$20+Control!$C$21*A8191+Control!$C$22*A8191^2","v":2428.134181485133}]
[]
[]
[]
[]
[]
[]
[]
[]
[]
[{"$f":"IF(B8201<>\"\",1+A8200,\"\")","v":""}]
[""]
[""]
[""]
[""]
[""]
[""]
[""]
[""]
[""]
[""]
[""]

{"sheet":"Assessment","index":3,"n_rows":74,"n_cols":18,"rows_kept":74,"cut":false,"hidden":false,"merged":[[17,6,17,7],[17,8,17,12],[17,13,17,16],[6,4,6,5],[7,4,7,5],[8,4,8,5],[9,4,9,5],[17,2,17,5],[15,8,15,10],[16,8,16,10],[14,8,14,10]]}
[]
[null,"SpecMaker - Spectrum Analysis Assessment",null,null,null,null,null,null,null,{"$f":"F6","v":0}]
[null,{"$f":"CELL(\"filename\",B2)","v":"C:\\&Temp Files\\SpecMaker 2025 Plus\\[SpecMaker 2025 Plus.xlsm]Assessment"},null,null,null,null,null,null,null,{"$f":"E7","v":0}]
[null,"Spreadsheet prepared by Dr. Gordon Gilmore"]
[]
[null,null,null,null,null,{"$f":"Control!C32","v":0},null,"Peak Analysis"]
[null,null,null,"Program:",null,null,null,null,null,"Number of peaks created:",{"$f":"COUNT(D21:D70)","v":0}]
[null,null,null,"Version:",null,null,null,null,null,"Number of measured peaks:",{"$f":"M72","v":0}]
[null,null,null,"Date of Analysis:",{"$f":"NOW()","v":"2025-03-17T12:53:42.920"},null,null,null,null,"Number of missed peaks:",{"$f":"K7-K8","v":0}]
[null,null,null,"Comments:",null,null,null,null,null,"Number of spurious peaks:",0]
[null,null,null,"Energy Calibration:",{"$f":"Control!C21","v":0.29654699563980103},"keV/ch",null,null,null,"Peak Detection Index (Target =1):",{"$f":"IF(K7>0,(K8-K10)/K7,\"\")","v":""}]
[]
[null,null,"Centroid and FWHM Differences",null,null,null,null,null,"Area Estimation"]
[null,null,null,null,null,"Channels","keV",null,null,"Centroid of Distribution:",{"$f":"IF(M72>0,Stats!$L$25,\"\")","v":""}]
[null,null,null,null,"RMS Centroid Difference:",{"$f":"IF(K8>2,P72/E11,\"\")","v":""},{"$f":"IF(F15<>\"\",P72,\"\")","v":""},null,{"$f":"IF(M72>0,Stats!M20,\"\")","v":""}]
[null,null,null,null,"RMS FWHM differences:",null,{"$f":"IF(K8>2,Q72,\"\")","v":""},null,{"$f":"IFERROR(\"\",VLOOKUP(ABS(K15),Stats!$J$37:$K$42,2))","v":""}]
[]
[null,null,"Requested Values",null,null,null,"Given Values",null,"Measured Values",null,null,null,null,"Assessments"]
[null,null,"Peak Energy","Peak Area","Peak Centroid","FWHM","Peak Area","Peak Centroid","Peak Energy","Peak Area","Std. Uncert","Peak Centroid","FWHM","Peak Area","Significance","Centroid  Difference","FWHM Diffs","Pk. Area Ratio"]
[null,null,"(keV)","(counts)","(channels)","(keV)","(counts)","(channels)","(keV)","(counts)","(%)","(channels)","(keV)","z-score",null,"(keV)","(keV)"]
[null,1,{"$f":"IF(Control!H9<>\"\",Control!H9,\"\")","v":""},{"$f":"IF(Control!I9<>\"\",Control!I9,\"\")","v":""},{"$f":"Control!J9","v":""},{"$f":"Control!K9","v":""},{"$f":"IF(Control!Q9<>\"\",Control!Q9,\"\")","v":""},{"$f":"IF(Control!P9<>\"\",Control!P9,\"\")","v":""},null,null,null,null,null,{"$f":"IF(AND(J21<>\"\",K21<>\"\"),(J21-G21)/(K21*J21),\"\")","v":""},{"$f":"IF(N21<>\"\",VLOOKUP(ABS(N21),Stats!$J$37:$K$42,2),\"\")","v":""},{"$f":"IF(L21<>\"\",(I21-C21),\"\")","v":""},{"$f":"IF(M21<>\"\",(M21-F21),\"\")","v":""},{"$f":"IF(J21<>\"\",(J21/D21)^2,\"\")","v":""}]
[null,2,{"$f":"IF(Control!H10<>\"\",Control!H10,\"\")","v":""},{"$f":"IF(Control!I10<>\"\",Control!I10,\"\")","v":""},{"$f":"Control!J10","v":""},{"$f":"Control!K10","v":""},{"$f":"IF(Control!Q10<>\"\",Control!Q10,\"\")","v":""},{"$f":"IF(Control!P10<>\"\",Control!P10,\"\")","v":""},null,null,null,null,null,{"$f":"IF(AND(J22<>\"\",K22<>\"\"),(J22-G22)/(K22*J22),\"\")","v":""},{"$f":"IF(N22<>\"\",VLOOKUP(ABS(N22),Stats!$J$37:$K$42,2),\"\")","v":""},{"$f":"IF(L22<>\"\",(I22-C22),\"\")","v":""},{"$f":"IF(M22<>\"\",(M22-F22),\"\")","v":""},{"$f":"IF(J22<>\"\",(J22/D22)^2,\"\")","v":""}]
[null,3,{"$f":"IF(Control!H11<>\"\",Control!H11,\"\")","v":""},{"$f":"IF(Control!I11<>\"\",Control!I11,\"\")","v":""},{"$f":"Control!J11","v":""},{"$f":"Control!K11","v":""},{"$f":"IF(Control!Q11<>\"\",Control!Q11,\"\")","v":""},{"$f":"IF(Control!P11<>\"\",Control!P11,\"\")","v":""},null,null,null,null,null,"",{"$f":"IF(N23<>\"\",VLOOKUP(ABS(N23),Stats!$J$37:$K$42,2),\"\")","v":""},"","",""]
[null,4,{"$f":"IF(Control!H12<>\"\",Control!H12,\"\")","v":""},{"$f":"IF(Control!I12<>\"\",Control!I12,\"\")","v":""},{"$f":"Control!J12","v":""},{"$f":"Control!K12","v":""},{"$f":"IF(Control!Q12<>\"\",Control!Q12,\"\")","v":""},{"$f":"IF(Control!P12<>\"\",Control!P12,\"\")","v":""},null,null,null,null,null,{"$f":"IF(AND(J24<>\"\",K24<>\"\"),(J24-G24)/(K24*J24),\"\")","v":""},{"$f":"IF(N24<>\"\",VLOOKUP(ABS(N24),Stats!$J$37:$K$42,2),\"\")","v":""},"","",""]
[null,5,{"$f":"IF(Control!H13<>\"\",Control!H13,\"\")","v":""},{"$f":"IF(Control!I13<>\"\",Control!I13,\"\")","v":""},{"$f":"Control!J13","v":""},{"$f":"Control!K13","v":""},{"$f":"IF(Control!Q13<>\"\",Control!Q13,\"\")","v":""},{"$f":"IF(Control!P13<>\"\",Control!P13,\"\")","v":""},null,null,null,null,null,"",{"$f":"IF(N25<>\"\",VLOOKUP(ABS(N25),Stats!$J$37:$K$42,2),\"\")","v":""},"","",""]
[null,6,{"$f":"IF(Control!H14<>\"\",Control!H14,\"\")","v":""},{"$f":"IF(Control!I14<>\"\",Control!I14,\"\")","v":""},{"$f":"Control!J14","v":""},{"$f":"Control!K14","v":""},{"$f":"IF(Control!Q14<>\"\",Control!Q14,\"\")","v":""},{"$f":"IF(Control!P14<>\"\",Control!P14,\"\")","v":""},null,null,null,null,null,"",{"$f":"IF(N26<>\"\",VLOOKUP(ABS(N26),Stats!$J$37:$K$42,2),\"\")","v":""},"","",""]
[null,7,{"$f":"IF(Control!H15<>\"\",Control!H15,\"\")","v":""},{"$f":"IF(Control!I15<>\"\",Control!I15,\"\")","v":""},{"$f":"Control!J15","v":""},{"$f":"Control!K15","v":""},{"$f":"IF(Control!Q15<>\"\",Control!Q15,\"\")","v":""},{"$f":"IF(Control!P15<>\"\",Control!P15,\"\")","v":""},null,null,null,null,null,"",{"$f":"IF(N27<>\"\",VLOOKUP(ABS(N27),Stats!$J$37:$K$42,2),\"\")","v":""},"","",""]
[null,8,{"$f":"IF(Control!H16<>\"\",Control!H16,\"\")","v":""},{"$f":"IF(Control!I16<>\"\",Control!I16,\"\")","v":""},{"$f":"Control!J16","v":""},{"$f":"Control!K16","v":""},{"$f":"IF(Control!Q16<>\"\",Control!Q16,\"\")","v":""},{"$f":"IF(Control!P16<>\"\",Control!P16,\"\")","v":""},null,null,null,null,null,"",{"$f":"IF(N28<>\"\",VLOOKUP(ABS(N28),Stats!$J$37:$K$42,2),\"\")","v":""},"","",""]
[null,9,{"$f":"IF(Control!H17<>\"\",Control!H17,\"\")","v":""},{"$f":"IF(Control!I17<>\"\",Control!I17,\"\")","v":""},{"$f":"Control!J17","v":""},{"$f":"Control!K17","v":""},{"$f":"IF(Control!Q17<>\"\",Control!Q17,\"\")","v":""},{"$f":"IF(Control!P17<>\"\",Control!P17,\"\")","v":""},null,null,null,null,null,"",{"$f":"IF(N29<>\"\",VLOOKUP(ABS(N29),Stats!$J$37:$K$42,2),\"\")","v":""},"","",""]
[null,10,{"$f":"IF(Control!H18<>\"\",Control!H18,\"\")","v":""},{"$f":"IF(Control!I18<>\"\",Control!I18,\"\")","v":""},{"$f":"Control!J18","v":""},{"$f":"Control!K18","v":""},{"$f":"IF(Control!Q18<>\"\",Control!Q18,\"\")","v":""},{"$f":"IF(Control!P18<>\"\",Control!P18,\"\")","v":""},null,null,null,null,null,"",{"$f":"IF(N30<>\"\",VLOOKUP(ABS(N30),Stats!$J$37:$K$42,2),\"\")","v":""},"","",""]
[null,11,{"$f":"IF(Control!H19<>\"\",Control!H19,\"\")","v":""},{"$f":"IF(Control!I19<>\"\",Control!I19,\"\")","v":""},{"$f":"Control!J19","v":""},{"$f":"Control!K19","v":""},{"$f":"IF(Control!Q19<>\"\",Control!Q19,\"\")","v":""},{"$f":"IF(Control!P19<>\"\",Control!P19,\"\")","v":""},null,null,null,null,null,"",{"$f":"IF(N31<>\"\",VLOOKUP(ABS(N31),Stats!$J$37:$K$42,2),\"\")","v":""},"","",""]
[null,12,{"$f":"IF(Control!H20<>\"\",Control!H20,\"\")","v":""},{"$f":"IF(Control!I20<>\"\",Control!I20,\"\")","v":""},{"$f":"Control!J20","v":""},{"$f":"Control!K20","v":""},{"$f":"IF(Control!Q20<>\"\",Control!Q20,\"\")","v":""},{"$f":"IF(Control!P20<>\"\",Control!P20,\"\")","v":""},null,null,null,null,null,"",{"$f":"IF(N32<>\"\",VLOOKUP(ABS(N32),Stats!$J$37:$K$42,2),\"\")","v":""},"","",""]
[null,13,{"$f":"IF(Control!H21<>\"\",Control!H21,\"\")","v":""},{"$f":"IF(Control!I21<>\"\",Control!I21,\"\")","v":""},{"$f":"Control!J21","v":""},{"$f":"Control!K21","v":""},{"$f":"IF(Control!Q21<>\"\",Control!Q21,\"\")","v":""},{"$f":"IF(Control!P21<>\"\",Control!P21,\"\")","v":""},null,null,null,null,null,"",{"$f":"IF(N33<>\"\",VLOOKUP(ABS(N33),Stats!$J$37:$K$42,2),\"\")","v":""},"","",""]
[null,14,{"$f":"IF(Control!H22<>\"\",Control!H22,\"\")","v":""},{"$f":"IF(Control!I22<>\"\",Control!I22,\"\")","v":""},{"$f":"Control!J22","v":""},{"$f":"Control!K22","v":""},{"$f":"IF(Control!Q22<>\"\",Control!Q22,\"\")","v":""},{"$f":"IF(Control!P22<>\"\",Control!P22,\"\")","v":""},null,null,null,null,null,"",{"$f":"IF(N34<>\"\",VLOOKUP(ABS(N34),Stats!$J$37:$K$42,2),\"\")","v":""},"","",""]
[null,15,{"$f":"IF(Control!H23<>\"\",Control!H23,\"\")","v":""},{"$f":"IF(Control!I23<>\"\",Control!I23,\"\")","v":""},{"$f":"Control!J23","v":""},{"$f":"Control!K23","v":""},{"$f":"IF(Control!Q23<>\"\",Control!Q23,\"\")","v":""},{"$f":"IF(Control!P23<>\"\",Control!P23,\"\")","v":""},null,null,null,null,null,"",{"$f":"IF(N35<>\"\",VLOOKUP(ABS(N35),Stats!$J$37:$K$42,2),\"\")","v":""},"","",""]
[null,16,{"$f":"IF(Control!H24<>\"\",Control!H24,\"\")","v":""},{"$f":"IF(Control!I24<>\"\",Control!I24,\"\")","v":""},{"$f":"Control!J24","v":""},{"$f":"Control!K24","v":""},{"$f":"IF(Control!Q24<>\"\",Control!Q24,\"\")","v":""},{"$f":"IF(Control!P24<>\"\",Control!P24,\"\")","v":""},null,null,null,null,null,"",{"$f":"IF(N36<>\"\",VLOOKUP(ABS(N36),Stats!$J$37:$K$42,2),\"\")","v":""},"","",""]
[null,17,{"$f":"IF(Control!H25<>\"\",Control!H25,\"\")","v":""},{"$f":"IF(Control!I25<>\"\",Control!I25,\"\")","v":""},{"$f":"Control!J25","v":""},{"$f":"Control!K25","v":""},{"$f":"IF(Control!Q25<>\"\",Control!Q25,\"\")","v":""},{"$f":"IF(Control!P25<>\"\",Control!P25,\"\")","v":""},null,null,null,null,null,"",{"$f":"IF(N37<>\"\",VLOOKUP(ABS(N37),Stats!$J$37:$K$42,2),\"\")","v":""},"","",""]
[null,18,{"$f":"IF(Control!H26<>\"\",Control!H26,\"\")","v":""},{"$f":"IF(Control!I26<>\"\",Control!I26,\"\")","v":""},{"$f":"Control!J26","v":""},{"$f":"Control!K26","v":""},{"$f":"IF(Control!Q26<>\"\",Control!Q26,\"\")","v":""},{"$f":"IF(Control!P26<>\"\",Control!P26,\"\")","v":""},null,null,null,null,null,"",{"$f":"IF(N38<>\"\",VLOOKUP(ABS(N38),Stats!$J$37:$K$42,2),\"\")","v":""},"","",""]
[null,19,{"$f":"IF(Control!H27<>\"\",Control!H27,\"\")","v":""},{"$f":"IF(Control!I27<>\"\",Control!I27,\"\")","v":""},{"$f":"Control!J27","v":""},{"$f":"Control!K27","v":""},{"$f":"IF(Control!Q27<>\"\",Control!Q27,\"\")","v":""},{"$f":"IF(Control!P27<>\"\",Control!P27,\"\")","v":""},null,null,null,null,null,"",{"$f":"IF(N39<>\"\",VLOOKUP(ABS(N39),Stats!$J$37:$K$42,2),\"\")","v":""},"","",""]
[null,20,{"$f":"IF(Control!H28<>\"\",Control!H28,\"\")","v":""},{"$f":"IF(Control!I28<>\"\",Control!I28,\"\")","v":""},{"$f":"Control!J28","v":""},{"$f":"Control!K28","v":""},{"$f":"IF(Control!Q28<>\"\",Control!Q28,\"\")","v":""},{"$f":"IF(Control!P28<>\"\",Control!P28,\"\")","v":""},null,null,null,null,null,"",{"$f":"IF(N40<>\"\",VLOOKUP(ABS(N40),Stats!$J$37:$K$42,2),\"\")","v":""},"","",""]
[null,21,{"$f":"IF(Control!H29<>\"\",Control!H29,\"\")","v":""},{"$f":"IF(Control!I29<>\"\",Control!I29,\"\")","v":""},{"$f":"Control!J29","v":""},{"$f":"Control!K29","v":""},{"$f":"IF(Control!Q29<>\"\",Control!Q29,\"\")","v":""},{"$f":"IF(Control!P29<>\"\",Control!P29,\"\")","v":""},null,null,null,null,null,"",{"$f":"IF(N41<>\"\",VLOOKUP(ABS(N41),Stats!$J$37:$K$42,2),\"\")","v":""},"","",""]
[null,22,{"$f":"IF(Control!H30<>\"\",Control!H30,\"\")","v":""},{"$f":"IF(Control!I30<>\"\",Control!I30,\"\")","v":""},{"$f":"Control!J30","v":""},{"$f":"Control!K30","v":""},{"$f":"IF(Control!Q30<>\"\",Control!Q30,\"\")","v":""},{"$f":"IF(Control!P30<>\"\",Control!P30,\"\")","v":""},null,null,null,null,null,"",{"$f":"IF(N42<>\"\",VLOOKUP(ABS(N42),Stats!$J$37:$K$42,2),\"\")","v":""},"","",""]
[null,23,{"$f":"IF(Control!H31<>\"\",Control!H31,\"\")","v":""},{"$f":"IF(Control!I31<>\"\",Control!I31,\"\")","v":""},{"$f":"Control!J31","v":""},{"$f":"Control!K31","v":""},{"$f":"IF(Control!Q31<>\"\",Control!Q31,\"\")","v":""},{"$f":"IF(Control!P31<>\"\",Control!P31,\"\")","v":""},null,null,null,null,null,"",{"$f":"IF(N43<>\"\",VLOOKUP(ABS(N43),Stats!$J$37:$K$42,2),\"\")","v":""},"","",""]
[null,24,{"$f":"IF(Control!H32<>\"\",Control!H32,\"\")","v":""},{"$f":"IF(Control!I32<>\"\",Control!I32,\"\")","v":""},{"$f":"Control!J32","v":""},{"$f":"Control!K32","v":""},{"$f":"IF(Control!Q32<>\"\",Control!Q32,\"\")","v":""},{"$f":"IF(Control!P32<>\"\",Control!P32,\"\")","v":""},null,null,null,null,null,"",{"$f":"IF(N44<>\"\",VLOOKUP(ABS(N44),Stats!$J$37:$K$42,2),\"\")","v":""},"","",""]
[null,25,{"$f":"IF(Control!H33<>\"\",Control!H33,\"\")","v":""},{"$f":"IF(Control!I33<>\"\",Control!I33,\"\")","v":""},{"$f":"Control!J33","v":""},{"$f":"Control!K33","v":""},{"$f":"IF(Control!Q33<>\"\",Control!Q33,\"\")","v":""},{"$f":"IF(Control!P33<>\"\",Control!P33,\"\")","v":""},null,null,null,null,null,"",{"$f":"IF(N45<>\"\",VLOOKUP(ABS(N45),Stats!$J$37:$K$42,2),\"\")","v":""},"","",""]
[null,26,{"$f":"IF(Control!H34<>\"\",Control!H34,\"\")","v":""},{"$f":"IF(Control!I34<>\"\",Control!I34,\"\")","v":""},{"$f":"Control!J34","v":""},{"$f":"Control!K34","v":""},{"$f":"IF(Control!Q34<>\"\",Control!Q34,\"\")","v":""},{"$f":"IF(Control!P34<>\"\",Control!P34,\"\")","v":""},null,null,null,null,null,"",{"$f":"IF(N46<>\"\",VLOOKUP(ABS(N46),Stats!$J$37:$K$42,2),\"\")","v":""},"","",""]
[null,27,{"$f":"IF(Control!H35<>\"\",Control!H35,\"\")","v":""},{"$f":"IF(Control!I35<>\"\",Control!I35,\"\")","v":""},{"$f":"Control!J35","v":""},{"$f":"Control!K35","v":""},{"$f":"IF(Control!Q35<>\"\",Control!Q35,\"\")","v":""},{"$f":"IF(Control!P35<>\"\",Control!P35,\"\")","v":""},null,null,null,null,null,"",{"$f":"IF(N47<>\"\",VLOOKUP(ABS(N47),Stats!$J$37:$K$42,2),\"\")","v":""},"","",""]
[null,28,{"$f":"IF(Control!H36<>\"\",Control!H36,\"\")","v":""},{"$f":"IF(Control!I36<>\"\",Control!I36,\"\")","v":""},{"$f":"Control!J36","v":""},{"$f":"Control!K36","v":""},{"$f":"IF(Control!Q36<>\"\",Control!Q36,\"\")","v":""},{"$f":"IF(Control!P36<>\"\",Control!P36,\"\")","v":""},null,null,null,null,null,"",{"$f":"IF(N48<>\"\",VLOOKUP(ABS(N48),Stats!$J$37:$K$42,2),\"\")","v":""},"","",""]
[null,29,{"$f":"IF(Control!H37<>\"\",Control!H37,\"\")","v":""},{"$f":"IF(Control!I37<>\"\",Control!I37,\"\")","v":""},{"$f":"Control!J37","v":""},{"$f":"Control!K37","v":""},{"$f":"IF(Control!Q37<>\"\",Control!Q37,\"\")","v":""},{"$f":"IF(Control!P37<>\"\",Control!P37,\"\")","v":""},null,null,null,null,null,"",{"$f":"IF(N49<>\"\",VLOOKUP(ABS(N49),Stats!$J$37:$K$42,2),\"\")","v":""},"","",""]
[null,30,{"$f":"IF(Control!H38<>\"\",Control!H38,\"\")","v":""},{"$f":"IF(Control!I38<>\"\",Control!I38,\"\")","v":""},{"$f":"Control!J38","v":""},{"$f":"Control!K38","v":""},{"$f":"IF(Control!Q38<>\"\",Control!Q38,\"\")","v":""},{"$f":"IF(Control!P38<>\"\",Control!P38,\"\")","v":""},null,null,null,null,null,"",{"$f":"IF(N50<>\"\",VLOOKUP(ABS(N50),Stats!$J$37:$K$42,2),\"\")","v":""},"","",""]
[null,31,{"$f":"IF(Control!H39<>\"\",Control!H39,\"\")","v":""},{"$f":"IF(Control!I39<>\"\",Control!I39,\"\")","v":""},{"$f":"Control!J39","v":""},{"$f":"Control!K39","v":""},{"$f":"IF(Control!Q39<>\"\",Control!Q39,\"\")","v":""},{"$f":"IF(Control!P39<>\"\",Control!P39,\"\")","v":""},null,null,null,null,null,"",{"$f":"IF(N51<>\"\",VLOOKUP(ABS(N51),Stats!$J$37:$K$42,2),\"\")","v":""},"","",""]
[null,32,{"$f":"IF(Control!H40<>\"\",Control!H40,\"\")","v":""},{"$f":"IF(Control!I40<>\"\",Control!I40,\"\")","v":""},{"$f":"Control!J40","v":""},{"$f":"Control!K40","v":""},{"$f":"IF(Control!Q40<>\"\",Control!Q40,\"\")","v":""},{"$f":"IF(Control!P40<>\"\",Control!P40,\"\")","v":""},null,null,null,null,null,"",{"$f":"IF(N52<>\"\",VLOOKUP(ABS(N52),Stats!$J$37:$K$42,2),\"\")","v":""},"","",""]
[null,33,{"$f":"IF(Control!H41<>\"\",Control!H41,\"\")","v":""},{"$f":"IF(Control!I41<>\"\",Control!I41,\"\")","v":""},{"$f":"Control!J41","v":""},{"$f":"Control!K41","v":""},{"$f":"IF(Control!Q41<>\"\",Control!Q41,\"\")","v":""},{"$f":"IF(Control!P41<>\"\",Control!P41,\"\")","v":""},null,null,null,null,null,"",{"$f":"IF(N53<>\"\",VLOOKUP(ABS(N53),Stats!$J$37:$K$42,2),\"\")","v":""},"","",""]
[null,34,{"$f":"IF(Control!H42<>\"\",Control!H42,\"\")","v":""},{"$f":"IF(Control!I42<>\"\",Control!I42,\"\")","v":""},{"$f":"Control!J42","v":""},{"$f":"Control!K42","v":""},{"$f":"IF(Control!Q42<>\"\",Control!Q42,\"\")","v":""},{"$f":"IF(Control!P42<>\"\",Control!P42,\"\")","v":""},null,null,null,null,null,"",{"$f":"IF(N54<>\"\",VLOOKUP(ABS(N54),Stats!$J$37:$K$42,2),\"\")","v":""},"","",""]
[null,35,{"$f":"IF(Control!H43<>\"\",Control!H43,\"\")","v":""},{"$f":"IF(Control!I43<>\"\",Control!I43,\"\")","v":""},{"$f":"Control!J43","v":""},{"$f":"Control!K43","v":""},{"$f":"IF(Control!Q43<>\"\",Control!Q43,\"\")","v":""},{"$f":"IF(Control!P43<>\"\",Control!P43,\"\")","v":""},null,null,null,null,null,"",{"$f":"IF(N55<>\"\",VLOOKUP(ABS(N55),Stats!$J$37:$K$42,2),\"\")","v":""},"","",""]
[null,36,{"$f":"IF(Control!H44<>\"\",Control!H44,\"\")","v":""},{"$f":"IF(Control!I44<>\"\",Control!I44,\"\")","v":""},{"$f":"Control!J44","v":""},{"$f":"Control!K44","v":""},{"$f":"IF(Control!Q44<>\"\",Control!Q44,\"\")","v":""},{"$f":"IF(Control!P44<>\"\",Control!P44,\"\")","v":""},null,null,null,null,null,"",{"$f":"IF(N56<>\"\",VLOOKUP(ABS(N56),Stats!$J$37:$K$42,2),\"\")","v":""},"","",""]
[null,37,{"$f":"IF(Control!H45<>\"\",Control!H45,\"\")","v":""},{"$f":"IF(Control!I45<>\"\",Control!I45,\"\")","v":""},{"$f":"Control!J45","v":""},{"$f":"Control!K45","v":""},{"$f":"IF(Control!Q45<>\"\",Control!Q45,\"\")","v":""},{"$f":"IF(Control!P45<>\"\",Control!P45,\"\")","v":""},null,null,null,null,null,"",{"$f":"IF(N57<>\"\",VLOOKUP(ABS(N57),Stats!$J$37:$K$42,2),\"\")","v":""},"","",""]
[null,38,{"$f":"IF(Control!H46<>\"\",Control!H46,\"\")","v":""},{"$f":"IF(Control!I46<>\"\",Control!I46,\"\")","v":""},{"$f":"Control!J46","v":""},{"$f":"Control!K46","v":""},{"$f":"IF(Control!Q46<>\"\",Control!Q46,\"\")","v":""},{"$f":"IF(Control!P46<>\"\",Control!P46,\"\")","v":""},null,null,null,null,null,"",{"$f":"IF(N58<>\"\",VLOOKUP(ABS(N58),Stats!$J$37:$K$42,2),\"\")","v":""},"","",""]
[null,39,{"$f":"IF(Control!H47<>\"\",Control!H47,\"\")","v":""},{"$f":"IF(Control!I47<>\"\",Control!I47,\"\")","v":""},{"$f":"Control!J47","v":""},{"$f":"Control!K47","v":""},{"$f":"IF(Control!Q47<>\"\",Control!Q47,\"\")","v":""},{"$f":"IF(Control!P47<>\"\",Control!P47,\"\")","v":""},null,null,null,null,null,"",{"$f":"IF(N59<>\"\",VLOOKUP(ABS(N59),Stats!$J$37:$K$42,2),\"\")","v":""},"","",""]
[null,40,{"$f":"IF(Control!H48<>\"\",Control!H48,\"\")","v":""},{"$f":"IF(Control!I48<>\"\",Control!I48,\"\")","v":""},{"$f":"Control!J48","v":""},{"$f":"Control!K48","v":""},{"$f":"IF(Control!Q48<>\"\",Control!Q48,\"\")","v":""},{"$f":"IF(Control!P48<>\"\",Control!P48,\"\")","v":""},null,null,null,null,null,"",{"$f":"IF(N60<>\"\",VLOOKUP(ABS(N60),Stats!$J$37:$K$42,2),\"\")","v":""},"","",""]
[null,41,{"$f":"IF(Control!H49<>\"\",Control!H49,\"\")","v":""},{"$f":"IF(Control!I49<>\"\",Control!I49,\"\")","v":""},{"$f":"Control!J49","v":""},{"$f":"Control!K49","v":""},{"$f":"IF(Control!Q49<>\"\",Control!Q49,\"\")","v":""},{"$f":"IF(Control!P49<>\"\",Control!P49,\"\")","v":""},null,null,null,null,null,"",{"$f":"IF(N61<>\"\",VLOOKUP(ABS(N61),Stats!$J$37:$K$42,2),\"\")","v":""},"","",""]
[null,42,{"$f":"IF(Control!H50<>\"\",Control!H50,\"\")","v":""},{"$f":"IF(Control!I50<>\"\",Control!I50,\"\")","v":""},{"$f":"Control!J50","v":""},{"$f":"Control!K50","v":""},{"$f":"IF(Control!Q50<>\"\",Control!Q50,\"\")","v":""},{"$f":"IF(Control!P50<>\"\",Control!P50,\"\")","v":""},null,null,null,null,null,"",{"$f":"IF(N62<>\"\",VLOOKUP(ABS(N62),Stats!$J$37:$K$42,2),\"\")","v":""},"","",""]
[null,43,{"$f":"IF(Control!H51<>\"\",Control!H51,\"\")","v":""},{"$f":"IF(Control!I51<>\"\",Control!I51,\"\")","v":""},{"$f":"Control!J51","v":""},{"$f":"Control!K51","v":""},{"$f":"IF(Control!Q51<>\"\",Control!Q51,\"\")","v":""},{"$f":"IF(Control!P51<>\"\",Control!P51,\"\")","v":""},null,null,null,null,null,"",{"$f":"IF(N63<>\"\",VLOOKUP(ABS(N63),Stats!$J$37:$K$42,2),\"\")","v":""},"","",""]
[null,44,{"$f":"IF(Control!H52<>\"\",Control!H52,\"\")","v":""},{"$f":"IF(Control!I52<>\"\",Control!I52,\"\")","v":""},{"$f":"Control!J52","v":""},{"$f":"Control!K52","v":""},{"$f":"IF(Control!Q52<>\"\",Control!Q52,\"\")","v":""},{"$f":"IF(Control!P52<>\"\",Control!P52,\"\")","v":""},null,null,null,null,null,"",{"$f":"IF(N64<>\"\",VLOOKUP(ABS(N64),Stats!$J$37:$K$42,2),\"\")","v":""},"","",""]
[null,45,{"$f":"IF(Control!H53<>\"\",Control!H53,\"\")","v":""},{"$f":"IF(Control!I53<>\"\",Control!I53,\"\")","v":""},{"$f":"Control!J53","v":""},{"$f":"Control!K53","v":""},{"$f":"IF(Control!Q53<>\"\",Control!Q53,\"\")","v":""},{"$f":"IF(Control!P53<>\"\",Control!P53,\"\")","v":""},null,null,null,null,null,"",{"$f":"IF(N65<>\"\",VLOOKUP(ABS(N65),Stats!$J$37:$K$42,2),\"\")","v":""},"","",""]
[null,46,{"$f":"IF(Control!H54<>\"\",Control!H54,\"\")","v":""},{"$f":"IF(Control!I54<>\"\",Control!I54,\"\")","v":""},{"$f":"Control!J54","v":""},{"$f":"Control!K54","v":""},{"$f":"IF(Control!Q54<>\"\",Control!Q54,\"\")","v":""},{"$f":"IF(Control!P54<>\"\",Control!P54,\"\")","v":""},null,null,null,null,null,"",{"$f":"IF(N66<>\"\",VLOOKUP(ABS(N66),Stats!$J$37:$K$42,2),\"\")","v":""},"","",""]
[null,47,{"$f":"IF(Control!H55<>\"\",Control!H55,\"\")","v":""},{"$f":"IF(Control!I55<>\"\",Control!I55,\"\")","v":""},{"$f":"Control!J55","v":""},{"$f":"Control!K55","v":""},{"$f":"IF(Control!Q55<>\"\",Control!Q55,\"\")","v":""},{"$f":"IF(Control!P55<>\"\",Control!P55,\"\")","v":""},null,null,null,null,null,"",{"$f":"IF(N67<>\"\",VLOOKUP(ABS(N67),Stats!$J$37:$K$42,2),\"\")","v":""},"","",""]
[null,48,{"$f":"IF(Control!H56<>\"\",Control!H56,\"\")","v":""},{"$f":"IF(Control!I56<>\"\",Control!I56,\"\")","v":""},{"$f":"Control!J56","v":""},{"$f":"Control!K56","v":""},{"$f":"IF(Control!Q56<>\"\",Control!Q56,\"\")","v":""},{"$f":"IF(Control!P56<>\"\",Control!P56,\"\")","v":""},null,null,null,null,null,"",{"$f":"IF(N68<>\"\",VLOOKUP(ABS(N68),Stats!$J$37:$K$42,2),\"\")","v":""},"","",""]
[null,49,{"$f":"IF(Control!H57<>\"\",Control!H57,\"\")","v":""},{"$f":"IF(Control!I57<>\"\",Control!I57,\"\")","v":""},{"$f":"Control!J57","v":""},{"$f":"Control!K57","v":""},{"$f":"IF(Control!Q57<>\"\",Control!Q57,\"\")","v":""},{"$f":"IF(Control!P57<>\"\",Control!P57,\"\")","v":""},null,null,null,null,null,"",{"$f":"IF(N69<>\"\",VLOOKUP(ABS(N69),Stats!$J$37:$K$42,2),\"\")","v":""},"","",""]
[null,50,{"$f":"IF(Control!H58<>\"\",Control!H58,\"\")","v":""},{"$f":"IF(Control!I58<>\"\",Control!I58,\"\")","v":""},{"$f":"Control!J58","v":""},{"$f":"Control!K58","v":""},{"$f":"IF(Control!Q58<>\"\",Control!Q58,\"\")","v":""},{"$f":"IF(Control!P58<>\"\",Control!P58,\"\")","v":""},null,null,null,null,null,"",{"$f":"IF(N70<>\"\",VLOOKUP(ABS(N70),Stats!$J$37:$K$42,2),\"\")","v":""},"","",""]
[null,null,null,null,null,null,"Counts",null,null,"Area (counts)","%RSD",null,"Count",null,null,"RMS Cent Diff keV","RMS FWHM","Area  Ratio"]
[null,null,null,null,null,"Mean:",{"$f":"IF($M$72>0,AVERAGE(G21:G70),\"\")","v":""},null,null,{"$f":"IF($M$72>0,AVERAGE(J21:J70),\"\")","v":""},{"$f":"IF($M$72>0,AVERAGE(K21:K70),\"\")","v":""},null,{"$f":"COUNT(L21:L70)","v":0},null,"RMS Deviations:",{"$f":"IF($M$72>0,SQRT(SUMSQ(P21:P70)/P73),\"\")","v":""},{"$f":"IF(Q73<>0,SQRT(SUMSQ(Q21:Q70)/Q73),\"\")","v":""},{"$f":"IF($M$72>0,SQRT(AVERAGE(R21:R70)),\"\")","v":""}]
[null,null,null,null,null,"Stdev:",{"$f":"IF($M$72>0,STDEV(G21:G70),\"\")","v":""},null,null,{"$f":"IF($M$72>0,STDEV(J21:J70),\"\")","v":""},{"$f":"IF($M$72>0,STDEV(K21:K70),\"\")","v":""},null,null,null,"Number Items:",{"$f":"COUNT(L21:L70)","v":0},{"$f":"COUNT(M21:M70)","v":0},{"$f":"COUNT(N21:N70)","v":0}]
[null,null,null,null,null,"%RSD:",{"$f":"IF($M$72>0,G73/G72,\"\")","v":""},null,null,{"$f":"IF($M$72>0,J73/J72,\"\")","v":""},{"$f":"IF($M$72>0,K73/K72,\"\")","v":""}]

{"sheet":"Stats","index":4,"n_rows":57,"n_cols":22,"rows_kept":57,"cut":false,"hidden":false,"merged":[]}
["Assessment of Variable Items"]
[null,null,null,null,null,null,null,null,null,null,{"$f":"Assessment!J2","v":0}]
[null,"Averages:",{"$f":"AVERAGE(C8:C57)","v":{"$error":"#DIV/0!"}},{"$f":"AVERAGE(D8:D57)","v":{"$error":"#DIV/0!"}},{"$f":"AVERAGE(E8:E57)","v":{"$error":"#DIV/0!"}},null,{"$f":"AVERAGE(G8:G57)","v":{"$error":"#DIV/0!"}},null,null,null,{"$f":"Assessment!J3","v":0},null,null,null,null,null,null,null,null,null,-3.5,0]
[null,"St. Unc:",{"$f":"STDEV(C8:C57)","v":{"$error":"#DIV/0!"}},{"$f":"STDEV(D8:D57)","v":{"$error":"#DIV/0!"}},{"$f":"STDEV(E8:E57)","v":{"$error":"#DIV/0!"}},{"$f":"COUNT(F8:F57)","v":0},null," ",null,"Bin","Found","Bin*Found","Fraction","Theoretical",null,null,null,null,null,null,-3.5,5.977006485076819E-3]
[null,"RSD%",{"$f":"C4/C3","v":{"$error":"#DIV/0!"}},{"$f":"D4/D3","v":{"$error":"#DIV/0!"}},{"$f":"E4/E3","v":{"$error":"#DIV/0!"}},"Peaks",null,null,null,null,null,null,null,null,null,null,null,null,null,null,-2.5,5.977006485076819E-3]
[null,null,null,null,null,null,null,null,{"$f":"I7-$E$4","v":{"$error":"#DIV/0!"}},-4,{"$f":"FREQUENCY(E8:E56,I6:I15)","v":0},{"$f":"K6*J6","v":0},{"$f":"K6/$K$17","v":{"$error":"#N/A"}},2.2927257060689765E-4,null,null,null,null,null,null,-2.5,0]
["Item","Expected","Measured","%RSD","Ratio","Diff","Z-score",null,{"$f":"I8-$E$4","v":{"$error":"#DIV/0!"}},-3,0,0,{"$f":"K7/$K$17","v":{"$error":"#N/A"}},5.977006485076819E-3,null,null,null,null,null,null,-2.5,6.0597548934704926E-2]
[{"$f":"IF(B8<>\"\",1,\"\")","v":""},{"$f":"Assessment!G21","v":""},{"$f":"IF(Assessment!J21<>\"\",Assessment!J21,\"\")","v":""},{"$f":"IF(C8<>\"\",Assessment!K21,\"\")","v":""},{"$f":"IF(C8<>\"\",C8/B8,\"\")","v":""},{"$f":"IF(C8<>\"\",C8-B8,\"\")","v":""},{"$f":"IF(C8<>\"\",(C8-B8)/(C8*D8),\"\")","v":""},null,{"$f":"I9-$E$4","v":{"$error":"#DIV/0!"}},-2,{"$error":"#N/A"},{"$error":"#N/A"},{"$error":"#N/A"},6.0597548934704926E-2,null,null,null,null,null,null,-1.5,6.0597548934704926E-2]
[{"$f":"IF(B9<>\"\",A8+1,\"\")","v":""},{"$f":"Assessment!G22","v":""},{"$f":"IF(Assessment!J22<>\"\",Assessment!J22,\"\")","v":""},{"$f":"IF(C9<>\"\",Assessment!K22,\"\")","v":""},{"$f":"IF(C9<>\"\",C9/B9,\"\")","v":""},{"$f":"IF(C9<>\"\",C9-B9,\"\")","v":""},{"$f":"IF(C9<>\"\",(C9-B9)/(C9*D9),\"\")","v":""},null,{"$f":"1-E4/2","v":{"$error":"#DIV/0!"}},-1,{"$error":"#N/A"},{"$error":"#N/A"},{"$f":"K9/$K$17","v":{"$error":"#N/A"}},0.24173030384225858,null,null,null,null,null,null,-1.5,0]
["",{"$f":"Assessment!G23","v":""},{"$f":"IF(Assessment!J23<>\"\",Assessment!J23,\"\")","v":""},{"$f":"IF(C10<>\"\",Assessment!K23,\"\")","v":""},"","","",null,{"$f":"1+E4/2","v":{"$error":"#DIV/0!"}},0,{"$error":"#N/A"},{"$error":"#N/A"},{"$error":"#N/A"},0.38292493472858191,null,null,null,null,null,null,-1.5,0.24173030384225858]
["",{"$f":"Assessment!G24","v":""},{"$f":"IF(Assessment!J24<>\"\",Assessment!J24,\"\")","v":""},{"$f":"IF(C11<>\"\",Assessment!K24,\"\")","v":""},"","","",null,{"$f":"I10+$E$4","v":{"$error":"#DIV/0!"}},1,{"$error":"#N/A"},{"$error":"#N/A"},{"$error":"#N/A"},0.24173030384225835,null,null,null,null,null,null,-0.5,0.24173030384225858]
["",{"$f":"Assessment!G25","v":""},{"$f":"IF(Assessment!J25<>\"\",Assessment!J25,\"\")","v":""},{"$f":"IF(C12<>\"\",Assessment!K25,\"\")","v":""},"","","",null,{"$f":"I11+$E$4","v":{"$error":"#DIV/0!"}},2,{"$error":"#N/A"},{"$error":"#N/A"},{"$error":"#N/A"},6.0597548934704926E-2,null,null,null,null,null,null,-0.5,0]
["",{"$f":"Assessment!G26","v":""},{"$f":"IF(Assessment!J26<>\"\",Assessment!J26,\"\")","v":""},{"$f":"IF(C13<>\"\",Assessment!K26,\"\")","v":""},"","","",null,{"$f":"I12+$E$4","v":{"$error":"#DIV/0!"}},3,{"$error":"#N/A"},{"$error":"#N/A"},{"$error":"#N/A"},5.977006485076819E-3,null,null,null,null,null,null,-0.5,0.38292493472858191]
["",{"$f":"Assessment!G27","v":""},{"$f":"IF(Assessment!J27<>\"\",Assessment!J27,\"\")","v":""},{"$f":"IF(C14<>\"\",Assessment!K27,\"\")","v":""},"","","",null,{"$f":"I13+$E$4","v":{"$error":"#DIV/0!"}},4,{"$error":"#N/A"},{"$error":"#N/A"},{"$error":"#N/A"},2.2927257060689765E-4,null,null,null,null,null,null,0.5,0.38292493472858191]
["",{"$f":"Assessment!G28","v":""},{"$f":"IF(Assessment!J28<>\"\",Assessment!J28,\"\")","v":""},{"$f":"IF(C15<>\"\",Assessment!K28,\"\")","v":""},"","","",null,{"$f":"I14+$E$4","v":{"$error":"#DIV/0!"}},null,{"$error":"#N/A"},null,null,null,null,null,null,null,null,null,0.5,0]
["",{"$f":"Assessment!G29","v":""},{"$f":"IF(Assessment!J29<>\"\",Assessment!J29,\"\")","v":""},{"$f":"IF(C16<>\"\",Assessment!K29,\"\")","v":""},"","","",null,null,null,null,null,null,null,null,null,null,null,null,null,0.5,0.24173030384225835]
["",{"$f":"Assessment!G30","v":""},{"$f":"IF(Assessment!J30<>\"\",Assessment!J30,\"\")","v":""},{"$f":"IF(C17<>\"\",Assessment!K30,\"\")","v":""},"","","",null,null,"Sums:",{"$f":"SUM(K6:K15)","v":{"$error":"#N/A"}},{"$f":"SUM(L6:L15)/K17","v":{"$error":"#N/A"}},{"$f":"SUM(M6:M15)","v":{"$error":"#N/A"}},null,null,null,null,null,null,null,1.5,0.24173030384225835]
["",{"$f":"Assessment!G31","v":""},{"$f":"IF(Assessment!J31<>\"\",Assessment!J31,\"\")","v":""},{"$f":"IF(C18<>\"\",Assessment!K31,\"\")","v":""},"","","",null,null,null,null,null,null,null,null,null,null,null,null,null,1.5,0]
["",{"$f":"Assessment!G32","v":""},{"$f":"IF(Assessment!J32<>\"\",Assessment!J32,\"\")","v":""},{"$f":"IF(C19<>\"\",Assessment!K32,\"\")","v":""},"","","",null,null,null,null,null,null,null,null,null,null,null,null,null,1.5,6.0597548934704926E-2]
["",{"$f":"Assessment!G33","v":""},{"$f":"IF(Assessment!J33<>\"\",Assessment!J33,\"\")","v":""},{"$f":"IF(C20<>\"\",Assessment!K33,\"\")","v":""},"","","",null,null,null,"Mean Count  Ratio",{"$f":"AVERAGE(E8:E57)","v":{"$error":"#DIV/0!"}},{"$f":"CONCATENATE(\"Mean Count Ratio:    \",ROUND(L20,3),\" (\",TEXT(L23,\"0.0%\"),\")\")","v":{"$error":"#DIV/0!"}},null,null,null,null,null,null,null,2.5,6.0597548934704926E-2]
["",{"$f":"Assessment!G34","v":""},{"$f":"IF(Assessment!J34<>\"\",Assessment!J34,\"\")","v":""},{"$f":"IF(C21<>\"\",Assessment!K34,\"\")","v":""},"","","",null,null,null,"Uncertainty of Ratio",{"$f":"STDEV(E8:E57)","v":{"$error":"#DIV/0!"}},null,null,null,null,null,null,null,null,2.5,0]
["",{"$f":"Assessment!G35","v":""},{"$f":"IF(Assessment!J35<>\"\",Assessment!J35,\"\")","v":""},{"$f":"IF(C22<>\"\",Assessment!K35,\"\")","v":""},{"$f":"IF(C22<>\"\",C22/B22,\"\")","v":""},{"$f":"IF(C22<>\"\",C22-B22,\"\")","v":""},"",null,null,null,"Significance",{"$f":"(L20-1)/L21","v":{"$error":"#DIV/0!"}},{"$f":"VLOOKUP(ABS(L22),Stats!$J$37:$K$42,2)","v":{"$error":"#DIV/0!"}},null,null,null,null,null,null,null,2.5,5.977006485076819E-3]
["",{"$f":"Assessment!G36","v":""},{"$f":"IF(Assessment!J36<>\"\",Assessment!J36,\"\")","v":""},{"$f":"IF(C23<>\"\",Assessment!K36,\"\")","v":""},"","","",null,null,null,"%RSD of Ratio",{"$f":"L21/L20","v":{"$error":"#DIV/0!"}},null,null,null,null,null,null,null,null,3.5,5.977006485076819E-3]
["",{"$f":"Assessment!G37","v":""},{"$f":"IF(Assessment!J37<>\"\",Assessment!J37,\"\")","v":""},{"$f":"IF(C24<>\"\",Assessment!K37,\"\")","v":""},"","","",null,null,null,null,null,null,null,null,null,null,null,null,null,3.5,0]
["",{"$f":"Assessment!G38","v":""},{"$f":"IF(Assessment!J38<>\"\",Assessment!J38,\"\")","v":""},{"$f":"IF(C25<>\"\",Assessment!K38,\"\")","v":""},"","","",null,null,null,"Centroid of Distribution",{"$f":"L17","v":{"$error":"#N/A"}}]
["",{"$f":"Assessment!G39","v":""},{"$f":"IF(Assessment!J39<>\"\",Assessment!J39,\"\")","v":""},{"$f":"IF(C26<>\"\",Assessment!K39,\"\")","v":""},"","","",null,null,null,"Significance",{"$f":"(L20-1)/L21","v":{"$error":"#DIV/0!"}}]
["",{"$f":"Assessment!G40","v":""},{"$f":"IF(Assessment!J40<>\"\",Assessment!J40,\"\")","v":""},{"$f":"IF(C27<>\"\",Assessment!K40,\"\")","v":""},"","","",null,null,null,"Number of Peaks",{"$f":"COUNT(F8:F57)","v":0}]
["",{"$f":"Assessment!G41","v":""},{"$f":"IF(Assessment!J41<>\"\",Assessment!J41,\"\")","v":""},{"$f":"IF(C28<>\"\",Assessment!K41,\"\")","v":""},"","","",null,null,null,"Mean z-score",{"$f":"AVERAGE(G8:G57)","v":{"$error":"#DIV/0!"}}]
["",{"$f":"Assessment!G42","v":""},{"$f":"IF(Assessment!J42<>\"\",Assessment!J42,\"\")","v":""},{"$f":"IF(C29<>\"\",Assessment!K42,\"\")","v":""},"","",""]
["",{"$f":"Assessment!G43","v":""},{"$f":"IF(Assessment!J43<>\"\",Assessment!J43,\"\")","v":""},{"$f":"IF(C30<>\"\",Assessment!K43,\"\")","v":""},"","",""]
["",{"$f":"Assessment!G44","v":""},{"$f":"IF(Assessment!J44<>\"\",Assessment!J44,\"\")","v":""},{"$f":"IF(C31<>\"\",Assessment!K44,\"\")","v":""},"","","",null,null,"Plot Limits"]
["",{"$f":"Assessment!G45","v":""},{"$f":"IF(Assessment!J45<>\"\",Assessment!J45,\"\")","v":""},{"$f":"IF(C32<>\"\",Assessment!K45,\"\")","v":""},"","","",null,null,0,0]
["",{"$f":"Assessment!G46","v":""},{"$f":"IF(Assessment!J46<>\"\",Assessment!J46,\"\")","v":""},{"$f":"IF(C33<>\"\",Assessment!K46,\"\")","v":""},"","","",null,null,0,25]
["",{"$f":"Assessment!G47","v":""},{"$f":"IF(Assessment!J47<>\"\",Assessment!J47,\"\")","v":""},{"$f":"IF(C34<>\"\",Assessment!K47,\"\")","v":""},"","","",null,null,{"$f":"L25","v":{"$error":"#N/A"}},0]
["",{"$f":"Assessment!G48","v":""},{"$f":"IF(Assessment!J48<>\"\",Assessment!J48,\"\")","v":""},{"$f":"IF(C35<>\"\",Assessment!K48,\"\")","v":""},"","","",null,null,{"$f":"J34","v":{"$error":"#N/A"}},25]
["",{"$f":"Assessment!G49","v":""},{"$f":"IF(Assessment!J49<>\"\",Assessment!J49,\"\")","v":""},{"$f":"IF(C36<>\"\",Assessment!K49,\"\")","v":""},"","",""]
["",{"$f":"Assessment!G50","v":""},{"$f":"IF(Assessment!J50<>\"\",Assessment!J50,\"\")","v":""},{"$f":"IF(C37<>\"\",Assessment!K50,\"\")","v":""},"","","",null,null,0," "]
["",{"$f":"Assessment!G51","v":""},{"$f":"IF(Assessment!J51<>\"\",Assessment!J51,\"\")","v":""},{"$f":"IF(C38<>\"\",Assessment!K51,\"\")","v":""},"","","",null,null,1,"May be significant at 84%"]
["",{"$f":"Assessment!G52","v":""},{"$f":"IF(Assessment!J52<>\"\",Assessment!J52,\"\")","v":""},{"$f":"IF(C39<>\"\",Assessment!K52,\"\")","v":""},"","","",null,null,1.282,"Significant at 90%"]
["",{"$f":"Assessment!G53","v":""},{"$f":"IF(Assessment!J53<>\"\",Assessment!J53,\"\")","v":""},{"$f":"IF(C40<>\"\",Assessment!K53,\"\")","v":""},"","","",null,null,1.645,"Significant at 95%"]
[{"$f":"IF(B41<>\"\",A40+1,\"\")","v":""},{"$f":"Assessment!G54","v":""},{"$f":"IF(Assessment!J54<>\"\",Assessment!J54,\"\")","v":""},{"$f":"IF(C41<>\"\",Assessment!K54,\"\")","v":""},"","","",null,null,2.2360000000000002,"Significant at 99%"]
["",{"$f":"Assessment!G55","v":""},{"$f":"IF(Assessment!J55<>\"\",Assessment!J55,\"\")","v":""},{"$f":"IF(C42<>\"\",Assessment!K55,\"\")","v":""},"","","",null,null,3,"Significant at 99.9%"]
["",{"$f":"Assessment!G56","v":""},{"$f":"IF(Assessment!J56<>\"\",Assessment!J56,\"\")","v":""},{"$f":"IF(C43<>\"\",Assessment!K56,\"\")","v":""},"","",""]
["",{"$f":"Assessment!G57","v":""},{"$f":"IF(Assessment!J57<>\"\",Assessment!J57,\"\")","v":""},{"$f":"IF(C44<>\"\",Assessment!K57,\"\")","v":""},"","",""]
["",{"$f":"Assessment!G58","v":""},{"$f":"IF(Assessment!J58<>\"\",Assessment!J58,\"\")","v":""},{"$f":"IF(C45<>\"\",Assessment!K58,\"\")","v":""},"","",""]
["",{"$f":"Assessment!G59","v":""},{"$f":"IF(Assessment!J59<>\"\",Assessment!J59,\"\")","v":""},{"$f":"IF(C46<>\"\",Assessment!K59,\"\")","v":""},"","",""]
["",{"$f":"Assessment!G60","v":""},{"$f":"IF(Assessment!J60<>\"\",Assessment!J60,\"\")","v":""},{"$f":"IF(C47<>\"\",Assessment!K60,\"\")","v":""},"","",""]
["",{"$f":"Assessment!G61","v":""},{"$f":"IF(Assessment!J61<>\"\",Assessment!J61,\"\")","v":""},{"$f":"IF(C48<>\"\",Assessment!K61,\"\")","v":""},"","",""]
["",{"$f":"Assessment!G62","v":""},{"$f":"IF(Assessment!J62<>\"\",Assessment!J62,\"\")","v":""},{"$f":"IF(C49<>\"\",Assessment!K62,\"\")","v":""},"","",""]
["",{"$f":"Assessment!G63","v":""},{"$f":"IF(Assessment!J63<>\"\",Assessment!J63,\"\")","v":""},{"$f":"IF(C50<>\"\",Assessment!K63,\"\")","v":""},"","",""]
["",{"$f":"Assessment!G64","v":""},{"$f":"IF(Assessment!J64<>\"\",Assessment!J64,\"\")","v":""},{"$f":"IF(C51<>\"\",Assessment!K64,\"\")","v":""},"","",""]
["",{"$f":"Assessment!G65","v":""},{"$f":"IF(Assessment!J65<>\"\",Assessment!J65,\"\")","v":""},{"$f":"IF(C52<>\"\",Assessment!K65,\"\")","v":""},"","",""]
["",{"$f":"Assessment!G66","v":""},{"$f":"IF(Assessment!J66<>\"\",Assessment!J66,\"\")","v":""},{"$f":"IF(C53<>\"\",Assessment!K66,\"\")","v":""},"","",""]
["",{"$f":"Assessment!G67","v":""},{"$f":"IF(Assessment!J67<>\"\",Assessment!J67,\"\")","v":""},{"$f":"IF(C54<>\"\",Assessment!K67,\"\")","v":""},"","",""]
["",{"$f":"Assessment!G68","v":""},{"$f":"IF(Assessment!J68<>\"\",Assessment!J68,\"\")","v":""},{"$f":"IF(C55<>\"\",Assessment!K68,\"\")","v":""},"","",""]
["",{"$f":"Assessment!G69","v":""},{"$f":"IF(Assessment!J69<>\"\",Assessment!J69,\"\")","v":""},{"$f":"IF(C56<>\"\",Assessment!K69,\"\")","v":""},"","",""]
["",{"$f":"Assessment!G70","v":""},{"$f":"IF(Assessment!J70<>\"\",Assessment!J70,\"\")","v":""},{"$f":"IF(C57<>\"\",Assessment!K70,\"\")","v":""},"","",""]

{"sheet":"Search","index":5,"n_rows":7990,"n_cols":32,"rows_kept":2250,"cut":true,"hidden":false,"merged":[[1,0,1,1],[28,15,31,17]],"bounds":{"rows_first":1000,"rows_last":250,"rows_between":1000,"halvings":1}}
["Peak Search using Correlation",null,null,-50,null,null,null,null,null,null,null,null,null,null,null,null,null,null,null,null,null,null,null,null,null,null,"Average Bgd","BGD width","Search Backgd","Product","Finder","Critical Limit (cts)"]
[{"$f":"IF(Control!C15<>\"\",Control!C14,Control!C31)","v":0},null,{"$f":"NOW()","v":"2025-03-17T12:53:42.920"},{"$f":"NOW()","v":45733.537302314813},"Peak Index","Centroid keV","Peak Area cts","Area RSD","Centroid Channels","FWHM keV",null,null,null,null,null,"Area: ",{"$f":"SUM(Q5:Q23)","v":0.99999999999999978}]
[{"$f":"Control!B7","v":"Spectrum Size:"},{"$f":"Control!C7","v":8192},"Channels",{"$f":"IF(H3<>\"\",$D$1,\"\")","v":""},null,null,null,null,null,null,null,null,null,null,null,"Width (ch)","Centroid","Std Dev",{"$f":"P4-2*S4","v":7}]
[{"$f":"Control!B8","v":"Maximum Energy:"},{"$f":"Control!C8","v":2428.4315118789673},{"$f":"Control!D20","v":"keV"},{"$f":"IF(H4<>\"\",$D$1,\"\")","v":""},null,null,null,null,null,null,null,null,null,null,null,{"$f":"B19","v":19},{"$f":"P4/2+0.5","v":10},0.9443783007551505,{"$f":"INT(P4/3)","v":6}]
[null,null," ","",null,null,null,null,null,null,null,"Peaks Detected:",{"$f":"B29","v":0},null,null,1,{"$f":"IF(P5<>\"\",IF($B$22=0,S5/$S$3,(_xlfn.NORM.DIST(P5,$Q$4,$R$4,FALSE)*$B$22)),\"\")","v":0},null,{"$f":"IF(P5<$S$4+1,0,IF(P5<$S$4+$S$3+1,1,IF(P5<$S$4*2+$S$3+1,0,\"\")))","v":0}]
[{"$f":"Control!B20","v":"Energy Intercept:"},{"$f":"Control!C20","v":-4.0904712677001953},{"$f":"B6/B7","v":-13.793669562812434},"",null,null,null,null,null,null,null,"Peaks Identified:",{"$f":"COUNT(Identify!D2:D998)","v":0},null,null,{"$f":"IF(P5<$P$4,P5+1,\"\")","v":2},{"$f":"IF(P6<>\"\",IF($B$22=0,S6/$S$3,(_xlfn.NORM.DIST(P6,$Q$4,$R$4,FALSE)*$B$22)),\"\")","v":0},null,0]
[{"$f":"Control!B21","v":"Energy scale:"},{"$f":"Control!C21","v":0.29654699563980103},null,"",null,null,null,null,null,null,null,"Peaks Significant:",{"$f":"COUNTA(Identify!F3:F999)","v":0},null,null,{"$f":"IF(P6<$P$4,P6+1,\"\")","v":3},0,null,0]
[{"$f":"Control!B22","v":"Energy Quad Factor:"},{"$f":"Control!C22","v":4.7817749759815342E-8},null,"",null,null,null,null,null,null,null," Items in Peak List:",{"$f":"COUNTA(PeakList!A:A)-1","v":109},null,null,4,0,null,0]
[{"$f":"Control!B23","v":"Width Intercept:"},{"$f":"Control!C23","v":0.76357990503311157},{"$f":"B9/B7","v":2.5749035271312923},"",null,null,null,null,null,null,null,"Missed Known Peaks:",{"$f":"M8-M6","v":109},null,null,5,0,null,0]
[{"$f":"Control!B24","v":"Width scale:"},{"$f":"Control!C24","v":9.1325311223044991E-4},{"$f":"B10/B7","v":3.0796235526180382E-3},"",null,null,null,null,null,null,null,{"$f":"Identify!P9","v":"Unidentifiable Peaks:"},{"$f":"Identify!Q9","v":0},{"$f":"Identify!R9","v":"of which"},null,6,0,null,0]
[{"$f":"Control!B25","v":"Width Quad Factor:"},{"$f":"Control!C25","v":-9.4315595333682722E-8},{"$f":"B11/B7","v":-3.180460322324175E-7},"",null,null,null,null,null,null,null,null,{"$f":"Identify!Q10","v":0},{"$f":"Identify!R10","v":"were SpecMaker peaks"},null,7,0.14285714285714285,null,1]
[{"$f":"Control!B26","v":"Peak Coverage:"},0.995,null,"",null,null,null,null,null,null,null,null,{"$f":"Identify!Q11","v":0},{"$f":"Identify!R11","v":"were not significant"},null,8,0.14285714285714285,null,1]
[{"$f":"Control!B27","v":"Full-width:"},{"$f":"NORMSINV((1+B12)/2)","v":2.8070337683438114},"Std. Dev","",null,null,null,null,null,null,null,null,{"$f":"Identify!Q12","v":0},{"$f":"Identify!R12","v":"might be investigated"},null,9,0.14285714285714285,null,1]
["Peak Width Factor:",{"$f":"2*B13/2.355","v":2.3838927968949566},null,"",null,null,null,null,null,null,null,"RMS Energy Diffs",{"$f":"Identify!$Q$14","v":0},"keV",null,10,0.14285714285714285,null,{"$f":"IF(P14<$S$4+1,0,IF(P14<$S$4+$S$3+1,1,IF(P14<$S$4*2+$S$3+1,0,\"\")))","v":1}]
[null,null,null,"",null,null,null,null,null,null,null,null,null,null,null,11,0.14285714285714285,null,{"$f":"IF(P15<$S$4+1,0,IF(P15<$S$4+$S$3+1,1,IF(P15<$S$4*2+$S$3+1,0,\"\")))","v":1}]
["Starting Values for Peak Search ----------------",null,null,"",null,null,null,null,null,null,null,"Suggestion for Updating Energy Calibration",null,null,null,12,0.14285714285714285,null,1]
["Start Channel:",52,"Finished","",null,null,null,null,null,null,null,"Intercept:",{"$f":"Identify!V20","v":-4.2480540572396421},"keV",null,13,0.14285714285714285,null,1]
[{"$f":"CONCATENATE(\"End Channel (<=\",ROUNDDOWN(B3,0)-25,\"):\")","v":"End Channel (<=8167):"},7990,null,"",null,null,null,null,null,null,null,"Gradient:",{"$f":"Identify!V21","v":0.2967400720463802},"keV/ch",null,14,0,null,0]
["Search Width:",19,"channels","",null,null,null,null,null,null,null,"Quad:",{"$f":"Identify!V22","v":2.0215281525018218E-8},"keV/ch^2",null,15,0,null,0]
["Change width Channel:",8121,null,"",null,null,null,null,null,null,null,null,null,null,null,16,0,null,0]
["Background Sensitivity:",1.5,"Std. Devs","",null,null,null,null,null,null,null,null,null,null,null,17,0,null,0]
["Search Sensitivity:",0,{"$f":"IF(B22=0,\"Hat Function\",CONCATENATE(\"Area: \",ROUND(Q2,3)))","v":"Hat Function"},"",null,null,null,null,null,null,null,null,null,null,null,18,0,"  ",0]
["Background Search Width:",5,"channels","",null,null,null,null,null,null,null,null,null,null,null,19,0,null,0]
["Peak Background Width:",5,"channels","",null,null,null,null,null,null,null,null,null,null,null,"","",null,""]
["Average Background Mode:","Yes",null,"",null,null,null,null,null,null,null,null,null,null,null,"","",null,""]
["Type of Background:",{"$f":"VLOOKUP(Control!C12,Control!A45:B49,2)","v":"Spectrum"},{"$f":"IF(Control!C12<3,IF(Control!C9=Control!C10,\"Flat\",\"Sloping\"),\"\")","v":""},"",null,null,null,null,null,null,null,null,null,null,null,"","",null,{"$f":"IF(P26<$S$4+1,0,IF(P26<$S$4+$S$3+1,1,IF(P26<$S$4*2+$S$3+1,0,\"\")))","v":""}]
["Report < Upper Limit:","Yes",null,"",null,null,null,null,null,null,null,null,null,null,null,"",{"$f":"IF(P27<>\"\",IF($B$22=0,S27/$S$3,(_xlfn.NORM.DIST(P27,$Q$4,$R$4,FALSE)*$B$22)),\"\")","v":""},null,{"$f":"IF(P27<$S$4+1,0,IF(P27<$S$4+$S$3+1,1,IF(P27<$S$4*2+$S$3+1,0,\"\")))","v":""}]
["Results of Peak Search-------------------------------------------",null,null,""]
["Peaks Found:",{"$f":"COUNT(F3:F996)","v":0},null,"",null,null,null,null,null,null,null,null,null,null,null,"Select Search Width (B19) to see its search Function"]
["Peaks Expected:",{"$f":"IF(C30=\"Done\",Assessment!K7,\"\")","v":0},"Done",""]
["Valid Peaks Found:",{"$f":"IF($C$30=\"Done\",Assessment!K8,\"\")","v":0},null,""]
["Missing Actual Peaks:",{"$f":"IF($C$30=\"Done\",B30-B31,\"\")","v":0},null,""]
["Unidentified Peaks:",{"$f":"M10","v":0},{"$f":"IF(H9>2,M87,\"\")","v":""},""]
["RMS Centroid Difference:",{"$f":"Assessment!F15","v":""},"Channels",""]
[null,{"$f":"Assessment!G15","v":""},"keV",""]
["Mean Peak Area Ratio:",{"$f":"IF($C$30=\"Done\",Stats!L20,\"\")","v":{"$error":"#DIV/0!"}},{"$f":"IF($C$41=\"Done\",Stats!L23,\"\")","v":""},""]
["Centroid of Distribution:",{"$f":"IF($C$30=\"Done\",Stats!L17,\"\")","v":{"$error":"#N/A"}},"Std.Devs",""]
["Number FWHMs Measured:",{"$f":"IF($C$30=\"Done\",Assessment!Q73,\"\")","v":0},null,""]
["RMS FWHM Difference:",{"$f":"IF($C$30=\"Done\",Assessment!G16,\"\")","v":""},"keV",""]
["Mean Area Z-score:",{"$f":"IF($C$30=\"Done\",Assessment!P72,\"\")","v":""},null,""]
[null,null,null,""]
["Tolerance:",2,"channels",""]
[null,null,null,""]
["Testing information",null,null,""]
["Test Recording?","Yes",null,""]
["Position Adjust:",0,"keV",""]
["Position Scale:",null,"ct/ch",""]
[null,null,null,""]
[null,null,null,""]
[null,null,null,""]
[null,null,null,""]
[null,null,null,""]
[null,null,null,""]
[null,null,null,""]
[null,null,null,""]
[null,null,null,""]
[null,null,null,""]
[null,null,null,"",null,null,null,null,null,null,null,null,null,null,null,null,null,null,null,null,null,null,null,null,null,null,1666.6666666666667,6,1727.9039102362462,2327,599.0960897637533]
[null,null,null,"",null,null,null,null,null,null,null,null,null,null,null,null,null,null,null,null,null,null,null,null,null,null,929,2,974.71925196238453,1563,588.28074803761524,166]
[null,null,null,"",null,null,null,null,null,null,null,null,null,null,null,null,null,null,null,null,null,null,null,null,null,null,929,0,974.71925196238453,1118,143.28074803761524]
[null,null,null,"",null,null,null,null,null,null,null,null,null,null,null,null,null,null,null,null,null,null,null,null,null,null,929,0,974.71925196238453,1021.5,46.78074803761524]
[null,null,null,"",null,null,null,null,null,null,null,null,null,null,null,null,null,null,null,null,null,null,null,null,null,null,929,0,974.71925196238453,1061.5,86.78074803761524]
[null,null,null,"",null,null,null,null,null,null,null,null,null,null,null,null,null,null,null,null,null,null,null,null,null,null,929,0,974.71925196238453,1115.5,140.78074803761524]
[null,null,null,"",null,null,null,null,null,null,null,null,null,null,null,null,null,null,null,null,null,null,null,null,null,null,929,0,974.71925196238453,1289,314.28074803761524]
[null,null,null,"",null,null,null,null,null,null,null,null,null,null,null,null,null,null,null,null,null,null,null,null,null,null,929,0,974.71925196238453,1668,693.28074803761524]
[null,null,null,"",null,null,null,null,null,null,null,null,null,null,null,null,null,null,null,null,null,null,null,null,null,null,929,0,974.71925196238453,2327,1352.2807480376152]
[null,null,null,"",null,null,null,null,null,null,null,null,null,null,null,null,null,null,null,null,null,null,null,null,null,null,929,0,974.71925196238453,3376.5,2401.780748037615]
[null,null,null,{"$f":"IF(H68<>\"\",$D$1,\"\")","v":""},null,null,null,null,null,null,null,null,null,null,null,null,null,null,null,null,null,null,null,null,null,null,929,0,974.71925196238453,4163,3188.280748037615,166]
[null,null,null,"",null,null,null,null,null,null,null,null,null,null,null,null,null,null,null,null,null,null,null,null,null,null,929,0,974.71925196238453,3709.5,2734.780748037615]
[null,null,null,"",null,null,null,null,null,null,null,null,null,null,null,null,null,null,null,null,null,null,null,null,null,null,929,0,974.71925196238453,2523,1548.2807480376152]
[null,null,null,"",null,null,null,null,null,null,null,null,null,null,null,null,null,null,null,null,null,null,null,null,null,null,929,0,974.71925196238453,1627.5,652.78074803761524]
[null,null,null,"",null,null,null,null,null,null,null,null,null,null,null,null,null,null,null,null,null,null,null,null,null,null,929,0,974.71925196238453,1165,190.28074803761524]
[null,null,null,"",null,null,null,null,null,null,null,null,null,null,null,null,null,null,null,null,null,null,null,null,null,null,929,0,974.71925196238453,985.5,10.78074803761524]
[null,null,null,"",null,null,null,null,null,null,null,null,null,null,null,null,null,null,null,null,null,null,null,null,null,null,929,1,974.71925196238453,915,-59.71925196238476]
[null,null,null,"",null,null,null,null,null,null,null,null,null,null,null,null,null,null,null,null,null,null,null,null,null,null,915,2,960.37345038676256,893.5,-66.873450386762784]
[null,null,null,"",null,null,null,null,null,null,null,null,null,null,null,null,null,null,null,null,null,null,null,null,null,null,912.66666666666663,3,957.98222690815544,1037,79.017773091844333]
[null,null,null,"",null,null,null,null,null,null,null,null,null,null,null,null,null,null,null,null,null,null,null,null,null,null,912.66666666666663,3,957.98222690815544,1375,417.01777309184433]
[null,null,null,"",null,null,null,null,null,null,null,null,null,null,null,null,null,null,null,null,null,null,null,null,null,null,912.66666666666663,3,957.98222690815544,1539.5,581.51777309184433,165]
[null,null,null,"",null,null,null,null,null,null,null,null,null,null,null,null,null,null,null,null,null,null,null,null,null,null,912.66666666666663,3,957.98222690815544,1373.5,415.51777309184433]
[null,null,null,"",null,null,null,null,null,null,null,null,null,null,null,null,null,null,null,null,null,null,null,null,null,null,893.5,2,938.33720553290539,1163,224.66279446709439]
[null,null,null,"",null,null,null,null,null,null,null,null,null,null,null,null,null,null,null,null,null,null,null,null,null,null,893.5,1,938.33720553290539,1022.5,84.162794467094386]
[null,null,null,"",null,null,null,null,null,null,null,null,null,null,null,null,null,null,null,null,null,null,null,null,null,null,893.5,0,938.33720553290539,889,-49.337205532905614]
[null,null,null,"",null,null,null,null,null,null,null,null,null,null,null,null,null,null,null,null,null,null,null,null,null,null,893.5,1,938.33720553290539,759,-179.33720553290561]
[null,null,null,"",null,null,null,null,null,null,null,null,null,null,null,null,null,null,null,null,null,null,null,null,null,null,759,2,800.3249319418677,704,-96.324931941867931]
[null,null,null,"",null,null,null,null,null,null,null,null,null,null,null,null,null,null,null,null,null,null,null,null,null,null,738.33333333333337,3,779.09176804321885,689,-90.091768043219076]
[null,null,null,"",null,null,null,null,null,null,null,null,null,null,null,null,null,null,null,null,null,null,null,null,null,null,696.33333333333337,3,735.91552629936291,677.5,-58.415526299363023]
[null,null,null,"",null,null,null,null,null,null,null,null,null,null,null,null,null,null,null,null,null,null,null,null,null,null,690.75,4,730.17318480285428,680,-50.173184802854394]
[null,null,null,"",null,null,null,null,null,null,null,null,null,null,null,null,null,null,null,null,null,null,null,null,null,null,689.8,5,729.19606579342656,657.5,-71.696065793426669]
[null,null,null,"",null,null,null,null,null,null,null,null,null,null,null,null,null,null,null,null,null,null,null,null,null,null,679.66666666666663,6,718.77229286034878,631,-87.772292860348898]
[null,null,null,"",null,null,null,null,null,null,null,null,null,null,null,null,null,null,null,null,null,null,null,null,null,null,666.66666666666663,6,705.39650012874085,628.5,-76.896500128740968]
[null,null,null,"",null,null,null,null,null,null,null,null,null,null,null,null,null,null,null,null,null,null,null,null,null,null,654.5,6,692.87479641639811,610,-82.874796416398226]
[null,null,null,"",null,null,null,null,null,null,null,null,null,null,null,null,null,null,null,null,null,null,null,null,null,null,640.33333333333337,6,678.29054608664285,613,-65.290546086642962]
[null,null,null,"",null,null,null,null,null,null,null,null,null,null,null,null,null,null,null,null,null,null,null,null,null,null,633,6,670.73923687622732,670,-0.73923687622743728]
[null,null,null,"",null,null,null,null,null,null,null,null,null,null,null,null,null,null,null,null,null,null,null,null,null,null,622.4,5,659.82191871083035,756,96.17808128916954]
[null,null,null,"",null,null,null,null,null,null,null,null,null,null,null,null,null,null,null,null,null,null,null,null,null,null,620.75,4,658.12228250990302,822.5,164.37771749009687,136]
[null,null,null,"",null,null,null,null,null,null,null,null,null,null,null,null,null,null,null,null,null,null,null,null,null,null,616.66666666666663,3,653.91582773104494,784.5,130.58417226895494]
[null,null,null,"",null,null,null,null,null,null,null,null,null,null,null,null,null,null,null,null,null,null,null,null,null,null,613,2,650.13825520941987,691.5,41.361744790580019]
[null,null,null,"",null,null,null,null,null,null,null,null,null,null,null,null,null,null,null,null,null,null,null,null,null,null,643.5,2,681.55095268189746,650,-31.55095268189757]
[null,null,null,"",null,null,null,null,null,null,null,null,null,null,null,null,null,null,null,null,null,null,null,null,null,null,650,2,688.24264635194584,706.5,18.25735364805405]
[null,null,null,"",null,null,null,null,null,null,null,null,null,null,null,null,null,null,null,null,null,null,null,null,null,null,650,2,688.24264635194584,826.5,138.25735364805405,139]
[null,null,null,"",null,null,null,null,null,null,null,null,null,null,null,null,null,null,null,null,null,null,null,null,null,null,650,2,688.24264635194584,817.5,129.25735364805405]
[null,null,null,"",null,null,null,null,null,null,null,null,null,null,null,null,null,null,null,null,null,null,null,null,null,null,650,2,688.24264635194584,692,3.7573536480540497]
[null,null,null,"",null,null,null,null,null,null,null,null,null,null,null,null,null,null,null,null,null,null,null,null,null,null,644,3,682.06573262134862,625.5,-56.565732621348729]
[null,null,null,"",null,null,null,null,null,null,null,null,null,null,null,null,null,null,null,null,null,null,null,null,null,null,631.33333333333337,3,669.02285442341883,608,-61.022854423418948]
[null,null,null,"",null,null,null,null,null,null,null,null,null,null,null,null,null,null,null,null,null,null,null,null,null,null,616,3,653.22902093797256,622.5,-30.729020937972678]
[null,null,null,"",null,null,null,null,null,null,null,null,null,null,null,null,null,null,null,null,null,null,null,null,null,null,624,4,661.46998799039034,646.5,-14.96998799039045]
[null,null,null,"",null,null,null,null,null,null,null,null,null,null,null,null,null,null,null,null,null,null,null,null,null,null,628.20000000000005,5,665.79587743356979,620,-45.795877433569899]
[null,null,null,"",null,null,null,null,null,null,null,null,null,null,null,null,null,null,null,null,null,null,null,null,null,null,622.66666666666663,6,660.09660121109243,568.5,-91.596601211092548]
[null,null,null,"",null,null,null,null,null,null,null,null,null,null,null,null,null,null,null,null,null,null,null,null,null,null,607.66666666666663,6,644.64301045563525,574.5,-70.143010455635363]
[null,null,null,"",null,null,null,null,null,null,null,null,null,null,null,null,null,null,null,null,null,null,null,null,null,null,605.66666666666663,6,642.58211058923109,580.5,-62.082110589231206]
[null,null,null,"",null,null,null,null,null,null,null,null,null,null,null,null,null,null,null,null,null,null,null,null,null,null,598.5,6,635.1963894681752,554.5,-80.696389468175312]
[null,null,null,"",null,null,null,null,null,null,null,null,null,null,null,null,null,null,null,null,null,null,null,null,null,null,583,6,619.21808940294886,552.5,-66.718089402948976]
[null,null,null,"",null,null,null,null,null,null,null,null,null,null,null,null,null,null,null,null,null,null,null,null,null,null,567.16666666666663,6,602.88955848689864,535.5,-67.38955848689875]
[null,null,null,"",null,null,null,null,null,null,null,null,null,null,null,null,null,null,null,null,null,null,null,null,null,null,554.83333333333337,6,590.16568394859814,544.5,-45.665683948598257]
[null,null,null,"",null,null,null,null,null,null,null,null,null,null,null,null,null,null,null,null,null,null,null,null,null,null,549.6,5,584.76532382902224,556,-28.76532382902235]
[null,null,null,"",null,null,null,null,null,null,null,null,null,null,null,null,null,null,null,null,null,null,null,null,null,null,548.66666666666663,6,583.80211884818834,550.5,-33.302118848188456]
[null,null,null,"",null,null,null,null,null,null,null,null,null,null,null,null,null,null,null,null,null,null,null,null,null,null,549.16666666666663,6,584.31812467341229,553.5,-30.818124673412399]
[null,null,null,"",null,null,null,null,null,null,null,null,null,null,null,null,null,null,null,null,null,null,null,null,null,null,548.33333333333337,6,583.45811091270036,538,-45.458110912700477]
[null,null,null,"",null,null,null,null,null,null,null,null,null,null,null,null,null,null,null,null,null,null,null,null,null,null,544.33333333333337,6,579.32976172252756,532,-47.329761722527678]
[null,null,null,"",null,null,null,null,null,null,null,null,null,null,null,null,null,null,null,null,null,null,null,null,null,null,547.16666666666663,6,582.25405756425266,537,-45.254057564252776]
[null,null,null,"",null,null,null,null,null,null,null,null,null,null,null,null,null,null,null,null,null,null,null,null,null,null,541.83333333333337,6,576.74930389123142,532.5,-44.249303891231534]
[null,null,null,"",null,null,null,null,null,null,null,null,null,null,null,null,null,null,null,null,null,null,null,null,null,null,539.33333333333337,6,574.16866023003411,520,-54.16866023003422]
[null,null,null,"",null,null,null,null,null,null,null,null,null,null,null,null,null,null,null,null,null,null,null,null,null,null,531.66666666666663,6,566.25351387770911,529.5,-36.753513877709224]
[null,null,null,"",null,null,null,null,null,null,null,null,null,null,null,null,null,null,null,null,null,null,null,null,null,null,531.33333333333337,6,565.90933657257426,557.5,-8.4093365725743752]
[null,null,null,"",null,null,null,null,null,null,null,null,null,null,null,null,null,null,null,null,null,null,null,null,null,null,538.16666666666663,6,572.96429589625643,541.5,-31.464295896256544]
[null,null,null,"",null,null,null,null,null,null,null,null,null,null,null,null,null,null,null,null,null,null,null,null,null,null,534.5,6,569.17888406509064,529.5,-39.678884065090756]
[null,null,null,"",null,null,null,null,null,null,null,null,null,null,null,null,null,null,null,null,null,null,null,null,null,null,535.66666666666663,6,570.38337734034656,529,-41.383377340346669]
[null,null,null,"",null,null,null,null,null,null,null,null,null,null,null,null,null,null,null,null,null,null,null,null,null,null,533.33333333333337,6,567.97434948471096,523.5,-44.47434948471107]
[null,null,null,"",null,null,null,null,null,null,null,null,null,null,null,null,null,null,null,null,null,null,null,null,null,null,536.83333333333337,6,571.58782944534744,528.5,-43.087829445347552]
[null,null,null,"",null,null,null,null,null,null,null,null,null,null,null,null,null,null,null,null,null,null,null,null,null,null,533,6,567.63018914184556,524.5,-43.130189141845676]
[null,null,null,"",null,null,null,null,null,null,null,null,null,null,null,null,null,null,null,null,null,null,null,null,null,null,525.83333333333337,6,560.22991746606374,525,-35.229917466063853]
[null,null,null,{"$f":"IF(H132<>\"\",$D$1,\"\")","v":""},null,null,null,null,null,null,null,null,null,null,null,null,null,null,null,null,null,null,null,null,null,null,527.5,6,561.95105223356757,522.5,-39.45105223356768]
[null,null,null,"",null,null,null,null,null,null,null,null,null,null,null,null,null,null,null,null,null,null,null,null,null,null,523.5,6,557.82018356594267,516,-41.820183565942784]
[null,null,null,"",null,null,null,null,null,null,null,null,null,null,null,null,null,null,null,null,null,null,null,null,null,null,523.16666666666663,6,557.47592197773395,510.5,-46.97592197773406]
[null,null,null,"",null,null,null,null,null,null,null,null,null,null,null,null,null,null,null,null,null,null,null,null,null,null,519.16666666666663,6,553.34451036693542,508,-45.344510366935538]
[null,null,null,"",null,null,null,null,null,null,null,null,null,null,null,null,null,null,null,null,null,null,null,null,null,null,516.33333333333337,6,550.41778726764187,519,-31.417787267641984]
[null,null,null,"",null,null,null,null,null,null,null,null,null,null,null,null,null,null,null,null,null,null,null,null,null,null,517.33333333333337,6,551.45077755179727,511,-40.450777551797387]
[null,null,null,"",null,null,null,null,null,null,null,null,null,null,null,null,null,null,null,null,null,null,null,null,null,null,511.66666666666669,6,545.5967418213138,515,-30.596741821313913]
[null,null,null,"",null,null,null,null,null,null,null,null,null,null,null,null,null,null,null,null,null,null,null,null,null,null,514.83333333333337,6,548.8682418832326,541.5,-7.368241883232713]
[null,null,null,"",null,null,null,null,null,null,null,null,null,null,null,null,null,null,null,null,null,null,null,null,null,null,520.16666666666663,6,554.37741059310008,539.5,-14.877410593100194]
[null,null,null,"",null,null,null,null,null,null,null,null,null,null,null,null,null,null,null,null,null,null,null,null,null,null,524.5,6,558.85294747179637,517,-41.852947471796483]
[null,null,null,"",null,null,null,null,null,null,null,null,null,null,null,null,null,null,null,null,null,null,null,null,null,null,523.16666666666663,6,557.47592197773395,502,-55.47592197773406]
[null,null,null,"",null,null,null,null,null,null,null,null,null,null,null,null,null,null,null,null,null,null,null,null,null,null,518.83333333333337,6,553.00020325142805,521,-32.000203251428161]
[null,null,null,"",null,null,null,null,null,null,null,null,null,null,null,null,null,null,null,null,null,null,null,null,null,null,526.5,6,560.91838171675136,520.5,-40.418381716751469]
[null,null,null,"",null,null,null,null,null,null,null,null,null,null,null,null,null,null,null,null,null,null,null,null,null,null,520.66666666666663,6,554.89384884691628,499,-55.893848846916399]
[null,null,null,"",null,null,null,null,null,null,null,null,null,null,null,null,null,null,null,null,null,null,null,null,null,null,512.33333333333337,6,546.28550557606331,515.5,-30.785505576063429]
[null,null,null,"",null,null,null,null,null,null,null,null,null,null,null,null,null,null,null,null,null,null,null,null,null,null,512.66666666666663,6,546.62988206215005,534.5,-12.129882062150159]
[null,null,null,"",null,null,null,null,null,null,null,null,null,null,null,null,null,null,null,null,null,null,null,null,null,null,518.16666666666663,6,552.31157843987228,566,13.688421560127608,124]
[null,null,null,"",null,null,null,null,null,null,null,null,null,null,null,null,null,null,null,null,null,null,null,null,null,null,521,5,555.23813663153999,561.5,6.261863368459899]
[null,null,null,"",null,null,null,null,null,null,null,null,null,null,null,null,null,null,null,null,null,null,null,null,null,null,518.20000000000005,5,552.34601001581302,521.5,-30.846010015813135]
[null,null,null,"",null,null,null,null,null,null,null,null,null,null,null,null,null,null,null,null,null,null,null,null,null,null,521.4,5,555.6512773484435,520.5,-35.151277348443614]
[null,null,null,"",null,null,null,null,null,null,null,null,null,null,null,null,null,null,null,null,null,null,null,null,null,null,526.79999999999995,5,561.22818612706737,517.5,-43.728186127067488]
[null,null,null,"",null,null,null,null,null,null,null,null,null,null,null,null,null,null,null,null,null,null,null,null,null,null,522.20000000000005,5,556.47754366928882,523.5,-32.977543669288934]
[null,null,null,"",null,null,null,null,null,null,null,null,null,null,null,null,null,null,null,null,null,null,null,null,null,null,522.4,5,556.68410710518799,541.5,-15.184107105188104]
[null,null,null,"",null,null,null,null,null,null,null,null,null,null,null,null,null,null,null,null,null,null,null,null,null,null,526.83333333333337,6,561.2626086669793,553,-8.2626086669794176]
[null,null,null,"",null,null,null,null,null,null,null,null,null,null,null,null,null,null,null,null,null,null,null,null,null,null,532.33333333333337,6,566.94185829467779,538,-28.9418582946779]
[null,null,null,"",null,null,null,null,null,null,null,null,null,null,null,null,null,null,null,null,null,null,null,null,null,null,532.33333333333337,6,566.94185829467779,512,-54.9418582946779]
[null,null,null,"",null,null,null,null,null,null,null,null,null,null,null,null,null,null,null,null,null,null,null,null,null,null,529.5,6,564.01630049701157,529,-35.016300497011684]
[null,null,null,"",null,null,null,null,null,null,null,null,null,null,null,null,null,null,null,null,null,null,null,null,null,null,536.16666666666663,6,570.89957613305023,528.5,-42.399576133050346]
[null,null,null,"",null,null,null,null,null,null,null,null,null,null,null,null,null,null,null,null,null,null,null,null,null,null,531.16666666666663,6,565.73724664444546,512,-53.737246644445577]
[null,null,null,"",null,null,null,null,null,null,null,null,null,null,null,null,null,null,null,null,null,null,null,null,null,null,526.33333333333337,6,560.74626694847291,535,-25.746266948473021]
[null,null,null,"",null,null,null,null,null,null,null,null,null,null,null,null,null,null,null,null,null,null,null,null,null,null,525.16666666666663,6,559.54143939318806,528.5,-31.04143939318817]
[null,null,null,"",null,null,null,null,null,null,null,null,null,null,null,null,null,null,null,null,null,null,null,null,null,null,523.16666666666663,6,557.47592197773395,517,-40.47592197773406]
[null,null,null,"",null,null,null,null,null,null,null,null,null,null,null,null,null,null,null,null,null,null,null,null,null,null,526.83333333333337,6,561.2626086669793,528,-33.262608666979418]
[null,null,null,"",null,null,null,null,null,null,null,null,null,null,null,null,null,null,null,null,null,null,null,null,null,null,522.83333333333337,6,557.13165690752578,532,-25.131656907525894]
[null,null,null,"",null,null,null,null,null,null,null,null,null,null,null,null,null,null,null,null,null,null,null,null,null,null,528,6,562.46737587922814,504.5,-57.967375879228257]
[null,null,null,"",null,null,null,null,null,null,null,null,null,null,null,null,null,null,null,null,null,null,null,null,null,null,520.33333333333337,6,554.54955755518461,507,-47.54955755518472]
[null,null,null,"",null,null,null,null,null,null,null,null,null,null,null,null,null,null,null,null,null,null,null,null,null,null,518.66666666666663,6,552.8280483717441,584,31.171951628255783]
[null,null,null,"",null,null,null,null,null,null,null,null,null,null,null,null,null,null,null,null,null,null,null,null,null,null,521,5,555.23813663153999,775.5,220.2618633684599]
[null,null,null,"",null,null,null,null,null,null,null,null,null,null,null,null,null,null,null,null,null,null,null,null,null,null,519.5,4,553.68881396012443,1255.5,701.81118603987545]
[null,null,null,"",null,null,null,null,null,null,null,null,null,null,null,null,null,null,null,null,null,null,null,null,null,null,516.33333333333337,3,550.41778726764187,1495,944.58221273235802,129]
[null,null,null,"",null,null,null,null,null,null,null,null,null,null,null,null,null,null,null,null,null,null,null,null,null,null,507,2,540.77499074759316,1182.5,641.72500925240672]
[null,null,null,"",null,null,null,null,null,null,null,null,null,null,null,null,null,null,null,null,null,null,null,null,null,null,507,1,540.77499074759316,769.5,228.72500925240672]
[null,null,null,"",null,null,null,null,null,null,null,null,null,null,null,null,null,null,null,null,null,null,null,null,null,null,507,0,540.77499074759316,534.5,-6.2749907475932787]
[null,null,null,"",null,null,null,null,null,null,null,null,null,null,null,null,null,null,null,null,null,null,null,null,null,null,507,1,540.77499074759316,488,-52.774990747593279]
[null,null,null,"",null,null,null,null,null,null,null,null,null,null,null,null,null,null,null,null,null,null,null,null,null,null,488,2,521.13608305156174,496,-25.136083051561855]
[null,null,null,"",null,null,null,null,null,null,null,null,null,null,null,null,null,null,null,null,null,null,null,null,null,null,495,3,528.37289319193053,519.5,-8.8728931919306433]
[null,null,null,"",null,null,null,null,null,null,null,null,null,null,null,null,null,null,null,null,null,null,null,null,null,null,503.75,4,537.41656353119515,496.5,-40.916563531195266]
[null,null,null,"",null,null,null,null,null,null,null,null,null,null,null,null,null,null,null,null,null,null,null,null,null,null,495.6,5,528.99311306242657,500,-28.993113062426687]
[null,null,null,"",null,null,null,null,null,null,null,null,null,null,null,null,null,null,null,null,null,null,null,null,null,null,502.5,6,536.12476765718986,569,32.875232342810023]
[null,null,null,"",null,null,null,null,null,null,null,null,null,null,null,null,null,null,null,null,null,null,null,null,null,null,504.4,5,538.08827689271152,605,66.911723107288367,128]
[null,null,null,"",null,null,null,null,null,null,null,null,null,null,null,null,null,null,null,null,null,null,null,null,null,null,509.75,4,543.61646571462688,567,23.383534285373003]
[null,null,null,"",null,null,null,null,null,null,null,null,null,null,null,null,null,null,null,null,null,null,null,null,null,null,513.75,4,547.74908086992946,547.5,-0.24908086992957124]
[null,null,null,"",null,null,null,null,null,null,null,null,null,null,null,null,null,null,null,null,null,null,null,null,null,null,508.33333333333331,3,542.15270647950501,561,18.847293520494873,128]
[null,null,null,"",null,null,null,null,null,null,null,null,null,null,null,null,null,null,null,null,null,null,null,null,null,null,538,3,572.79224051422966,561,-11.792240514229775]
[null,null,null,"",null,null,null,null,null,null,null,null,null,null,null,null,null,null,null,null,null,null,null,null,null,null,554.25,4,589.56377210098071,561,-28.563772100980827]
[null,null,null,"",null,null,null,null,null,null,null,null,null,null,null,null,null,null,null,null,null,null,null,null,null,null,553.79999999999995,5,589.09943342321515,540,-49.09943342321526]
[null,null,null,"",null,null,null,null,null,null,null,null,null,null,null,null,null,null,null,null,null,null,null,null,null,null,549.5,6,584.66212450919318,546,-38.662124509193291]
[null,null,null,"",null,null,null,null,null,null,null,null,null,null,null,null,null,null,null,null,null,null,null,null,null,null,556,6,591.36947836765478,567.5,-23.869478367654892]
[null,null,null,"",null,null,null,null,null,null,null,null,null,null,null,null,null,null,null,null,null,null,null,null,null,null,556.16666666666663,6,591.5414458179207,567.5,-24.041445817920817]
[null,null,null,"",null,null,null,null,null,null,null,null,null,null,null,null,null,null,null,null,null,null,null,null,null,null,558.16666666666663,6,593.60499337660031,560.5,-33.104993376600419]
[null,null,null,"",null,null,null,null,null,null,null,null,null,null,null,null,null,null,null,null,null,null,null,null,null,null,556,6,591.36947836765478,618.5,27.130521632345108]
[null,null,null,"",null,null,null,null,null,null,null,null,null,null,null,null,null,null,null,null,null,null,null,null,null,null,556.79999999999995,5,592.19491488900621,715.5,123.30508511099367]
[null,null,null,"",null,null,null,null,null,null,null,null,null,null,null,null,null,null,null,null,null,null,null,null,null,null,564,4,599.62302626111375,716,116.37697373888614,135]
[null,null,null,"",null,null,null,null,null,null,null,null,null,null,null,null,null,null,null,null,null,null,null,null,null,null,564,3,599.62302626111375,648,48.376973738886136]
[null,null,null,{"$f":"IF(H196<>\"\",$D$1,\"\")","v":""},null,null,null,null,null,null,null,null,null,null,null,null,null,null,null,null,null,null,null,null,null,null,560.5,2,596.01232180525517,572.5,-23.512321805255283]
[null,null,null,"",null,null,null,null,null,null,null,null,null,null,null,null,null,null,null,null,null,null,null,null,null,null,543.5,2,578.46962968062428,559,-19.469629680624394]
[null,null,null,"",null,null,null,null,null,null,null,null,null,null,null,null,null,null,null,null,null,null,null,null,null,null,559,2,594.46477125261072,580.5,-13.964771252610831]
[null,null,null,"",null,null,null,null,null,null,null,null,null,null,null,null,null,null,null,null,null,null,null,null,null,null,563.66666666666663,3,599.27916447291432,576.5,-22.779164472914431]
[null,null,null,"",null,null,null,null,null,null,null,null,null,null,null,null,null,null,null,null,null,null,null,null,null,null,567.75,4,603.49125767233159,557,-46.491257672331699]
[null,null,null,"",null,null,null,null,null,null,null,null,null,null,null,null,null,null,null,null,null,null,null,null,null,null,570,6,605.81200915893999,552.5,-53.3120091589401]
[null,null,null,"",null,null,null,null,null,null,null,null,null,null,null,null,null,null,null,null,null,null,null,null,null,null,562.66666666666663,6,598.24756041598107,571,-27.247560415981184]
[null,null,null,"",null,null,null,null,null,null,null,null,null,null,null,null,null,null,null,null,null,null,null,null,null,null,569.5,6,605.29629869134521,578,-27.296298691345328]
[null,null,null,"",null,null,null,null,null,null,null,null,null,null,null,null,null,null,null,null,null,null,null,null,null,null,569,6,604.78058132562967,587,-17.780581325629782]
[null,null,null,"",null,null,null,null,null,null,null,null,null,null,null,null,null,null,null,null,null,null,null,null,null,null,571.66666666666663,6,607.53099434752517,584,-23.530994347525279]
[null,null,null,"",null,null,null,null,null,null,null,null,null,null,null,null,null,null,null,null,null,null,null,null,null,null,571.5,6,607.3590992636457,573.5,-33.859099263645817]
[null,null,null,"",null,null,null,null,null,null,null,null,null,null,null,null,null,null,null,null,null,null,null,null,null,null,577.16666666666663,6,613.20310655742162,581.5,-31.703106557421734]
[null,null,null,"",null,null,null,null,null,null,null,null,null,null,null,null,null,null,null,null,null,null,null,null,null,null,581.16666666666663,6,617.32776454822988,605.5,-11.827764548229993]
[null,null,null,"",null,null,null,null,null,null,null,null,null,null,null,null,null,null,null,null,null,null,null,null,null,null,588.66666666666663,6,625.06034743682233,605.5,-19.56034743682244]
[null,null,null,"",null,null,null,null,null,null,null,null,null,null,null,null,null,null,null,null,null,null,null,null,null,null,590.33333333333337,6,626.77849762161725,591.5,-35.278497621617362]
[null,null,null,"",null,null,null,null,null,null,null,null,null,null,null,null,null,null,null,null,null,null,null,null,null,null,590.16666666666663,6,626.60668587632131,590.5,-36.106685876321421]
[null,null,null,"",null,null,null,null,null,null,null,null,null,null,null,null,null,null,null,null,null,null,null,null,null,null,592.5,6,629.01198433391426,596,-33.01198433391437]
[null,null,null,"",null,null,null,null,null,null,null,null,null,null,null,null,null,null,null,null,null,null,null,null,null,null,597.66666666666663,6,634.33749976328443,628,-6.3374997632845407]
[null,null,null,"",null,null,null,null,null,null,null,null,null,null,null,null,null,null,null,null,null,null,null,null,null,null,598.20000000000005,5,634.88719122527652,703.5,68.612808774723362]
[null,null,null,"",null,null,null,null,null,null,null,null,null,null,null,null,null,null,null,null,null,null,null,null,null,null,593.75,4,630.30047879303356,749.5,119.19952120696632,139]
[null,null,null,"",null,null,null,null,null,null,null,null,null,null,null,null,null,null,null,null,null,null,null,null,null,null,593.33333333333337,3,629.87098514622357,704.5,74.629014853776312]
[null,null,null,"",null,null,null,null,null,null,null,null,null,null,null,null,null,null,null,null,null,null,null,null,null,null,596,2,632.61966684720107,654,21.380333152798812]
[null,null,null,"",null,null,null,null,null,null,null,null,null,null,null,null,null,null,null,null,null,null,null,null,null,null,596,1,632.61966684720107,642,9.3803331527988121]
[null,null,null,"",null,null,null,null,null,null,null,null,null,null,null,null,null,null,null,null,null,null,null,null,null,null,596,1,632.61966684720107,642.5,9.8803331527988121]
[null,null,null,"",null,null,null,null,null,null,null,null,null,null,null,null,null,null,null,null,null,null,null,null,null,null,596,1,632.61966684720107,639,6.3803331527988121]
[null,null,null,"",null,null,null,null,null,null,null,null,null,null,null,null,null,null,null,null,null,null,null,null,null,null,632.5,2,670.22432901987781,653,-17.224329019877928]
[null,null,null,"",null,null,null,null,null,null,null,null,null,null,null,null,null,null,null,null,null,null,null,null,null,null,649.83333333333337,6,688.07107646757186,673.5,-14.57107646757197]
[null,null,null,"",null,null,null,null,null,null,null,null,null,null,null,null,null,null,null,null,null,null,null,null,null,null,651.5,6,689.78674705430069,644,-45.786747054300804]
[null,null,null,"",null,null,null,null,null,null,null,null,null,null,null,null,null,null,null,null,null,null,null,null,null,null,646.5,6,684.63954640527334,685,0.36045359472655036]
[null,null,null,"",null,null,null,null,null,null,null,null,null,null,null,null,null,null,null,null,null,null,null,null,null,null,648.6,5,686.80143976344345,964.5,277.69856023655643]
[null,null,null,"",null,null,null,null,null,null,null,null,null,null,null,null,null,null,null,null,null,null,null,null,null,null,648.5,4,686.69849473474051,1726,1039.3015052652595]
[null,null,null,"",null,null,null,null,null,null,null,null,null,null,null,null,null,null,null,null,null,null,null,null,null,null,655,3,693.38945167620921,2653.5,1960.1105483237907,146]
[null,null,null,"",null,null,null,null,null,null,null,null,null,null,null,null,null,null,null,null,null,null,null,null,null,null,644,2,682.06573262134862,2608,1925.9342673786514]
[null,null,null,"",null,null,null,null,null,null,null,null,null,null,null,null,null,null,null,null,null,null,null,null,null,null,644,1,682.06573262134862,1659.5,977.43426737865127]
[null,null,null,"",null,null,null,null,null,null,null,null,null,null,null,null,null,null,null,null,null,null,null,null,null,null,644,0,682.06573262134862,929,246.93426737865127]
[null,null,null,"",null,null,null,null,null,null,null,null,null,null,null,null,null,null,null,null,null,null,null,null,null,null,644,0,682.06573262134862,692.5,10.434267378651271]
[null,null,null,"",null,null,null,null,null,null,null,null,null,null,null,null,null,null,null,null,null,null,null,null,null,null,644,1,682.06573262134862,647.5,-34.565732621348729]
[null,null,null,"",null,null,null,null,null,null,null,null,null,null,null,null,null,null,null,null,null,null,null,null,null,null,647.5,2,685.66903194999838,653,-32.669031949998498]
[null,null,null,"",null,null,null,null,null,null,null,null,null,null,null,null,null,null,null,null,null,null,null,null,null,null,656,3,694.41874542459709,667.5,-26.918745424597205]
[null,null,null,"",null,null,null,null,null,null,null,null,null,null,null,null,null,null,null,null,null,null,null,null,null,null,657.5,4,695.96264421487422,681.5,-14.462644214874331]
[null,null,null,"",null,null,null,null,null,null,null,null,null,null,null,null,null,null,null,null,null,null,null,null,null,null,666.2,5,704.9162756473296,696,-8.9162756473297122]
[null,null,null,"",null,null,null,null,null,null,null,null,null,null,null,null,null,null,null,null,null,null,null,null,null,null,670.33333333333337,6,709.16952779159612,692,-17.169527791596238]
[null,null,null,"",null,null,null,null,null,null,null,null,null,null,null,null,null,null,null,null,null,null,null,null,null,null,675.5,6,714.48557425510103,711.5,-2.9855742551011417]
[null,null,null,"",null,null,null,null,null,null,null,null,null,null,null,null,null,null,null,null,null,null,null,null,null,null,684,5,723.23009049186612,736,12.769909508133765,149]
[null,null,null,"",null,null,null,null,null,null,null,null,null,null,null,null,null,null,null,null,null,null,null,null,null,null,695.4,5,734.95565699113081,707,-27.955656991130923]
[null,null,null,"",null,null,null,null,null,null,null,null,null,null,null,null,null,null,null,null,null,null,null,null,null,null,704.83333333333337,6,744.65637942476144,684.5,-60.156379424761553]
[null,null,null,"",null,null,null,null,null,null,null,null,null,null,null,null,null,null,null,null,null,null,null,null,null,null,704.16666666666663,6,743.97087498689325,663,-80.970874986893364]
[null,null,null,"",null,null,null,null,null,null,null,null,null,null,null,null,null,null,null,null,null,null,null,null,null,null,693.83333333333337,6,733.34440773026665,636,-97.344407730266767]
[null,null,null,"",null,null,null,null,null,null,null,null,null,null,null,null,null,null,null,null,null,null,null,null,null,null,685.5,6,724.77308238475814,667.5,-57.273082384758254]
[null,null,null,"",null,null,null,null,null,null,null,null,null,null,null,null,null,null,null,null,null,null,null,null,null,null,666.6,5,705.32789692198639,671.5,-33.827896921986508]
[null,null,null,"",null,null,null,null,null,null,null,null,null,null,null,null,null,null,null,null,null,null,null,null,null,null,664,6,702.65229618017543,670,-32.65229618017554]
[null,null,null,"",null,null,null,null,null,null,null,null,null,null,null,null,null,null,null,null,null,null,null,null,null,null,666.83333333333337,6,705.56800772205133,685,-20.568007722051448]
[null,null,null,"",null,null,null,null,null,null,null,null,null,null,null,null,null,null,null,null,null,null,null,null,null,null,664.16666666666663,6,702.82381348326442,670.5,-32.32381348326453]
[null,null,null,"",null,null,null,null,null,null,null,null,null,null,null,null,null,null,null,null,null,null,null,null,null,null,669.33333333333337,6,708.14054915719794,683.5,-24.640549157198052]
[null,null,null,"",null,null,null,null,null,null,null,null,null,null,null,null,null,null,null,null,null,null,null,null,null,null,680,6,719.11521443121592,681.5,-37.615214431216032]
[null,null,null,"",null,null,null,null,null,null,null,null,null,null,null,null,null,null,null,null,null,null,null,null,null,null,674,6,712.94226495724149,671,-41.942264957241605]
[null,null,null,"",null,null,null,null,null,null,null,null,null,null,null,null,null,null,null,null,null,null,null,null,null,null,679.83333333333337,6,718.94375393961172,692.5,-26.443753939611838]
[null,null,null,"",null,null,null,null,null,null,null,null,null,null,null,null,null,null,null,null,null,null,null,null,null,null,681.5,6,720.65833244661985,698,-22.658332446619966]
[null,null,null,"",null,null,null,null,null,null,null,null,null,null,null,null,null,null,null,null,null,null,null,null,null,null,684.16666666666663,6,723.40153636187529,709,-14.401536361875401]
[null,null,null,"",null,null,null,null,null,null,null,null,null,null,null,null,null,null,null,null,null,null,null,null,null,null,694.33333333333337,6,733.85864168127671,682.5,-51.358641681276822]
[null,null,null,"",null,null,null,null,null,null,null,null,null,null,null,null,null,null,null,null,null,null,null,null,null,null,683.83333333333337,6,723.05864403955979,680,-43.058644039559908]
[null,null,null,"",null,null,null,null,null,null,null,null,null,null,null,null,null,null,null,null,null,null,null,null,null,null,693.83333333333337,6,733.34440773026665,742,8.6555922697332335]
[null,null,null,"",null,null,null,null,null,null,null,null,null,null,null,null,null,null,null,null,null,null,null,null,null,null,695.4,5,734.95565699113081,862.5,127.54434300886908]
[null,null,null,"",null,null,null,null,null,null,null,null,null,null,null,null,null,null,null,null,null,null,null,null,null,null,694.5,4,734.03005185931329,1001,266.9699481406866]
[null,null,null,{"$f":"IF(H260<>\"\",$D$1,\"\")","v":""},null,null,null,null,null,null,null,null,null,null,null,null,null,null,null,null,null,null,null,null,null,null,693.66666666666663,3,733.17299527361263,1040.5,307.32700472638726,150]
[null,null,null,"",null,null,null,null,null,null,null,null,null,null,null,null,null,null,null,null,null,null,null,null,null,null,680,2,719.11521443121592,947.5,228.38478556878397]
[null,null,null,"",null,null,null,null,null,null,null,null,null,null,null,null,null,null,null,null,null,null,null,null,null,null,680,1,719.11521443121592,819.5,100.38478556878397]
[null,null,null,"",null,null,null,null,null,null,null,null,null,null,null,null,null,null,null,null,null,null,null,null,null,null,680,0,719.11521443121592,821,101.88478556878397]
[null,null,null,"",null,null,null,null,null,null,null,null,null,null,null,null,null,null,null,null,null,null,null,null,null,null,680,0,719.11521443121592,1043.5,324.38478556878397]
[null,null,null,"",null,null,null,null,null,null,null,null,null,null,null,null,null,null,null,null,null,null,null,null,null,null,680,0,719.11521443121592,1602,882.88478556878397]
[null,null,null,"",null,null,null,null,null,null,null,null,null,null,null,null,null,null,null,null,null,null,null,null,null,null,680,0,719.11521443121592,2272.5,1553.3847855687841]
[null,null,null,"",null,null,null,null,null,null,null,null,null,null,null,null,null,null,null,null,null,null,null,null,null,null,680,0,719.11521443121592,2328,1608.8847855687841,149]
[null,null,null,"",null,null,null,null,null,null,null,null,null,null,null,null,null,null,null,null,null,null,null,null,null,null,680,0,719.11521443121592,1664,944.88478556878397]
[null,null,null,"",null,null,null,null,null,null,null,null,null,null,null,null,null,null,null,null,null,null,null,null,null,null,680,0,719.11521443121592,998,278.88478556878397]
[null,null,null,"",null,null,null,null,null,null,null,null,null,null,null,null,null,null,null,null,null,null,null,null,null,null,680,0,719.11521443121592,742.5,23.384785568783968]
[null,null,null,"",null,null,null,null,null,null,null,null,null,null,null,null,null,null,null,null,null,null,null,null,null,null,680,1,719.11521443121592,817.5,98.384785568783968]
[null,null,null,"",null,null,null,null,null,null,null,null,null,null,null,null,null,null,null,null,null,null,null,null,null,null,680,1,719.11521443121592,1309,589.88478556878397]
[null,null,null,"",null,null,null,null,null,null,null,null,null,null,null,null,null,null,null,null,null,null,null,null,null,null,680,1,719.11521443121592,2143,1423.8847855687841]
[null,null,null,"",null,null,null,null,null,null,null,null,null,null,null,null,null,null,null,null,null,null,null,null,null,null,680,1,719.11521443121592,2622.5,1903.3847855687841,149]
[null,null,null,"",null,null,null,null,null,null,null,null,null,null,null,null,null,null,null,null,null,null,null,null,null,null,680,1,719.11521443121592,2193,1473.8847855687841]
[null,null,null,"",null,null,null,null,null,null,null,null,null,null,null,null,null,null,null,null,null,null,null,null,null,null,680,1,719.11521443121592,1323.5,604.38478556878397]
[null,null,null,"",null,null,null,null,null,null,null,null,null,null,null,null,null,null,null,null,null,null,null,null,null,null,680,0,719.11521443121592,778,58.884785568783968]
[null,null,null,"",null,null,null,null,null,null,null,null,null,null,null,null,null,null,null,null,null,null,null,null,null,null,680,1,719.11521443121592,607,-112.11521443121603]
[null,null,null,"",null,null,null,null,null,null,null,null,null,null,null,null,null,null,null,null,null,null,null,null,null,null,607,2,643.95605498426471,607.5,-36.456054984264824]
[null,null,null,"",null,null,null,null,null,null,null,null,null,null,null,null,null,null,null,null,null,null,null,null,null,null,613.66666666666663,3,650.82511119815911,659,8.1748888018407797]
[null,null,null,"",null,null,null,null,null,null,null,null,null,null,null,null,null,null,null,null,null,null,null,null,null,null,613.66666666666663,3,650.82511119815911,703,52.17488880184078]
[null,null,null,"",null,null,null,null,null,null,null,null,null,null,null,null,null,null,null,null,null,null,null,null,null,null,613.66666666666663,3,650.82511119815911,719,68.17488880184078,141]
[null,null,null,"",null,null,null,null,null,null,null,null,null,null,null,null,null,null,null,null,null,null,null,null,null,null,613.66666666666663,3,650.82511119815911,682.5,31.67488880184078]
[null,null,null,"",null,null,null,null,null,null,null,null,null,null,null,null,null,null,null,null,null,null,null,null,null,null,619,3,656.31956591387416,625.5,-30.819565913874271]
[null,null,null,"",null,null,null,null,null,null,null,null,null,null,null,null,null,null,null,null,null,null,null,null,null,null,626,3,663.5299880095904,604.5,-59.029988009590511]
[null,null,null,"",null,null,null,null,null,null,null,null,null,null,null,null,null,null,null,null,null,null,null,null,null,null,617,3,654.25922704512266,626,-28.259227045122771]
[null,null,null,"",null,null,null,null,null,null,null,null,null,null,null,null,null,null,null,null,null,null,null,null,null,null,625.75,4,663.27249325404694,690,26.727506745952951,143]
[null,null,null,"",null,null,null,null,null,null,null,null,null,null,null,null,null,null,null,null,null,null,null,null,null,null,625.75,4,663.27249325404694,686.5,23.227506745952951]
[null,null,null,"",null,null,null,null,null,null,null,null,null,null,null,null,null,null,null,null,null,null,null,null,null,null,629.6,5,667.23774701014929,654.5,-12.737747010149405]
[null,null,null,"",null,null,null,null,null,null,null,null,null,null,null,null,null,null,null,null,null,null,null,null,null,null,634,5,671.76903493604254,629.5,-42.269034936042658]
[null,null,null,"",null,null,null,null,null,null,null,null,null,null,null,null,null,null,null,null,null,null,null,null,null,null,631.20000000000005,5,668.88554099386135,622,-46.885540993861468]
[null,null,null,"",null,null,null,null,null,null,null,null,null,null,null,null,null,null,null,null,null,null,null,null,null,null,641,5,678.9769667035165,639,-39.976966703516609]
[null,null,null,"",null,null,null,null,null,null,null,null,null,null,null,null,null,null,null,null,null,null,null,null,null,null,636.4,5,674.24045454272448,616.5,-57.740454542724592]
[null,null,null,"",null,null,null,null,null,null,null,null,null,null,null,null,null,null,null,null,null,null,null,null,null,null,631,6,668.67957006124141,641,-27.67957006124152]
[null,null,null,"",null,null,null,null,null,null,null,null,null,null,null,null,null,null,null,null,null,null,null,null,null,null,636.5,6,674.34342743462855,700.5,26.156572565371334]
[null,null,null,"",null,null,null,null,null,null,null,null,null,null,null,null,null,null,null,null,null,null,null,null,null,null,631,5,668.67957006124141,814,145.32042993875848]
[null,null,null,"",null,null,null,null,null,null,null,null,null,null,null,null,null,null,null,null,null,null,null,null,null,null,640,4,677.94733192202057,969,291.05266807797932]
[null,null,null,"",null,null,null,null,null,null,null,null,null,null,null,null,null,null,null,null,null,null,null,null,null,null,637,3,674.85828839237183,1112.5,437.64171160762805]
[null,null,null,"",null,null,null,null,null,null,null,null,null,null,null,null,null,null,null,null,null,null,null,null,null,null,641,2,678.9769667035165,1178.5,499.52303329648339,144]
[null,null,null,"",null,null,null,null,null,null,null,null,null,null,null,null,null,null,null,null,null,null,null,null,null,null,641,1,678.9769667035165,1112,433.02303329648339]
[null,null,null,"",null,null,null,null,null,null,null,null,null,null,null,null,null,null,null,null,null,null,null,null,null,null,641,0,678.9769667035165,950.5,271.52303329648339]
[null,null,null,"",null,null,null,null,null,null,null,null,null,null,null,null,null,null,null,null,null,null,null,null,null,null,641,0,678.9769667035165,797,118.02303329648339]
[null,null,null,"",null,null,null,null,null,null,null,null,null,null,null,null,null,null,null,null,null,null,null,null,null,null,641,0,678.9769667035165,676,-2.9769667035166094]
[null,null,null,"",null,null,null,null,null,null,null,null,null,null,null,null,null,null,null,null,null,null,null,null,null,null,641,1,678.9769667035165,582,-96.976966703516609]
[null,null,null,"",null,null,null,null,null,null,null,null,null,null,null,null,null,null,null,null,null,null,null,null,null,null,582,2,618.18701424544452,647,28.81298575455537]
[null,null,null,"",null,null,null,null,null,null,null,null,null,null,null,null,null,null,null,null,null,null,null,null,null,null,582,2,618.18701424544452,831.5,213.31298575455537]
[null,null,null,"",null,null,null,null,null,null,null,null,null,null,null,null,null,null,null,null,null,null,null,null,null,null,582,2,618.18701424544452,1027.5,409.31298575455537]
[null,null,null,"",null,null,null,null,null,null,null,null,null,null,null,null,null,null,null,null,null,null,null,null,null,null,582,2,618.18701424544452,1274.5,656.31298575455537,137]
[null,null,null,"",null,null,null,null,null,null,null,null,null,null,null,null,null,null,null,null,null,null,null,null,null,null,582,2,618.18701424544452,1272,653.81298575455537]
[null,null,null,"",null,null,null,null,null,null,null,null,null,null,null,null,null,null,null,null,null,null,null,null,null,null,582,1,618.18701424544452,954.5,336.31298575455537]
[null,null,null,"",null,null,null,null,null,null,null,null,null,null,null,null,null,null,null,null,null,null,null,null,null,null,582,0,618.18701424544452,722,103.81298575455537]
[null,null,null,"",null,null,null,null,null,null,null,null,null,null,null,null,null,null,null,null,null,null,null,null,null,null,582,0,618.18701424544452,601.5,-16.68701424544463]
[null,null,null,"",null,null,null,null,null,null,null,null,null,null,null,null,null,null,null,null,null,null,null,null,null,null,582,1,618.18701424544452,569,-49.18701424544463]
[null,null,null,"",null,null,null,null,null,null,null,null,null,null,null,null,null,null,null,null,null,null,null,null,null,null,569,2,604.78058132562967,645,40.219418674370218]
[null,null,null,"",null,null,null,null,null,null,null,null,null,null,null,null,null,null,null,null,null,null,null,null,null,null,569,2,604.78058132562967,689,84.219418674370218]
[null,null,null,"",null,null,null,null,null,null,null,null,null,null,null,null,null,null,null,null,null,null,null,null,null,null,569,2,604.78058132562967,942,337.21941867437022]
[null,null,null,"",null,null,null,null,null,null,null,null,null,null,null,null,null,null,null,null,null,null,null,null,null,null,569,2,604.78058132562967,967,362.21941867437022,136]
[null,null,null,"",null,null,null,null,null,null,null,null,null,null,null,null,null,null,null,null,null,null,null,null,null,null,569,2,604.78058132562967,830,225.21941867437022]
[null,null,null,"",null,null,null,null,null,null,null,null,null,null,null,null,null,null,null,null,null,null,null,null,null,null,569,1,604.78058132562967,670,65.219418674370218]
[null,null,null,"",null,null,null,null,null,null,null,null,null,null,null,null,null,null,null,null,null,null,null,null,null,null,569,0,604.78058132562967,533,-71.780581325629782]
[null,null,null,"",null,null,null,null,null,null,null,null,null,null,null,null,null,null,null,null,null,null,null,null,null,null,569,1,604.78058132562967,564,-40.780581325629782]
[null,null,null,"",null,null,null,null,null,null,null,null,null,null,null,null,null,null,null,null,null,null,null,null,null,null,548.5,2,583.63011528589107,566,-17.630115285891179]
[null,null,null,"",null,null,null,null,null,null,null,null,null,null,null,null,null,null,null,null,null,null,null,null,null,null,554.33333333333337,3,589.64976010615396,914,324.35023989384592]
[null,null,null,{"$f":"IF(H324<>\"\",$D$1,\"\")","v":""},null,null,null,null,null,null,null,null,null,null,null,null,null,null,null,null,null,null,null,null,null,null,554.33333333333337,3,589.64976010615396,1731,1141.3502398938458]
[null,null,null,"",null,null,null,null,null,null,null,null,null,null,null,null,null,null,null,null,null,null,null,null,null,null,554.33333333333337,3,589.64976010615396,2846,2256.3502398938458]
[null,null,null,"",null,null,null,null,null,null,null,null,null,null,null,null,null,null,null,null,null,null,null,null,null,null,554.33333333333337,3,589.64976010615396,3107,2517.3502398938458]
[null,null,null,"",null,null,null,null,null,null,null,null,null,null,null,null,null,null,null,null,null,null,null,null,null,null,565,2,600.65459297201414,2642,2041.3454070279859,135]
[null,null,null,"",null,null,null,null,null,null,null,null,null,null,null,null,null,null,null,null,null,null,null,null,null,null,565,1,600.65459297201414,1644,1043.3454070279859]
[null,null,null,"",null,null,null,null,null,null,null,null,null,null,null,null,null,null,null,null,null,null,null,null,null,null,565,0,600.65459297201414,1010,409.34540702798574]
[null,null,null,"",null,null,null,null,null,null,null,null,null,null,null,null,null,null,null,null,null,null,null,null,null,null,565,0,600.65459297201414,724,123.34540702798574]
[null,null,null,"",null,null,null,null,null,null,null,null,null,null,null,null,null,null,null,null,null,null,null,null,null,null,565,0,600.65459297201414,601,0.3454070279857433]
[null,null,null,"",null,null,null,null,null,null,null,null,null,null,null,null,null,null,null,null,null,null,null,null,null,null,565,1,600.65459297201414,591,-9.6545929720142567]
[null,null,null,"",null,null,null,null,null,null,null,null,null,null,null,null,null,null,null,null,null,null,null,null,null,null,596,2,632.61966684720107,623,-9.6196668472011879]
[null,null,null,"",null,null,null,null,null,null,null,null,null,null,null,null,null,null,null,null,null,null,null,null,null,null,605,3,641.89512162874655,600,-41.895121628746665]
[null,null,null,"",null,null,null,null,null,null,null,null,null,null,null,null,null,null,null,null,null,null,null,null,null,null,603.75,4,640.60698712591682,524,-116.60698712591693]
[null,null,null,"",null,null,null,null,null,null,null,null,null,null,null,null,null,null,null,null,null,null,null,null,null,null,587.79999999999995,5,624.16688053710402,503,-121.16688053710413]
[null,null,null,"",null,null,null,null,null,null,null,null,null,null,null,null,null,null,null,null,null,null,null,null,null,null,573.66666666666663,6,609.59367600504606,504,-105.59367600504618]
[null,null,null,"",null,null,null,null,null,null,null,null,null,null,null,null,null,null,null,null,null,null,null,null,null,null,544.4,5,579.39857139941569,528,-51.3985713994158]
[null,null,null,"",null,null,null,null,null,null,null,null,null,null,null,null,null,null,null,null,null,null,null,null,null,null,514.75,4,548.78215391361528,527,-21.782153913615389]
[null,null,null,"",null,null,null,null,null,null,null,null,null,null,null,null,null,null,null,null,null,null,null,null,null,null,517.20000000000005,5,551.31304735727963,509,-42.313047357279743]
[null,null,null,"",null,null,null,null,null,null,null,null,null,null,null,null,null,null,null,null,null,null,null,null,null,null,515.83333333333337,6,549.90128014554966,512,-37.901280145549777]
[null,null,null,"",null,null,null,null,null,null,null,null,null,null,null,null,null,null,null,null,null,null,null,null,null,null,513.83333333333337,6,547.83517151893739,524,-23.8351715189375]
[null,null,null,"",null,null,null,null,null,null,null,null,null,null,null,null,null,null,null,null,null,null,null,null,null,null,517.33333333333337,6,551.45077755179727,538,-13.450777551797387]
[null,null,null,"",null,null,null,null,null,null,null,null,null,null,null,null,null,null,null,null,null,null,null,null,null,null,523,6,557.30378987808785,551,-6.3037898780879686]
[null,null,null,"",null,null,null,null,null,null,null,null,null,null,null,null,null,null,null,null,null,null,null,null,null,null,526.83333333333337,6,561.2626086669793,645,83.737391333020582]
[null,null,null,"",null,null,null,null,null,null,null,null,null,null,null,null,null,null,null,null,null,null,null,null,null,null,526.79999999999995,5,561.22818612706737,574,12.771813872932512,131]
[null,null,null,"",null,null,null,null,null,null,null,null,null,null,null,null,null,null,null,null,null,null,null,null,null,null,531.25,4,565.82329171484832,696,130.17670828515156]
[null,null,null,"",null,null,null,null,null,null,null,null,null,null,null,null,null,null,null,null,null,null,null,null,null,null,546.75,4,581.82402885326974,1381,799.17597114673015]
[null,null,null,"",null,null,null,null,null,null,null,null,null,null,null,null,null,null,null,null,null,null,null,null,null,null,554.33333333333337,3,589.64976010615396,2843,2253.3502398938458]
[null,null,null,"",null,null,null,null,null,null,null,null,null,null,null,null,null,null,null,null,null,null,null,null,null,null,562.5,2,598.07562367689422,3917,3318.9243763231057]
[null,null,null,"",null,null,null,null,null,null,null,null,null,null,null,null,null,null,null,null,null,null,null,null,null,null,562.5,1,598.07562367689422,2861,2262.9243763231057,135]
[null,null,null,"",null,null,null,null,null,null,null,null,null,null,null,null,null,null,null,null,null,null,null,null,null,null,562.5,1,598.07562367689422,1454,855.92437632310566]
[null,null,null,"",null,null,null,null,null,null,null,null,null,null,null,null,null,null,null,null,null,null,null,null,null,null,562.5,0,598.07562367689422,698,99.924376323105662]
[null,null,null,"",null,null,null,null,null,null,null,null,null,null,null,null,null,null,null,null,null,null,null,null,null,null,562.5,0,598.07562367689422,499,-99.075623676894338]
[null,null,null,"",null,null,null,null,null,null,null,null,null,null,null,null,null,null,null,null,null,null,null,null,null,null,562.5,1,598.07562367689422,507,-91.075623676894338]
[null,null,null,"",null,null,null,null,null,null,null,null,null,null,null,null,null,null,null,null,null,null,null,null,null,null,503,2,536.64149223800871,471,-65.641492238008823]
[null,null,null,"",null,null,null,null,null,null,null,null,null,null,null,null,null,null,null,null,null,null,null,null,null,null,492.33333333333331,3,525.61621181461851,487,-38.616211814618623]
[null,null,null,"",null,null,null,null,null,null,null,null,null,null,null,null,null,null,null,null,null,null,null,null,null,null,491,4,524.2377797092405,483,-41.237779709240613]
[null,null,null,"",null,null,null,null,null,null,null,null,null,null,null,null,null,null,null,null,null,null,null,null,null,null,489.4,5,522.58358027699842,501,-21.583580276998532]
[null,null,null,"",null,null,null,null,null,null,null,null,null,null,null,null,null,null,null,null,null,null,null,null,null,null,491.33333333333331,6,524.58239347042593,499,-25.582393470426041]
[null,null,null,"",null,null,null,null,null,null,null,null,null,null,null,null,null,null,null,null,null,null,null,null,null,null,491.33333333333331,6,524.58239347042593,513,-11.582393470426041]
[null,null,null,"",null,null,null,null,null,null,null,null,null,null,null,null,null,null,null,null,null,null,null,null,null,null,492.33333333333331,6,525.61621181461851,517,-8.6162118146186231]
[null,null,null,"",null,null,null,null,null,null,null,null,null,null,null,null,null,null,null,null,null,null,null,null,null,null,500,6,533.54101966249686,485,-48.541019662496979]
[null,null,null,"",null,null,null,null,null,null,null,null,null,null,null,null,null,null,null,null,null,null,null,null,null,null,499.66666666666669,6,533.19650412526471,532,-1.1965041252648234]
[null,null,null,"",null,null,null,null,null,null,null,null,null,null,null,null,null,null,null,null,null,null,null,null,null,null,507.83333333333331,6,541.63606990894209,514,-27.636069908942204]
[null,null,null,"",null,null,null,null,null,null,null,null,null,null,null,null,null,null,null,null,null,null,null,null,null,null,510,6,543.87476937190866,542,-1.8747693719087692]
[null,null,null,"",null,null,null,null,null,null,null,null,null,null,null,null,null,null,null,null,null,null,null,null,null,null,517.16666666666663,6,551.27861472009795,526,-25.278614720098062]
[null,null,null,"",null,null,null,null,null,null,null,null,null,null,null,null,null,null,null,null,null,null,null,null,null,null,519.33333333333337,6,553.51666260360776,569,15.48333739639213]
[null,null,null,"",null,null,null,null,null,null,null,null,null,null,null,null,null,null,null,null,null,null,null,null,null,null,519.79999999999995,5,553.99868418521385,564,10.001315814786039,130]
[null,null,null,"",null,null,null,null,null,null,null,null,null,null,null,null,null,null,null,null,null,null,null,null,null,null,535.6,5,570.31455026354229,601,30.685449736457599]
[null,null,null,"",null,null,null,null,null,null,null,null,null,null,null,null,null,null,null,null,null,null,null,null,null,null,543,5,577.95354059319311,565,-12.953540593193225]
[null,null,null,"",null,null,null,null,null,null,null,null,null,null,null,null,null,null,null,null,null,null,null,null,null,null,553.20000000000005,5,588.48030612112098,546,-42.480306121121089]
[null,null,null,"",null,null,null,null,null,null,null,null,null,null,null,null,null,null,null,null,null,null,null,null,null,null,554,5,589.30580688781947,507,-82.305806887819585]
[null,null,null,"",null,null,null,null,null,null,null,null,null,null,null,null,null,null,null,null,null,null,null,null,null,null,558.66666666666663,6,594.12086246913827,513,-81.120862469138387]
[null,null,null,"",null,null,null,null,null,null,null,null,null,null,null,null,null,null,null,null,null,null,null,null,null,null,549.33333333333337,6,584.49012499582727,514,-70.490124995827387]
[null,null,null,"",null,null,null,null,null,null,null,null,null,null,null,null,null,null,null,null,null,null,null,null,null,null,529,5,563.5,523,-40.500000000000114]
[null,null,null,"",null,null,null,null,null,null,null,null,null,null,null,null,null,null,null,null,null,null,null,null,null,null,528,6,562.46737587922814,515,-47.467375879228257]
[null,null,null,"",null,null,null,null,null,null,null,null,null,null,null,null,null,null,null,null,null,null,null,null,null,null,519.66666666666663,6,553.86096443690894,543,-10.860964436909057]
[null,null,null,"",null,null,null,null,null,null,null,null,null,null,null,null,null,null,null,null,null,null,null,null,null,null,519.16666666666663,6,553.34451036693542,526,-27.344510366935538]
[null,null,null,"",null,null,null,null,null,null,null,null,null,null,null,null,null,null,null,null,null,null,null,null,null,null,522.33333333333337,6,556.61525276617726,575,18.384747233822623]
[null,null,null,"",null,null,null,null,null,null,null,null,null,null,null,null,null,null,null,null,null,null,null,null,null,null,524.20000000000005,5,558.54312158205778,578,19.456878417942107,130]
[null,null,null,"",null,null,null,null,null,null,null,null,null,null,null,null,null,null,null,null,null,null,null,null,null,null,526.75,4,561.17655225258545,551,-10.176552252585566]
[null,null,null,"",null,null,null,null,null,null,null,null,null,null,null,null,null,null,null,null,null,null,null,null,null,null,533.75,4,568.40454515644376,501,-67.404545156443874]
[null,null,null,"",null,null,null,null,null,null,null,null,null,null,null,null,null,null,null,null,null,null,null,null,null,null,545.66666666666663,6,580.70593035756065,515,-65.70593035756076]
[null,null,null,"",null,null,null,null,null,null,null,null,null,null,null,null,null,null,null,null,null,null,null,null,null,null,541,6,575.88911004883903,576,0.11088995116085698]
[null,null,null,"",null,null,null,null,null,null,null,null,null,null,null,null,null,null,null,null,null,null,null,null,null,null,549.33333333333337,6,584.49012499582727,524,-60.490124995827387,134]
[null,null,null,"",null,null,null,null,null,null,null,null,null,null,null,null,null,null,null,null,null,null,null,null,null,null,540.83333333333337,6,575.71706879844658,532,-43.717068798446689]
[null,null,null,{"$f":"IF(H388<>\"\",$D$1,\"\")","v":""},null,null,null,null,null,null,null,null,null,null,null,null,null,null,null,null,null,null,null,null,null,null,533.16666666666663,6,567.80226973634046,544,-23.802269736340577]
[null,null,null,"",null,null,null,null,null,null,null,null,null,null,null,null,null,null,null,null,null,null,null,null,null,null,532,6,566.59768778401235,558,-8.5976877840124644]
[null,null,null,"",null,null,null,null,null,null,null,null,null,null,null,null,null,null,null,null,null,null,null,null,null,null,541.5,6,576.40522883466031,504,-72.40522883466042]
[null,null,null,"",null,null,null,null,null,null,null,null,null,null,null,null,null,null,null,null,null,null,null,null,null,null,539.66666666666663,6,574.51275683471852,557,-17.51275683471863]
[null,null,null,"",null,null,null,null,null,null,null,null,null,null,null,null,null,null,null,null,null,null,null,null,null,null,536.5,6,571.2437044657014,600,28.756295534298488]
[null,null,null,"",null,null,null,null,null,null,null,null,null,null,null,null,null,null,null,null,null,null,null,null,null,null,539,5,573.82456029873174,662,88.175439701268147]
[null,null,null,"",null,null,null,null,null,null,null,null,null,null,null,null,null,null,null,null,null,null,null,null,null,null,540.75,4,575.63104786270048,639,63.368952137299402,133]
[null,null,null,"",null,null,null,null,null,null,null,null,null,null,null,null,null,null,null,null,null,null,null,null,null,null,539.66666666666663,3,574.51275683471852,628,53.48724316528137]
[null,null,null,"",null,null,null,null,null,null,null,null,null,null,null,null,null,null,null,null,null,null,null,null,null,null,530.5,2,565.04887841884306,520,-45.048878418843174]
[null,null,null,"",null,null,null,null,null,null,null,null,null,null,null,null,null,null,null,null,null,null,null,null,null,null,538.5,2,573.30840415761691,559,-14.308404157617019]
[null,null,null,"",null,null,null,null,null,null,null,null,null,null,null,null,null,null,null,null,null,null,null,null,null,null,539.5,2,574.34070894801084,521,-53.340708948010956]
[null,null,null,"",null,null,null,null,null,null,null,null,null,null,null,null,null,null,null,null,null,null,null,null,null,null,533.33333333333337,3,567.97434948471096,509,-58.97434948471107]
[null,null,null,"",null,null,null,null,null,null,null,null,null,null,null,null,null,null,null,null,null,null,null,null,null,null,527.25,4,561.69288750961505,521,-40.692887509615161]
[null,null,null,"",null,null,null,null,null,null,null,null,null,null,null,null,null,null,null,null,null,null,null,null,null,null,526,5,560.40203482353911,563,2.5979651764607752]
[null,null,null,"",null,null,null,null,null,null,null,null,null,null,null,null,null,null,null,null,null,null,null,null,null,null,532.16666666666663,6,566.76977346360036,553,-13.769773463600472,131]
[null,null,null,"",null,null,null,null,null,null,null,null,null,null,null,null,null,null,null,null,null,null,null,null,null,null,537.66666666666663,6,572.44812724554401,539,-33.448127245544129]
[null,null,null,"",null,null,null,null,null,null,null,null,null,null,null,null,null,null,null,null,null,null,null,null,null,null,534.33333333333337,6,569.00681022850495,530,-39.00681022850506]
[null,null,null,"",null,null,null,null,null,null,null,null,null,null,null,null,null,null,null,null,null,null,null,null,null,null,535.83333333333337,6,570.55544444426675,526,-44.555444444266868]
[null,null,null,"",null,null,null,null,null,null,null,null,null,null,null,null,null,null,null,null,null,null,null,null,null,null,538.66666666666663,6,573.48045703772505,504,-69.480457037725159]
[null,null,null,"",null,null,null,null,null,null,null,null,null,null,null,null,null,null,null,null,null,null,null,null,null,null,535.83333333333337,6,570.55544444426675,527,-43.555444444266868]
[null,null,null,"",null,null,null,null,null,null,null,null,null,null,null,null,null,null,null,null,null,null,null,null,null,null,529.83333333333337,6,564.36049655303623,474,-90.360496553036342]
[null,null,null,"",null,null,null,null,null,null,null,null,null,null,null,null,null,null,null,null,null,null,null,null,null,null,516.66666666666663,6,550.76212090913123,518,-32.76212090913134]
[null,null,null,"",null,null,null,null,null,null,null,null,null,null,null,null,null,null,null,null,null,null,null,null,null,null,513.16666666666663,6,547.14644006202639,482,-65.1464400620265]
[null,null,null,"",null,null,null,null,null,null,null,null,null,null,null,null,null,null,null,null,null,null,null,null,null,null,505.16666666666669,6,538.8805362161562,502,-36.880536216156315]
[null,null,null,"",null,null,null,null,null,null,null,null,null,null,null,null,null,null,null,null,null,null,null,null,null,null,501.16666666666669,6,534.74679471883474,473,-61.746794718834849]
[null,null,null,"",null,null,null,null,null,null,null,null,null,null,null,null,null,null,null,null,null,null,null,null,null,null,496,6,529.40658617698011,473,-56.406586176980227]
[null,null,null,"",null,null,null,null,null,null,null,null,null,null,null,null,null,null,null,null,null,null,null,null,null,null,487,6,520.10211473607092,512,-8.1021147360710302]
[null,null,null,"",null,null,null,null,null,null,null,null,null,null,null,null,null,null,null,null,null,null,null,null,null,null,493.33333333333331,6,526.6499958312487,496,-30.649995831248816]
[null,null,null,"",null,null,null,null,null,null,null,null,null,null,null,null,null,null,null,null,null,null,null,null,null,null,489.66666666666669,6,522.85928632827222,436,-86.859286328272333]
[null,null,null,"",null,null,null,null,null,null,null,null,null,null,null,null,null,null,null,null,null,null,null,null,null,null,482,6,514.93174760015017,536,21.068252399849712]
[null,null,null,"",null,null,null,null,null,null,null,null,null,null,null,null,null,null,null,null,null,null,null,null,null,null,478,5,510.79481666361318,511,0.20518333638671038,125]
[null,null,null,"",null,null,null,null,null,null,null,null,null,null,null,null,null,null,null,null,null,null,null,null,null,null,485.6,5,518.65450045001444,462,-56.654500450014552]
[null,null,null,"",null,null,null,null,null,null,null,null,null,null,null,null,null,null,null,null,null,null,null,null,null,null,483.4,5,516.37953911139448,512,-4.3795391113945925]
[null,null,null,"",null,null,null,null,null,null,null,null,null,null,null,null,null,null,null,null,null,null,null,null,null,null,483.4,5,516.37953911139448,541,24.620460888605407]
[null,null,null,"",null,null,null,null,null,null,null,null,null,null,null,null,null,null,null,null,null,null,null,null,null,null,480.25,4,513.12191050121669,547,33.878089498783197,125]
[null,null,null,"",null,null,null,null,null,null,null,null,null,null,null,null,null,null,null,null,null,null,null,null,null,null,495,3,528.37289319193053,530,1.6271068080693567]
[null,null,null,"",null,null,null,null,null,null,null,null,null,null,null,null,null,null,null,null,null,null,null,null,null,null,503.75,4,537.41656353119515,505,-32.416563531195266]
[null,null,null,"",null,null,null,null,null,null,null,null,null,null,null,null,null,null,null,null,null,null,null,null,null,null,516.16666666666663,6,550.24561911535557,525,-25.24561911535568]
[null,null,null,"",null,null,null,null,null,null,null,null,null,null,null,null,null,null,null,null,null,null,null,null,null,null,526.66666666666663,6,561.09049562278369,461,-100.09049562278381]
[null,null,null,"",null,null,null,null,null,null,null,null,null,null,null,null,null,null,null,null,null,null,null,null,null,null,518.16666666666663,6,552.31157843987228,467,-85.311578439872392]
[null,null,null,"",null,null,null,null,null,null,null,null,null,null,null,null,null,null,null,null,null,null,null,null,null,null,505.83333333333331,6,539.56944158547174,508,-31.56944158547185]
[null,null,null,"",null,null,null,null,null,null,null,null,null,null,null,null,null,null,null,null,null,null,null,null,null,null,499.33333333333331,6,532.8519848575221,507,-25.851984857522211]
[null,null,null,"",null,null,null,null,null,null,null,null,null,null,null,null,null,null,null,null,null,null,null,null,null,null,495.5,6,528.88974393432807,507,-21.88974393432818]
[null,null,null,"",null,null,null,null,null,null,null,null,null,null,null,null,null,null,null,null,null,null,null,null,null,null,495.83333333333331,6,529.23430637305182,502,-27.234306373051936]
[null,null,null,"",null,null,null,null,null,null,null,null,null,null,null,null,null,null,null,null,null,null,null,null,null,null,492,6,525.27160951922826,523,-2.2716095192283774]
[null,null,null,"",null,null,null,null,null,null,null,null,null,null,null,null,null,null,null,null,null,null,null,null,null,null,502.33333333333331,6,535.95252428136178,503,-32.952524281361889]
[null,null,null,"",null,null,null,null,null,null,null,null,null,null,null,null,null,null,null,null,null,null,null,null,null,null,508.33333333333331,6,542.15270647950501,596,53.847293520494873]
[null,null,null,"",null,null,null,null,null,null,null,null,null,null,null,null,null,null,null,null,null,null,null,null,null,null,508.4,5,542.22159073727903,524,-18.221590737279143,128]
[null,null,null,"",null,null,null,null,null,null,null,null,null,null,null,null,null,null,null,null,null,null,null,null,null,null,511.8,5,545.73449572337859,578,32.2655042766213]
[null,null,null,"",null,null,null,null,null,null,null,null,null,null,null,null,null,null,null,null,null,null,null,null,null,null,513,4,546.97425495871835,522,-24.974254958718461,129]
[null,null,null,"",null,null,null,null,null,null,null,null,null,null,null,null,null,null,null,null,null,null,null,null,null,null,518,4,552.13942003022316,535,-17.139420030223278]
[null,null,null,"",null,null,null,null,null,null,null,null,null,null,null,null,null,null,null,null,null,null,null,null,null,null,521,4,555.23813663153999,563,7.761863368459899]
[null,null,null,"",null,null,null,null,null,null,null,null,null,null,null,null,null,null,null,null,null,null,null,null,null,null,536,4,570.72751070837069,500,-70.727510708370801,132]
[null,null,null,"",null,null,null,null,null,null,null,null,null,null,null,null,null,null,null,null,null,null,null,null,null,null,537,6,571.75989067876935,516,-55.759890678769466]
[null,null,null,"",null,null,null,null,null,null,null,null,null,null,null,null,null,null,null,null,null,null,null,null,null,null,535.66666666666663,6,570.38337734034656,485,-85.383377340346669]
[null,null,null,"",null,null,null,null,null,null,null,null,null,null,null,null,null,null,null,null,null,null,null,null,null,null,520.16666666666663,6,554.37741059310008,493,-61.377410593100194]
[null,null,null,"",null,null,null,null,null,null,null,null,null,null,null,null,null,null,null,null,null,null,null,null,null,null,515.33333333333337,6,549.38476502129618,530,-19.384765021296289]
[null,null,null,"",null,null,null,null,null,null,null,null,null,null,null,null,null,null,null,null,null,null,null,null,null,null,504.8,5,538.50163200796067,559,20.498367992039221]
[null,null,null,"",null,null,null,null,null,null,null,null,null,null,null,null,null,null,null,null,null,null,null,null,null,null,504.8,5,538.50163200796067,500,-38.501632007960779,128]
[null,null,null,"",null,null,null,null,null,null,null,null,null,null,null,null,null,null,null,null,null,null,null,null,null,null,504.8,5,538.50163200796067,592,53.498367992039221]
[null,null,null,"",null,null,null,null,null,null,null,null,null,null,null,null,null,null,null,null,null,null,null,null,null,null,502,4,535.60803475361217,601,65.391965246387713]
[null,null,null,"",null,null,null,null,null,null,null,null,null,null,null,null,null,null,null,null,null,null,null,null,null,null,507.66666666666669,3,541.46385589890906,729,187.53614410109083,128]
[null,null,null,"",null,null,null,null,null,null,null,null,null,null,null,null,null,null,null,null,null,null,null,null,null,null,515,2,549.04041715373069,639,89.9595828462692]
[null,null,null,"",null,null,null,null,null,null,null,null,null,null,null,null,null,null,null,null,null,null,null,null,null,null,529.5,2,564.01630049701157,554,-10.016300497011684]
[null,null,null,{"$f":"IF(H452<>\"\",$D$1,\"\")","v":""},null,null,null,null,null,null,null,null,null,null,null,null,null,null,null,null,null,null,null,null,null,null,527,2,561.43472084974701,539,-22.434720849747123]
[null,null,null,"",null,null,null,null,null,null,null,null,null,null,null,null,null,null,null,null,null,null,null,null,null,null,546.5,2,581.56600918268282,511,-70.566009182682933]
[null,null,null,"",null,null,null,null,null,null,null,null,null,null,null,null,null,null,null,null,null,null,null,null,null,null,534.66666666666663,3,569.35095705871584,510,-59.350957058715949]
[null,null,null,"",null,null,null,null,null,null,null,null,null,null,null,null,null,null,null,null,null,null,null,null,null,null,528.5,4,562.98369179771794,523,-39.983691797718052]
[null,null,null,"",null,null,null,null,null,null,null,null,null,null,null,null,null,null,null,null,null,null,null,null,null,null,527.4,5,561.84778657620836,512,-49.847786576208478]
[null,null,null,"",null,null,null,null,null,null,null,null,null,null,null,null,null,null,null,null,null,null,null,null,null,null,524.83333333333337,6,559.19719516520558,556,-3.1971951652056987]
[null,null,null,"",null,null,null,null,null,null,null,null,null,null,null,null,null,null,null,null,null,null,null,null,null,null,525.16666666666663,6,559.54143939318806,521,-38.54143939318817]
[null,null,null,"",null,null,null,null,null,null,null,null,null,null,null,null,null,null,null,null,null,null,null,null,null,null,522.16666666666663,6,556.44311630778316,494,-62.443116307783271]
[null,null,null,"",null,null,null,null,null,null,null,null,null,null,null,null,null,null,null,null,null,null,null,null,null,null,519.33333333333337,6,553.51666260360776,516,-37.51666260360787]
[null,null,null,"",null,null,null,null,null,null,null,null,null,null,null,null,null,null,null,null,null,null,null,null,null,null,520.33333333333337,6,554.54955755518461,486,-68.54955755518472]
[null,null,null,"",null,null,null,null,null,null,null,null,null,null,null,null,null,null,null,null,null,null,null,null,null,null,514.16666666666663,6,548.17953187970033,533,-15.179531879700448]
[null,null,null,"",null,null,null,null,null,null,null,null,null,null,null,null,null,null,null,null,null,null,null,null,null,null,517.66666666666663,6,551.79510055982973,489,-62.795100559829848]
[null,null,null,"",null,null,null,null,null,null,null,null,null,null,null,null,null,null,null,null,null,null,null,null,null,null,506.5,6,540.25833230478065,548,7.7416676952192347]
[null,null,null,"",null,null,null,null,null,null,null,null,null,null,null,null,null,null,null,null,null,null,null,null,null,null,511,6,544.90796366637198,669,124.0920363336279]
[null,null,null,"",null,null,null,null,null,null,null,null,null,null,null,null,null,null,null,null,null,null,null,null,null,null,514.4,5,548.42058200560359,1195,646.57941799439629]
[null,null,null,"",null,null,null,null,null,null,null,null,null,null,null,null,null,null,null,null,null,null,null,null,null,null,514,4,548.00735214626388,2416,1867.9926478537359]
[null,null,null,"",null,null,null,null,null,null,null,null,null,null,null,null,null,null,null,null,null,null,null,null,null,null,523.33333333333337,3,557.64805320688038,3088,2530.3519467931196,130]
[null,null,null,"",null,null,null,null,null,null,null,null,null,null,null,null,null,null,null,null,null,null,null,null,null,null,518.5,2,552.65589261020705,2262,1709.344107389793]
[null,null,null,"",null,null,null,null,null,null,null,null,null,null,null,null,null,null,null,null,null,null,null,null,null,null,518.5,1,552.65589261020705,1153,600.34410738979284]
[null,null,null,"",null,null,null,null,null,null,null,null,null,null,null,null,null,null,null,null,null,null,null,null,null,null,518.5,0,552.65589261020705,629,76.344107389792839]
[null,null,null,"",null,null,null,null,null,null,null,null,null,null,null,null,null,null,null,null,null,null,null,null,null,null,518.5,0,552.65589261020705,456,-96.655892610207161]
[null,null,null,"",null,null,null,null,null,null,null,null,null,null,null,null,null,null,null,null,null,null,null,null,null,null,518.5,1,552.65589261020705,515,-37.655892610207161]
[null,null,null,"",null,null,null,null,null,null,null,null,null,null,null,null,null,null,null,null,null,null,null,null,null,null,485.5,2,518.55109680479609,530,11.448903195203798]
[null,null,null,"",null,null,null,null,null,null,null,null,null,null,null,null,null,null,null,null,null,null,null,null,null,null,485.5,2,518.55109680479609,486,-32.551096804796202,126]
[null,null,null,"",null,null,null,null,null,null,null,null,null,null,null,null,null,null,null,null,null,null,null,null,null,null,485.66666666666669,3,518.72343601879788,510,-8.7234360187979973]
[null,null,null,"",null,null,null,null,null,null,null,null,null,null,null,null,null,null,null,null,null,null,null,null,null,null,491.75,4,525.01315529230499,467,-58.0131552923051]
[null,null,null,"",null,null,null,null,null,null,null,null,null,null,null,null,null,null,null,null,null,null,null,null,null,null,494,6,527.33916615633927,512,-15.339166156339388]
[null,null,null,"",null,null,null,null,null,null,null,null,null,null,null,null,null,null,null,null,null,null,null,null,null,null,503.33333333333331,6,536.98597067426101,513,-23.985970674261125]
[null,null,null,"",null,null,null,null,null,null,null,null,null,null,null,null,null,null,null,null,null,null,null,null,null,null,503,6,536.64149223800871,556,19.358507761991177]
[null,null,null,"",null,null,null,null,null,null,null,null,null,null,null,null,null,null,null,null,null,null,null,null,null,null,497.6,5,531.06042438463692,560,28.939575615362969,127]
[null,null,null,"",null,null,null,null,null,null,null,null,null,null,null,null,null,null,null,null,null,null,null,null,null,null,500.5,4,534.05778598179563,527,-7.057785981795746]
[null,null,null,"",null,null,null,null,null,null,null,null,null,null,null,null,null,null,null,null,null,null,null,null,null,null,504.75,4,538.44996290799145,526,-12.449962907991562]
[null,null,null,"",null,null,null,null,null,null,null,null,null,null,null,null,null,null,null,null,null,null,null,null,null,null,519.5,4,553.68881396012443,508,-45.688813960124548]
[null,null,null,"",null,null,null,null,null,null,null,null,null,null,null,null,null,null,null,null,null,null,null,null,null,null,531.66666666666663,6,566.25351387770911,535,-31.253513877709224]
[null,null,null,"",null,null,null,null,null,null,null,null,null,null,null,null,null,null,null,null,null,null,null,null,null,null,535.33333333333337,6,570.03924061148996,549,-21.039240611490072]
[null,null,null,"",null,null,null,null,null,null,null,null,null,null,null,null,null,null,null,null,null,null,null,null,null,null,534.16666666666663,6,568.83473554856425,526,-42.834735548564367]
[null,null,null,"",null,null,null,null,null,null,null,null,null,null,null,null,null,null,null,null,null,null,null,null,null,null,528.5,6,562.98369179771794,518,-44.983691797718052]
[null,null,null,"",null,null,null,null,null,null,null,null,null,null,null,null,null,null,null,null,null,null,null,null,null,null,527,6,561.43472084974701,510,-51.434720849747123]
[null,null,null,"",null,null,null,null,null,null,null,null,null,null,null,null,null,null,null,null,null,null,null,null,null,null,524.33333333333337,6,558.68082232452457,490,-68.680822324524684]
[null,null,null,"",null,null,null,null,null,null,null,null,null,null,null,null,null,null,null,null,null,null,null,null,null,null,521.33333333333337,6,555.58242091242073,527,-28.582420912420844]
[null,null,null,"",null,null,null,null,null,null,null,null,null,null,null,null,null,null,null,null,null,null,null,null,null,null,520,6,554.20526275297414,526,-28.205262752974249]
[null,null,null,"",null,null,null,null,null,null,null,null,null,null,null,null,null,null,null,null,null,null,null,null,null,null,516.16666666666663,6,550.24561911535557,540,-10.24561911535568]
[null,null,null,"",null,null,null,null,null,null,null,null,null,null,null,null,null,null,null,null,null,null,null,null,null,null,518.5,6,552.65589261020705,511,-41.655892610207161]
[null,null,null,"",null,null,null,null,null,null,null,null,null,null,null,null,null,null,null,null,null,null,null,null,null,null,517.33333333333337,6,551.45077755179727,521,-30.450777551797387]
[null,null,null,"",null,null,null,null,null,null,null,null,null,null,null,null,null,null,null,null,null,null,null,null,null,null,519.16666666666663,6,553.34451036693542,575,21.655489633064462]
[null,null,null,"",null,null,null,null,null,null,null,null,null,null,null,null,null,null,null,null,null,null,null,null,null,null,525,5,559.36931771216882,677,117.63068228783106]
[null,null,null,"",null,null,null,null,null,null,null,null,null,null,null,null,null,null,null,null,null,null,null,null,null,null,524.5,4,558.85294747179637,746,187.14705252820352]
[null,null,null,"",null,null,null,null,null,null,null,null,null,null,null,null,null,null,null,null,null,null,null,null,null,null,524,3,558.33656942677885,768,209.66343057322104,130]
[null,null,null,"",null,null,null,null,null,null,null,null,null,null,null,null,null,null,null,null,null,null,null,null,null,null,516,2,550.0734500748016,619,68.926549925198287]
[null,null,null,"",null,null,null,null,null,null,null,null,null,null,null,null,null,null,null,null,null,null,null,null,null,null,516,1,550.0734500748016,524,-26.073450074801713]
[null,null,null,"",null,null,null,null,null,null,null,null,null,null,null,null,null,null,null,null,null,null,null,null,null,null,516,1,550.0734500748016,566,15.926549925198287]
[null,null,null,"",null,null,null,null,null,null,null,null,null,null,null,null,null,null,null,null,null,null,null,null,null,null,516,1,550.0734500748016,528,-22.073450074801713,129]
[null,null,null,"",null,null,null,null,null,null,null,null,null,null,null,null,null,null,null,null,null,null,null,null,null,null,526,2,560.40203482353911,498,-62.402034823539225]
[null,null,null,"",null,null,null,null,null,null,null,null,null,null,null,null,null,null,null,null,null,null,null,null,null,null,529,4,563.5,537,-26.500000000000114]
[null,null,null,"",null,null,null,null,null,null,null,null,null,null,null,null,null,null,null,null,null,null,null,null,null,null,530.6,5,565.15213452161822,562,-3.1521345216183363]
[null,null,null,"",null,null,null,null,null,null,null,null,null,null,null,null,null,null,null,null,null,null,null,null,null,null,535.83333333333337,6,570.55544444426675,540,-30.555444444266868]
[null,null,null,"",null,null,null,null,null,null,null,null,null,null,null,null,null,null,null,null,null,null,null,null,null,null,538.5,6,573.30840415761691,528,-45.308404157617019]
[null,null,null,"",null,null,null,null,null,null,null,null,null,null,null,null,null,null,null,null,null,null,null,null,null,null,532.16666666666663,6,566.76977346360036,502,-64.769773463600472]
[null,null,null,"",null,null,null,null,null,null,null,null,null,null,null,null,null,null,null,null,null,null,null,null,null,null,527.83333333333337,6,562.29526885645805,496,-66.295268856458165]
[null,null,null,"",null,null,null,null,null,null,null,null,null,null,null,null,null,null,null,null,null,null,null,null,null,null,527.5,6,561.95105223356757,458,-103.95105223356768]
[null,null,null,"",null,null,null,null,null,null,null,null,null,null,null,null,null,null,null,null,null,null,null,null,null,null,514.33333333333337,6,548.35171071968148,534,-14.351710719681591]
[null,null,null,"",null,null,null,null,null,null,null,null,null,null,null,null,null,null,null,null,null,null,null,null,null,null,509.66666666666669,6,543.53036404306079,487,-56.530364043060899]
[null,null,null,"",null,null,null,null,null,null,null,null,null,null,null,null,null,null,null,null,null,null,null,null,null,null,500.83333333333331,6,534.40229220905655,538,3.5977077909433319]
[null,null,null,"",null,null,null,null,null,null,null,null,null,null,null,null,null,null,null,null,null,null,null,null,null,null,502.5,6,536.12476765718986,511,-25.124767657189977,128]
[null,null,null,{"$f":"IF(H516<>\"\",$D$1,\"\")","v":""},null,null,null,null,null,null,null,null,null,null,null,null,null,null,null,null,null,null,null,null,null,null,504,6,537.67491648096552,520,-17.674916480965635]
[null,null,null,"",null,null,null,null,null,null,null,null,null,null,null,null,null,null,null,null,null,null,null,null,null,null,508,6,541.80828300875396,513,-28.808283008754074]
[null,null,null,"",null,null,null,null,null,null,null,null,null,null,null,null,null,null,null,null,null,null,null,null,null,null,517.16666666666663,6,551.27861472009795,524,-27.278614720098062]
[null,null,null,"",null,null,null,null,null,null,null,null,null,null,null,null,null,null,null,null,null,null,null,null,null,null,515.5,6,549.55693761922817,500,-49.556937619228279]
[null,null,null,"",null,null,null,null,null,null,null,null,null,null,null,null,null,null,null,null,null,null,null,null,null,null,517.66666666666663,6,551.79510055982973,525,-26.795100559829848]
[null,null,null,"",null,null,null,null,null,null,null,null,null,null,null,null,null,null,null,null,null,null,null,null,null,null,515.5,6,549.55693761922817,561,11.443062380771721]
[null,null,null,"",null,null,null,null,null,null,null,null,null,null,null,null,null,null,null,null,null,null,null,null,null,null,516.4,5,550.48665427993774,485,-65.486654279937852,129]
[null,null,null,"",null,null,null,null,null,null,null,null,null,null,null,null,null,null,null,null,null,null,null,null,null,null,518,6,552.13942003022316,512,-40.139420030223278]
[null,null,null,"",null,null,null,null,null,null,null,null,null,null,null,null,null,null,null,null,null,null,null,null,null,null,517.83333333333337,6,551.9672607370178,510,-41.967260737017909]
[null,null,null,"",null,null,null,null,null,null,null,null,null,null,null,null,null,null,null,null,null,null,null,null,null,null,515.5,6,549.55693761922817,513,-36.556937619228279]
[null,null,null,"",null,null,null,null,null,null,null,null,null,null,null,null,null,null,null,null,null,null,null,null,null,null,509,5,542.84154251803545,499,-43.841542518035567]
[null,null,null,"",null,null,null,null,null,null,null,null,null,null,null,null,null,null,null,null,null,null,null,null,null,null,503.8,5,537.46823428693585,509,-28.468234286935967]
[null,null,null,"",null,null,null,null,null,null,null,null,null,null,null,null,null,null,null,null,null,null,null,null,null,null,504.66666666666669,6,538.36384755765516,487,-51.363847557655276]
[null,null,null,"",null,null,null,null,null,null,null,null,null,null,null,null,null,null,null,null,null,null,null,null,null,null,505,6,538.7083075813664,522,-16.708307581366512]
[null,null,null,"",null,null,null,null,null,null,null,null,null,null,null,null,null,null,null,null,null,null,null,null,null,null,506.66666666666669,6,540.43055269893489,521,-19.430552698935003]
[null,null,null,"",null,null,null,null,null,null,null,null,null,null,null,null,null,null,null,null,null,null,null,null,null,null,508.5,6,542.32491685133903,562,19.67508314866086]
[null,null,null,"",null,null,null,null,null,null,null,null,null,null,null,null,null,null,null,null,null,null,null,null,null,null,507.6,5,541.39497003993347,550,8.6050299600664175,128]
[null,null,null,"",null,null,null,null,null,null,null,null,null,null,null,null,null,null,null,null,null,null,null,null,null,null,517.79999999999995,5,551.9328287723124,540,-11.932828772312519]
[null,null,null,"",null,null,null,null,null,null,null,null,null,null,null,null,null,null,null,null,null,null,null,null,null,null,530.33333333333337,6,564.87678423216516,575,10.123215767834722]
[null,null,null,"",null,null,null,null,null,null,null,null,null,null,null,null,null,null,null,null,null,null,null,null,null,null,545,6,580.01785258978623,504,-76.017852589786344,133]
[null,null,null,"",null,null,null,null,null,null,null,null,null,null,null,null,null,null,null,null,null,null,null,null,null,null,542,6,576.92134018046841,511,-65.921340180468519]
[null,null,null,"",null,null,null,null,null,null,null,null,null,null,null,null,null,null,null,null,null,null,null,null,null,null,540.33333333333337,6,575.20094007655564,464,-111.20094007655575]
[null,null,null,"",null,null,null,null,null,null,null,null,null,null,null,null,null,null,null,null,null,null,null,null,null,null,524,6,558.33656942677885,498,-60.336569426778965]
[null,null,null,"",null,null,null,null,null,null,null,null,null,null,null,null,null,null,null,null,null,null,null,null,null,null,503.4,5,537.05486591861563,503,-34.054865918615747]
[null,null,null,"",null,null,null,null,null,null,null,null,null,null,null,null,null,null,null,null,null,null,null,null,null,null,496,5,529.40658617698011,470,-59.406586176980227]
[null,null,null,"",null,null,null,null,null,null,null,null,null,null,null,null,null,null,null,null,null,null,null,null,null,null,491.66666666666669,6,524.92700340579188,459,-65.927003405791993]
[null,null,null,"",null,null,null,null,null,null,null,null,null,null,null,null,null,null,null,null,null,null,null,null,null,null,484.16666666666669,6,517.17234799579546,521,3.827652004204424,125]
[null,null,null,"",null,null,null,null,null,null,null,null,null,null,null,null,null,null,null,null,null,null,null,null,null,null,485.83333333333331,6,518.89577425955656,501,-17.895774259556674]
[null,null,null,"",null,null,null,null,null,null,null,null,null,null,null,null,null,null,null,null,null,null,null,null,null,null,492,6,525.27160951922826,501,-24.271609519228377]
[null,null,null,"",null,null,null,null,null,null,null,null,null,null,null,null,null,null,null,null,null,null,null,null,null,null,492.5,6,525.78851153175822,517,-8.7885115317583313]
[null,null,null,"",null,null,null,null,null,null,null,null,null,null,null,null,null,null,null,null,null,null,null,null,null,null,494.83333333333331,6,528.20060772007344,540,11.799392279926451]
[null,null,null,"",null,null,null,null,null,null,null,null,null,null,null,null,null,null,null,null,null,null,null,null,null,null,499.8,5,533.33431078760975,520,-13.334310787609866,127]
[null,null,null,"",null,null,null,null,null,null,null,null,null,null,null,null,null,null,null,null,null,null,null,null,null,null,516.66666666666663,6,550.76212090913123,501,-49.76212090913134]
[null,null,null,"",null,null,null,null,null,null,null,null,null,null,null,null,null,null,null,null,null,null,null,null,null,null,513.33333333333337,6,547.31862426926625,464,-83.318624269266365]
[null,null,null,"",null,null,null,null,null,null,null,null,null,null,null,null,null,null,null,null,null,null,null,null,null,null,507.16666666666669,6,540.94720840299772,508,-32.94720840299783]
[null,null,null,"",null,null,null,null,null,null,null,null,null,null,null,null,null,null,null,null,null,null,null,null,null,null,508.33333333333331,6,542.15270647950501,522,-20.152706479505127]
[null,null,null,"",null,null,null,null,null,null,null,null,null,null,null,null,null,null,null,null,null,null,null,null,null,null,509.16666666666669,6,543.0137492588193,514,-29.013749258819416]
[null,null,null,"",null,null,null,null,null,null,null,null,null,null,null,null,null,null,null,null,null,null,null,null,null,null,504.83333333333331,6,538.53607802868419,499,-39.536078028684301]
[null,null,null,"",null,null,null,null,null,null,null,null,null,null,null,null,null,null,null,null,null,null,null,null,null,null,501.33333333333331,6,534.91904458082661,478,-56.919044580826721]
[null,null,null,"",null,null,null,null,null,null,null,null,null,null,null,null,null,null,null,null,null,null,null,null,null,null,497.5,6,530.95706203479324,498,-32.957062034793353]
[null,null,null,"",null,null,null,null,null,null,null,null,null,null,null,null,null,null,null,null,null,null,null,null,null,null,503.16666666666669,6,536.81373191759167,524,-12.813731917591781]
[null,null,null,"",null,null,null,null,null,null,null,null,null,null,null,null,null,null,null,null,null,null,null,null,null,null,505.83333333333331,6,539.56944158547174,509,-30.56944158547185]
[null,null,null,"",null,null,null,null,null,null,null,null,null,null,null,null,null,null,null,null,null,null,null,null,null,null,503.66666666666669,6,537.33044542069251,459,-78.330445420692627]
[null,null,null,"",null,null,null,null,null,null,null,null,null,null,null,null,null,null,null,null,null,null,null,null,null,null,494.5,6,527.85603393690565,505,-22.85603393690576]
[null,null,null,"",null,null,null,null,null,null,null,null,null,null,null,null,null,null,null,null,null,null,null,null,null,null,495.5,6,528.88974393432807,479,-49.88974393432818]
[null,null,null,"",null,null,null,null,null,null,null,null,null,null,null,null,null,null,null,null,null,null,null,null,null,null,495.66666666666669,6,529.06202562565977,482,-47.062025625659885]
[null,null,null,"",null,null,null,null,null,null,null,null,null,null,null,null,null,null,null,null,null,null,null,null,null,null,493,6,526.30540496676178,520,-6.3054049667618983]
[null,null,null,"",null,null,null,null,null,null,null,null,null,null,null,null,null,null,null,null,null,null,null,null,null,null,492.33333333333331,6,525.61621181461851,543,17.383788185381377]
[null,null,null,"",null,null,null,null,null,null,null,null,null,null,null,null,null,null,null,null,null,null,null,null,null,null,489,5,522.170016581244,608,85.829983418755887]
[null,null,null,"",null,null,null,null,null,null,null,null,null,null,null,null,null,null,null,null,null,null,null,null,null,null,496.5,4,529.92341993273578,592,62.076580067264103,127]
[null,null,null,"",null,null,null,null,null,null,null,null,null,null,null,null,null,null,null,null,null,null,null,null,null,null,493.66666666666669,3,526.99458289315771,530,3.0054171068421738]
[null,null,null,"",null,null,null,null,null,null,null,null,null,null,null,null,null,null,null,null,null,null,null,null,null,null,510.66666666666669,3,544.56356918002325,508,-36.563569180023364]
[null,null,null,"",null,null,null,null,null,null,null,null,null,null,null,null,null,null,null,null,null,null,null,null,null,null,525.25,4,559.62749990909754,467,-92.627499909097651]
[null,null,null,"",null,null,null,null,null,null,null,null,null,null,null,null,null,null,null,null,null,null,null,null,null,null,512,4,545.94112549695433,470,-75.941125496954442]
[null,null,null,"",null,null,null,null,null,null,null,null,null,null,null,null,null,null,null,null,null,null,null,null,null,null,493.75,4,527.08072906493351,452,-75.080729064933621]
[null,null,null,"",null,null,null,null,null,null,null,null,null,null,null,null,null,null,null,null,null,null,null,null,null,null,485.4,5,518.44769280902983,479,-39.447692809029945]
[null,null,null,"",null,null,null,null,null,null,null,null,null,null,null,null,null,null,null,null,null,null,null,null,null,null,475.2,5,507.89862382425292,431,-76.898623824253036]
[null,null,null,"",null,null,null,null,null,null,null,null,null,null,null,null,null,null,null,null,null,null,null,null,null,null,467.83333333333331,6,500.27751617093918,483,-17.277516170939293]
[null,null,null,"",null,null,null,null,null,null,null,null,null,null,null,null,null,null,null,null,null,null,null,null,null,null,463.66666666666669,6,495.96604746568511,511,15.033952534314778]
[null,null,null,"",null,null,null,null,null,null,null,null,null,null,null,null,null,null,null,null,null,null,null,null,null,null,463,5,495.27615218702499,494,-1.2761521870251045,123]
[null,null,null,"",null,null,null,null,null,null,null,null,null,null,null,null,null,null,null,null,null,null,null,null,null,null,467.8,5,500.24302698577924,488,-12.243026985779352]
[null,null,null,"",null,null,null,null,null,null,null,null,null,null,null,null,null,null,null,null,null,null,null,null,null,null,481,6,513.89756829919202,502,-11.89756829919213]
[null,null,null,"",null,null,null,null,null,null,null,null,null,null,null,null,null,null,null,null,null,null,null,null,null,null,484.83333333333331,6,517.86173020632737,502,-15.861730206327479]
[null,null,null,"",null,null,null,null,null,null,null,null,null,null,null,null,null,null,null,null,null,null,null,null,null,null,496.66666666666669,6,530.09569596756023,459,-71.095695967560346]
[null,null,null,{"$f":"IF(H580<>\"\",$D$1,\"\")","v":""},null,null,null,null,null,null,null,null,null,null,null,null,null,null,null,null,null,null,null,null,null,null,492.66666666666669,6,525.96081029583968,491,-34.960810295839792]
[null,null,null,"",null,null,null,null,null,null,null,null,null,null,null,null,null,null,null,null,null,null,null,null,null,null,489.33333333333331,6,522.51465337940738,473,-49.514653379407491]
[null,null,null,"",null,null,null,null,null,null,null,null,null,null,null,null,null,null,null,null,null,null,null,null,null,null,485.83333333333331,6,518.89577425955656,502,-16.895774259556674]
[null,null,null,"",null,null,null,null,null,null,null,null,null,null,null,null,null,null,null,null,null,null,null,null,null,null,488.16666666666669,6,521.30840771930298,471,-50.308407719303091]
[null,null,null,"",null,null,null,null,null,null,null,null,null,null,null,null,null,null,null,null,null,null,null,null,null,null,483,6,515.96589146375391,454,-61.965891463754019]
[null,null,null,"",null,null,null,null,null,null,null,null,null,null,null,null,null,null,null,null,null,null,null,null,null,null,475,6,507.69174207655504,456,-51.691742076555158]
[null,null,null,"",null,null,null,null,null,null,null,null,null,null,null,null,null,null,null,null,null,null,null,null,null,null,474.5,6,507.17453136618792,461,-46.174531366188035]
[null,null,null,"",null,null,null,null,null,null,null,null,null,null,null,null,null,null,null,null,null,null,null,null,null,null,469.5,6,502.00192302003069,494,-8.0019230200308016]
[null,null,null,"",null,null,null,null,null,null,null,null,null,null,null,null,null,null,null,null,null,null,null,null,null,null,473,6,505.62284475639734,474,-31.622844756397456]
[null,null,null,"",null,null,null,null,null,null,null,null,null,null,null,null,null,null,null,null,null,null,null,null,null,null,468.33333333333331,6,500.79484900959216,469,-31.794849009592269]
[null,null,null,"",null,null,null,null,null,null,null,null,null,null,null,null,null,null,null,null,null,null,null,null,null,null,468,6,500.4499614791759,496,-4.4499614791760109]
[null,null,null,"",null,null,null,null,null,null,null,null,null,null,null,null,null,null,null,null,null,null,null,null,null,null,475,6,507.69174207655504,484,-23.691742076555158]
[null,null,null,"",null,null,null,null,null,null,null,null,null,null,null,null,null,null,null,null,null,null,null,null,null,null,479.66666666666669,6,512.51860724861706,448,-64.518607248617172]
[null,null,null,"",null,null,null,null,null,null,null,null,null,null,null,null,null,null,null,null,null,null,null,null,null,null,477.5,6,510.27766007511821,498,-12.27766007511832]
[null,null,null,"",null,null,null,null,null,null,null,null,null,null,null,null,null,null,null,null,null,null,null,null,null,null,478.16666666666669,6,510.96720019891279,487,-23.967200198912906]
[null,null,null,"",null,null,null,null,null,null,null,null,null,null,null,null,null,null,null,null,null,null,null,null,null,null,480.33333333333331,6,513.20809568988886,488,-25.208095689888978]
[null,null,null,"",null,null,null,null,null,null,null,null,null,null,null,null,null,null,null,null,null,null,null,null,null,null,483.5,6,516.48295014094401,480,-36.482950140944126]
[null,null,null,"",null,null,null,null,null,null,null,null,null,null,null,null,null,null,null,null,null,null,null,null,null,null,480.83333333333331,6,513.72520162931187,467,-46.725201629311982]
[null,null,null,"",null,null,null,null,null,null,null,null,null,null,null,null,null,null,null,null,null,null,null,null,null,null,478,6,510.79481666361318,446,-64.79481666361329]
[null,null,null,"",null,null,null,null,null,null,null,null,null,null,null,null,null,null,null,null,null,null,null,null,null,null,477.66666666666669,6,510.45004660223771,465,-45.450046602237819]
[null,null,null,"",null,null,null,null,null,null,null,null,null,null,null,null,null,null,null,null,null,null,null,null,null,null,472.16666666666669,6,504.76076122380999,456,-48.760761223810107]
[null,null,null,"",null,null,null,null,null,null,null,null,null,null,null,null,null,null,null,null,null,null,null,null,null,null,467,6,499.41527417746147,470,-29.415274177461583]
[null,null,null,"",null,null,null,null,null,null,null,null,null,null,null,null,null,null,null,null,null,null,null,null,null,null,464,6,496.31098884280703,485,-11.310988842807149]
[null,null,null,"",null,null,null,null,null,null,null,null,null,null,null,null,null,null,null,null,null,null,null,null,null,null,464.83333333333331,6,497.1733240568941,452,-45.173324056894216]
[null,null,null,"",null,null,null,null,null,null,null,null,null,null,null,null,null,null,null,null,null,null,null,null,null,null,462.33333333333331,6,494.58624017907357,503,8.413759820926316]
[null,null,null,"",null,null,null,null,null,null,null,null,null,null,null,null,null,null,null,null,null,null,null,null,null,null,471.83333333333331,6,504.41592070757355,464,-40.415920707573662,124]
[null,null,null,"",null,null,null,null,null,null,null,null,null,null,null,null,null,null,null,null,null,null,null,null,null,null,471.66666666666669,6,504.24349892519052,463,-41.243498925190636]
[null,null,null,"",null,null,null,null,null,null,null,null,null,null,null,null,null,null,null,null,null,null,null,null,null,null,472.83333333333331,6,505.45043007721904,479,-26.450430077219153]
[null,null,null,"",null,null,null,null,null,null,null,null,null,null,null,null,null,null,null,null,null,null,null,null,null,null,474.33333333333331,6,507.00212578117259,494,-13.002125781172708]
[null,null,null,"",null,null,null,null,null,null,null,null,null,null,null,null,null,null,null,null,null,null,null,null,null,null,475.83333333333331,6,508.55373981002612,483,-25.553739810026229]
[null,null,null,"",null,null,null,null,null,null,null,null,null,null,null,null,null,null,null,null,null,null,null,null,null,null,481,6,513.89756829919202,492,-21.89756829919213]
[null,null,null,"",null,null,null,null,null,null,null,null,null,null,null,null,null,null,null,null,null,null,null,null,null,null,479.16666666666669,6,512.00148050807593,442,-70.001480508076042]
[null,null,null,"",null,null,null,null,null,null,null,null,null,null,null,null,null,null,null,null,null,null,null,null,null,null,475.5,6,508.20894373103476,515,6.7910562689651215]
[null,null,null,"",null,null,null,null,null,null,null,null,null,null,null,null,null,null,null,null,null,null,null,null,null,null,484.16666666666669,6,517.17234799579546,492,-25.172347995795576,125]
[null,null,null,"",null,null,null,null,null,null,null,null,null,null,null,null,null,null,null,null,null,null,null,null,null,null,486.33333333333331,6,519.41278314737951,474,-45.412783147379628]
[null,null,null,"",null,null,null,null,null,null,null,null,null,null,null,null,null,null,null,null,null,null,null,null,null,null,483,6,515.96589146375391,510,-5.9658914637540192]
[null,null,null,"",null,null,null,null,null,null,null,null,null,null,null,null,null,null,null,null,null,null,null,null,null,null,487.5,6,520.6191032487294,492,-28.619103248729516]
[null,null,null,"",null,null,null,null,null,null,null,null,null,null,null,null,null,null,null,null,null,null,null,null,null,null,487.5,6,520.6191032487294,753,232.38089675127048]
[null,null,null,"",null,null,null,null,null,null,null,null,null,null,null,null,null,null,null,null,null,null,null,null,null,null,496.6,5,530.02678566658778,1251,720.9732143334121]
[null,null,null,"",null,null,null,null,null,null,null,null,null,null,null,null,null,null,null,null,null,null,null,null,null,null,492,4,525.27160951922826,2027,1501.7283904807716]
[null,null,null,"",null,null,null,null,null,null,null,null,null,null,null,null,null,null,null,null,null,null,null,null,null,null,492,3,525.27160951922826,2232,1706.7283904807716,126]
[null,null,null,"",null,null,null,null,null,null,null,null,null,null,null,null,null,null,null,null,null,null,null,null,null,null,501,2,534.57454392839907,1548,1013.4254560716008]
[null,null,null,"",null,null,null,null,null,null,null,null,null,null,null,null,null,null,null,null,null,null,null,null,null,null,501,1,534.57454392839907,904,369.42545607160082]
[null,null,null,"",null,null,null,null,null,null,null,null,null,null,null,null,null,null,null,null,null,null,null,null,null,null,501,0,534.57454392839907,539,4.42545607160082]
[null,null,null,"",null,null,null,null,null,null,null,null,null,null,null,null,null,null,null,null,null,null,null,null,null,null,501,1,534.57454392839907,478,-56.57454392839918]
[null,null,null,"",null,null,null,null,null,null,null,null,null,null,null,null,null,null,null,null,null,null,null,null,null,null,508.5,2,542.32491685133903,522,-20.32491685133914]
[null,null,null,"",null,null,null,null,null,null,null,null,null,null,null,null,null,null,null,null,null,null,null,null,null,null,513,3,546.97425495871835,439,-107.97425495871846]
[null,null,null,"",null,null,null,null,null,null,null,null,null,null,null,null,null,null,null,null,null,null,null,null,null,null,494.5,4,527.85603393690565,525,-2.8560339369057601]
[null,null,null,"",null,null,null,null,null,null,null,null,null,null,null,null,null,null,null,null,null,null,null,null,null,null,491,4,524.2377797092405,462,-62.237779709240613]
[null,null,null,"",null,null,null,null,null,null,null,null,null,null,null,null,null,null,null,null,null,null,null,null,null,null,485.2,5,518.24088376542011,469,-49.240883765420222]
[null,null,null,"",null,null,null,null,null,null,null,null,null,null,null,null,null,null,null,null,null,null,null,null,null,null,482.5,6,515.44882395473314,496,-19.448823954733257]
[null,null,null,"",null,null,null,null,null,null,null,null,null,null,null,null,null,null,null,null,null,null,null,null,null,null,485.5,6,518.55109680479609,462,-56.551096804796202]
[null,null,null,"",null,null,null,null,null,null,null,null,null,null,null,null,null,null,null,null,null,null,null,null,null,null,475.5,6,508.20894373103476,503,-5.2089437310348785]
[null,null,null,"",null,null,null,null,null,null,null,null,null,null,null,null,null,null,null,null,null,null,null,null,null,null,478.4,5,511.20853547478151,465,-46.208535474781627]
[null,null,null,"",null,null,null,null,null,null,null,null,null,null,null,null,null,null,null,null,null,null,null,null,null,null,476.16666666666669,6,508.89853187474796,487,-21.898531874748073]
[null,null,null,"",null,null,null,null,null,null,null,null,null,null,null,null,null,null,null,null,null,null,null,null,null,null,480.33333333333331,6,513.20809568988886,510,-3.2080956898889781]
[null,null,null,"",null,null,null,null,null,null,null,null,null,null,null,null,null,null,null,null,null,null,null,null,null,null,487.16666666666669,6,520.27444520887639,508,-12.2744452088765]
[null,null,null,"",null,null,null,null,null,null,null,null,null,null,null,null,null,null,null,null,null,null,null,null,null,null,489.16666666666669,6,522.34233546173391,646,123.65766453826598]
[null,null,null,"",null,null,null,null,null,null,null,null,null,null,null,null,null,null,null,null,null,null,null,null,null,null,494.6,5,527.95940646954023,1096,568.04059353045966]
[null,null,null,"",null,null,null,null,null,null,null,null,null,null,null,null,null,null,null,null,null,null,null,null,null,null,492.5,4,525.78851153175822,1726,1200.2114884682417]
[null,null,null,"",null,null,null,null,null,null,null,null,null,null,null,null,null,null,null,null,null,null,null,null,null,null,501.66666666666669,3,535.26354152133138,1823,1287.7364584786685,133]
[null,null,null,"",null,null,null,null,null,null,null,null,null,null,null,null,null,null,null,null,null,null,null,null,null,null,509,2,542.84154251803545,1414,871.15845748196443]
[null,null,null,"",null,null,null,null,null,null,null,null,null,null,null,null,null,null,null,null,null,null,null,null,null,null,509,1,542.84154251803545,826,283.15845748196443]
[null,null,null,"",null,null,null,null,null,null,null,null,null,null,null,null,null,null,null,null,null,null,null,null,null,null,509,0,542.84154251803545,640,97.158457481964433]
[null,null,null,{"$f":"IF(H644<>\"\",$D$1,\"\")","v":""},null,null,null,null,null,null,null,null,null,null,null,null,null,null,null,null,null,null,null,null,null,null,509,0,542.84154251803545,514,-28.841542518035567]
[null,null,null,"",null,null,null,null,null,null,null,null,null,null,null,null,null,null,null,null,null,null,null,null,null,null,509,1,542.84154251803545,485,-57.841542518035567]
[null,null,null,"",null,null,null,null,null,null,null,null,null,null,null,null,null,null,null,null,null,null,null,null,null,null,499.5,2,533.02424495794048,444,-89.024244957940596]
[null,null,null,"",null,null,null,null,null,null,null,null,null,null,null,null,null,null,null,null,null,null,null,null,null,null,481,3,513.89756829919202,407,-106.89756829919213]
[null,null,null,"",null,null,null,null,null,null,null,null,null,null,null,null,null,null,null,null,null,null,null,null,null,null,462.5,4,494.75871975140984,468,-26.758719751409956]
[null,null,null,"",null,null,null,null,null,null,null,null,null,null,null,null,null,null,null,null,null,null,null,null,null,null,451,4,482.85514087239295,456,-26.855140872393065]
[null,null,null,"",null,null,null,null,null,null,null,null,null,null,null,null,null,null,null,null,null,null,null,null,null,null,452,5,483.89043743820395,440,-43.89043743820406]
[null,null,null,"",null,null,null,null,null,null,null,null,null,null,null,null,null,null,null,null,null,null,null,null,null,null,450,6,481.81980515339467,474,-7.8198051533947819]
[null,null,null,"",null,null,null,null,null,null,null,null,null,null,null,null,null,null,null,null,null,null,null,null,null,null,448.16666666666669,6,479.92158754516993,438,-41.921587545170041]
[null,null,null,"",null,null,null,null,null,null,null,null,null,null,null,null,null,null,null,null,null,null,null,null,null,null,447.16666666666669,6,478.8861401805824,412,-66.886140180582515]
[null,null,null,"",null,null,null,null,null,null,null,null,null,null,null,null,null,null,null,null,null,null,null,null,null,null,448,6,479.74901573277509,461,-18.749015732775206]
[null,null,null,"",null,null,null,null,null,null,null,null,null,null,null,null,null,null,null,null,null,null,null,null,null,null,446.83333333333331,6,478.54098225279751,466,-12.540982252797619]
[null,null,null,"",null,null,null,null,null,null,null,null,null,null,null,null,null,null,null,null,null,null,null,null,null,null,448.5,6,480.26672787682105,477,-3.2667278768211645]
[null,null,null,"",null,null,null,null,null,null,null,null,null,null,null,null,null,null,null,null,null,null,null,null,null,null,454.66666666666669,6,486.65103785010564,475,-11.651037850105752]
[null,null,null,"",null,null,null,null,null,null,null,null,null,null,null,null,null,null,null,null,null,null,null,null,null,null,454.83333333333331,6,486.82356621776228,468,-18.823566217762391]
[null,null,null,"",null,null,null,null,null,null,null,null,null,null,null,null,null,null,null,null,null,null,null,null,null,null,459.83333333333331,6,491.99892053456438,420,-71.99892053456449]
[null,null,null,"",null,null,null,null,null,null,null,null,null,null,null,null,null,null,null,null,null,null,null,null,null,null,461.16666666666669,6,493.37885380135219,457,-36.378853801352307]
[null,null,null,"",null,null,null,null,null,null,null,null,null,null,null,null,null,null,null,null,null,null,null,null,null,null,460.5,6,492.68889560081243,489,-3.6888956008125433]
[null,null,null,"",null,null,null,null,null,null,null,null,null,null,null,null,null,null,null,null,null,null,null,null,null,null,464.33333333333331,6,496.6559260511213,482,-14.655926051121412]
[null,null,null,"",null,null,null,null,null,null,null,null,null,null,null,null,null,null,null,null,null,null,null,null,null,null,465.16666666666669,6,497.51825086280769,487,-10.518250862807804]
[null,null,null,"",null,null,null,null,null,null,null,null,null,null,null,null,null,null,null,null,null,null,null,null,null,null,467.16666666666669,6,499.58772463829985,461,-38.58772463829996]
[null,null,null,"",null,null,null,null,null,null,null,null,null,null,null,null,null,null,null,null,null,null,null,null,null,null,466,6,498.38054971738438,470,-28.380549717384497]
[null,null,null,"",null,null,null,null,null,null,null,null,null,null,null,null,null,null,null,null,null,null,null,null,null,null,474.33333333333331,6,507.00212578117259,469,-38.002125781172708]
[null,null,null,"",null,null,null,null,null,null,null,null,null,null,null,null,null,null,null,null,null,null,null,null,null,null,476.33333333333331,6,509.07092640307502,461,-48.070926403075134]
[null,null,null,"",null,null,null,null,null,null,null,null,null,null,null,null,null,null,null,null,null,null,null,null,null,null,471.66666666666669,6,504.24349892519052,464,-40.243498925190636]
[null,null,null,"",null,null,null,null,null,null,null,null,null,null,null,null,null,null,null,null,null,null,null,null,null,null,468.66666666666669,6,501.13973242892575,491,-10.139732428925868]
[null,null,null,"",null,null,null,null,null,null,null,null,null,null,null,null,null,null,null,null,null,null,null,null,null,null,469.33333333333331,6,501.82948695187713,479,-22.829486951877243]
[null,null,null,"",null,null,null,null,null,null,null,null,null,null,null,null,null,null,null,null,null,null,null,null,null,null,472.33333333333331,6,504.9331799587394,475,-29.933179958739515]
[null,null,null,"",null,null,null,null,null,null,null,null,null,null,null,null,null,null,null,null,null,null,null,null,null,null,473.16666666666669,6,505.79525842297761,490,-15.795258422977724]
[null,null,null,"",null,null,null,null,null,null,null,null,null,null,null,null,null,null,null,null,null,null,null,null,null,null,476.66666666666669,6,509.4157124542923,435,-74.415712454292418]
[null,null,null,"",null,null,null,null,null,null,null,null,null,null,null,null,null,null,null,null,null,null,null,null,null,null,472.33333333333331,6,504.9331799587394,470,-34.933179958739515]
[null,null,null,"",null,null,null,null,null,null,null,null,null,null,null,null,null,null,null,null,null,null,null,null,null,null,473.33333333333331,6,505.96767107749474,469,-36.967671077494856]
[null,null,null,"",null,null,null,null,null,null,null,null,null,null,null,null,null,null,null,null,null,null,null,null,null,null,469.66666666666669,6,502.17435806424214,476,-26.174358064242256]
[null,null,null,"",null,null,null,null,null,null,null,null,null,null,null,null,null,null,null,null,null,null,null,null,null,null,469.16666666666669,6,501.65704985923617,452,-49.657049859236281]
[null,null,null,"",null,null,null,null,null,null,null,null,null,null,null,null,null,null,null,null,null,null,null,null,null,null,465.33333333333331,6,497.69071270806018,467,-30.690712708060289]
[null,null,null,"",null,null,null,null,null,null,null,null,null,null,null,null,null,null,null,null,null,null,null,null,null,null,461.5,6,493.72382658841127,489,-4.7238265884113844]
[null,null,null,"",null,null,null,null,null,null,null,null,null,null,null,null,null,null,null,null,null,null,null,null,null,null,470.5,6,503.0365179452258,479,-24.03651794522591]
[null,null,null,"",null,null,null,null,null,null,null,null,null,null,null,null,null,null,null,null,null,null,null,null,null,null,472,6,504.58834147360062,526,21.411658526399265]
[null,null,null,"",null,null,null,null,null,null,null,null,null,null,null,null,null,null,null,null,null,null,null,null,null,null,472.6,5,505.20904782418529,593,87.790952175814596]
[null,null,null,"",null,null,null,null,null,null,null,null,null,null,null,null,null,null,null,null,null,null,null,null,null,null,471.75,4,504.32970994346022,568,63.67029005653967,129]
[null,null,null,"",null,null,null,null,null,null,null,null,null,null,null,null,null,null,null,null,null,null,null,null,null,null,478.33333333333331,3,511.13958273798181,527,15.860417262018075]
[null,null,null,"",null,null,null,null,null,null,null,null,null,null,null,null,null,null,null,null,null,null,null,null,null,null,484,2,517,481,-36.000000000000114]
[null,null,null,"",null,null,null,null,null,null,null,null,null,null,null,null,null,null,null,null,null,null,null,null,null,null,503.25,4,536.89985141126181,457,-79.89985141126192]
[null,null,null,"",null,null,null,null,null,null,null,null,null,null,null,null,null,null,null,null,null,null,null,null,null,null,497.75,4,531.21546727598468,449,-82.215467275984793]
[null,null,null,"",null,null,null,null,null,null,null,null,null,null,null,null,null,null,null,null,null,null,null,null,null,null,478.5,4,511.31196428134103,458,-53.311964281341147]
[null,null,null,"",null,null,null,null,null,null,null,null,null,null,null,null,null,null,null,null,null,null,null,null,null,null,461.25,4,493.46509739237177,433,-60.465097392371888]
[null,null,null,"",null,null,null,null,null,null,null,null,null,null,null,null,null,null,null,null,null,null,null,null,null,null,455.6,5,487.61718288669385,465,-22.617182886693968]
[null,null,null,"",null,null,null,null,null,null,null,null,null,null,null,null,null,null,null,null,null,null,null,null,null,null,457.16666666666669,6,489.238850876664,454,-35.238850876664117]
[null,null,null,"",null,null,null,null,null,null,null,null,null,null,null,null,null,null,null,null,null,null,null,null,null,null,452.66666666666669,6,484.5806134611326,436,-48.580613461132714]
[null,null,null,"",null,null,null,null,null,null,null,null,null,null,null,null,null,null,null,null,null,null,null,null,null,null,449.16666666666669,6,480.95699538469034,452,-28.956995384690458]
[null,null,null,"",null,null,null,null,null,null,null,null,null,null,null,null,null,null,null,null,null,null,null,null,null,null,449.66666666666669,6,481.47468452380451,510,28.525315476195374]
[null,null,null,"",null,null,null,null,null,null,null,null,null,null,null,null,null,null,null,null,null,null,null,null,null,null,448,5,479.74901573277509,478,-1.7490157327752058,126]
[null,null,null,"",null,null,null,null,null,null,null,null,null,null,null,null,null,null,null,null,null,null,null,null,null,null,457,5,489.06633748964794,459,-30.066337489648049]
[null,null,null,"",null,null,null,null,null,null,null,null,null,null,null,null,null,null,null,null,null,null,null,null,null,null,455.8,5,487.82420959211953,465,-22.824209592119644]
[null,null,null,"",null,null,null,null,null,null,null,null,null,null,null,null,null,null,null,null,null,null,null,null,null,null,458,5,490.10140183854907,417,-73.10140183854918]
[null,null,null,"",null,null,null,null,null,null,null,null,null,null,null,null,null,null,null,null,null,null,null,null,null,null,454.2,5,486.16795270266772,421,-65.167952702667833]
[null,null,null,"",null,null,null,null,null,null,null,null,null,null,null,null,null,null,null,null,null,null,null,null,null,null,448,5,479.74901573277509,509,29.250984267224794]
[null,null,null,"",null,null,null,null,null,null,null,null,null,null,null,null,null,null,null,null,null,null,null,null,null,null,448,5,479.74901573277509,440,-39.749015732775206,126]
[null,null,null,"",null,null,null,null,null,null,null,null,null,null,null,null,null,null,null,null,null,null,null,null,null,null,440.4,5,471.87856413497917,469,-2.8785641349792854]
[null,null,null,"",null,null,null,null,null,null,null,null,null,null,null,null,null,null,null,null,null,null,null,null,null,null,442.4,5,473.94996038032377,449,-24.949960380323887]
[null,null,null,"",null,null,null,null,null,null,null,null,null,null,null,null,null,null,null,null,null,null,null,null,null,null,439.2,5,470.63564855383134,509,38.364351446168541]
[null,null,null,"",null,null,null,null,null,null,null,null,null,null,null,null,null,null,null,null,null,null,null,null,null,null,444.75,4,476.3836450634447,518,41.616354936555183]
[null,null,null,"",null,null,null,null,null,null,null,null,null,null,null,null,null,null,null,null,null,null,null,null,null,null,452.66666666666669,3,484.5806134611326,564,79.419386538867286,126]
[null,null,null,"",null,null,null,null,null,null,null,null,null,null,null,null,null,null,null,null,null,null,null,null,null,null,452.66666666666669,3,484.5806134611326,498,13.419386538867286]
[null,null,null,{"$f":"IF(H708<>\"\",$D$1,\"\")","v":""},null,null,null,null,null,null,null,null,null,null,null,null,null,null,null,null,null,null,null,null,null,null,459,2,491.1364279284428,461,-30.136427928442913]
[null,null,null,"",null,null,null,null,null,null,null,null,null,null,null,null,null,null,null,null,null,null,null,null,null,null,469.33333333333331,3,501.82948695187713,400,-101.82948695187724]
[null,null,null,"",null,null,null,null,null,null,null,null,null,null,null,null,null,null,null,null,null,null,null,null,null,null,467,4,499.41527417746147,438,-61.415274177461583]
[null,null,null,"",null,null,null,null,null,null,null,null,null,null,null,null,null,null,null,null,null,null,null,null,null,null,449.25,4,481.04327759133997,411,-70.043277591340086]
[null,null,null,"",null,null,null,null,null,null,null,null,null,null,null,null,null,null,null,null,null,null,null,null,null,null,427.5,4,458.51410969220302,409,-49.514109692203135]
[null,null,null,"",null,null,null,null,null,null,null,null,null,null,null,null,null,null,null,null,null,null,null,null,null,null,423.8,5,454.67960491975248,437,-17.679604919752592]
[null,null,null,"",null,null,null,null,null,null,null,null,null,null,null,null,null,null,null,null,null,null,null,null,null,null,426,6,456.95965116082544,447,-9.9596511608255582]
[null,null,null,"",null,null,null,null,null,null,null,null,null,null,null,null,null,null,null,null,null,null,null,null,null,null,423.66666666666669,6,454.54141362919256,472,17.458586370807325]
[null,null,null,"",null,null,null,null,null,null,null,null,null,null,null,null,null,null,null,null,null,null,null,null,null,null,428.4,5,459.44673895918856,488,28.553261040811321]
[null,null,null,"",null,null,null,null,null,null,null,null,null,null,null,null,null,null,null,null,null,null,null,null,null,null,426,4,456.95965116082544,529,72.040348839174442]
[null,null,null,"",null,null,null,null,null,null,null,null,null,null,null,null,null,null,null,null,null,null,null,null,null,null,431,3,462.14080923804005,596,133.85919076195984]
[null,null,null,"",null,null,null,null,null,null,null,null,null,null,null,null,null,null,null,null,null,null,null,null,null,null,452,3,483.89043743820395,647,163.10956256179594,126]
[null,null,null,"",null,null,null,null,null,null,null,null,null,null,null,null,null,null,null,null,null,null,null,null,null,null,469,3,501.48461174156159,607,105.51538825843829]
[null,null,null,"",null,null,null,null,null,null,null,null,null,null,null,null,null,null,null,null,null,null,null,null,null,null,480,2,512.86335345031,518,5.1366465496898854]
[null,null,null,"",null,null,null,null,null,null,null,null,null,null,null,null,null,null,null,null,null,null,null,null,null,null,503,2,536.64149223800871,497,-39.641492238008823]
[null,null,null,"",null,null,null,null,null,null,null,null,null,null,null,null,null,null,null,null,null,null,null,null,null,null,514.66666666666663,3,548.69606572101372,444,-104.69606572101384]
[null,null,null,"",null,null,null,null,null,null,null,null,null,null,null,null,null,null,null,null,null,null,null,null,null,null,486.33333333333331,3,519.41278314737951,473,-46.412783147379628]
[null,null,null,"",null,null,null,null,null,null,null,null,null,null,null,null,null,null,null,null,null,null,null,null,null,null,483,4,515.96589146375391,428,-87.965891463754019]
[null,null,null,"",null,null,null,null,null,null,null,null,null,null,null,null,null,null,null,null,null,null,null,null,null,null,472,5,504.58834147360062,445,-59.588341473600735]
[null,null,null,"",null,null,null,null,null,null,null,null,null,null,null,null,null,null,null,null,null,null,null,null,null,null,457.4,5,489.48036782831514,409,-80.480367828315252]
[null,null,null,"",null,null,null,null,null,null,null,null,null,null,null,null,null,null,null,null,null,null,null,null,null,null,449.33333333333331,6,481.12955952450261,425,-56.129559524502724]
[null,null,null,"",null,null,null,null,null,null,null,null,null,null,null,null,null,null,null,null,null,null,null,null,null,null,437.33333333333331,6,468.70210761604955,419,-49.702107616049659]
[null,null,null,"",null,null,null,null,null,null,null,null,null,null,null,null,null,null,null,null,null,null,null,null,null,null,433.16666666666669,6,464.38565127539476,459,-5.3856512753948778]
[null,null,null,"",null,null,null,null,null,null,null,null,null,null,null,null,null,null,null,null,null,null,null,null,null,null,430.83333333333331,6,461.9681209510448,466,4.0318790489550906]
[null,null,null,"",null,null,null,null,null,null,null,null,null,null,null,null,null,null,null,null,null,null,null,null,null,null,437.16666666666669,6,468.52946309810756,437,-31.529463098107669,124]
[null,null,null,"",null,null,null,null,null,null,null,null,null,null,null,null,null,null,null,null,null,null,null,null,null,null,435.83333333333331,6,467.1482658735768,423,-44.148265873576918]
[null,null,null,"",null,null,null,null,null,null,null,null,null,null,null,null,null,null,null,null,null,null,null,null,null,null,438.16666666666669,6,469.56531313430924,413,-56.565313134309349]
[null,null,null,"",null,null,null,null,null,null,null,null,null,null,null,null,null,null,null,null,null,null,null,null,null,null,436.16666666666669,6,467.49357203569411,451,-16.493572035694228]
[null,null,null,"",null,null,null,null,null,null,null,null,null,null,null,null,null,null,null,null,null,null,null,null,null,null,441.5,6,473.01785208417607,413,-60.017852084176184]
[null,null,null,"",null,null,null,null,null,null,null,null,null,null,null,null,null,null,null,null,null,null,null,null,null,null,433.83333333333331,6,465.07633254915766,409,-56.076332549157769]
[null,null,null,"",null,null,null,null,null,null,null,null,null,null,null,null,null,null,null,null,null,null,null,null,null,null,424.33333333333331,6,455.23236244429404,464,8.7676375557058464]
[null,null,null,"",null,null,null,null,null,null,null,null,null,null,null,null,null,null,null,null,null,null,null,null,null,null,428.83333333333331,6,459.89577045600612,458,-1.8957704560062325,123]
[null,null,null,"",null,null,null,null,null,null,null,null,null,null,null,null,null,null,null,null,null,null,null,null,null,null,434.66666666666669,6,465.93965820889048,433,-32.939658208890592]
[null,null,null,"",null,null,null,null,null,null,null,null,null,null,null,null,null,null,null,null,null,null,null,null,null,null,438,6,469.39267430468453,449,-20.392674304684647]
[null,null,null,"",null,null,null,null,null,null,null,null,null,null,null,null,null,null,null,null,null,null,null,null,null,null,437.66666666666669,6,469.04739323569311,461,-8.047393235693221]
[null,null,null,"",null,null,null,null,null,null,null,null,null,null,null,null,null,null,null,null,null,null,null,null,null,null,445.66666666666669,6,477.33289473380472,460,-17.332894733804835]
[null,null,null,"",null,null,null,null,null,null,null,null,null,null,null,null,null,null,null,null,null,null,null,null,null,null,454.16666666666669,6,486.13344629802776,413,-73.133446298027877]
[null,null,null,"",null,null,null,null,null,null,null,null,null,null,null,null,null,null,null,null,null,null,null,null,null,null,445.66666666666669,6,477.33289473380472,432,-45.332894733804835]
[null,null,null,"",null,null,null,null,null,null,null,null,null,null,null,null,null,null,null,null,null,null,null,null,null,null,441.33333333333331,6,472.84523584651077,466,-6.8452358465108887]
[null,null,null,"",null,null,null,null,null,null,null,null,null,null,null,null,null,null,null,null,null,null,null,null,null,null,446.83333333333331,6,478.54098225279751,410,-68.540982252797619]
[null,null,null,"",null,null,null,null,null,null,null,null,null,null,null,null,null,null,null,null,null,null,null,null,null,null,440.33333333333331,6,471.80951480440763,441,-30.80951480440774]
[null,null,null,"",null,null,null,null,null,null,null,null,null,null,null,null,null,null,null,null,null,null,null,null,null,null,437,6,468.35681744055029,399,-69.356817440550401]
[null,null,null,"",null,null,null,null,null,null,null,null,null,null,null,null,null,null,null,null,null,null,null,null,null,null,426.83333333333331,6,457.82325104861616,435,-22.823251048616271]
[null,null,null,"",null,null,null,null,null,null,null,null,null,null,null,null,null,null,null,null,null,null,null,null,null,null,430.5,6,461.62274088186962,506,44.377259118130269]
[null,null,null,"",null,null,null,null,null,null,null,null,null,null,null,null,null,null,null,null,null,null,null,null,null,null,430.2,5,461.31189483139849,618,156.6881051686014]
[null,null,null,"",null,null,null,null,null,null,null,null,null,null,null,null,null,null,null,null,null,null,null,null,null,null,421.25,4,452.03656362766071,1058,605.96343637233917]
[null,null,null,"",null,null,null,null,null,null,null,null,null,null,null,null,null,null,null,null,null,null,null,null,null,null,425,3,455.92329219213246,1539,1083.0767078078675]
[null,null,null,"",null,null,null,null,null,null,null,null,null,null,null,null,null,null,null,null,null,null,null,null,null,null,417,2,447.6308667849932,1518,1070.3691332150067,121]
[null,null,null,"",null,null,null,null,null,null,null,null,null,null,null,null,null,null,null,null,null,null,null,null,null,null,417,1,447.6308667849932,1125,677.36913321500674]
[null,null,null,"",null,null,null,null,null,null,null,null,null,null,null,null,null,null,null,null,null,null,null,null,null,null,417,0,447.6308667849932,663,215.36913321500668]
[null,null,null,"",null,null,null,null,null,null,null,null,null,null,null,null,null,null,null,null,null,null,null,null,null,null,417,0,447.6308667849932,420,-27.630866784993316]
[null,null,null,"",null,null,null,null,null,null,null,null,null,null,null,null,null,null,null,null,null,null,null,null,null,null,417,1,447.6308667849932,437,-10.630866784993316]
[null,null,null,"",null,null,null,null,null,null,null,null,null,null,null,null,null,null,null,null,null,null,null,null,null,null,428.5,2,459.55036231672671,463,3.4496376832731812]
[null,null,null,"",null,null,null,null,null,null,null,null,null,null,null,null,null,null,null,null,null,null,null,null,null,null,440,3,471.46426544510456,413,-58.464265445104672,124]
[null,null,null,"",null,null,null,null,null,null,null,null,null,null,null,null,null,null,null,null,null,null,null,null,null,null,433.25,4,464.47198744474798,419,-45.471987444748095]
[null,null,null,"",null,null,null,null,null,null,null,null,null,null,null,null,null,null,null,null,null,null,null,null,null,null,430.4,5,461.51912595173582,424,-37.51912595173593]
[null,null,null,"",null,null,null,null,null,null,null,null,null,null,null,null,null,null,null,null,null,null,null,null,null,null,429.33333333333331,6,460.41387386917341,425,-35.413873869173528]
[null,null,null,"",null,null,null,null,null,null,null,null,null,null,null,null,null,null,null,null,null,null,null,null,null,null,430.16666666666669,6,461.27735614793664,444,-17.277356147936757]
[null,null,null,"",null,null,null,null,null,null,null,null,null,null,null,null,null,null,null,null,null,null,null,null,null,null,431.33333333333331,6,462.48618232022375,432,-30.486182320223861]
[null,null,null,"",null,null,null,null,null,null,null,null,null,null,null,null,null,null,null,null,null,null,null,null,null,null,426.16666666666669,6,457.13237350503869,410,-47.1323735050388]
[null,null,null,"",null,null,null,null,null,null,null,null,null,null,null,null,null,null,null,null,null,null,null,null,null,null,425.66666666666669,6,456.61420291755428,418,-38.614202917554394]
[null,null,null,"",null,null,null,null,null,null,null,null,null,null,null,null,null,null,null,null,null,null,null,null,null,null,425.5,6,456.44147701710438,413,-43.441477017104489]
[null,null,null,"",null,null,null,null,null,null,null,null,null,null,null,null,null,null,null,null,null,null,null,null,null,null,423.66666666666669,6,454.54141362919256,418,-36.541413629192675]
[null,null,null,"",null,null,null,null,null,null,null,null,null,null,null,null,null,null,null,null,null,null,null,null,null,null,422.5,6,453.33220718664171,457,3.6677928133581759]
[null,null,null,{"$f":"IF(H772<>\"\",$D$1,\"\")","v":""},null,null,null,null,null,null,null,null,null,null,null,null,null,null,null,null,null,null,null,null,null,null,424.66666666666669,6,455.57782969881413,409,-46.577829698814242,122]
[null,null,null,"",null,null,null,null,null,null,null,null,null,null,null,null,null,null,null,null,null,null,null,null,null,null,420.83333333333331,6,451.60466739606125,443,-8.6046673960613589]
[null,null,null,"",null,null,null,null,null,null,null,null,null,null,null,null,null,null,null,null,null,null,null,null,null,null,426.33333333333331,6,457.30509466523046,415.5,-41.80509466523057]
[null,null,null,"",null,null,null,null,null,null,null,null,null,null,null,null,null,null,null,null,null,null,null,null,null,null,423.83333333333331,6,454.71415262298302,415.5,-39.214152622983136]
[null,null,null,"",null,null,null,null,null,null,null,null,null,null,null,null,null,null,null,null,null,null,null,null,null,null,426.33333333333331,6,457.30509466523046,407.5,-49.80509466523057]
[null,null,null,"",null,null,null,null,null,null,null,null,null,null,null,null,null,null,null,null,null,null,null,null,null,null,423.83333333333331,6,454.71415262298302,420,-34.714152622983136]
[null,null,null,"",null,null,null,null,null,null,null,null,null,null,null,null,null,null,null,null,null,null,null,null,null,null,416.33333333333331,6,446.93970521893908,419,-27.939705218939196]
[null,null,null,"",null,null,null,null,null,null,null,null,null,null,null,null,null,null,null,null,null,null,null,null,null,null,419.5,6,450.22254872239608,382.5,-67.722548722396198]
[null,null,null,"",null,null,null,null,null,null,null,null,null,null,null,null,null,null,null,null,null,null,null,null,null,null,414,6,444.52048492406368,396,-48.520484924063794]
[null,null,null,"",null,null,null,null,null,null,null,null,null,null,null,null,null,null,null,null,null,null,null,null,null,null,406,6,436.22416251941485,427,-9.2241625194149606]
[null,null,null,"",null,null,null,null,null,null,null,null,null,null,null,null,null,null,null,null,null,null,null,null,null,null,407.5,6,437.77994385727953,406.5,-31.279943857279648]
[null,null,null,"",null,null,null,null,null,null,null,null,null,null,null,null,null,null,null,null,null,null,null,null,null,null,409.83333333333331,6,440.19984449283271,399,-41.199844492832824]
[null,null,null,"",null,null,null,null,null,null,null,null,null,null,null,null,null,null,null,null,null,null,null,null,null,null,407.16666666666669,6,437.4342235551901,410.5,-26.934223555190215]
[null,null,null,"",null,null,null,null,null,null,null,null,null,null,null,null,null,null,null,null,null,null,null,null,null,null,402.83333333333331,6,432.93939584572439,429.5,-3.4393958457245049]
[null,null,null,"",null,null,null,null,null,null,null,null,null,null,null,null,null,null,null,null,null,null,null,null,null,null,404.33333333333331,6,434.49539559704465,426.5,-7.9953955970447623]
[null,null,null,"",null,null,null,null,null,null,null,null,null,null,null,null,null,null,null,null,null,null,null,null,null,null,418.5,6,449.18590881821819,406.5,-42.685908818218309]
[null,null,null,"",null,null,null,null,null,null,null,null,null,null,null,null,null,null,null,null,null,null,null,null,null,null,414.5,6,445.03890960725352,426.5,-18.538909607253629]
[null,null,null,"",null,null,null,null,null,null,null,null,null,null,null,null,null,null,null,null,null,null,null,null,null,null,411.66666666666669,6,442.10102225373311,435,-7.1010222537332197]
[null,null,null,"",null,null,null,null,null,null,null,null,null,null,null,null,null,null,null,null,null,null,null,null,null,null,414.8,5,445.34995908344234,418,-27.349959083442457]
[null,null,null,"",null,null,null,null,null,null,null,null,null,null,null,null,null,null,null,null,null,null,null,null,null,null,423.66666666666669,6,454.54141362919256,425,-29.541413629192675]
[null,null,null,"",null,null,null,null,null,null,null,null,null,null,null,null,null,null,null,null,null,null,null,null,null,null,423.66666666666669,6,454.54141362919256,406.5,-48.041413629192675]
[null,null,null,"",null,null,null,null,null,null,null,null,null,null,null,null,null,null,null,null,null,null,null,null,null,null,422.16666666666669,6,452.98670884704018,418,-34.98670884704029]
[null,null,null,"",null,null,null,null,null,null,null,null,null,null,null,null,null,null,null,null,null,null,null,null,null,null,417,6,447.6308667849932,433,-14.630866784993316]
[null,null,null,"",null,null,null,null,null,null,null,null,null,null,null,null,null,null,null,null,null,null,null,null,null,null,426,6,456.95965116082544,412.5,-44.459651160825558]
[null,null,null,"",null,null,null,null,null,null,null,null,null,null,null,null,null,null,null,null,null,null,null,null,null,null,419.16666666666669,6,449.87700694482055,411.5,-38.377006944820664]
[null,null,null,"",null,null,null,null,null,null,null,null,null,null,null,null,null,null,null,null,null,null,null,null,null,null,418.5,6,449.18590881821819,422,-27.185908818218309]
[null,null,null,"",null,null,null,null,null,null,null,null,null,null,null,null,null,null,null,null,null,null,null,null,null,null,417,6,447.6308667849932,429.5,-18.130866784993316]
[null,null,null,"",null,null,null,null,null,null,null,null,null,null,null,null,null,null,null,null,null,null,null,null,null,null,417.5,6,448.14922511255384,433,-15.14922511255395]
[null,null,null,"",null,null,null,null,null,null,null,null,null,null,null,null,null,null,null,null,null,null,null,null,null,null,424.66666666666669,6,455.57782969881413,419,-36.577829698814242]
[null,null,null,"",null,null,null,null,null,null,null,null,null,null,null,null,null,null,null,null,null,null,null,null,null,null,422.5,6,453.33220718664171,373.5,-79.832207186641824]
[null,null,null,"",null,null,null,null,null,null,null,null,null,null,null,null,null,null,null,null,null,null,null,null,null,null,420,6,450.7408522978788,353.5,-97.240852297878916]
[null,null,null,"",null,null,null,null,null,null,null,null,null,null,null,null,null,null,null,null,null,null,null,null,null,null,409.5,6,439.85415951727208,372,-67.854159517272194]
[null,null,null,"",null,null,null,null,null,null,null,null,null,null,null,null,null,null,null,null,null,null,null,null,null,null,400.66666666666669,6,430.69165625867151,377.5,-53.191656258671628]
[null,null,null,"",null,null,null,null,null,null,null,null,null,null,null,null,null,null,null,null,null,null,null,null,null,null,383.2,5,412.56324232778115,387.5,-25.063242327781268]
[null,null,null,"",null,null,null,null,null,null,null,null,null,null,null,null,null,null,null,null,null,null,null,null,null,null,371.8,5,400.72317409967309,415,14.276825900326799]
[null,null,null,"",null,null,null,null,null,null,null,null,null,null,null,null,null,null,null,null,null,null,null,null,null,null,377.66666666666669,6,406.8171383609635,432.5,25.682861639036389]
[null,null,null,"",null,null,null,null,null,null,null,null,null,null,null,null,null,null,null,null,null,null,null,null,null,null,373.8,5,402.80086205615277,447.5,44.69913794384712]
[null,null,null,"",null,null,null,null,null,null,null,null,null,null,null,null,null,null,null,null,null,null,null,null,null,null,379.75,4,408.98076290485761,449.5,40.519237095142273,116]
[null,null,null,"",null,null,null,null,null,null,null,null,null,null,null,null,null,null,null,null,null,null,null,null,null,null,387.33333333333331,3,416.85451217158436,444.5,27.645487828415526]
[null,null,null,"",null,null,null,null,null,null,null,null,null,null,null,null,null,null,null,null,null,null,null,null,null,null,399.33333333333331,3,429.30832290797701,423,-6.3083229079771286]
[null,null,null,"",null,null,null,null,null,null,null,null,null,null,null,null,null,null,null,null,null,null,null,null,null,null,415,2,445.55732318119504,403.5,-42.057323181195159]
[null,null,null,"",null,null,null,null,null,null,null,null,null,null,null,null,null,null,null,null,null,null,null,null,null,null,435,6,466.28498042192132,435,-31.284980421921432]
[null,null,null,"",null,null,null,null,null,null,null,null,null,null,null,null,null,null,null,null,null,null,null,null,null,null,431.83333333333331,6,463.00423322409682,610.5,147.49576677590306]
[null,null,null,"",null,null,null,null,null,null,null,null,null,null,null,null,null,null,null,null,null,null,null,null,null,null,435.83333333333331,6,467.1482658735768,1132.5,665.35173412642303]
[null,null,null,"",null,null,null,null,null,null,null,null,null,null,null,null,null,null,null,null,null,null,null,null,null,null,432.4,5,463.59134495336804,2020,1556.4086550466318]
[null,null,null,"",null,null,null,null,null,null,null,null,null,null,null,null,null,null,null,null,null,null,null,null,null,null,429,4,460.06847276581198,2658,2197.9315272341878]
[null,null,null,"",null,null,null,null,null,null,null,null,null,null,null,null,null,null,null,null,null,null,null,null,null,null,424.33333333333331,3,455.23236244429404,2376,1920.7676375557057,122]
[null,null,null,"",null,null,null,null,null,null,null,null,null,null,null,null,null,null,null,null,null,null,null,null,null,null,424.33333333333331,1,455.23236244429404,1460.5,1005.2676375557058]
[null,null,null,"",null,null,null,null,null,null,null,null,null,null,null,null,null,null,null,null,null,null,null,null,null,null,424.33333333333331,0,455.23236244429404,742,286.76763755570585]
[null,null,null,"",null,null,null,null,null,null,null,null,null,null,null,null,null,null,null,null,null,null,null,null,null,null,424.33333333333331,0,455.23236244429404,489.5,34.267637555705846]
[null,null,null,"",null,null,null,null,null,null,null,null,null,null,null,null,null,null,null,null,null,null,null,null,null,null,424.33333333333331,0,455.23236244429404,448,-7.2323624442941536]
[null,null,null,"",null,null,null,null,null,null,null,null,null,null,null,null,null,null,null,null,null,null,null,null,null,null,424.33333333333331,1,455.23236244429404,466,10.767637555705846]
[null,null,null,"",null,null,null,null,null,null,null,null,null,null,null,null,null,null,null,null,null,null,null,null,null,null,448,2,479.74901573277509,542.5,62.750984267224794]
[null,null,null,"",null,null,null,null,null,null,null,null,null,null,null,null,null,null,null,null,null,null,null,null,null,null,460.66666666666669,3,492.86138673067717,622.5,129.63861326932272]
[null,null,null,"",null,null,null,null,null,null,null,null,null,null,null,null,null,null,null,null,null,null,null,null,null,null,460.66666666666669,3,492.86138673067717,668.5,175.63861326932272]
[null,null,null,"",null,null,null,null,null,null,null,null,null,null,null,null,null,null,null,null,null,null,null,null,null,null,460.66666666666669,3,492.86138673067717,733.5,240.63861326932272]
[null,null,null,"",null,null,null,null,null,null,null,null,null,null,null,null,null,null,null,null,null,null,null,null,null,null,460.66666666666669,3,492.86138673067717,821.5,328.63861326932272,127]
[null,null,null,"",null,null,null,null,null,null,null,null,null,null,null,null,null,null,null,null,null,null,null,null,null,null,466,2,498.38054971738438,785,286.6194502826155]
[null,null,null,"",null,null,null,null,null,null,null,null,null,null,null,null,null,null,null,null,null,null,null,null,null,null,466,1,498.38054971738438,609.5,111.1194502826155]
[null,null,null,"",null,null,null,null,null,null,null,null,null,null,null,null,null,null,null,null,null,null,null,null,null,null,466,0,498.38054971738438,471.5,-26.880549717384497]
[null,null,null,"",null,null,null,null,null,null,null,null,null,null,null,null,null,null,null,null,null,null,null,null,null,null,466,0,498.38054971738438,414,-84.380549717384497]
[null,null,null,"",null,null,null,null,null,null,null,null,null,null,null,null,null,null,null,null,null,null,null,null,null,null,466,1,498.38054971738438,378.5,-119.8805497173845]
[null,null,null,"",null,null,null,null,null,null,null,null,null,null,null,null,null,null,null,null,null,null,null,null,null,null,414,2,444.52048492406368,380,-64.520484924063794]
[null,null,null,"",null,null,null,null,null,null,null,null,null,null,null,null,null,null,null,null,null,null,null,null,null,null,394.66666666666669,3,424.46599551816939,397.5,-26.965995518169507]
[null,null,null,{"$f":"IF(H836<>\"\",$D$1,\"\")","v":""},null,null,null,null,null,null,null,null,null,null,null,null,null,null,null,null,null,null,null,null,null,null,397,4,426.8872882677569,399,-27.887288267757015]
[null,null,null,"",null,null,null,null,null,null,null,null,null,null,null,null,null,null,null,null,null,null,null,null,null,null,395.8,5,425.6420843776034,396.5,-29.14208437760351]
[null,null,null,"",null,null,null,null,null,null,null,null,null,null,null,null,null,null,null,null,null,null,null,null,null,null,397.66666666666669,6,427.57903868895875,379,-48.57903868895886]
[null,null,null,"",null,null,null,null,null,null,null,null,null,null,null,null,null,null,null,null,null,null,null,null,null,null,390.83333333333331,6,420.48759103775075,375,-45.48759103775086]
[null,null,null,"",null,null,null,null,null,null,null,null,null,null,null,null,null,null,null,null,null,null,null,null,null,null,386,6,415.47032405658274,390.5,-24.970324056582854]
[null,null,null,"",null,null,null,null,null,null,null,null,null,null,null,null,null,null,null,null,null,null,null,null,null,null,389.66666666666669,6,419.27663120565256,397,-22.276631205652677]
[null,null,null,"",null,null,null,null,null,null,null,null,null,null,null,null,null,null,null,null,null,null,null,null,null,null,389.5,6,419.10363153398583,390,-29.103631533985947]
[null,null,null,"",null,null,null,null,null,null,null,null,null,null,null,null,null,null,null,null,null,null,null,null,null,null,389.5,6,419.10363153398583,394.5,-24.603631533985947]
[null,null,null,"",null,null,null,null,null,null,null,null,null,null,null,null,null,null,null,null,null,null,null,null,null,null,386.5,6,415.98940487700622,397,-18.989404877006336]
[null,null,null,"",null,null,null,null,null,null,null,null,null,null,null,null,null,null,null,null,null,null,null,null,null,null,388.83333333333331,6,418.41161928772897,382,-36.411619287729081]
[null,null,null,"",null,null,null,null,null,null,null,null,null,null,null,null,null,null,null,null,null,null,null,null,null,null,392.5,6,422.21741913423841,368.5,-53.717419134238526]
[null,null,null,"",null,null,null,null,null,null,null,null,null,null,null,null,null,null,null,null,null,null,null,null,null,null,391.16666666666669,6,420.83356741480685,365,-55.833567414806964]
[null,null,null,"",null,null,null,null,null,null,null,null,null,null,null,null,null,null,null,null,null,null,null,null,null,null,385.16666666666669,6,414.60516187277392,359,-55.605161872774033]
[null,null,null,"",null,null,null,null,null,null,null,null,null,null,null,null,null,null,null,null,null,null,null,null,null,null,380.5,6,409.75961380469676,349.5,-60.259613804696869]
[null,null,null,"",null,null,null,null,null,null,null,null,null,null,null,null,null,null,null,null,null,null,null,null,null,null,374.83333333333331,6,403.87425274026668,372,-31.874252740266797]
[null,null,null,"",null,null,null,null,null,null,null,null,null,null,null,null,null,null,null,null,null,null,null,null,null,null,365.5,6,394.17708144145774,382,-12.177081441457858]
[null,null,null,"",null,null,null,null,null,null,null,null,null,null,null,null,null,null,null,null,null,null,null,null,null,null,366.5,6,395.21628457861499,376.5,-18.716284578615102]
[null,null,null,"",null,null,null,null,null,null,null,null,null,null,null,null,null,null,null,null,null,null,null,null,null,null,365.5,6,394.17708144145774,368,-26.177081441457858]
[null,null,null,"",null,null,null,null,null,null,null,null,null,null,null,null,null,null,null,null,null,null,null,null,null,null,369.16666666666669,6,397.98723224057591,357.5,-40.48723224057602]
[null,null,null,"",null,null,null,null,null,null,null,null,null,null,null,null,null,null,null,null,null,null,null,null,null,null,366.5,6,395.21628457861499,357,-38.216284578615102]
[null,null,null,"",null,null,null,null,null,null,null,null,null,null,null,null,null,null,null,null,null,null,null,null,null,null,368.66666666666669,6,397.46770831449601,346.5,-50.967708314496122]
[null,null,null,"",null,null,null,null,null,null,null,null,null,null,null,null,null,null,null,null,null,null,null,null,null,null,369,6,397.81405906844782,354,-43.814059068447932]
[null,null,null,"",null,null,null,null,null,null,null,null,null,null,null,null,null,null,null,null,null,null,null,null,null,null,360.16666666666669,6,388.63375292430817,360,-28.633752924308283]
[null,null,null,"",null,null,null,null,null,null,null,null,null,null,null,null,null,null,null,null,null,null,null,null,null,null,359.66666666666669,6,388.11398639981553,359.5,-28.613986399815644]
[null,null,null,"",null,null,null,null,null,null,null,null,null,null,null,null,null,null,null,null,null,null,null,null,null,null,354.66666666666669,6,382.91556045031774,357.5,-25.415560450317798]
[null,null,null,"",null,null,null,null,null,null,null,null,null,null,null,null,null,null,null,null,null,null,null,null,null,null,356.83333333333331,6,385.16838230099881,368,-17.168382300998928]
[null,null,null,"",null,null,null,null,null,null,null,null,null,null,null,null,null,null,null,null,null,null,null,null,null,null,354.66666666666669,6,382.91556045031774,376.5,-6.4155604503177983]
[null,null,null,"",null,null,null,null,null,null,null,null,null,null,null,null,null,null,null,null,null,null,null,null,null,null,360.5,6,388.98025631907126,391.5,2.5197436809286273]
[null,null,null,"",null,null,null,null,null,null,null,null,null,null,null,null,null,null,null,null,null,null,null,null,null,null,364.66666666666669,6,393.31103784147172,401,7.6889621585281702]
[null,null,null,"",null,null,null,null,null,null,null,null,null,null,null,null,null,null,null,null,null,null,null,null,null,null,365.4,5,394.07315817973318,374.5,-19.573158179733298,113]
[null,null,null,"",null,null,null,null,null,null,null,null,null,null,null,null,null,null,null,null,null,null,null,null,null,null,371.8,5,400.72317409967309,364.5,-36.223174099673201]
[null,null,null,"",null,null,null,null,null,null,null,null,null,null,null,null,null,null,null,null,null,null,null,null,null,null,371.4,5,400.30761145442489,363.5,-36.807611454425]
[null,null,null,"",null,null,null,null,null,null,null,null,null,null,null,null,null,null,null,null,null,null,null,null,null,null,374.6,5,403.63187902978382,371.5,-32.131879029783931]
[null,null,null,"",null,null,null,null,null,null,null,null,null,null,null,null,null,null,null,null,null,null,null,null,null,null,376.5,6,405.6054118678984,383.5,-22.105411867898511]
[null,null,null,"",null,null,null,null,null,null,null,null,null,null,null,null,null,null,null,null,null,null,null,null,null,null,379,6,408.20188350089768,376.5,-31.701883500897793]
[null,null,null,"",null,null,null,null,null,null,null,null,null,null,null,null,null,null,null,null,null,null,null,null,null,null,373.83333333333331,6,402.83548842567086,359,-43.835488425670974]
[null,null,null,"",null,null,null,null,null,null,null,null,null,null,null,null,null,null,null,null,null,null,null,null,null,null,370.83333333333331,6,399.71888335406169,346.5,-53.218883354061802]
[null,null,null,"",null,null,null,null,null,null,null,null,null,null,null,null,null,null,null,null,null,null,null,null,null,null,368.66666666666669,6,397.46770831449601,346.5,-50.967708314496122]
[null,null,null,"",null,null,null,null,null,null,null,null,null,null,null,null,null,null,null,null,null,null,null,null,null,null,364.83333333333331,6,393.48424954904971,351,-42.484249549049821]
[null,null,null,"",null,null,null,null,null,null,null,null,null,null,null,null,null,null,null,null,null,null,null,null,null,null,363,6,391.57883832488648,373,-18.57883832488659]
[null,null,null,"",null,null,null,null,null,null,null,null,null,null,null,null,null,null,null,null,null,null,null,null,null,null,358,6,386.38133189263675,383.5,-2.8813318926368652]
[null,null,null,"",null,null,null,null,null,null,null,null,null,null,null,null,null,null,null,null,null,null,null,null,null,null,359.5,6,387.94072783878784,366,-21.94072783878795]
[null,null,null,"",null,null,null,null,null,null,null,null,null,null,null,null,null,null,null,null,null,null,null,null,null,null,360.33333333333331,6,388.80700538314102,364.5,-24.307005383141131]
[null,null,null,"",null,null,null,null,null,null,null,null,null,null,null,null,null,null,null,null,null,null,null,null,null,null,361.83333333333331,6,390.3662091084808,363.5,-26.866209108480916]
[null,null,null,"",null,null,null,null,null,null,null,null,null,null,null,null,null,null,null,null,null,null,null,null,null,null,366.33333333333331,6,395.04308777324451,346,-49.043087773244622]
[null,null,null,"",null,null,null,null,null,null,null,null,null,null,null,null,null,null,null,null,null,null,null,null,null,null,367.5,6,396.25543426902124,359.5,-36.75543426902135]
[null,null,null,"",null,null,null,null,null,null,null,null,null,null,null,null,null,null,null,null,null,null,null,null,null,null,364.66666666666669,6,393.31103784147172,379.5,-13.81103784147183]
[null,null,null,"",null,null,null,null,null,null,null,null,null,null,null,null,null,null,null,null,null,null,null,null,null,null,363,6,391.57883832488648,383.5,-8.0788383248865898]
[null,null,null,"",null,null,null,null,null,null,null,null,null,null,null,null,null,null,null,null,null,null,null,null,null,null,363.33333333333331,6,391.92529024432491,368.5,-23.425290244325026]
[null,null,null,"",null,null,null,null,null,null,null,null,null,null,null,null,null,null,null,null,null,null,null,null,null,null,368.83333333333331,6,397.64088442675325,369,-28.64088442675336]
[null,null,null,"",null,null,null,null,null,null,null,null,null,null,null,null,null,null,null,null,null,null,null,null,null,null,364.66666666666669,6,393.31103784147172,468.5,75.18896215852817]
[null,null,null,"",null,null,null,null,null,null,null,null,null,null,null,null,null,null,null,null,null,null,null,null,null,null,370.66666666666669,6,399.545724823054,628.5,228.95427517694588]
[null,null,null,"",null,null,null,null,null,null,null,null,null,null,null,null,null,null,null,null,null,null,null,null,null,null,376.8,5,405.91700534052222,833.5,427.58299465947766]
[null,null,null,"",null,null,null,null,null,null,null,null,null,null,null,null,null,null,null,null,null,null,null,null,null,null,376.25,4,405.34574711190623,893.5,488.15425288809365]
[null,null,null,"",null,null,null,null,null,null,null,null,null,null,null,null,null,null,null,null,null,null,null,null,null,null,375,3,404.04737509655564,761.5,357.45262490344425,115]
[null,null,null,"",null,null,null,null,null,null,null,null,null,null,null,null,null,null,null,null,null,null,null,null,null,null,369,2,397.81405906844782,589.5,191.68594093155207]
[null,null,null,"",null,null,null,null,null,null,null,null,null,null,null,null,null,null,null,null,null,null,null,null,null,null,369,1,397.81405906844782,449.5,51.685940931552068]
[null,null,null,"",null,null,null,null,null,null,null,null,null,null,null,null,null,null,null,null,null,null,null,null,null,null,369,0,397.81405906844782,375,-22.814059068447932]
[null,null,null,"",null,null,null,null,null,null,null,null,null,null,null,null,null,null,null,null,null,null,null,null,null,null,369,0,397.81405906844782,360.5,-37.314059068447932]
[null,null,null,"",null,null,null,null,null,null,null,null,null,null,null,null,null,null,null,null,null,null,null,null,null,null,369,1,397.81405906844782,369,-28.814059068447932]
[null,null,null,"",null,null,null,null,null,null,null,null,null,null,null,null,null,null,null,null,null,null,null,null,null,null,360.5,2,388.98025631907126,367.5,-21.480256319071373]
[null,null,null,"",null,null,null,null,null,null,null,null,null,null,null,null,null,null,null,null,null,null,null,null,null,null,357.66666666666669,3,386.03478257167524,359,-27.03478257167535]
[null,null,null,"",null,null,null,null,null,null,null,null,null,null,null,null,null,null,null,null,null,null,null,null,null,null,364,4,392.61817604250837,335.5,-57.11817604250848]
[null,null,null,"",null,null,null,null,null,null,null,null,null,null,null,null,null,null,null,null,null,null,null,null,null,null,358.2,5,386.5892585320575,343.5,-43.089258532057613]
[null,null,null,{"$f":"IF(H900<>\"\",$D$1,\"\")","v":""},null,null,null,null,null,null,null,null,null,null,null,null,null,null,null,null,null,null,null,null,null,null,354.5,6,382.74225557564409,353,-29.742255575644151]
[null,null,null,"",null,null,null,null,null,null,null,null,null,null,null,null,null,null,null,null,null,null,null,null,null,null,357.16666666666669,6,385.51494703779326,349,-36.514947037793377]
[null,null,null,"",null,null,null,null,null,null,null,null,null,null,null,null,null,null,null,null,null,null,null,null,null,null,352,6,380.1424945589406,340,-40.142494558940655]
[null,null,null,"",null,null,null,null,null,null,null,null,null,null,null,null,null,null,null,null,null,null,null,null,null,null,350.5,6,378.58246784027358,336.5,-42.082467840273637]
[null,null,null,"",null,null,null,null,null,null,null,null,null,null,null,null,null,null,null,null,null,null,null,null,null,null,342.83333333333331,6,370.60697191382906,352,-18.606971913829113]
[null,null,null,"",null,null,null,null,null,null,null,null,null,null,null,null,null,null,null,null,null,null,null,null,null,null,343,6,370.78038876617819,368,-2.7803887661782483]
[null,null,null,"",null,null,null,null,null,null,null,null,null,null,null,null,null,null,null,null,null,null,null,null,null,null,348.33333333333331,6,376.32886869167214,379,2.6711313083278014]
[null,null,null,"",null,null,null,null,null,null,null,null,null,null,null,null,null,null,null,null,null,null,null,null,null,null,351.16666666666669,6,379.27582887403247,360.5,-18.775828874032527,111]
[null,null,null,"",null,null,null,null,null,null,null,null,null,null,null,null,null,null,null,null,null,null,null,null,null,null,350.4,5,378.4784614963142,347,-31.478461496314253]
[null,null,null,"",null,null,null,null,null,null,null,null,null,null,null,null,null,null,null,null,null,null,null,null,null,null,348,5,375.98213715926647,357.5,-18.482137159266529]
[null,null,null,"",null,null,null,null,null,null,null,null,null,null,null,null,null,null,null,null,null,null,null,null,null,null,353.2,5,381.39042390600042,344.5,-36.890423906000478]
[null,null,null,"",null,null,null,null,null,null,null,null,null,null,null,null,null,null,null,null,null,null,null,null,null,null,362,6,390.53944638566065,342.5,-48.039446385660767]
[null,null,null,"",null,null,null,null,null,null,null,null,null,null,null,null,null,null,null,null,null,null,null,null,null,null,356.83333333333331,6,385.16838230099881,339,-46.168382300998928]
[null,null,null,"",null,null,null,null,null,null,null,null,null,null,null,null,null,null,null,null,null,null,null,null,null,null,353.5,6,381.70239351544473,334,-47.702393515444783]
[null,null,null,"",null,null,null,null,null,null,null,null,null,null,null,null,null,null,null,null,null,null,null,null,null,null,343.5,6,371.30062948927593,356,-15.300629489275991]
[null,null,null,"",null,null,null,null,null,null,null,null,null,null,null,null,null,null,null,null,null,null,null,null,null,null,344.66666666666669,6,372.51446729795532,354,-18.514467297955377]
[null,null,null,"",null,null,null,null,null,null,null,null,null,null,null,null,null,null,null,null,null,null,null,null,null,null,346.5,6,374.42176570347942,325,-49.42176570347948]
[null,null,null,"",null,null,null,null,null,null,null,null,null,null,null,null,null,null,null,null,null,null,null,null,null,null,343.5,6,371.30062948927593,325,-46.300629489275991]
[null,null,null,"",null,null,null,null,null,null,null,null,null,null,null,null,null,null,null,null,null,null,null,null,null,null,340,6,367.65863337187864,352.5,-15.158633371878693]
[null,null,null,"",null,null,null,null,null,null,null,null,null,null,null,null,null,null,null,null,null,null,null,null,null,null,337.66666666666669,6,365.23022957134214,363.5,-1.7302295713421927]
[null,null,null,"",null,null,null,null,null,null,null,null,null,null,null,null,null,null,null,null,null,null,null,null,null,null,344.5,6,372.34106678990588,372,-0.34106678990593764]
[null,null,null,"",null,null,null,null,null,null,null,null,null,null,null,null,null,null,null,null,null,null,null,null,null,null,347.5,6,375.46202782346086,412.5,37.037972176539085]
[null,null,null,"",null,null,null,null,null,null,null,null,null,null,null,null,null,null,null,null,null,null,null,null,null,null,342.2,5,369.94797289893444,447.5,77.552027101065505]
[null,null,null,"",null,null,null,null,null,null,null,null,null,null,null,null,null,null,null,null,null,null,null,null,null,null,344.25,4,372.08096297291922,476,103.91903702708072]
[null,null,null,"",null,null,null,null,null,null,null,null,null,null,null,null,null,null,null,null,null,null,null,null,null,null,353.66666666666669,3,381.87570777053975,472.5,90.624292229460195,112]
[null,null,null,"",null,null,null,null,null,null,null,null,null,null,null,null,null,null,null,null,null,null,null,null,null,null,371.66666666666669,3,400.58465414850917,447,46.415345851490713]
[null,null,null,"",null,null,null,null,null,null,null,null,null,null,null,null,null,null,null,null,null,null,null,null,null,null,372,2,400.93095228297886,413.5,12.569047717021022]
[null,null,null,"",null,null,null,null,null,null,null,null,null,null,null,null,null,null,null,null,null,null,null,null,null,null,372,1,400.93095228297886,365.5,-35.430952282978978]
[null,null,null,"",null,null,null,null,null,null,null,null,null,null,null,null,null,null,null,null,null,null,null,null,null,null,372,1,400.93095228297886,351.5,-49.430952282978978]
[null,null,null,"",null,null,null,null,null,null,null,null,null,null,null,null,null,null,null,null,null,null,null,null,null,null,365.5,2,394.17708144145774,361,-33.177081441457858]
[null,null,null,"",null,null,null,null,null,null,null,null,null,null,null,null,null,null,null,null,null,null,null,null,null,null,362.33333333333331,3,390.88591640387176,328,-62.885916403871875]
[null,null,null,"",null,null,null,null,null,null,null,null,null,null,null,null,null,null,null,null,null,null,null,null,null,null,363.25,4,391.8386778288189,316,-75.838677828819016]
[null,null,null,null,null,null,null,null,null,null,null,null,null,null,null,null,null,null,null,null,null,null,null,null,null,null,348.6,5,376.60624930261105,333.5,-43.106249302611104]
[null,null,null,null,null,null,null,null,null,null,null,null,null,null,null,null,null,null,null,null,null,null,null,null,null,null,347.5,6,375.46202782346086,334.5,-40.962027823460915]
[null,null,null,null,null,null,null,null,null,null,null,null,null,null,null,null,null,null,null,null,null,null,null,null,null,null,337.66666666666669,6,365.23022957134214,334,-31.230229571342193]
[null,null,null,null,null,null,null,null,null,null,null,null,null,null,null,null,null,null,null,null,null,null,null,null,null,null,337.16666666666669,6,364.70981463490011,348.5,-16.209814634900169]
[null,null,null,null,null,null,null,null,null,null,null,null,null,null,null,null,null,null,null,null,null,null,null,null,null,null,331.83333333333331,6,359.15777294332349,348.5,-10.65777294332355]
[null,null,null,null,null,null,null,null,null,null,null,null,null,null,null,null,null,null,null,null,null,null,null,null,null,null,325,5,352.0416345659799,336,-16.041634565979962]
[null,null,null,null,null,null,null,null,null,null,null,null,null,null,null,null,null,null,null,null,null,null,null,null,null,null,331.8,5,359.12306717775294,352.5,-6.6230671777530006]
[null,null,null,null,null,null,null,null,null,null,null,null,null,null,null,null,null,null,null,null,null,null,null,null,null,null,333,5,360.37243138634199,359,-1.3724313863420434]
[null,null,null,null,null,null,null,null,null,null,null,null,null,null,null,null,null,null,null,null,null,null,null,null,null,null,339.4,5,367.03421791909443,356.5,-10.534217919094488]
[null,null,null,null,null,null,null,null,null,null,null,null,null,null,null,null,null,null,null,null,null,null,null,null,null,null,347.83333333333331,6,375.80876898677758,346,-29.808768986777636]
[null,null,null,null,null,null,null,null,null,null,null,null,null,null,null,null,null,null,null,null,null,null,null,null,null,null,352.5,6,380.66247503327787,340.5,-40.162475033277929]
[null,null,null,null,null,null,null,null,null,null,null,null,null,null,null,null,null,null,null,null,null,null,null,null,null,null,347,6,374.94190401529573,350.5,-24.44190401529579]
[null,null,null,null,null,null,null,null,null,null,null,null,null,null,null,null,null,null,null,null,null,null,null,null,null,null,349.83333333333331,6,377.88908140748026,354,-23.889081407480319]
[null,null,null,null,null,null,null,null,null,null,null,null,null,null,null,null,null,null,null,null,null,null,null,null,null,null,351.83333333333331,6,379.96916458105017,373,-6.9691645810502223]
[null,null,null,null,null,null,null,null,null,null,null,null,null,null,null,null,null,null,null,null,null,null,null,null,null,null,350.33333333333331,6,378.40912361606621,409,30.590876383933733]
[null,null,null,null,null,null,null,null,null,null,null,null,null,null,null,null,null,null,null,null,null,null,null,null,null,null,348.2,5,376.1901768483159,408.5,32.309823151684043]
[null,null,null,null,null,null,null,null,null,null,null,null,null,null,null,null,null,null,null,null,null,null,null,null,null,null,347.25,4,375.20196773037634,398.5,23.298032269623604,111]
[null,null,null,null,null,null,null,null,null,null,null,null,null,null,null,null,null,null,null,null,null,null,null,null,null,null,349.66666666666669,3,377.71573082217816,390,12.284269177821784]
[null,null,null,null,null,null,null,null,null,null,null,null,null,null,null,null,null,null,null,null,null,null,null,null,null,null,354,2,382.22233158334018,356.5,-25.722331583340235]
[null,null,null,null,null,null,null,null,null,null,null,null,null,null,null,null,null,null,null,null,null,null,null,null,null,null,364,2,392.61817604250837,348.5,-44.11817604250848]
[null,null,null,null,null,null,null,null,null,null,null,null,null,null,null,null,null,null,null,null,null,null,null,null,null,null,381.6,5,410.90187707297952,362.5,-48.40187707297963]
[null,null,null,null,null,null,null,null,null,null,null,null,null,null,null,null,null,null,null,null,null,null,null,null,null,null,382.33333333333331,6,411.66335208545826,348.5,-63.163352085458371]
[null,null,null,null,null,null,null,null,null,null,null,null,null,null,null,null,null,null,null,null,null,null,null,null,null,null,372.5,6,401.45038859842816,343.5,-57.950388598428276]
[null,null,null,null,null,null,null,null,null,null,null,null,null,null,null,null,null,null,null,null,null,null,null,null,null,null,362.33333333333331,6,390.88591640387176,328.5,-62.385916403871875]
[null,null,null,null,null,null,null,null,null,null,null,null,null,null,null,null,null,null,null,null,null,null,null,null,null,null,354.16666666666669,6,382.39564114325719,318.5,-63.895641143257251]
[null,null,null,null,null,null,null,null,null,null,null,null,null,null,null,null,null,null,null,null,null,null,null,null,null,null,341.83333333333331,6,369.56643629712011,330,-39.566436297120163]
[null,null,null,null,null,null,null,null,null,null,null,null,null,null,null,null,null,null,null,null,null,null,null,null,null,null,341.5,6,369.2195779188645,328.5,-40.719577918864559]
[null,null,null,null,null,null,null,null,null,null,null,null,null,null,null,null,null,null,null,null,null,null,null,null,null,null,335.66666666666669,6,363.14847883398926,321.5,-41.648478833989316]
[null,null,null,null,null,null,null,null,null,null,null,null,null,null,null,null,null,null,null,null,null,null,null,null,null,null,330.16666666666669,6,357.42240000847937,322,-35.422400008479428]
[null,null,null,null,null,null,null,null,null,null,null,null,null,null,null,null,null,null,null,null,null,null,null,null,null,null,326.66666666666669,6,353.77755009011861,320.5,-33.277550090118666]
[null,null,null,null,null,null,null,null,null,null,null,null,null,null,null,null,null,null,null,null,null,null,null,null,null,null,323,6,349.95830113341714,309.5,-40.458301133417194]
[null,null,null,null,null,null,null,null,null,null,null,null,null,null,null,null,null,null,null,null,null,null,null,null,null,null,324,6,351,318.5,-32.500000000000057]
[null,null,null,null,null,null,null,null,null,null,null,null,null,null,null,null,null,null,null,null,null,null,null,null,null,null,320,6,346.83281572999749,326.5,-20.332815729997549]
[null,null,null,null,null,null,null,null,null,null,null,null,null,null,null,null,null,null,null,null,null,null,null,null,null,null,320.16666666666669,6,347.00646919947235,311.5,-35.506469199472406]
[null,null,null,null,null,null,null,null,null,null,null,null,null,null,null,null,null,null,null,null,null,null,null,null,null,null,319.33333333333331,6,346.13818364069374,314,-32.138183640693796]
[null,null,null,null,null,null,null,null,null,null,null,null,null,null,null,null,null,null,null,null,null,null,null,null,null,null,316.83333333333331,6,343.53305243297928,330.5,-13.033052432979332]
[null,null,null,null,null,null,null,null,null,null,null,null,null,null,null,null,null,null,null,null,null,null,null,null,null,null,316.66666666666669,6,343.35936229674496,334.5,-8.8593622967450187]
[null,null,null,null,null,null,null,null,null,null,null,null,null,null,null,null,null,null,null,null,null,null,null,null,null,null,320.16666666666669,6,347.00646919947235,335.5,-11.506469199472406]
[null,null,null,null,null,null,null,null,null,null,null,null,null,null,null,null,null,null,null,null,null,null,null,null,null,null,325,6,352.0416345659799,330,-22.041634565979962]
[null,null,null,null,null,null,null,null,null,null,null,null,null,null,null,null,null,null,null,null,null,null,null,null,null,null,325.83333333333331,6,352.90961446645792,330.5,-22.409614466457981]
[null,null,null,null,null,null,null,null,null,null,null,null,null,null,null,null,null,null,null,null,null,null,null,null,null,null,326.16666666666669,6,353.25679401963424,332,-21.256794019634299]
[null,null,null,null,null,null,null,null,null,null,null,null,null,null,null,null,null,null,null,null,null,null,null,null,null,null,332.16666666666669,6,359.50482680958777,326,-33.504826809587826]
[null,null,null,null,null,null,null,null,null,null,null,null,null,null,null,null,null,null,null,null,null,null,null,null,null,null,332.16666666666669,6,359.50482680958777,313.5,-46.004826809587826]
[null,null,null,null,null,null,null,null,null,null,null,null,null,null,null,null,null,null,null,null,null,null,null,null,null,null,330.66666666666669,6,357.94303006063842,322,-35.943030060638478]
[null,null,null,null,null,null,null,null,null,null,null,null,null,null,null,null,null,null,null,null,null,null,null,null,null,null,325.16666666666669,6,352.21523409638468,322,-30.215234096384734]
[null,null,null,null,null,null,null,null,null,null,null,null,null,null,null,null,null,null,null,null,null,null,null,null,null,null,326.16666666666669,6,353.25679401963424,320,-33.256794019634299]
[null,null,null,null,null,null,null,null,null,null,null,null,null,null,null,null,null,null,null,null,null,null,null,null,null,null,322.5,6,349.43742749410194,342,-7.4374274941019962]
[null,null,null,null,null,null,null,null,null,null,null,null,null,null,null,null,null,null,null,null,null,null,null,null,null,null,322.66666666666669,6,349.61105383728164,343.5,-6.1110538372817018]
[null,null,null,null,null,null,null,null,null,null,null,null,null,null,null,null,null,null,null,null,null,null,null,null,null,null,325.83333333333331,6,352.90961446645792,334.5,-18.409614466457981]
[null,null,null,null,null,null,null,null,null,null,null,null,null,null,null,null,null,null,null,null,null,null,null,null,null,null,328.5,6,355.68685344058781,323,-32.686853440587868]
[null,null,null,null,null,null,null,null,null,null,null,null,null,null,null,null,null,null,null,null,null,null,null,null,null,null,332.83333333333331,6,360.1989139045545,317,-43.198913904554558]
[null,null,null,null,null,null,null,null,null,null,null,null,null,null,null,null,null,null,null,null,null,null,null,null,null,null,328.83333333333331,6,356.0339767080772,334,-22.033976708077262]
[null,null,null,null,null,null,null,null,null,null,null,null,null,null,null,null,null,null,null,null,null,null,null,null,null,null,331.16666666666669,6,358.46364452136703,334.5,-23.963644521367087]
[null,null,null,null,null,null,null,null,null,null,null,null,null,null,null,null,null,null,null,null,null,null,null,null,null,null,333.5,6,360.89297355162449,314,-46.89297355162455]
[null,null,null,null,null,null,null,null,null,null,null,null,null,null,null,null,null,null,null,null,null,null,null,null,null,null,328.66666666666669,6,355.86041594844096,312.5,-43.360415948441016]
[null,null,null,null,null,null,null,null,null,null,null,null,null,null,null,null,null,null,null,null,null,null,null,null,null,null,323.66666666666669,6,350.65277420369398,319,-31.652774203694037]
[null,null,null,null,null,null,null,null,null,null,null,null,null,null,null,null,null,null,null,null,null,null,null,null,null,null,321.33333333333331,6,348.22199265283081,319,-29.221992652830863]
[null,null,null,null,null,null,null,null,null,null,null,null,null,null,null,null,null,null,null,null,null,null,null,null,null,null,322.33333333333331,6,349.26379935232376,316,-33.263799352323815]
[null,null,null,null,null,null,null,null,null,null,null,null,null,null,null,null,null,null,null,null,null,null,null,null,null,null,322,6,348.91653766738955,311,-37.916537667389605]
[null,null,null,null,null,null,null,null,null,null,null,null,null,null,null,null,null,null,null,null,null,null,null,null,null,null,316.33333333333331,6,343.01197647724149,322,-21.011976477241546]
[null,null,null,null,null,null,null,null,null,null,null,null,null,null,null,null,null,null,null,null,null,null,null,null,null,null,314.16666666666669,6,340.75378760895751,327.5,-13.253787608957566]
[null,null,null,null,null,null,null,null,null,null,null,null,null,null,null,null,null,null,null,null,null,null,null,null,null,null,319,6,345.79085664923764,325,-20.790856649237696]
[null,null,null,null,null,null,null,null,null,null,null,null,null,null,null,null,null,null,null,null,null,null,null,null,null,null,319.16666666666669,6,345.96452105838989,315.5,-30.464521058389948]
[null,null,null,null,null,null,null,null,null,null,null,null,null,null,null,null,null,null,null,null,null,null,null,null,null,null,321,6,347.87470930075335,312.5,-35.374709300753409]
[null,null,null,null,null,null,null,null,null,null,null,null,null,null,null,null,null,null,null,null,null,null,null,null,null,null,318,6,344.7488317501905,319,-25.748831750190561]
[null,null,null,null,null,null,null,null,null,null,null,null,null,null,null,null,null,null,null,null,null,null,null,null,null,null,319.83333333333331,6,346.65916044080569,295.5,-51.159160440805749]
[null,null,null,null,null,null,null,null,null,null,null,null,null,null,null,null,null,null,null,null,null,null,null,null,null,null,320.66666666666669,6,347.52741870379327,318.5,-29.02741870379333]
[null,null,null,null,null,null,null,null,null,null,null,null,null,null,null,null,null,null,null,null,null,null,null,null,null,null,311,6,337.4527881328226,341.5,4.0472118671773387]
[null,null,null,null,null,null,null,null,null,null,null,null,null,null,null,null,null,null,null,null,null,null,null,null,null,null,310,5,336.41022529248852,336,-0.41022529248857609,104]
[null,null,null,null,null,null,null,null,null,null,null,null,null,null,null,null,null,null,null,null,null,null,null,null,null,null,320.2,5,347.04119967512628,349,1.9588003248736641]
[null,null,null,null,null,null,null,null,null,null,null,null,null,null,null,null,null,null,null,null,null,null,null,null,null,null,338.33333333333331,3,365.9240926559761,964.5,598.57590734402379,109]
[null,null,null,null,null,null,null,null,null,null,null,null,null,null,null,null,null,null,null,null,null,null,null,null,null,null,299.75,4,325.7199345397712,316.5,-9.2199345397712591]
[null,null,null,null,null,null,null,null,null,null,null,null,null,null,null,null,null,null,null,null,null,null,null,null,null,null,318.5,6,345.26985244636211,417,71.730147553637835]
[null,null,null,null,null,null,null,null,null,null,null,null,null,null,null,null,null,null,null,null,null,null,null,null,null,null,351.66666666666669,3,379.79583302473708,320.5,-59.295833024737135]
[null,null,null,null,null,null,null,null,null,null,null,null,null,null,null,null,null,null,null,null,null,null,null,null,null,null,303.83333333333331,6,329.97955676999811,306,-23.979556769998169]
[null,null,null,null,null,null,null,null,null,null,null,null,null,null,null,null,null,null,null,null,null,null,null,null,null,null,304.33333333333331,6,330.50106154959235,292.5,-38.001061549592407]
[null,null,null,null,null,null,null,null,null,null,null,null,null,null,null,null,null,null,null,null,null,null,null,null,null,null,293.33333333333331,6,319.02379849066358,289.5,-29.523798490663637]
[null,null,null,null,null,null,null,null,null,null,null,null,null,null,null,null,null,null,null,null,null,null,null,null,null,null,302.83333333333331,6,328.93649406149035,317,-11.936494061490407]
[null,null,null,null,null,null,null,null,null,null,null,null,null,null,null,null,null,null,null,null,null,null,null,null,null,null,317,1,343.70674072214729,298,-45.706740722147345]
[null,null,null,null,null,null,null,null,null,null,null,null,null,null,null,null,null,null,null,null,null,null,null,null,null,null,298.33333333333331,6,324.24182614939656,296,-28.241826149396616]
[null,null,null,null,null,null,null,null,null,null,null,null,null,null,null,null,null,null,null,null,null,null,null,null,null,null,288.83333333333331,6,314.32597933173844,290,-24.325979331738495]
[null,null,null,null,null,null,null,null,null,null,null,null,null,null,null,null,null,null,null,null,null,null,null,null,null,null,284.2,5,309.48734861546382,295,-14.487348615463873]
[null,null,null,null,null,null,null,null,null,null,null,null,null,null,null,null,null,null,null,null,null,null,null,null,null,null,287.60000000000002,5,313.03816031084011,294,-19.038160310840169]
[null,null,null,null,null,null,null,null,null,null,null,null,null,null,null,null,null,null,null,null,null,null,null,null,null,null,295.16666666666669,6,320.93728947636998,302,-18.93728947637004]
[null,null,null,null,null,null,null,null,null,null,null,null,null,null,null,null,null,null,null,null,null,null,null,null,null,null,283,6,308.23390576189109,283.5,-24.733905761891151]
[null,null,null,null,null,null,null,null,null,null,null,null,null,null,null,null,null,null,null,null,null,null,null,null,null,null,289.33333333333331,6,314.84803497767945,286,-28.848034977679504]
[null,null,null,null,null,null,null,null,null,null,null,null,null,null,null,null,null,null,null,null,null,null,null,null,null,null,284.33333333333331,6,309.62661307321679,304,-5.6266130732168449]
[null,null,null,null,null,null,null,null,null,null,null,null,null,null,null,null,null,null,null,null,null,null,null,null,null,null,313.66666666666669,3,340.23262232423713,293.5,-46.732622324237184]
[null,null,null,null,null,null,null,null,null,null,null,null,null,null,null,null,null,null,null,null,null,null,null,null,null,null,291.33333333333331,6,316.93606756231753,279,-37.936067562317589]
[null,null,null,null,null,null,null,null,null,null,null,null,null,null,null,null,null,null,null,null,null,null,null,null,null,null,285.33333333333331,6,310.67105225197315,289,-21.671052251973208]
[null,null,null,null,null,null,null,null,null,null,null,null,null,null,null,null,null,null,null,null,null,null,null,null,null,null,269.8,5,294.43838468731263,270.5,-23.938384687312691]
[null,null,null,null,null,null,null,null,null,null,null,null,null,null,null,null,null,null,null,null,null,null,null,null,null,null,306.5,2,332.76071210001737,434,101.23928789998257]
[null,null,null,null,null,null,null,null,null,null,null,null,null,null,null,null,null,null,null,null,null,null,null,null,null,null,306.5,1,332.76071210001737,338.5,5.7392878999825712]
[null,null,null,null,null,null,null,null,null,null,null,null,null,null,null,null,null,null,null,null,null,null,null,null,null,null,275.66666666666669,6,300.57148547749125,268,-32.571485477491308]
[null,null,null,null,null,null,null,null,null,null,null,null,null,null,null,null,null,null,null,null,null,null,null,null,null,null,283.8,5,309.06954688948736,408.5,99.430453110512588]
[null,null,null,null,null,null,null,null,null,null,null,null,null,null,null,null,null,null,null,null,null,null,null,null,null,null,285.33333333333331,3,310.67105225197315,333,22.328947748026792]
[null,null,null,null,null,null,null,null,null,null,null,null,null,null,null,null,null,null,null,null,null,null,null,null,null,null,260.33333333333331,6,284.53560595389524,261.5,-23.035605953895299]
[null,null,null,null,null,null,null,null,null,null,null,null,null,null,null,null,null,null,null,null,null,null,null,null,null,null,256,6,280,376.5,96.499999999999943]
[null,null,null,null,null,null,null,null,null,null,null,null,null,null,null,null,null,null,null,null,null,null,null,null,null,null,263,1,287.32591211034025,1272,984.67408788965963,100]
[null,null,null,null,null,null,null,null,null,null,null,null,null,null,null,null,null,null,null,null,null,null,null,null,null,null,264,2,288.37211521390788,243.5,-44.872115213907932]
[null,null,null,null,null,null,null,null,null,null,null,null,null,null,null,null,null,null,null,null,null,null,null,null,null,null,266.83333333333331,6,291.33588422094499,243.5,-47.835884220945047]
[null,null,null,null,null,null,null,null,null,null,null,null,null,null,null,null,null,null,null,null,null,null,null,null,null,null,244.5,6,267.95474365666786,250.5,-17.454743656667915]
[null,null,null,null,null,null,null,null,null,null,null,null,null,null,null,null,null,null,null,null,null,null,null,null,null,null,241.66666666666666,6,264.98511429938867,253,-11.985114299388727]
[null,null,null,null,null,null,null,null,null,null,null,null,null,null,null,null,null,null,null,null,null,null,null,null,null,null,244.33333333333334,6,267.78008150872006,230,-37.780081508720116]
[null,null,null,null,null,null,null,null,null,null,null,null,null,null,null,null,null,null,null,null,null,null,null,null,null,null,250,6,273.71708245126285,233.33333333333331,-40.383749117929597]
[null,null,null,null,null,null,null,null,null,null,null,null,null,null,null,null,null,null,null,null,null,null,null,null,null,null,237.16666666666666,6,260.26699133970965,237.66666666666663,-22.600324673043076]
[null,null,null,null,null,null,null,null,null,null,null,null,null,null,null,null,null,null,null,null,null,null,null,null,null,null,241.66666666666666,6,264.98511429938867,245.99999999999997,-18.985114299388755]
[null,null,null,null,null,null,null,null,null,null,null,null,null,null,null,null,null,null,null,null,null,null,null,null,null,null,230.2,5,252.95851489003621,233.66666666666666,-19.291848223369612]
[null,null,null,null,null,null,null,null,null,null,null,null,null,null,null,null,null,null,null,null,null,null,null,null,null,null,227.4,5,250.01968169537318,235.33333333333331,-14.686348362039922]
[null,null,null,null,null,null,null,null,null,null,null,null,null,null,null,null,null,null,null,null,null,null,null,null,null,null,246.5,6,270.0504777021614,242,-28.050477702161459]
[null,null,null,null,null,null,null,null,null,null,null,null,null,null,null,null,null,null,null,null,null,null,null,null,null,null,226.4,5,248.96989144856485,240.33333333333331,-8.636558115231594]
[null,null,null,null,null,null,null,null,null,null,null,null,null,null,null,null,null,null,null,null,null,null,null,null,null,null,235.2,5,258.20434741521694,407.66666666666663,149.46231925144963]
[null,null,null,null,null,null,null,null,null,null,null,null,null,null,null,null,null,null,null,null,null,null,null,null,null,null,247.33333333333334,3,270.92358555750423,2445,2174.0764144424957]
[null,null,null,null,null,null,null,null,null,null,null,null,null,null,null,null,null,null,null,null,null,null,null,null,null,null,264,2,288.37211521390788,218.33333333333331,-70.038781880574618]
[null,null,null,null,null,null,null,null,null,null,null,null,null,null,null,null,null,null,null,null,null,null,null,null,null,null,232.33333333333334,6,255.19706006368068,235.33333333333331,-19.863726730347423]
[null,null,null,null,null,null,null,null,null,null,null,null,null,null,null,null,null,null,null,null,null,null,null,null,null,null,221.6,5,243.92935287911408,232,-11.929352879114134]
[null,null,null,null,null,null,null,null,null,null,null,null,null,null,null,null,null,null,null,null,null,null,null,null,null,null,235.66666666666666,6,258.69382454600554,236.99999999999997,-21.693824546005629]
[null,null,null,null,null,null,null,null,null,null,null,null,null,null,null,null,null,null,null,null,null,null,null,null,null,null,239.83333333333334,6,263.06316329396799,228.33333333333331,-34.729829960634731]
[null,null,null,null,null,null,null,null,null,null,null,null,null,null,null,null,null,null,null,null,null,null,null,null,null,null,234.16666666666666,6,257.12042452894269,218.33333333333331,-38.787091195609435]
[null,null,null,null,null,null,null,null,null,null,null,null,null,null,null,null,null,null,null,null,null,null,null,null,null,null,227.16666666666666,6,249.77474044573947,225.33333333333331,-24.44140711240621]
[null,null,null,null,null,null,null,null,null,null,null,null,null,null,null,null,null,null,null,null,null,null,null,null,null,null,222.66666666666666,6,245.04969595226606,222.66666666666666,-22.383029285599463]
[null,null,null,null,null,null,null,null,null,null,null,null,null,null,null,null,null,null,null,null,null,null,null,null,null,null,227.66666666666666,6,250.29960726217922,228,-22.299607262179279]
[null,null,null,null,null,null,null,null,null,null,null,null,null,null,null,null,null,null,null,null,null,null,null,null,null,null,221,6,243.29910312097775,227,-16.299103120977804]
[null,null,null,null,null,null,null,null,null,null,null,null,null,null,null,null,null,null,null,null,null,null,null,null,null,null,216.5,6,238.57090845434323,232,-6.5709084543432823]
[null,null,null,null,null,null,null,null,null,null,null,null,null,null,null,null,null,null,null,null,null,null,null,null,null,null,212,5,233.84032966784156,214.66666666666663,-19.173663001174987]
[null,null,null,null,null,null,null,null,null,null,null,null,null,null,null,null,null,null,null,null,null,null,null,null,null,null,221.6,5,243.92935287911408,228.66666666666666,-15.262686212447477]
[null,null,null,null,null,null,null,null,null,null,null,null,null,null,null,null,null,null,null,null,null,null,null,null,null,null,203.16666666666666,6,224.54714841989195,222.33333333333331,-2.2138150865586965]
[null,null,null,null,null,null,null,null,null,null,null,null,null,null,null,null,null,null,null,null,null,null,null,null,null,null,203.5,6,224.89801392653067,269.33333333333331,44.435319406802591]
[null,null,null,null,null,null,null,null,null,null,null,null,null,null,null,null,null,null,null,null,null,null,null,null,null,null,209.66666666666666,3,231.38647329564014,205,-26.386473295640201]
[null,null,null,null,null,null,null,null,null,null,null,null,null,null,null,null,null,null,null,null,null,null,null,null,null,null,206.66666666666666,6,228.23052531951447,212,-16.230525319514527]
[null,null,null,null,null,null,null,null,null,null,null,null,null,null,null,null,null,null,null,null,null,null,null,null,null,null,197.25,4,218.31685785778222,223,4.6831421422177186]
[null,null,null,null,null,null,null,null,null,null,null,null,null,null,null,null,null,null,null,null,null,null,null,null,null,null,211,5,232.78875856950091,214.33333333333331,-18.455425236167656]
[null,null,null,null,null,null,null,null,null,null,null,null,null,null,null,null,null,null,null,null,null,null,null,null,null,null,202.5,0,223.84537420613657,552,328.15462579386337]
[null,null,null,null,null,null,null,null,null,null,null,null,null,null,null,null,null,null,null,null,null,null,null,null,null,null,202.5,0,223.84537420613657,307.33333333333331,83.487959127196689]
[null,null,null,null,null,null,null,null,null,null,null,null,null,null,null,null,null,null,null,null,null,null,null,null,null,null,203.5,6,224.89801392653067,212.33333333333331,-12.564680593197409]
[null,null,null,null,null,null,null,null,null,null,null,null,null,null,null,null,null,null,null,null,null,null,null,null,null,null,193,4,213.8386659841747,189.33333333333331,-24.505332650841439]
[null,null,null,null,null,null,null,null,null,null,null,null,null,null,null,null,null,null,null,null,null,null,null,null,null,null,182.5,4,202.76388412915944,198,-4.7638841291594929]
[null,null,null,null,null,null,null,null,null,null,null,null,null,null,null,null,null,null,null,null,null,null,null,null,null,null,197,5,218.0535032714273,196.33333333333331,-21.720169938094045]
[null,null,null,null,null,null,null,null,null,null,null,null,null,null,null,null,null,null,null,null,null,null,null,null,null,null,202.5,6,223.84537420613657,193.33333333333331,-30.512040872803311]
[null,null,null,null,null,null,null,null,null,null,null,null,null,null,null,null,null,null,null,null,null,null,null,null,null,null,199,6,220.16010396949883,187.66666666666666,-32.493437302832234]
[null,null,null,null,null,null,null,null,null,null,null,null,null,null,null,null,null,null,null,null,null,null,null,null,null,null,197.83333333333334,6,218.93131901917548,180.66666666666666,-38.264652352508875]
[null,null,null,null,null,null,null,null,null,null,null,null,null,null,null,null,null,null,null,null,null,null,null,null,null,null,192,6,212.78460969082653,197.99999999999997,-14.784609690826613]
[null,null,null,null,null,null,null,null,null,null,null,null,null,null,null,null,null,null,null,null,null,null,null,null,null,null,198.66666666666666,6,219.80904117853262,202.66666666666663,-17.142374511866052]
[null,null,null,null,null,null,null,null,null,null,null,null,null,null,null,null,null,null,null,null,null,null,null,null,null,null,193.33333333333334,6,214.18998694794755,194,-20.189986947947602]
[null,null,null,null,null,null,null,null,null,null,null,null,null,null,null,null,null,null,null,null,null,null,null,null,null,null,183.33333333333334,6,203.64342934492325,195.33333333333331,-8.3100960115899909]
[null,null,null,null,null,null,null,null,null,null,null,null,null,null,null,null,null,null,null,null,null,null,null,null,null,null,188,6,208.56696380120314,195.33333333333331,-13.233630467869887]
[null,null,null,null,null,null,null,null,null,null,null,null,null,null,null,null,null,null,null,null,null,null,null,null,null,null,194,6,214.89258241577619,187,-27.892582415776246]
[null,null,null,null,null,null,null,null,null,null,null,null,null,null,null,null,null,null,null,null,null,null,null,null,null,null,190.33333333333334,6,211.02753541990822,181.66666666666666,-29.360868753241618]
[null,null,null,null,null,null,null,null,null,null,null,null,null,null,null,null,null,null,null,null,null,null,null,null,null,null,187.16666666666666,6,207.68799703289778,193.66666666666666,-14.021330366231183]
[null,null,null,null,null,null,null,null,null,null,null,null,null,null,null,null,null,null,null,null,null,null,null,null,null,null,190,6,210.67607312813533,230.33333333333331,19.657260205197929]
[null,null,null,null,null,null,null,null,null,null,null,null,null,null,null,null,null,null,null,null,null,null,null,null,null,null,180,0,200.12461179749812,171,-29.124611797498176]
[null,null,null,null,null,null,null,null,null,null,null,null,null,null,null,null,null,null,null,null,null,null,null,null,null,null,174.4,5,194.20908882306301,177,-17.20908882306307]
[null,null,null,null,null,null,null,null,null,null,null,null,null,null,null,null,null,null,null,null,null,null,null,null,null,null,176.8,5,196.74492416631361,179,-17.744924166313666]
[null,null,null,null,null,null,null,null,null,null,null,null,null,null,null,null,null,null,null,null,null,null,null,null,null,null,178.8,5,198.85741758053615,239,40.142582419463793]
[null,null,null,null,null,null,null,null,null,null,null,null,null,null,null,null,null,null,null,null,null,null,null,null,null,null,212.5,2,234.36606960566988,196.33333333333331,-38.032736272336621]
[null,null,null,null,null,null,null,null,null,null,null,null,null,null,null,null,null,null,null,null,null,null,null,null,null,null,168.83333333333334,6,188.32371557689132,185.33333333333331,-2.990382243558031]
[null,null,null,null,null,null,null,null,null,null,null,null,null,null,null,null,null,null,null,null,null,null,null,null,null,null,179.33333333333334,6,199.42064275993403,174.66666666666666,-24.753976093267426]
[null,null,null,null,null,null,null,null,null,null,null,null,null,null,null,null,null,null,null,null,null,null,null,null,null,null,174.83333333333334,6,194.66701680363204,167.33333333333331,-27.33368347029878]
[null,null,null,null,null,null,null,null,null,null,null,null,null,null,null,null,null,null,null,null,null,null,null,null,null,null,176.5,6,196.42799538337962,168.33333333333331,-28.094662050046367]
[null,null,null,null,null,null,null,null,null,null,null,null,null,null,null,null,null,null,null,null,null,null,null,null,null,null,173.83333333333334,6,193.61021377489945,177.66666666666666,-15.943547108232849]
[null,null,null,null,null,null,null,null,null,null,null,null,null,null,null,null,null,null,null,null,null,null,null,null,null,null,175,5,194.84313483298442,185,-9.8431348329844752]
[null,null,null,null,null,null,null,null,null,null,null,null,null,null,null,null,null,null,null,null,null,null,null,null,null,null,179.5,6,199.59664151046138,187,-12.596641510461438]
[null,null,null,null,null,null,null,null,null,null,null,null,null,null,null,null,null,null,null,null,null,null,null,null,null,null,183.33333333333334,6,203.64342934492325,173.66666666666666,-29.976762678256648]
[null,null,null,null,null,null,null,null,null,null,null,null,null,null,null,null,null,null,null,null,null,null,null,null,null,null,167,5,186.38427197498012,171.66666666666666,-14.717605308313495]
[null,null,null,null,null,null,null,null,null,null,null,null,null,null,null,null,null,null,null,null,null,null,null,null,null,null,169.6,5,189.13458471531965,184.66666666666666,-4.4679180486530186]
[null,null,null,null,null,null,null,null,null,null,null,null,null,null,null,null,null,null,null,null,null,null,null,null,null,null,168.2,5,187.65379140424815,182.33333333333331,-5.3204580709148672]
[null,null,null,null,null,null,null,null,null,null,null,null,null,null,null,null,null,null,null,null,null,null,null,null,null,null,174.33333333333334,3,194.13863565367171,165.33333333333331,-28.805302320338456]
[null,null,null,null,null,null,null,null,null,null,null,null,null,null,null,null,null,null,null,null,null,null,null,null,null,null,163.16666666666666,6,182.32717292302638,170.33333333333331,-11.993839589693096]
[null,null,null,null,null,null,null,null,null,null,null,null,null,null,null,null,null,null,null,null,null,null,null,null,null,null,179.33333333333334,6,199.42064275993403,175,-24.420642759934083]
[null,null,null,null,null,null,null,null,null,null,null,null,null,null,null,null,null,null,null,null,null,null,null,null,null,null,168.66666666666666,6,188.1474264054448,162,-26.147426405444833]
[null,null,null,null,null,null,null,null,null,null,null,null,null,null,null,null,null,null,null,null,null,null,null,null,null,null,165.16666666666666,6,184.44424431532366,163.33333333333331,-21.110910981990372]
[null,null,null,null,null,null,null,null,null,null,null,null,null,null,null,null,null,null,null,null,null,null,null,null,null,null,156.4,5,175.15899784103618,166,-9.1589978410362107]
[null,null,null,null,null,null,null,null,null,null,null,null,null,null,null,null,null,null,null,null,null,null,null,null,null,null,163.5,1,182.68006777881664,601.5,418.81993222118331,81]
[null,null,null,null,null,null,null,null,null,null,null,null,null,null,null,null,null,null,null,null,null,null,null,null,null,null,163.5,0,182.68006777881664,168,-14.680067778816664]
[null,null,null,null,null,null,null,null,null,null,null,null,null,null,null,null,null,null,null,null,null,null,null,null,null,null,168,5,187.44222209522357,166.5,-20.942222095223599]
[null,null,null,null,null,null,null,null,null,null,null,null,null,null,null,null,null,null,null,null,null,null,null,null,null,null,170.66666666666666,6,190.26258460893209,162.5,-27.762584608932116]
[null,null,null,null,null,null,null,null,null,null,null,null,null,null,null,null,null,null,null,null,null,null,null,null,null,null,166.33333333333334,6,185.67887545548643,211,25.321124544513538]
[null,null,null,null,null,null,null,null,null,null,null,null,null,null,null,null,null,null,null,null,null,null,null,null,null,null,180,4,200.12461179749812,388,187.87538820250182]
[null,null,null,null,null,null,null,null,null,null,null,null,null,null,null,null,null,null,null,null,null,null,null,null,null,null,201.5,0,222.79260434986759,713.5,490.70739565013236]
[null,null,null,null,null,null,null,null,null,null,null,null,null,null,null,null,null,null,null,null,null,null,null,null,null,null,183.25,4,203.55547955602134,141.5,-62.055479556021396]
[null,null,null,null,null,null,null,null,null,null,null,null,null,null,null,null,null,null,null,null,null,null,null,null,null,null,161.5,6,180.56239754070825,164.5,-16.062397540708275]
[null,null,null,null,null,null,null,null,null,null,null,null,null,null,null,null,null,null,null,null,null,null,null,null,null,null,164.33333333333334,6,183.56221785636276,147,-36.562217856362793]
[null,null,null,null,null,null,null,null,null,null,null,null,null,null,null,null,null,null,null,null,null,null,null,null,null,null,151.83333333333334,6,170.31643372260788,154,-16.316433722607911]
[null,null,null,null,null,null,null,null,null,null,null,null,null,null,null,null,null,null,null,null,null,null,null,null,null,null,153.16666666666666,6,171.73074488240363,152,-19.730744882403656]
[null,null,null,null,null,null,null,null,null,null,null,null,null,null,null,null,null,null,null,null,null,null,null,null,null,null,155.6,5,174.31095935541521,151.5,-22.810959355415235]
[null,null,null,null,null,null,null,null,null,null,null,null,null,null,null,null,null,null,null,null,null,null,null,null,null,null,147.66666666666666,6,165.89439280022484,148.5,-17.394392800224864]
[null,null,null,null,null,null,null,null,null,null,null,null,null,null,null,null,null,null,null,null,null,null,null,null,null,null,149.5,6,167.84052889095622,157,-10.84052889095625]
[null,null,null,null,null,null,null,null,null,null,null,null,null,null,null,null,null,null,null,null,null,null,null,null,null,null,148.66666666666666,6,166.95600782483854,144.5,-22.456007824838565]
[null,null,null,null,null,null,null,null,null,null,null,null,null,null,null,null,null,null,null,null,null,null,null,null,null,null,144.83333333333334,6,162.88534153186905,158,-4.8853415318690736]
[null,null,null,null,null,null,null,null,null,null,null,null,null,null,null,null,null,null,null,null,null,null,null,null,null,null,150,6,168.37117307087385,154,-14.37117307087388]
[null,null,null,null,null,null,null,null,null,null,null,null,null,null,null,null,null,null,null,null,null,null,null,null,null,null,147.66666666666666,6,165.89439280022484,156,-9.894392800224864]
[null,null,null,null,null,null,null,null,null,null,null,null,null,null,null,null,null,null,null,null,null,null,null,null,null,null,157.66666666666666,6,176.50147486850403,312,135.49852513149594]
[null,null,null,null,null,null,null,null,null,null,null,null,null,null,null,null,null,null,null,null,null,null,null,null,null,null,151.75,4,170.22802749213238,607.5,437.27197250786759]
[null,null,null,null,null,null,null,null,null,null,null,null,null,null,null,null,null,null,null,null,null,null,null,null,null,null,169.25,4,188.76441774688652,152,-36.764417746886551]
[null,null,null,null,null,null,null,null,null,null,null,null,null,null,null,null,null,null,null,null,null,null,null,null,null,null,145.5,6,163.59350712272223,148,-15.593507122722258]
[null,null,null,null,null,null,null,null,null,null,null,null,null,null,null,null,null,null,null,null,null,null,null,null,null,null,146.66666666666666,6,164.83256879125162,141,-23.832568791251646]
[null,null,null,null,null,null,null,null,null,null,null,null,null,null,null,null,null,null,null,null,null,null,null,null,null,null,154.83333333333334,6,173.49813978826344,152,-21.498139788263472]
[null,null,null,null,null,null,null,null,null,null,null,null,null,null,null,null,null,null,null,null,null,null,null,null,null,null,145.16666666666666,6,163.23943623859446,150.5,-12.739436238594493]
[null,null,null,null,null,null,null,null,null,null,null,null,null,null,null,null,null,null,null,null,null,null,null,null,null,null,153.66666666666666,6,172.26102064845372,158,-14.261020648453751]
[null,null,null,null,null,null,null,null,null,null,null,null,null,null,null,null,null,null,null,null,null,null,null,null,null,null,145.19999999999999,5,163.27484439767048,157,-6.2748443976705062]
[null,null,null,null,null,null,null,null,null,null,null,null,null,null,null,null,null,null,null,null,null,null,null,null,null,null,150.5,6,168.90176621957795,147.5,-21.401766219577979]
[null,null,null,null,null,null,null,null,null,null,null,null,null,null,null,null,null,null,null,null,null,null,null,null,null,null,155.6,5,174.31095935541521,216.5,42.189040644584765]
[null,null,null,null,null,null,null,null,null,null,null,null,null,null,null,null,null,null,null,null,null,null,null,null,null,null,133.33333333333334,3,150.65384140902211,144.5,-6.1538414090221352]
[null,null,null,null,null,null,null,null,null,null,null,null,null,null,null,null,null,null,null,null,null,null,null,null,null,null,147.33333333333334,6,165.54047478936647,152,-13.540474789366499]
[null,null,null,null,null,null,null,null,null,null,null,null,null,null,null,null,null,null,null,null,null,null,null,null,null,null,155,6,173.67484939698309,159,-14.67484939698312]
[null,null,null,null,null,null,null,null,null,null,null,null,null,null,null,null,null,null,null,null,null,null,null,null,null,null,151.66666666666666,6,170.13961986857782,154,-16.139619868577853]
[null,null,null,null,null,null,null,null,null,null,null,null,null,null,null,null,null,null,null,null,null,null,null,null,null,null,154.5,6,173.1447043419841,171,-2.1447043419841236]
[null,null,null,null,null,null,null,null,null,null,null,null,null,null,null,null,null,null,null,null,null,null,null,null,null,null,170.2,5,189.76910830876051,171,-18.769108308760536]
[null,null,null,null,null,null,null,null,null,null,null,null,null,null,null,null,null,null,null,null,null,null,null,null,null,null,175.33333333333334,6,195.19535739937456,139,-56.195357399374615]
[null,null,null,null,null,null,null,null,null,null,null,null,null,null,null,null,null,null,null,null,null,null,null,null,null,null,148,6,166.24828759089465,227.5,61.251712409105323]
[null,null,null,null,null,null,null,null,null,null,null,null,null,null,null,null,null,null,null,null,null,null,null,null,null,null,155.5,0,174.20494587000988,156.5,-17.704945870009908]
[null,null,null,null,null,null,null,null,null,null,null,null,null,null,null,null,null,null,null,null,null,null,null,null,null,null,151.5,4,169.96280043763676,157,-12.962800437636787]
[null,null,null,null,null,null,null,null,null,null,null,null,null,null,null,null,null,null,null,null,null,null,null,null,null,null,157.33333333333334,6,176.14822105556013,148,-28.148221055560157]
[null,null,null,null,null,null,null,null,null,null,null,null,null,null,null,null,null,null,null,null,null,null,null,null,null,null,149.5,6,167.84052889095622,159.5,-8.3405288909562501]
[null,null,null,null,null,null,null,null,null,null,null,null,null,null,null,null,null,null,null,null,null,null,null,null,null,null,159.5,1,178.44399641047264,274.5,96.056003589527336]
[null,null,null,null,null,null,null,null,null,null,null,null,null,null,null,null,null,null,null,null,null,null,null,null,null,null,135.83333333333334,6,153.31546707038044,144.5,-8.8154670703804641]
[null,null,null,null,null,null,null,null,null,null,null,null,null,null,null,null,null,null,null,null,null,null,null,null,null,null,134.4,5,151.78965209542733,143.5,-8.2896520954273569]
[null,null,null,null,null,null,null,null,null,null,null,null,null,null,null,null,null,null,null,null,null,null,null,null,null,null,134.5,6,151.8961202571148,146.5,-5.3961202571148306]
[null,null,null,null,null,null,null,null,null,null,null,null,null,null,null,null,null,null,null,null,null,null,null,null,null,null,136.66666666666666,6,154.20234458341685,142.5,-11.702344583416874]
[null,null,null,null,null,null,null,null,null,null,null,null,null,null,null,null,null,null,null,null,null,null,null,null,null,null,139.66666666666666,6,157.39376456790251,158,0.60623543209746344]
[null,null,null,null,null,null,null,null,null,null,null,null,null,null,null,null,null,null,null,null,null,null,null,null,null,null,129.4,5,146.46311812067185,149.5,3.0368818793281207]
[null,null,null,null,null,null,null,null,null,null,null,null,null,null,null,null,null,null,null,null,null,null,null,null,null,null,150.5,6,168.90176621957795,144,-24.901766219577979,81]
[null,null,null,null,null,null,null,null,null,null,null,null,null,null,null,null,null,null,null,null,null,null,null,null,null,null,161.33333333333334,6,180.385892216591,156,-24.385892216591031]
[null,null,null,null,null,null,null,null,null,null,null,null,null,null,null,null,null,null,null,null,null,null,null,null,null,null,158.83333333333334,6,177.73769790874292,149.5,-28.237697908742945]
[null,null,null,null,null,null,null,null,null,null,null,null,null,null,null,null,null,null,null,null,null,null,null,null,null,null,153.83333333333334,6,172.4377682884724,142,-30.437768288472427]
[null,null,null,null,null,null,null,null,null,null,null,null,null,null,null,null,null,null,null,null,null,null,null,null,null,null,148.83333333333334,6,167.13292349267846,135.5,-31.632923492678486]
[null,null,null,null,null,null,null,null,null,null,null,null,null,null,null,null,null,null,null,null,null,null,null,null,null,null,140.16666666666666,6,157.92546730184469,171,13.074532698155281]
[null,null,null,null,null,null,null,null,null,null,null,null,null,null,null,null,null,null,null,null,null,null,null,null,null,null,157,2,175.79494612921249,1179,1003.2050538707874]
[null,null,null,null,null,null,null,null,null,null,null,null,null,null,null,null,null,null,null,null,null,null,null,null,null,null,171,2,190.61504524593303,151.5,-39.115045245933061]
[null,null,null,null,null,null,null,null,null,null,null,null,null,null,null,null,null,null,null,null,null,null,null,null,null,null,143.83333333333334,6,161.82291365083935,144.5,-17.322913650839382]
[null,null,null,null,null,null,null,null,null,null,null,null,null,null,null,null,null,null,null,null,null,null,null,null,null,null,138.83333333333334,6,156.50746697546697,140,-16.507466975466997]
[null,null,null,null,null,null,null,null,null,null,null,null,null,null,null,null,null,null,null,null,null,null,null,null,null,null,138.4,5,156.04652940382329,148,-8.0465294038233139]
[null,null,null,null,null,null,null,null,null,null,null,null,null,null,null,null,null,null,null,null,null,null,null,null,null,null,151,2,169.43230859116676,162,-7.4323085911667874]
[null,null,null,null,null,null,null,null,null,null,null,null,null,null,null,null,null,null,null,null,null,null,null,null,null,null,151,1,169.43230859116676,148,-21.432308591166787]
[null,null,null,null,null,null,null,null,null,null,null,null,null,null,null,null,null,null,null,null,null,null,null,null,null,null,130.66666666666666,6,147.8130948661489,133.5,-14.31309486614893]
[null,null,null,null,null,null,null,null,null,null,null,null,null,null,null,null,null,null,null,null,null,null,null,null,null,null,134.33333333333334,6,151.71867198404706,123,-28.718671984047091]
[null,null,null,null,null,null,null,null,null,null,null,null,null,null,null,null,null,null,null,null,null,null,null,null,null,null,132.33333333333334,6,149.58876726007074,116,-33.588767260070767]
[null,null,null,null,null,null,null,null,null,null,null,null,null,null,null,null,null,null,null,null,null,null,null,null,null,null,123.16666666666667,6,139.81373848125315,129.5,-10.313738481253182]
[null,null,null,null,null,null,null,null,null,null,null,null,null,null,null,null,null,null,null,null,null,null,null,null,null,null,124,5,140.70329308849006,128,-12.703293088490085]
[null,null,null,null,null,null,null,null,null,null,null,null,null,null,null,null,null,null,null,null,null,null,null,null,null,null,131.33333333333334,6,148.52344677100442,137.5,-11.023446771004444]
[null,null,null,null,null,null,null,null,null,null,null,null,null,null,null,null,null,null,null,null,null,null,null,null,null,null,125,6,141.77050983124843,130.66666666666666,-11.103843164581804]
[null,null,null,null,null,null,null,null,null,null,null,null,null,null,null,null,null,null,null,null,null,null,null,null,null,null,133.83333333333334,6,151.18628697241161,136.33333333333331,-14.852953639078322]
[null,null,null,null,null,null,null,null,null,null,null,null,null,null,null,null,null,null,null,null,null,null,null,null,null,null,133.66666666666666,6,151.00881186269129,121.33333333333333,-29.675478529357989]
[null,null,null,null,null,null,null,null,null,null,null,null,null,null,null,null,null,null,null,null,null,null,null,null,null,null,125.5,6,142.30401737680606,129,-13.304017376806087]
[null,null,null,null,null,null,null,null,null,null,null,null,null,null,null,null,null,null,null,null,null,null,null,null,null,null,124.66666666666667,6,141.4148008911109,126.66666666666666,-14.748134224444271]
[null,null,null,null,null,null,null,null,null,null,null,null,null,null,null,null,null,null,null,null,null,null,null,null,null,null,125.5,6,142.30401737680606,122.33333333333333,-19.970684043472758]
[null,null,null,null,null,null,null,null,null,null,null,null,null,null,null,null,null,null,null,null,null,null,null,null,null,null,120.5,6,136.96587380007512,123.99999999999999,-12.965873800075158]
[null,null,null,null,null,null,null,null,null,null,null,null,null,null,null,null,null,null,null,null,null,null,null,null,null,null,123.33333333333333,6,139.99166458229101,134.33333333333331,-5.6583312489577224]
[null,null,null,null,null,null,null,null,null,null,null,null,null,null,null,null,null,null,null,null,null,null,null,null,null,null,127.5,6,144.43738468595433,111.33333333333333,-33.104051352621028]
[null,null,null,null,null,null,null,null,null,null,null,null,null,null,null,null,null,null,null,null,null,null,null,null,null,null,114.6,5,130.65770842928717,126.99999999999999,-3.6577084292872115]
[null,null,null,null,null,null,null,null,null,null,null,null,null,null,null,null,null,null,null,null,null,null,null,null,null,null,128.16666666666666,6,145.14827436440834,123.99999999999999,-21.14827436440838]
[null,null,null,null,null,null,null,null,null,null,null,null,null,null,null,null,null,null,null,null,null,null,null,null,null,null,125.2,5,141.98392087683925,114.66666666666666,-27.317254210172621]
[null,null,null,null,null,null,null,null,null,null,null,null,null,null,null,null,null,null,null,null,null,null,null,null,null,null,117.16666666666667,6,133.40319954779619,145,11.59680045220378]
[null,null,null,null,null,null,null,null,null,null,null,null,null,null,null,null,null,null,null,null,null,null,null,null,null,null,147.25,4,165.4519916492674,124,-41.451991649267427]
[null,null,null,null,null,null,null,null,null,null,null,null,null,null,null,null,null,null,null,null,null,null,null,null,null,null,129.4,5,146.46311812067185,132.33333333333331,-14.129784787338565]
[null,null,null,null,null,null,null,null,null,null,null,null,null,null,null,null,null,null,null,null,null,null,null,null,null,null,134.6,5,152.0025860147278,138.66666666666666,-13.335919348061168,76]
[null,null,null,null,null,null,null,null,null,null,null,null,null,null,null,null,null,null,null,null,null,null,null,null,null,null,125.16666666666667,6,141.94835311350508,209.33333333333331,67.384980219828208]
[null,null,null,null,null,null,null,null,null,null,null,null,null,null,null,null,null,null,null,null,null,null,null,null,null,null,120.5,0,136.96587380007512,1534.333333333333,1397.3674595332579]
[null,null,null,null,null,null,null,null,null,null,null,null,null,null,null,null,null,null,null,null,null,null,null,null,null,null,120.5,0,136.96587380007512,124.33333333333333,-12.632540466741816]
[null,null,null,null,null,null,null,null,null,null,null,null,null,null,null,null,null,null,null,null,null,null,null,null,null,null,116.83333333333333,6,133.04675370042429,124.33333333333331,-8.713420367091004]
[null,null,null,null,null,null,null,null,null,null,null,null,null,null,null,null,null,null,null,null,null,null,null,null,null,null,119.4,5,135.79054605557729,124.33333333333333,-11.457212722243995]
[null,null,null,null,null,null,null,null,null,null,null,null,null,null,null,null,null,null,null,null,null,null,null,null,null,null,127.33333333333333,6,144.2596442131441,119.33333333333333,-24.926310879810799]
[null,null,null,null,null,null,null,null,null,null,null,null,null,null,null,null,null,null,null,null,null,null,null,null,null,null,123.66666666666667,6,140.34749398427894,122,-18.347493984278969]
[null,null,null,null,null,null,null,null,null,null,null,null,null,null,null,null,null,null,null,null,null,null,null,null,null,null,119.33333333333333,6,135.71930294150727,123,-12.719302941507294]
[null,null,null,null,null,null,null,null,null,null,null,null,null,null,null,null,null,null,null,null,null,null,null,null,null,null,123.66666666666667,6,140.34749398427894,126.33333333333331,-14.014160650945655]
[null,null,null,null,null,null,null,null,null,null,null,null,null,null,null,null,null,null,null,null,null,null,null,null,null,null,120.5,6,136.96587380007512,119,-17.965873800075144]
[null,null,null,null,null,null,null,null,null,null,null,null,null,null,null,null,null,null,null,null,null,null,null,null,null,null,119.16666666666667,6,135.54118956047949,130.66666666666666,-4.8745228938128662]
[null,null,null,null,null,null,null,null,null,null,null,null,null,null,null,null,null,null,null,null,null,null,null,null,null,null,125,6,141.77050983124843,118.66666666666666,-23.103843164581804]
[null,null,null,null,null,null,null,null,null,null,null,null,null,null,null,null,null,null,null,null,null,null,null,null,null,null,114.66666666666667,6,130.72904507087569,122.66666666666666,-8.0623784042090563]
[null,null,null,null,null,null,null,null,null,null,null,null,null,null,null,null,null,null,null,null,null,null,null,null,null,null,135.16666666666666,6,152.60584669326195,131,-21.605846693261981]
[null,null,null,null,null,null,null,null,null,null,null,null,null,null,null,null,null,null,null,null,null,null,null,null,null,null,136,6,153.4928556845359,121.66666666666666,-31.826189017869268]
[null,null,null,null,null,null,null,null,null,null,null,null,null,null,null,null,null,null,null,null,null,null,null,null,null,null,123.16666666666667,6,139.81373848125315,129.33333333333331,-10.480405147919868]
[null,null,null,null,null,null,null,null,null,null,null,null,null,null,null,null,null,null,null,null,null,null,null,null,null,null,136.19999999999999,5,153.70571335307417,1315.3333333333333,1161.6276199802592]
[null,null,null,null,null,null,null,null,null,null,null,null,null,null,null,null,null,null,null,null,null,null,null,null,null,null,146.5,0,164.65557765536531,143.33333333333331,-21.32224432203202]
[null,null,null,null,null,null,null,null,null,null,null,null,null,null,null,null,null,null,null,null,null,null,null,null,null,null,143.5,4,161.4687228260664,136,-25.468722826066426]
[null,null,null,null,null,null,null,null,null,null,null,null,null,null,null,null,null,null,null,null,null,null,null,null,null,null,127.5,6,144.43738468595433,134.66666666666666,-9.770718019287699]
[null,null,null,null,null,null,null,null,null,null,null,null,null,null,null,null,null,null,null,null,null,null,null,null,null,null,124.16666666666667,6,140.88118131711346,127.66666666666666,-13.21451465044683]
[null,null,null,null,null,null,null,null,null,null,null,null,null,null,null,null,null,null,null,null,null,null,null,null,null,null,122.2,5,138.78161632652257,130,-8.7816163265225953]
[null,null,null,null,null,null,null,null,null,null,null,null,null,null,null,null,null,null,null,null,null,null,null,null,null,null,122.66666666666667,6,139.27991439250283,119.33333333333331,-19.946581059169546]
[null,null,null,null,null,null,null,null,null,null,null,null,null,null,null,null,null,null,null,null,null,null,null,null,null,null,121,6,137.5,118.66666666666666,-18.833333333333371]
[null,null,null,null,null,null,null,null,null,null,null,null,null,null,null,null,null,null,null,null,null,null,null,null,null,null,124.16666666666667,6,140.88118131711346,116,-24.881181317113487]
[null,null,null,null,null,null,null,null,null,null,null,null,null,null,null,null,null,null,null,null,null,null,null,null,null,null,115.16666666666667,6,131.26402669867193,120.66666666666666,-10.597360032005298]
[null,null,null,null,null,null,null,null,null,null,null,null,null,null,null,null,null,null,null,null,null,null,null,null,null,null,112.66666666666667,6,128.58834999475732,103.66666666666666,-24.921683328090694]
[null,null,null,null,null,null,null,null,null,null,null,null,null,null,null,null,null,null,null,null,null,null,null,null,null,null,113.33333333333333,6,129.30205275600463,114.33333333333333,-14.968719422671327]
[null,null,null,null,null,null,null,null,null,null,null,null,null,null,null,null,null,null,null,null,null,null,null,null,null,null,120.5,6,136.96587380007512,115.66666666666666,-21.299207133408487]
[null,null,null,null,null,null,null,null,null,null,null,null,null,null,null,null,null,null,null,null,null,null,null,null,null,null,120.6,5,137.07270469595082,216.33333333333331,79.260628637382467]
[null,null,null,null,null,null,null,null,null,null,null,null,null,null,null,null,null,null,null,null,null,null,null,null,null,null,124,4,140.70329308849006,207.33333333333331,66.630040244843229]
[null,null,null,null,null,null,null,null,null,null,null,null,null,null,null,null,null,null,null,null,null,null,null,null,null,null,116.66666666666667,6,132.86851841268631,105.66666666666666,-27.201851746019685]
[null,null,null,null,null,null,null,null,null,null,null,null,null,null,null,null,null,null,null,null,null,null,null,null,null,null,111,6,126.80348062927911,106,-20.803480629279136]
[null,null,null,null,null,null,null,null,null,null,null,null,null,null,null,null,null,null,null,null,null,null,null,null,null,null,111.33333333333333,6,127.16052512467775,105.33333333333333,-21.827191791344447]
[null,null,null,null,null,null,null,null,null,null,null,null,null,null,null,null,null,null,null,null,null,null,null,null,null,null,105.4,5,120.79967532125272,110.33333333333331,-10.466341987919435]
[null,null,null,null,null,null,null,null,null,null,null,null,null,null,null,null,null,null,null,null,null,null,null,null,null,null,106.6,5,122.08709139896837,773.33333333333326,651.24624193436489]
[null,null,null,null,null,null,null,null,null,null,null,null,null,null,null,null,null,null,null,null,null,null,null,null,null,null,99,2,113.92481155659929,1108,994.07518844340063]
[null,null,null,null,null,null,null,null,null,null,null,null,null,null,null,null,null,null,null,null,null,null,null,null,null,null,99,1,113.92481155659929,112.66666666666666,-1.2581448899326659]
[null,null,null,null,null,null,null,null,null,null,null,null,null,null,null,null,null,null,null,null,null,null,null,null,null,null,106.5,6,121.97982558041272,106.66666666666666,-15.313158913746094]
[null,null,null,null,null,null,null,null,null,null,null,null,null,null,null,null,null,null,null,null,null,null,null,null,null,null,103.66666666666667,6,118.93919101596794,121.33333333333331,2.3941423173653504]
[null,null,null,null,null,null,null,null,null,null,null,null,null,null,null,null,null,null,null,null,null,null,null,null,null,null,108.16666666666667,6,123.76714742848937,115.33333333333333,-8.4338140951560661]
[null,null,null,null,null,null,null,null,null,null,null,null,null,null,null,null,null,null,null,null,null,null,null,null,null,null,111,6,126.80348062927911,102.99999999999999,-23.80348062927915]
[null,null,null,null,null,null,null,null,null,null,null,null,null,null,null,null,null,null,null,null,null,null,null,null,null,null,108,6,123.5884572681199,107.33333333333331,-16.25512393478661]
[null,null,null,null,null,null,null,null,null,null,null,null,null,null,null,null,null,null,null,null,null,null,null,null,null,null,106.5,6,121.97982558041272,118.66666666666666,-3.3131589137460935]
[null,null,null,null,null,null,null,null,null,null,null,null,null,null,null,null,null,null,null,null,null,null,null,null,null,null,118.6,5,134.93554406807436,113,-21.935544068074392]
[null,null,null,null,null,null,null,null,null,null,null,null,null,null,null,null,null,null,null,null,null,null,null,null,null,null,111.83333333333333,6,127.69602541254864,102.66666666666666,-25.029358745882007]
[null,null,null,null,null,null,null,null,null,null,null,null,null,null,null,null,null,null,null,null,null,null,null,null,null,null,103,6,118.22333734763833,104.66666666666666,-13.556670680971706]
[null,null,null,null,null,null,null,null,null,null,null,null,null,null,null,null,null,null,null,null,null,null,null,null,null,null,108.83333333333333,6,124.48181568786215,110.99999999999999,-13.481815687862195]
[null,null,null,null,null,null,null,null,null,null,null,null,null,null,null,null,null,null,null,null,null,null,null,null,null,null,111.83333333333333,6,127.69602541254864,103.66666666666666,-24.029358745882007]
[null,null,null,null,null,null,null,null,null,null,null,null,null,null,null,null,null,null,null,null,null,null,null,null,null,null,104.5,6,119.83378622519565,129,9.1662137748043193]
[null,null,null,null,null,null,null,null,null,null,null,null,null,null,null,null,null,null,null,null,null,null,null,null,null,null,129.19999999999999,5,146.24992668605938,202,55.75007331394059]
[null,null,null,null,null,null,null,null,null,null,null,null,null,null,null,null,null,null,null,null,null,null,null,null,null,null,132,1,149.23368793961407,115.66666666666666,-33.567021272947443]
[null,null,null,null,null,null,null,null,null,null,null,null,null,null,null,null,null,null,null,null,null,null,null,null,null,null,110.83333333333333,6,126.62494503068709,121.75,-4.8749450306871154]
[null,null,null,null,null,null,null,null,null,null,null,null,null,null,null,null,null,null,null,null,null,null,null,null,null,null,111,6,126.80348062927911,101.75,-25.053480629279136]
[null,null,null,null,null,null,null,null,null,null,null,null,null,null,null,null,null,null,null,null,null,null,null,null,null,null,98.833333333333329,6,113.74557662534006,99.25,-14.495576625340092]
[null,null,null,null,null,null,null,null,null,null,null,null,null,null,null,null,null,null,null,null,null,null,null,null,null,null,101.83333333333333,6,116.97020883655392,208.25,91.279791163446049]
[null,null,null,null,null,null,null,null,null,null,null,null,null,null,null,null,null,null,null,null,null,null,null,null,null,null,104,2,119.29705854077835,646.75,527.45294145922162]
[null,null,null,null,null,null,null,null,null,null,null,null,null,null,null,null,null,null,null,null,null,null,null,null,null,null,104,0,119.29705854077835,113,-6.2970585407783801]
[null,null,null,null,null,null,null,null,null,null,null,null,null,null,null,null,null,null,null,null,null,null,null,null,null,null,104.16666666666667,6,119.47597755906153,105,-14.475977559061562]
[null,null,null,null,null,null,null,null,null,null,null,null,null,null,null,null,null,null,null,null,null,null,null,null,null,null,93.75,4,108.27368754827782,123,14.726312451722151]
[null,null,null,null,null,null,null,null,null,null,null,null,null,null,null,null,null,null,null,null,null,null,null,null,null,null,122,6,138.5680415257809,99.75,-38.818041525780927]
[null,null,null,null,null,null,null,null,null,null,null,null,null,null,null,null,null,null,null,null,null,null,null,null,null,null,103.33333333333333,6,118.58128401531023,95.5,-23.08128401531026]
[null,null,null,null,null,null,null,null,null,null,null,null,null,null,null,null,null,null,null,null,null,null,null,null,null,null,99,6,113.92481155659929,103,-10.924811556599323]
[null,null,null,null,null,null,null,null,null,null,null,null,null,null,null,null,null,null,null,null,null,null,null,null,null,null,102.66666666666667,6,117.86535082023734,161.75,43.884649179762633]
[null,null,null,null,null,null,null,null,null,null,null,null,null,null,null,null,null,null,null,null,null,null,null,null,null,null,111.5,1,127.33903406145716,112.5,-14.839034061457184]
[null,null,null,null,null,null,null,null,null,null,null,null,null,null,null,null,null,null,null,null,null,null,null,null,null,null,115,5,131.0857079421454,96.5,-34.585707942145433]
[null,null,null,null,null,null,null,null,null,null,null,null,null,null,null,null,null,null,null,null,null,null,null,null,null,null,96,6,110.69693845669907,98.75,-11.946938456699101]
[null,null,null,null,null,null,null,null,null,null,null,null,null,null,null,null,null,null,null,null,null,null,null,null,null,null,102,5,117.14925740754312,125,7.8507425924568537]
[null,null,null,null,null,null,null,null,null,null,null,null,null,null,null,null,null,null,null,null,null,null,null,null,null,null,101.75,4,116.88068075137402,119,2.1193192486259562,68]
[null,null,null,null,null,null,null,null,null,null,null,null,null,null,null,null,null,null,null,null,null,null,null,null,null,null,102.2,5,117.36410234732014,119,1.6358976526798301]
[null,null,null,null,null,null,null,null,null,null,null,null,null,null,null,null,null,null,null,null,null,null,null,null,null,null,114,5,130.01561737804695,97.25,-32.765617378046983]
[null,null,null,null,null,null,null,null,null,null,null,null,null,null,null,null,null,null,null,null,null,null,null,null,null,null,97,6,111.77328670269415,96.25,-15.523286702694179]
[null,null,null,null,null,null,null,null,null,null,null,null,null,null,null,null,null,null,null,null,null,null,null,null,null,null,94,6,108.54303957224899,95.5,-13.043039572249015]
[null,null,null,null,null,null,null,null,null,null,null,null,null,null,null,null,null,null,null,null,null,null,null,null,null,null,101.16666666666667,6,116.25391293628128,98.75,-17.50391293628131]
[null,null,null,null,null,null,null,null,null,null,null,null,null,null,null,null,null,null,null,null,null,null,null,null,null,null,99.166666666666671,6,114.10403591295633,94.5,-19.604035912956363]
[null,null,null,null,null,null,null,null,null,null,null,null,null,null,null,null,null,null,null,null,null,null,null,null,null,null,93.5,6,108.00430970436028,230.25,122.24569029563969]
[null,null,null,null,null,null,null,null,null,null,null,null,null,null,null,null,null,null,null,null,null,null,null,null,null,null,94.5,0,109.08166657141768,143,33.918333428582287]
[null,null,null,null,null,null,null,null,null,null,null,null,null,null,null,null,null,null,null,null,null,null,null,null,null,null,94.5,0,109.08166657141768,113,3.9183334285822866]
[null,null,null,null,null,null,null,null,null,null,null,null,null,null,null,null,null,null,null,null,null,null,null,null,null,null,94.6,5,109.18937969894539,89.25,-19.939379698945416]
[null,null,null,null,null,null,null,null,null,null,null,null,null,null,null,null,null,null,null,null,null,null,null,null,null,null,100.16666666666667,6,115.1791614626691,88.75,-26.429161462669128]
[null,null,null,null,null,null,null,null,null,null,null,null,null,null,null,null,null,null,null,null,null,null,null,null,null,null,101.33333333333333,6,116.43300220387482,86.25,-30.18300220387485]
[null,null,null,null,null,null,null,null,null,null,null,null,null,null,null,null,null,null,null,null,null,null,null,null,null,null,95.5,6,110.15861521426905,91.75,-18.408615214269076]
[null,null,null,null,null,null,null,null,null,null,null,null,null,null,null,null,null,null,null,null,null,null,null,null,null,null,88,4,102.07124727947028,88,-14.071247279470313,64]
[null,null,null,null,null,null,null,null,null,null,null,null,null,null,null,null,null,null,null,null,null,null,null,null,null,null,81,3,94.5,124.5,29.999999999999986]
[null,null,null,null,null,null,null,null,null,null,null,null,null,null,null,null,null,null,null,null,null,null,null,null,null,null,78.5,0,91.790033860002012,104.25,12.459966139997974]
[null,null,null,null,null,null,null,null,null,null,null,null,null,null,null,null,null,null,null,null,null,null,null,null,null,null,93.333333333333329,3,107.82471007952276,110.5,2.675289920477212]
[null,null,null,null,null,null,null,null,null,null,null,null,null,null,null,null,null,null,null,null,null,null,null,null,null,null,98,4,112.8492424049175,111.75,-1.0992424049175327,67]
[null,null,null,null,null,null,null,null,null,null,null,null,null,null,null,null,null,null,null,null,null,null,null,null,null,null,104,6,119.29705854077835,104.75,-14.54705854077838]
[null,null,null,null,null,null,null,null,null,null,null,null,null,null,null,null,null,null,null,null,null,null,null,null,null,null,98.4,5,113.2795161211647,88.5,-24.779516121164733]
[null,null,null,null,null,null,null,null,null,null,null,null,null,null,null,null,null,null,null,null,null,null,null,null,null,null,92.5,6,106.92653804625351,98.5,-8.4265380462535404]
[null,null,null,null,null,null,null,null,null,null,null,null,null,null,null,null,null,null,null,null,null,null,null,null,null,null,93.333333333333329,6,107.82471007952276,99.5,-8.324710079522788]
[null,null,null,null,null,null,null,null,null,null,null,null,null,null,null,null,null,null,null,null,null,null,null,null,null,null,88.4,5,102.5031911282518,87.25,-15.253191128251828]
[null,null,null,null,null,null,null,null,null,null,null,null,null,null,null,null,null,null,null,null,null,null,null,null,null,null,96.6,5,111.34279485036673,91.75,-19.592794850366758]
[null,null,null,null,null,null,null,null,null,null,null,null,null,null,null,null,null,null,null,null,null,null,null,null,null,null,92.833333333333329,6,107.28584176612796,101.75,-5.5358417661279873]
[null,null,null,null,null,null,null,null,null,null,null,null,null,null,null,null,null,null,null,null,null,null,null,null,null,null,100.16666666666667,6,115.1791614626691,93.75,-21.429161462669128]
[null,null,null,null,null,null,null,null,null,null,null,null,null,null,null,null,null,null,null,null,null,null,null,null,null,null,98.166666666666671,6,113.02853061436852,96.25,-16.778530614368549]
[null,null,null,null,null,null,null,null,null,null,null,null,null,null,null,null,null,null,null,null,null,null,null,null,null,null,96.5,6,111.23516202829137,149,37.764837971708602]
[null,null,null,null,null,null,null,null,null,null,null,null,null,null,null,null,null,null,null,null,null,null,null,null,null,null,104.5,1,119.83378622519565,90.25,-29.583786225195681]
[null,null,null,null,null,null,null,null,null,null,null,null,null,null,null,null,null,null,null,null,null,null,null,null,null,null,92,6,106.38749456993816,91,-15.387494569938184]
[null,null,null,null,null,null,null,null,null,null,null,null,null,null,null,null,null,null,null,null,null,null,null,null,null,null,91.166666666666671,6,105.48885225406917,84,-21.488852254069201]
[null,null,null,null,null,null,null,null,null,null,null,null,null,null,null,null,null,null,null,null,null,null,null,null,null,null,89.166666666666671,6,103.33088214088197,115.25,11.919117859118003]
[null,null,null,null,null,null,null,null,null,null,null,null,null,null,null,null,null,null,null,null,null,null,null,null,null,null,97,2,111.77328670269415,183,71.226713297305821,69]
[null,null,null,null,null,null,null,null,null,null,null,null,null,null,null,null,null,null,null,null,null,null,null,null,null,null,97,1,111.77328670269415,90.5,-21.273286702694179]
[null,null,null,null,null,null,null,null,null,null,null,null,null,null,null,null,null,null,null,null,null,null,null,null,null,null,89.333333333333329,6,103.51078021209115,93.5,-10.010780212091177]
[null,null,null,null,null,null,null,null,null,null,null,null,null,null,null,null,null,null,null,null,null,null,null,null,null,null,86.2,5,100.1265932661222,85,-15.126593266122228]
[null,null,null,null,null,null,null,null,null,null,null,null,null,null,null,null,null,null,null,null,null,null,null,null,null,null,86.4,5,100.34274004634671,91.25,-9.0927400463467336]
[null,null,null,null,null,null,null,null,null,null,null,null,null,null,null,null,null,null,null,null,null,null,null,null,null,null,90,6,104.23024947075771,93.5,-10.730249470757741]
[null,null,null,null,null,null,null,null,null,null,null,null,null,null,null,null,null,null,null,null,null,null,null,null,null,null,84.4,5,98.180420893427026,88.75,-9.4304208934270548,64]
[null,null,null,null,null,null,null,null,null,null,null,null,null,null,null,null,null,null,null,null,null,null,null,null,null,null,88.833333333333329,6,102.97104884893201,90.75,-12.221048848932043]
[null,null,null,null,null,null,null,null,null,null,null,null,null,null,null,null,null,null,null,null,null,null,null,null,null,null,92.833333333333329,6,107.28584176612796,81.5,-25.785841766127987]
[null,null,null,null,null,null,null,null,null,null,null,null,null,null,null,null,null,null,null,null,null,null,null,null,null,null,82.833333333333329,6,96.485256274809373,90,-6.4852562748094016]
[null,null,null,null,null,null,null,null,null,null,null,null,null,null,null,null,null,null,null,null,null,null,null,null,null,null,86.833333333333329,6,100.81099408182769,87.25,-13.560994081827715]
[null,null,null,null,null,null,null,null,null,null,null,null,null,null,null,null,null,null,null,null,null,null,null,null,null,null,89.5,6,103.69066594631838,78.75,-24.940665946318404]
[null,null,null,null,null,null,null,null,null,null,null,null,null,null,null,null,null,null,null,null,null,null,null,null,null,null,82.4,5,96.016166861492266,95.5,-0.51616686149229452,63]
[null,null,null,null,null,null,null,null,null,null,null,null,null,null,null,null,null,null,null,null,null,null,null,null,null,null,90.833333333333329,6,105.12931178882913,89.5,-15.629311788829156]
[null,null,null,null,null,null,null,null,null,null,null,null,null,null,null,null,null,null,null,null,null,null,null,null,null,null,86,6,99.910427743243559,97.5,-2.4104277432435879]
[null,null,null,null,null,null,null,null,null,null,null,null,null,null,null,null,null,null,null,null,null,null,null,null,null,null,102,5,117.14925740754312,167,49.850742592456854]
[null,null,null,null,null,null,null,null,null,null,null,null,null,null,null,null,null,null,null,null,null,null,null,null,null,null,93.6,5,108.11206394693738,90.25,-17.862063946937411]
[null,null,null,null,null,null,null,null,null,null,null,null,null,null,null,null,null,null,null,null,null,null,null,null,null,null,92.833333333333329,6,107.28584176612796,89.5,-17.785841766127987]
[null,null,null,null,null,null,null,null,null,null,null,null,null,null,null,null,null,null,null,null,null,null,null,null,null,null,91,5,105.30908802125418,86.25,-19.059088021254212]
[null,null,null,null,null,null,null,null,null,null,null,null,null,null,null,null,null,null,null,null,null,null,null,null,null,null,80.166666666666671,6,93.597042685229965,102,8.4029573147700205]
[null,null,null,null,null,null,null,null,null,null,null,null,null,null,null,null,null,null,null,null,null,null,null,null,null,null,86.666666666666671,6,100.63090671043561,151,50.369093289564361]
[null,null,null,null,null,null,null,null,null,null,null,null,null,null,null,null,null,null,null,null,null,null,null,null,null,null,90.5,0,104.76972319283033,91.333333333333314,-13.436389859497041]
[null,null,null,null,null,null,null,null,null,null,null,null,null,null,null,null,null,null,null,null,null,null,null,null,null,null,87.666666666666671,6,101.71123857185481,85,-16.711238571854835]
[null,null,null,null,null,null,null,null,null,null,null,null,null,null,null,null,null,null,null,null,null,null,null,null,null,null,82.833333333333329,6,96.485256274809373,84.333333333333329,-12.151922941476073]
[null,null,null,null,null,null,null,null,null,null,null,null,null,null,null,null,null,null,null,null,null,null,null,null,null,null,78.2,5,91.464614581660499,83.666666666666657,-7.7979479149938555]
[null,null,null,null,null,null,null,null,null,null,null,null,null,null,null,null,null,null,null,null,null,null,null,null,null,null,79.666666666666671,6,93.055094505662552,85,-8.0550945056625665]
[null,null,null,null,null,null,null,null,null,null,null,null,null,null,null,null,null,null,null,null,null,null,null,null,null,null,80.666666666666671,6,94.138860251974151,84.333333333333329,-9.8055269186408367]
[null,null,null,null,null,null,null,null,null,null,null,null,null,null,null,null,null,null,null,null,null,null,null,null,null,null,80.333333333333329,6,93.777662993082089,82.333333333333329,-11.444329659748774]
[null,null,null,null,null,null,null,null,null,null,null,null,null,null,null,null,null,null,null,null,null,null,null,null,null,null,78.833333333333329,6,92.151553935200525,82,-10.151553935200539]
[null,null,null,null,null,null,null,null,null,null,null,null,null,null,null,null,null,null,null,null,null,null,null,null,null,null,79.5,6,92.874415875095252,74.333333333333329,-18.541082541761938]
[null,null,null,null,null,null,null,null,null,null,null,null,null,null,null,null,null,null,null,null,null,null,null,null,null,null,79.599999999999994,5,92.982824813917276,93,1.717518608271007E-2,62]
[null,null,null,null,null,null,null,null,null,null,null,null,null,null,null,null,null,null,null,null,null,null,null,null,null,null,90,6,104.23024947075771,89.333333333333329,-14.896916137424412]
[null,null,null,null,null,null,null,null,null,null,null,null,null,null,null,null,null,null,null,null,null,null,null,null,null,null,89.333333333333329,3,103.51078021209115,87.999999999999986,-15.510780212091191,66]
[null,null,null,null,null,null,null,null,null,null,null,null,null,null,null,null,null,null,null,null,null,null,null,null,null,null,83.5,6,97.206750161872804,80.666666666666657,-16.540083495206176]
[null,null,null,null,null,null,null,null,null,null,null,null,null,null,null,null,null,null,null,null,null,null,null,null,null,null,79,4,92.332291625973383,1641.3333333333333,1549.0010417073599]
[null,null,null,null,null,null,null,null,null,null,null,null,null,null,null,null,null,null,null,null,null,null,null,null,null,null,72.5,0,85.272039774444806,483,397.72796022555519,59]
[null,null,null,null,null,null,null,null,null,null,null,null,null,null,null,null,null,null,null,null,null,null,null,null,null,null,72.5,1,85.272039774444806,78,-7.2720397744448206]
[null,null,null,null,null,null,null,null,null,null,null,null,null,null,null,null,null,null,null,null,null,null,null,null,null,null,78.333333333333329,6,91.60925138068508,87.333333333333329,-4.2759180473517659]
[null,null,null,null,null,null,null,null,null,null,null,null,null,null,null,null,null,null,null,null,null,null,null,null,null,null,85.166666666666671,6,99.009534866573802,76.333333333333329,-22.676201533240501]
[null,null,null,null,null,null,null,null,null,null,null,null,null,null,null,null,null,null,null,null,null,null,null,null,null,null,79.333333333333329,6,92.693722549220709,89.666666666666657,-3.0270558825540661]
[null,null,null,null,null,null,null,null,null,null,null,null,null,null,null,null,null,null,null,null,null,null,null,null,null,null,84.5,6,98.288582233137674,85.333333333333329,-12.955248899804374,64]
[null,null,null,null,null,null,null,null,null,null,null,null,null,null,null,null,null,null,null,null,null,null,null,null,null,null,83,6,96.665650368716456,81.666666666666657,-14.998983702049827]
[null,null,null,null,null,null,null,null,null,null,null,null,null,null,null,null,null,null,null,null,null,null,null,null,null,null,84.5,6,98.288582233137674,80.333333333333329,-17.955248899804374]
[null,null,null,null,null,null,null,null,null,null,null,null,null,null,null,null,null,null,null,null,null,null,null,null,null,null,77.333333333333329,6,90.52423929160625,82.666666666666657,-7.857572624939607]
[null,null,null,null,null,null,null,null,null,null,null,null,null,null,null,null,null,null,null,null,null,null,null,null,null,null,81.666666666666671,6,95.222108378392633,78,-17.222108378392647]
[null,null,null,null,null,null,null,null,null,null,null,null,null,null,null,null,null,null,null,null,null,null,null,null,null,null,80,6,93.416407864998746,84.666666666666657,-8.749741198332103]
[null,null,null,null,null,null,null,null,null,null,null,null,null,null,null,null,null,null,null,null,null,null,null,null,null,null,87.333333333333329,6,101.35117910220951,100.33333333333331,-1.0178457688762279]
[null,null,null,null,null,null,null,null,null,null,null,null,null,null,null,null,null,null,null,null,null,null,null,null,null,null,81.5,4,95.041602563950846,141.33333333333331,46.291730769382454]
[null,null,null,null,null,null,null,null,null,null,null,null,null,null,null,null,null,null,null,null,null,null,null,null,null,null,76,0,89.076696830622026,81.666666666666657,-7.4100301639553834]
[null,null,null,null,null,null,null,null,null,null,null,null,null,null,null,null,null,null,null,null,null,null,null,null,null,null,84.2,5,97.964083696345355,298,200.03591630365463]
[null,null,null,null,null,null,null,null,null,null,null,null,null,null,null,null,null,null,null,null,null,null,null,null,null,null,88,0,102.07124727947028,88.666666666666657,-13.404580612803656]
[null,null,null,null,null,null,null,null,null,null,null,null,null,null,null,null,null,null,null,null,null,null,null,null,null,null,75.75,4,88.805171389146906,70.666666666666657,-18.138504722480263]
[null,null,null,null,null,null,null,null,null,null,null,null,null,null,null,null,null,null,null,null,null,null,null,null,null,null,73.5,6,86.35982114961169,77.333333333333329,-9.0264878162783759]
[null,null,null,null,null,null,null,null,null,null,null,null,null,null,null,null,null,null,null,null,null,null,null,null,null,null,79.8,5,93.199626860476371,75,-18.199626860476386]
[null,null,null,null,null,null,null,null,null,null,null,null,null,null,null,null,null,null,null,null,null,null,null,null,null,null,78.75,4,92.061179511974132,1061.3333333333333,969.2721538213591]
[null,null,null,null,null,null,null,null,null,null,null,null,null,null,null,null,null,null,null,null,null,null,null,null,null,null,81,3,94.5,1290.3333333333333,1195.8333333333333]
[null,null,null,null,null,null,null,null,null,null,null,null,null,null,null,null,null,null,null,null,null,null,null,null,null,null,82,0,95.58307770720613,74.666666666666657,-20.916411040539487]
[null,null,null,null,null,null,null,null,null,null,null,null,null,null,null,null,null,null,null,null,null,null,null,null,null,null,72.166666666666671,6,84.909311604041335,76.666666666666657,-8.2426449373746919]
[null,null,null,null,null,null,null,null,null,null,null,null,null,null,null,null,null,null,null,null,null,null,null,null,null,null,73.666666666666671,6,86.541059856250399,73.333333333333329,-13.207726522917085]
[null,null,null,null,null,null,null,null,null,null,null,null,null,null,null,null,null,null,null,null,null,null,null,null,null,null,74.666666666666671,6,87.628148063482399,73.333333333333329,-14.294814730149085]
[null,null,null,null,null,null,null,null,null,null,null,null,null,null,null,null,null,null,null,null,null,null,null,null,null,null,77.5,6,90.70511264624426,71.666666666666657,-19.038445979577617]
[null,null,null,null,null,null,null,null,null,null,null,null,null,null,null,null,null,null,null,null,null,null,null,null,null,null,73.166666666666671,6,85.997294087023008,69,-16.997294087023022]
[null,null,null,null,null,null,null,null,null,null,null,null,null,null,null,null,null,null,null,null,null,null,null,null,null,null,75.333333333333329,6,88.352549899624861,73.333333333333329,-15.019216566291547,61]
[null,null,null,null,null,null,null,null,null,null,null,null,null,null,null,null,null,null,null,null,null,null,null,null,null,null,73.833333333333329,6,86.722282087983572,76,-10.722282087983587]
[null,null,null,null,null,null,null,null,null,null,null,null,null,null,null,null,null,null,null,null,null,null,null,null,null,null,74.833333333333329,6,87.809272605694304,80.666666666666657,-7.1426059390276606]
[null,null,null,null,null,null,null,null,null,null,null,null,null,null,null,null,null,null,null,null,null,null,null,null,null,null,73.5,6,86.35982114961169,90,3.6401788503882955]
[null,null,null,null,null,null,null,null,null,null,null,null,null,null,null,null,null,null,null,null,null,null,null,null,null,null,88,2,102.07124727947028,64.666666666666657,-37.404580612803656]
[null,null,null,null,null,null,null,null,null,null,null,null,null,null,null,null,null,null,null,null,null,null,null,null,null,null,87.75,4,101.80124549639639,62.666666666666664,-39.134578829729755]
[null,null,null,null,null,null,null,null,null,null,null,null,null,null,null,null,null,null,null,null,null,null,null,null,null,null,68.599999999999994,5,81.023767544509184,74.333333333333329,-6.6904342111758695]
[null,null,null,null,null,null,null,null,null,null,null,null,null,null,null,null,null,null,null,null,null,null,null,null,null,null,76.333333333333329,6,89.438675755414479,80,-9.4386757554144936]
[null,null,null,null,null,null,null,null,null,null,null,null,null,null,null,null,null,null,null,null,null,null,null,null,null,null,81.333333333333329,6,94.861082591802017,73,-21.861082591802031]
[null,null,null,null,null,null,null,null,null,null,null,null,null,null,null,null,null,null,null,null,null,null,null,null,null,null,70,6,82.549900398011133,66.666666666666657,-15.88323373134449]
[null,null,null,null,null,null,null,null,null,null,null,null,null,null,null,null,null,null,null,null,null,null,null,null,null,null,69.666666666666671,6,82.186650692215579,71.333333333333329,-10.853317358882265]
[null,null,null,null,null,null,null,null,null,null,null,null,null,null,null,null,null,null,null,null,null,null,null,null,null,null,71.333333333333329,6,84.002192792653261,72.666666666666657,-11.335526125986618]
[null,null,null,null,null,null,null,null,null,null,null,null,null,null,null,null,null,null,null,null,null,null,null,null,null,null,78.166666666666671,6,91.428453876541511,664.33333333333326,572.90487945679172]
[null,null,null,null,null,null,null,null,null,null,null,null,null,null,null,null,null,null,null,null,null,null,null,null,null,null,81,0,94.5,142.66666666666666,48.166666666666643]
[null,null,null,null,null,null,null,null,null,null,null,null,null,null,null,null,null,null,null,null,null,null,null,null,null,null,81,1,94.5,77,-17.500000000000014]
[null,null,null,null,null,null,null,null,null,null,null,null,null,null,null,null,null,null,null,null,null,null,null,null,null,null,78.166666666666671,6,91.428453876541511,67.333333333333329,-24.095120543208196]
[null,null,null,null,null,null,null,null,null,null,null,null,null,null,null,null,null,null,null,null,null,null,null,null,null,null,76,6,89.076696830622026,77,-12.076696830622041]
[null,null,null,null,null,null,null,null,null,null,null,null,null,null,null,null,null,null,null,null,null,null,null,null,null,null,75,6,87.99038105676658,61,-26.990381056766594]
[null,null,null,null,null,null,null,null,null,null,null,null,null,null,null,null,null,null,null,null,null,null,null,null,null,null,65.5,6,77.639810542178992,65.333333333333329,-12.306477208845678]
[null,null,null,null,null,null,null,null,null,null,null,null,null,null,null,null,null,null,null,null,null,null,null,null,null,null,67.400000000000006,5,79.714625451064279,67,-12.714625451064293]
[null,null,null,null,null,null,null,null,null,null,null,null,null,null,null,null,null,null,null,null,null,null,null,null,null,null,69.666666666666671,6,82.186650692215579,75.333333333333329,-6.8533173588822649]
[null,null,null,null,null,null,null,null,null,null,null,null,null,null,null,null,null,null,null,null,null,null,null,null,null,null,61.5,4,73.263290356018587,65.333333333333329,-7.9299570226852722]
[null,null,null,null,null,null,null,null,null,null,null,null,null,null,null,null,null,null,null,null,null,null,null,null,null,null,63.2,5,75.124764148611078,76,0.8752358513889078]
[null,null,null,null,null,null,null,null,null,null,null,null,null,null,null,null,null,null,null,null,null,null,null,null,null,null,69.8,5,82.331959144523253,75.333333333333329,-6.9986258111899389]
[null,null,null,null,null,null,null,null,null,null,null,null,null,null,null,null,null,null,null,null,null,null,null,null,null,null,74.666666666666671,6,87.628148063482399,71,-16.628148063482413]
[null,null,null,null,null,null,null,null,null,null,null,null,null,null,null,null,null,null,null,null,null,null,null,null,null,null,66,5,78.186057606953938,71,-7.1860576069539519]
[null,null,null,null,null,null,null,null,null,null,null,null,null,null,null,null,null,null,null,null,null,null,null,null,null,null,72.5,6,85.272039774444806,73,-12.272039774444821]
[null,null,null,null,null,null,null,null,null,null,null,null,null,null,null,null,null,null,null,null,null,null,null,null,null,null,72.333333333333329,6,85.090684155506409,64.5,-20.590684155506423]
[null,null,null,null,null,null,null,null,null,null,null,null,null,null,null,null,null,null,null,null,null,null,null,null,null,null,68.833333333333329,6,81.27821179798697,76.5,-4.7782117979869838]
[null,null,null,null,null,null,null,null,null,null,null,null,null,null,null,null,null,null,null,null,null,null,null,null,null,null,73.666666666666671,6,86.541059856250399,75,-11.541059856250413]
[null,null,null,null,null,null,null,null,null,null,null,null,null,null,null,null,null,null,null,null,null,null,null,null,null,null,71.166666666666671,6,83.820717401510436,73.75,-10.07071740151045]
[null,null,null,null,null,null,null,null,null,null,null,null,null,null,null,null,null,null,null,null,null,null,null,null,null,null,71.166666666666671,6,83.820717401510436,70.25,-13.57071740151045]
[null,null,null,null,null,null,null,null,null,null,null,null,null,null,null,null,null,null,null,null,null,null,null,null,null,null,65.5,6,77.639810542178992,66.75,-10.889810542179006]
[null,null,null,null,null,null,null,null,null,null,null,null,null,null,null,null,null,null,null,null,null,null,null,null,null,null,65.333333333333329,6,77.457688986315475,70,-7.4576889863154889]
[null,null,null,null,null,null,null,null,null,null,null,null,null,null,null,null,null,null,null,null,null,null,null,null,null,null,70.333333333333329,6,82.91307895874246,80.75,-2.1630789587424744]
[null,null,null,null,null,null,null,null,null,null,null,null,null,null,null,null,null,null,null,null,null,null,null,null,null,null,77.333333333333329,6,90.52423929160625,73,-17.524239291606264]
[null,null,null,null,null,null,null,null,null,null,null,null,null,null,null,null,null,null,null,null,null,null,null,null,null,null,76,6,89.076696830622026,71.75,-17.326696830622041]
[null,null,null,null,null,null,null,null,null,null,null,null,null,null,null,null,null,null,null,null,null,null,null,null,null,null,72.166666666666671,6,84.909311604041335,331.75,246.84068839595864]
[null,null,null,null,null,null,null,null,null,null,null,null,null,null,null,null,null,null,null,null,null,null,null,null,null,null,81.5,0,95.041602563950846,124,28.95839743604914]
[null,null,null,null,null,null,null,null,null,null,null,null,null,null,null,null,null,null,null,null,null,null,null,null,null,null,81.5,0,95.041602563950846,70.75,-24.29160256395086]
[null,null,null,null,null,null,null,null,null,null,null,null,null,null,null,null,null,null,null,null,null,null,null,null,null,null,70.833333333333329,6,83.457714506285924,68.25,-15.207714506285939]
[null,null,null,null,null,null,null,null,null,null,null,null,null,null,null,null,null,null,null,null,null,null,null,null,null,null,64.5,6,76.546783803156757,67.75,-8.7967838031567709]
[null,null,null,null,null,null,null,null,null,null,null,null,null,null,null,null,null,null,null,null,null,null,null,null,null,null,69.333333333333329,6,81.823329330130122,70,-11.823329330130136]
[null,null,null,null,null,null,null,null,null,null,null,null,null,null,null,null,null,null,null,null,null,null,null,null,null,null,71,6,83.639224659764537,64.5,-19.139224659764551]
[null,null,null,null,null,null,null,null,null,null,null,null,null,null,null,null,null,null,null,null,null,null,null,null,null,null,62.4,5,74.249050594878895,61.25,-12.999050594878909]
[null,null,null,null,null,null,null,null,null,null,null,null,null,null,null,null,null,null,null,null,null,null,null,null,null,null,63.5,6,75.45303308788192,69.25,-6.2030330878819342]
[null,null,null,null,null,null,null,null,null,null,null,null,null,null,null,null,null,null,null,null,null,null,null,null,null,null,68.833333333333329,6,81.27821179798697,69.5,-11.778211797986984]
[null,null,null,null,null,null,null,null,null,null,null,null,null,null,null,null,null,null,null,null,null,null,null,null,null,null,67.666666666666671,6,80.005629345919743,71,-9.0056293459197576]
[null,null,null,null,null,null,null,null,null,null,null,null,null,null,null,null,null,null,null,null,null,null,null,null,null,null,65,6,77.093386622447824,65.75,-11.343386622447838]
[null,null,null,null,null,null,null,null,null,null,null,null,null,null,null,null,null,null,null,null,null,null,null,null,null,null,65.5,6,77.639810542178992,68.75,-8.8898105421790063]
[null,null,null,null,null,null,null,null,null,null,null,null,null,null,null,null,null,null,null,null,null,null,null,null,null,null,66.833333333333329,6,79.096081801764058,71.25,-7.8460818017640719]
[null,null,null,null,null,null,null,null,null,null,null,null,null,null,null,null,null,null,null,null,null,null,null,null,null,null,69.666666666666671,6,82.186650692215579,76,-6.1866506922155935]
[null,null,null,null,null,null,null,null,null,null,null,null,null,null,null,null,null,null,null,null,null,null,null,null,null,null,66.833333333333329,6,79.096081801764058,82.25,3.1539181982359281]
[null,null,null,null,null,null,null,null,null,null,null,null,null,null,null,null,null,null,null,null,null,null,null,null,null,null,76,0,89.076696830622026,142.5,53.423303169377959]
[null,null,null,null,null,null,null,null,null,null,null,null,null,null,null,null,null,null,null,null,null,null,null,null,null,null,71,2,83.639224659764537,68.75,-14.889224659764551]
[null,null,null,null,null,null,null,null,null,null,null,null,null,null,null,null,null,null,null,null,null,null,null,null,null,null,68,3,80.369316876852977,66.25,-14.119316876852992]
[null,null,null,null,null,null,null,null,null,null,null,null,null,null,null,null,null,null,null,null,null,null,null,null,null,null,68.5,6,80.914709017935138,65,-15.914709017935152]
[null,null,null,null,null,null,null,null,null,null,null,null,null,null,null,null,null,null,null,null,null,null,null,null,null,null,66.666666666666671,6,78.914115380582558,65.5,-13.414115380582572]
[null,null,null,null,null,null,null,null,null,null,null,null,null,null,null,null,null,null,null,null,null,null,null,null,null,null,64.5,6,76.546783803156757,72.5,-4.0467838031567709]
[null,null,null,null,null,null,null,null,null,null,null,null,null,null,null,null,null,null,null,null,null,null,null,null,null,null,65.333333333333329,6,77.457688986315475,70,-7.4576889863154889]
[null,null,null,null,null,null,null,null,null,null,null,null,null,null,null,null,null,null,null,null,null,null,null,null,null,null,71.166666666666671,6,83.820717401510436,66.75,-17.07071740151045]
[null,null,null,null,null,null,null,null,null,null,null,null,null,null,null,null,null,null,null,null,null,null,null,null,null,null,73.833333333333329,6,86.722282087983572,68.25,-18.472282087983587]
[null,null,null,null,null,null,null,null,null,null,null,null,null,null,null,null,null,null,null,null,null,null,null,null,null,null,57.25,4,68.59955946281616,201,132.40044053718384]
[null,null,null,null,null,null,null,null,null,null,null,null,null,null,null,null,null,null,null,null,null,null,null,null,null,null,64,0,76,76.75,0.74999999999998579]
[null,null,null,null,null,null,null,null,null,null,null,null,null,null,null,null,null,null,null,null,null,null,null,null,null,null,75,2,87.99038105676658,65,-22.990381056766594]
[null,null,null,null,null,null,null,null,null,null,null,null,null,null,null,null,null,null,null,null,null,null,null,null,null,null,68.599999999999994,5,81.023767544509184,61.5,-19.523767544509198]
[null,null,null,null,null,null,null,null,null,null,null,null,null,null,null,null,null,null,null,null,null,null,null,null,null,null,58.833333333333336,6,70.338766832337186,61.75,-8.5887668323371997]
[null,null,null,null,null,null,null,null,null,null,null,null,null,null,null,null,null,null,null,null,null,null,null,null,null,null,65,6,77.093386622447824,64,-13.093386622447838]
[null,null,null,null,null,null,null,null,null,null,null,null,null,null,null,null,null,null,null,null,null,null,null,null,null,null,65.166666666666671,6,77.275547704979004,59.75,-17.525547704979019]
[null,null,null,null,null,null,null,null,null,null,null,null,null,null,null,null,null,null,null,null,null,null,null,null,null,null,61,6,72.715374513859985,63,-9.7153745138599987]
[null,null,null,null,null,null,null,null,null,null,null,null,null,null,null,null,null,null,null,null,null,null,null,null,null,null,62.666666666666664,6,74.541008753704574,63.75,-10.791008753704588]
[null,null,null,null,null,null,null,null,null,null,null,null,null,null,null,null,null,null,null,null,null,null,null,null,null,null,66.166666666666671,6,78.368101008579103,63,-15.368101008579117]
[null,null,null,null,null,null,null,null,null,null,null,null,null,null,null,null,null,null,null,null,null,null,null,null,null,null,66.833333333333329,6,79.096081801764058,136,56.903918198235928]
[null,null,null,null,null,null,null,null,null,null,null,null,null,null,null,null,null,null,null,null,null,null,null,null,null,null,68.8,5,81.241864811996635,207.75,126.50813518800335]
[null,null,null,null,null,null,null,null,null,null,null,null,null,null,null,null,null,null,null,null,null,null,null,null,null,null,75.25,4,88.262013679673103,59.75,-28.512013679673117]
[null,null,null,null,null,null,null,null,null,null,null,null,null,null,null,null,null,null,null,null,null,null,null,null,null,null,59.166666666666664,6,70.704647425880992,61,-9.7046474258810065]
[null,null,null,null,null,null,null,null,null,null,null,null,null,null,null,null,null,null,null,null,null,null,null,null,null,null,63.166666666666664,6,75.088285684233028,65.75,-9.3382856842330426]
[null,null,null,null,null,null,null,null,null,null,null,null,null,null,null,null,null,null,null,null,null,null,null,null,null,null,64.833333333333329,6,76.91120566251449,51.5,-25.411205662514504]
[null,null,null,null,null,null,null,null,null,null,null,null,null,null,null,null,null,null,null,null,null,null,null,null,null,null,54.833333333333336,6,65.940763279094867,63.25,-2.690763279094881]
[null,null,null,null,null,null,null,null,null,null,null,null,null,null,null,null,null,null,null,null,null,null,null,null,null,null,63,6,74.90588089979066,62.25,-12.655880899790674]
[null,null,null,null,null,null,null,null,null,null,null,null,null,null,null,null,null,null,null,null,null,null,null,null,null,null,62.666666666666664,6,74.541008753704574,89,14.458991246295412]
[null,null,null,null,null,null,null,null,null,null,null,null,null,null,null,null,null,null,null,null,null,null,null,null,null,null,61.5,1,73.263290356018587,62.25,-11.013290356018601]
[null,null,null,null,null,null,null,null,null,null,null,null,null,null,null,null,null,null,null,null,null,null,null,null,null,null,63,5,74.90588089979066,59.5,-15.405880899790674]
[null,null,null,null,null,null,null,null,null,null,null,null,null,null,null,null,null,null,null,null,null,null,null,null,null,null,58.4,5,69.862983904725681,56.25,-13.612983904725695]
[null,null,null,null,null,null,null,null,null,null,null,null,null,null,null,null,null,null,null,null,null,null,null,null,null,null,58.333333333333336,6,69.789772570722931,58.5,-11.289772570722945]
[null,null,null,null,null,null,null,null,null,null,null,null,null,null,null,null,null,null,null,null,null,null,null,null,null,null,61.333333333333336,6,73.080673457804068,64,-9.0806734578040817]
[null,null,null,null,null,null,null,null,null,null,null,null,null,null,null,null,null,null,null,null,null,null,null,null,null,null,62.833333333333336,6,74.72345528392745,54.75,-19.973455283927464]
[null,null,null,null,null,null,null,null,null,null,null,null,null,null,null,null,null,null,null,null,null,null,null,null,null,null,58.166666666666664,6,69.606727855314219,61.25,-8.356727855314233]
[null,null,null,null,null,null,null,null,null,null,null,null,null,null,null,null,null,null,null,null,null,null,null,null,null,null,61.5,6,73.263290356018587,60.25,-13.013290356018601]
[null,null,null,null,null,null,null,null,null,null,null,null,null,null,null,null,null,null,null,null,null,null,null,null,null,null,63.666666666666664,6,75.635375870252489,79.5,3.8646241297474972]
[null,null,null,null,null,null,null,null,null,null,null,null,null,null,null,null,null,null,null,null,null,null,null,null,null,null,67.333333333333329,6,79.641866958424501,69.5,-10.141866958424515]
[null,null,null,null,null,null,null,null,null,null,null,null,null,null,null,null,null,null,null,null,null,null,null,null,null,null,65.833333333333329,6,78.003994777971414,60,-18.003994777971428]
[null,null,null,null,null,null,null,null,null,null,null,null,null,null,null,null,null,null,null,null,null,null,null,null,null,null,59.166666666666664,6,70.704647425880992,74.75,4.0453525741189935]
[null,null,null,null,null,null,null,null,null,null,null,null,null,null,null,null,null,null,null,null,null,null,null,null,null,null,62.6,5,74.468024266911499,128.75,54.281975733088487]
[null,null,null,null,null,null,null,null,null,null,null,null,null,null,null,null,null,null,null,null,null,null,null,null,null,null,63.5,0,75.45303308788192,62.2,-13.253033087881931]
[null,null,null,null,null,null,null,null,null,null,null,null,null,null,null,null,null,null,null,null,null,null,null,null,null,null,61.666666666666664,6,73.445885656056419,64.400000000000006,-9.0458856560564271]
[null,null,null,null,null,null,null,null,null,null,null,null,null,null,null,null,null,null,null,null,null,null,null,null,null,null,60.2,5,71.838298844762491,52.6,-19.238298844762504]
[null,null,null,null,null,null,null,null,null,null,null,null,null,null,null,null,null,null,null,null,null,null,null,null,null,null,54.2,5,65.243097391583575,60.20000000000001,-5.0430973915835793]
[null,null,null,null,null,null,null,null,null,null,null,null,null,null,null,null,null,null,null,null,null,null,null,null,null,null,59.5,6,71.070436465406132,65,-6.0704364654061465]
[null,null,null,null,null,null,null,null,null,null,null,null,null,null,null,null,null,null,null,null,null,null,null,null,null,null,61.5,6,73.263290356018587,69.400000000000006,-3.8632903560185952]
[null,null,null,null,null,null,null,null,null,null,null,null,null,null,null,null,null,null,null,null,null,null,null,null,null,null,70.166666666666671,6,82.731498539795737,62,-20.731498539795751]
[null,null,null,null,null,null,null,null,null,null,null,null,null,null,null,null,null,null,null,null,null,null,null,null,null,null,57.166666666666664,6,68.507962888880414,57.6,-10.907962888880427]
[null,null,null,null,null,null,null,null,null,null,null,null,null,null,null,null,null,null,null,null,null,null,null,null,null,null,54.666666666666664,6,65.757203173076078,59.000000000000007,-6.7572031730760855]
[null,null,null,null,null,null,null,null,null,null,null,null,null,null,null,null,null,null,null,null,null,null,null,null,null,null,55.8,5,67.004909638189858,55.600000000000009,-11.404909638189864]
[null,null,null,null,null,null,null,null,null,null,null,null,null,null,null,null,null,null,null,null,null,null,null,null,null,null,54,5,65.022703842524294,55.2,-9.8227038425243052]
[null,null,null,null,null,null,null,null,null,null,null,null,null,null,null,null,null,null,null,null,null,null,null,null,null,null,52.8,5,63.69954127475097,58,-5.6995412747509846]
[null,null,null,null,null,null,null,null,null,null,null,null,null,null,null,null,null,null,null,null,null,null,null,null,null,null,56,6,67.224972160321826,65.599999999999994,-1.6249721603218461]
[null,null,null,null,null,null,null,null,null,null,null,null,null,null,null,null,null,null,null,null,null,null,null,null,null,null,62.333333333333336,6,74.176052615660353,56,-18.176052615660367,58]
[null,null,null,null,null,null,null,null,null,null,null,null,null,null,null,null,null,null,null,null,null,null,null,null,null,null,65.166666666666671,6,77.275547704979004,58.800000000000004,-18.475547704979014]
[null,null,null,null,null,null,null,null,null,null,null,null,null,null,null,null,null,null,null,null,null,null,null,null,null,null,59.166666666666664,6,70.704647425880992,57.400000000000006,-13.304647425881001]
[null,null,null,null,null,null,null,null,null,null,null,null,null,null,null,null,null,null,null,null,null,null,null,null,null,null,56,6,67.224972160321826,60.2,-7.0249721603218376]
[null,null,null,null,null,null,null,null,null,null,null,null,null,null,null,null,null,null,null,null,null,null,null,null,null,null,54.666666666666664,6,65.757203173076078,62.400000000000006,-3.357203173076087]
[null,null,null,null,null,null,null,null,null,null,null,null,null,null,null,null,null,null,null,null,null,null,null,null,null,null,64.8,5,76.874767078498863,1348.4,1271.5252329215011]
[null,null,null,null,null,null,null,null,null,null,null,null,null,null,null,null,null,null,null,null,null,null,null,null,null,null,68,0,80.369316876852977,137.4,57.030683123147014]
[null,null,null,null,null,null,null,null,null,null,null,null,null,null,null,null,null,null,null,null,null,null,null,null,null,null,68,0,80.369316876852977,54.6,-25.76931687685299]
[null,null,null,null,null,null,null,null,null,null,null,null,null,null,null,null,null,null,null,null,null,null,null,null,null,null,54.333333333333336,6,65.390005527081328,60.2,-5.1900055270813397]
[null,null,null,null,null,null,null,null,null,null,null,null,null,null,null,null,null,null,null,null,null,null,null,null,null,null,62.166666666666664,6,73.993542839181529,63.8,-10.193542839181546]
[null,null,null,null,null,null,null,null,null,null,null,null,null,null,null,null,null,null,null,null,null,null,null,null,null,null,69.5,6,82.004999000399806,62.600000000000009,-19.404999000399812]
[null,null,null,null,null,null,null,null,null,null,null,null,null,null,null,null,null,null,null,null,null,null,null,null,null,null,60.2,5,71.838298844762491,59.000000000000007,-12.838298844762498]
[null,null,null,null,null,null,null,null,null,null,null,null,null,null,null,null,null,null,null,null,null,null,null,null,null,null,59.4,5,70.960709320798614,58.400000000000006,-12.560709320798622]
[null,null,null,null,null,null,null,null,null,null,null,null,null,null,null,null,null,null,null,null,null,null,null,null,null,null,54.5,6,65.573617295175055,58.800000000000004,-6.7736172951750646]
[null,null,null,null,null,null,null,null,null,null,null,null,null,null,null,null,null,null,null,null,null,null,null,null,null,null,58.5,6,69.972793905583771,127.2,57.227206094416218]
[null,null,null,null,null,null,null,null,null,null,null,null,null,null,null,null,null,null,null,null,null,null,null,null,null,null,66,3,78.186057606953938,80.2,2.0139423930460509,60]
[null,null,null,null,null,null,null,null,null,null,null,null,null,null,null,null,null,null,null,null,null,null,null,null,null,null,65.75,4,77.912956055170142,57.599999999999994,-20.312956055170162]
[null,null,null,null,null,null,null,null,null,null,null,null,null,null,null,null,null,null,null,null,null,null,null,null,null,null,61.5,6,73.263290356018587,50.6,-22.663290356018599]
[null,null,null,null,null,null,null,null,null,null,null,null,null,null,null,null,null,null,null,null,null,null,null,null,null,null,52.666666666666664,6,63.552437195205286,54.2,-9.3524371952052974]
[null,null,null,null,null,null,null,null,null,null,null,null,null,null,null,null,null,null,null,null,null,null,null,null,null,null,58,6,69.423659658795856,56.000000000000014,-13.423659658795856]
[null,null,null,null,null,null,null,null,null,null,null,null,null,null,null,null,null,null,null,null,null,null,null,null,null,null,63,6,74.90588089979066,53.600000000000009,-21.305880899790665]
[null,null,null,null,null,null,null,null,null,null,null,null,null,null,null,null,null,null,null,null,null,null,null,null,null,null,54,6,65.022703842524294,57.4,-7.6227038425243094]
[null,null,null,null,null,null,null,null,null,null,null,null,null,null,null,null,null,null,null,null,null,null,null,null,null,null,58.5,6,69.972793905583771,64.600000000000009,-5.3727939055837766]
[null,null,null,null,null,null,null,null,null,null,null,null,null,null,null,null,null,null,null,null,null,null,null,null,null,null,63.333333333333336,6,75.270669719646662,53,-22.270669719646676]
[null,null,null,null,null,null,null,null,null,null,null,null,null,null,null,null,null,null,null,null,null,null,null,null,null,null,48.4,5,58.835516278555652,54.8,-4.0355162785556686]
[null,null,null,null,null,null,null,null,null,null,null,null,null,null,null,null,null,null,null,null,null,null,null,null,null,null,51.166666666666664,6,61.896298533604131,344.80000000000007,282.90370146639594]
[null,null,null,null,null,null,null,null,null,null,null,null,null,null,null,null,null,null,null,null,null,null,null,null,null,null,59.5,0,71.070436465406132,672.2,601.1295635345939]
[null,null,null,null,null,null,null,null,null,null,null,null,null,null,null,null,null,null,null,null,null,null,null,null,null,null,59.5,1,71.070436465406132,56,-15.070436465406146]
[null,null,null,null,null,null,null,null,null,null,null,null,null,null,null,null,null,null,null,null,null,null,null,null,null,null,49,3,59.5,50.800000000000004,-8.7000000000000099]
[null,null,null,null,null,null,null,null,null,null,null,null,null,null,null,null,null,null,null,null,null,null,null,null,null,null,52.333333333333336,6,63.184600540438687,49.600000000000009,-13.584600540438693]
[null,null,null,null,null,null,null,null,null,null,null,null,null,null,null,null,null,null,null,null,null,null,null,null,null,null,53.666666666666664,6,64.655297154584616,51,-13.65529715458463]
[null,null,null,null,null,null,null,null,null,null,null,null,null,null,null,null,null,null,null,null,null,null,null,null,null,null,51,6,61.712142642814271,53,-8.7121426428142854]
[null,null,null,null,null,null,null,null,null,null,null,null,null,null,null,null,null,null,null,null,null,null,null,null,null,null,54.5,6,65.573617295175055,51.400000000000006,-14.173617295175063]
[null,null,null,null,null,null,null,null,null,null,null,null,null,null,null,null,null,null,null,null,null,null,null,null,null,null,49.833333333333336,6,60.422242625607019,54.400000000000006,-6.0222426256070278]
[null,null,null,null,null,null,null,null,null,null,null,null,null,null,null,null,null,null,null,null,null,null,null,null,null,null,52.5,6,63.368532559642077,48.800000000000004,-14.568532559642087]
[null,null,null,null,null,null,null,null,null,null,null,null,null,null,null,null,null,null,null,null,null,null,null,null,null,null,47.166666666666664,6,57.468365555684926,52,-5.4683655556849402]
[null,null,null,null,null,null,null,null,null,null,null,null,null,null,null,null,null,null,null,null,null,null,null,null,null,null,48,6,58.392304845413264,57.800000000000004,-0.59230484541327399]
[null,null,null,null,null,null,null,null,null,null,null,null,null,null,null,null,null,null,null,null,null,null,null,null,null,null,59.166666666666664,6,70.704647425880992,48.400000000000006,-22.304647425881001]
[null,null,null,null,null,null,null,null,null,null,null,null,null,null,null,null,null,null,null,null,null,null,null,null,null,null,40.6,5,50.157719393244392,47.000000000000007,-3.157719393244399]
[null,null,null,null,null,null,null,null,null,null,null,null,null,null,null,null,null,null,null,null,null,null,null,null,null,null,40,3,49.486832980505142,47.4,-2.0868329805051573]
[null,null,null,null,null,null,null,null,null,null,null,null,null,null,null,null,null,null,null,null,null,null,null,null,null,null,48.666666666666664,6,59.130891434894835,49.20000000000001,-9.9308914348948392]
[null,null,null,null,null,null,null,null,null,null,null,null,null,null,null,null,null,null,null,null,null,null,null,null,null,null,45.666666666666664,6,55.803234133023309,56.2,0.39676586697667915]
[null,null,null,null,null,null,null,null,null,null,null,null,null,null,null,null,null,null,null,null,null,null,null,null,null,null,46,6,56.173494974687898,54.600000000000009,-1.5734949746879039]
[null,null,null,null,null,null,null,null,null,null,null,null,null,null,null,null,null,null,null,null,null,null,null,null,null,null,49.5,6,60.053435459602717,44.6,-15.45343545960273]
[null,null,null,null,null,null,null,null,null,null,null,null,null,null,null,null,null,null,null,null,null,null,null,null,null,null,44.666666666666664,6,54.691635494548379,119.60000000000001,64.908364505451615]
[null,null,null,null,null,null,null,null,null,null,null,null,null,null,null,null,null,null,null,null,null,null,null,null,null,null,45.666666666666664,6,55.803234133023309,194,138.19676586697668]
[null,null,null,null,null,null,null,null,null,null,null,null,null,null,null,null,null,null,null,null,null,null,null,null,null,null,42.5,0,52.278803607803972,180.20000000000002,127.92119639219604]
[null,null,null,null,null,null,null,null,null,null,null,null,null,null,null,null,null,null,null,null,null,null,null,null,null,null,40.5,2,50.045941546018391,53.000000000000007,2.9540584539816024]
[null,null,null,null,null,null,null,null,null,null,null,null,null,null,null,null,null,null,null,null,null,null,null,null,null,null,43.333333333333336,3,53.207542162399086,49.600000000000009,-3.607542162399092]
[null,null,null,null,null,null,null,null,null,null,null,null,null,null,null,null,null,null,null,null,null,null,null,null,null,null,47,6,57.283481900601565,50.000000000000007,-7.2834819006015721]
[null,null,null,null,null,null,null,null,null,null,null,null,null,null,null,null,null,null,null,null,null,null,null,null,null,null,43.25,4,53.114709828474432,50,-3.1147098284744459]
[null,null,null,null,null,null,null,null,null,null,null,null,null,null,null,null,null,null,null,null,null,null,null,null,null,null,50.166666666666664,6,60.790931347104554,49.600000000000009,-11.190931347104559]
[null,null,null,null,null,null,null,null,null,null,null,null,null,null,null,null,null,null,null,null,null,null,null,null,null,null,42,4,51.721111047611792,45.400000000000006,-6.3211110476118009]
[null,null,null,null,null,null,null,null,null,null,null,null,null,null,null,null,null,null,null,null,null,null,null,null,null,null,41.8,5,51.497937925146765,52.400000000000006,0.90206207485322665]
[null,null,null,null,null,null,null,null,null,null,null,null,null,null,null,null,null,null,null,null,null,null,null,null,null,null,45.75,4,55.895811943851513,50.75,-5.1458119438515268]
[null,null,null,null,null,null,null,null,null,null,null,null,null,null,null,null,null,null,null,null,null,null,null,null,null,null,51.5,6,62.26452507080549,40,-22.264525070805504]
[null,null,null,null,null,null,null,null,null,null,null,null,null,null,null,null,null,null,null,null,null,null,null,null,null,null,42.333333333333336,6,52.092943981304899,43.75,-8.3429439813049129]
[null,null,null,null,null,null,null,null,null,null,null,null,null,null,null,null,null,null,null,null,null,null,null,null,null,null,42.5,6,52.278803607803972,43.5,-8.7788036078039866]
[null,null,null,null,null,null,null,null,null,null,null,null,null,null,null,null,null,null,null,null,null,null,null,null,null,null,44.666666666666664,6,54.691635494548379,44.5,-10.191635494548393]
[null,null,null,null,null,null,null,null,null,null,null,null,null,null,null,null,null,null,null,null,null,null,null,null,null,null,44.5,6,54.506248048094747,45.5,-9.0062480480947613]
[null,null,null,null,null,null,null,null,null,null,null,null,null,null,null,null,null,null,null,null,null,null,null,null,null,null,45,6,55.062305898749052,44.25,-10.812305898749067]
[null,null,null,null,null,null,null,null,null,null,null,null,null,null,null,null,null,null,null,null,null,null,null,null,null,null,44.666666666666664,6,54.691635494548379,56,1.3083645054516069]
[null,null,null,null,null,null,null,null,null,null,null,null,null,null,null,null,null,null,null,null,null,null,null,null,null,null,53.666666666666664,6,64.655297154584616,47.5,-17.15529715458463]
[null,null,null,null,null,null,null,null,null,null,null,null,null,null,null,null,null,null,null,null,null,null,null,null,null,null,51.333333333333336,6,62.080425963435673,38.75,-23.330425963435687]
[null,null,null,null,null,null,null,null,null,null,null,null,null,null,null,null,null,null,null,null,null,null,null,null,null,null,43,6,52.836157786453001,43.75,-9.0861577864530148]
[null,null,null,null,null,null,null,null,null,null,null,null,null,null,null,null,null,null,null,null,null,null,null,null,null,null,44.833333333333336,6,54.87698804663367,505,450.1230119533663]
[null,null,null,null,null,null,null,null,null,null,null,null,null,null,null,null,null,null,null,null,null,null,null,null,null,null,49.5,0,60.053435459602717,213.5,153.44656454039728]
[null,null,null,null,null,null,null,null,null,null,null,null,null,null,null,null,null,null,null,null,null,null,null,null,null,null,49.5,0,60.053435459602717,44.25,-15.803435459602731]
[null,null,null,null,null,null,null,null,null,null,null,null,null,null,null,null,null,null,null,null,null,null,null,null,null,null,46,6,56.173494974687898,44.5,-11.673494974687912]
[null,null,null,null,null,null,null,null,null,null,null,null,null,null,null,null,null,null,null,null,null,null,null,null,null,null,43.5,6,53.393179468704687,34.25,-19.143179468704702]
[null,null,null,null,null,null,null,null,null,null,null,null,null,null,null,null,null,null,null,null,null,null,null,null,null,null,38.5,6,47.807255234493141,47.25,-0.55725523449314807]
[null,null,null,null,null,null,null,null,null,null,null,null,null,null,null,null,null,null,null,null,null,null,null,null,null,null,39.799999999999997,5,49.263086177352498,40.25,-9.0130861773525126]
[null,null,null,null,null,null,null,null,null,null,null,null,null,null,null,null,null,null,null,null,null,null,null,null,null,null,38.833333333333336,6,48.180792881253296,45,-3.1807928812533106]
[null,null,null,null,null,null,null,null,null,null,null,null,null,null,null,null,null,null,null,null,null,null,null,null,null,null,42,6,51.721111047611792,40.25,-11.471111047611807]
[null,null,null,null,null,null,null,null,null,null,null,null,null,null,null,null,null,null,null,null,null,null,null,null,null,null,39.333333333333336,6,48.740777194446721,40.75,-7.9907771944467356]
[null,null,null,null,null,null,null,null,null,null,null,null,null,null,null,null,null,null,null,null,null,null,null,null,null,null,42.666666666666664,6,52.464625637799372,40.75,-11.714625637799386]
[null,null,null,null,null,null,null,null,null,null,null,null,null,null,null,null,null,null,null,null,null,null,null,null,null,null,42.5,6,52.278803607803972,42.25,-10.028803607803987]
[null,null,null,null,null,null,null,null,null,null,null,null,null,null,null,null,null,null,null,null,null,null,null,null,null,null,41.666666666666664,6,51.349125032185206,43.25,-8.0991250321852206]
[null,null,null,null,null,null,null,null,null,null,null,null,null,null,null,null,null,null,null,null,null,null,null,null,null,null,43.333333333333336,6,53.207542162399086,46.5,-6.7075421623991005]
[null,null,null,null,null,null,null,null,null,null,null,null,null,null,null,null,null,null,null,null,null,null,null,null,null,null,46.5,6,56.728636272739394,40.5,-16.228636272739408]
[null,null,null,null,null,null,null,null,null,null,null,null,null,null,null,null,null,null,null,null,null,null,null,null,null,null,38.833333333333336,6,48.180792881253296,44,-4.1807928812533106]
[null,null,null,null,null,null,null,null,null,null,null,null,null,null,null,null,null,null,null,null,null,null,null,null,null,null,44.166666666666664,6,54.135367685355106,39.25,-14.885367685355121]
[null,null,null,null,null,null,null,null,null,null,null,null,null,null,null,null,null,null,null,null,null,null,null,null,null,null,44,6,53.949874371066201,35.25,-18.699874371066215]
[null,null,null,null,null,null,null,null,null,null,null,null,null,null,null,null,null,null,null,null,null,null,null,null,null,null,40.666666666666664,6,50.232229901521158,43.75,-6.4822299015211726]
[null,null,null,null,null,null,null,null,null,null,null,null,null,null,null,null,null,null,null,null,null,null,null,null,null,null,42.833333333333336,6,52.650410291369269,74.75,22.099589708630717]
[null,null,null,null,null,null,null,null,null,null,null,null,null,null,null,null,null,null,null,null,null,null,null,null,null,null,44,2,53.949874371066201,54.75,0.80012562893378458]
[null,null,null,null,null,null,null,null,null,null,null,null,null,null,null,null,null,null,null,null,null,null,null,null,null,null,44,1,53.949874371066201,38.75,-15.199874371066215]
[null,null,null,null,null,null,null,null,null,null,null,null,null,null,null,null,null,null,null,null,null,null,null,null,null,null,38.833333333333336,6,48.180792881253296,32.5,-15.680792881253311]
[null,null,null,null,null,null,null,null,null,null,null,null,null,null,null,null,null,null,null,null,null,null,null,null,null,null,40,5,49.486832980505142,38.5,-10.986832980505156]
[null,null,null,null,null,null,null,null,null,null,null,null,null,null,null,null,null,null,null,null,null,null,null,null,null,null,40.333333333333336,6,49.859612774962159,73,23.140387225037827]
[null,null,null,null,null,null,null,null,null,null,null,null,null,null,null,null,null,null,null,null,null,null,null,null,null,null,40.5,6,50.045941546018391,149.5,99.454058453981588]
[null,null,null,null,null,null,null,null,null,null,null,null,null,null,null,null,null,null,null,null,null,null,null,null,null,null,49,0,59.5,44.5,-15.000000000000014]
[null,null,null,null,null,null,null,null,null,null,null,null,null,null,null,null,null,null,null,null,null,null,null,null,null,null,49,0,59.5,40.75,-18.750000000000014]
[null,null,null,null,null,null,null,null,null,null,null,null,null,null,null,null,null,null,null,null,null,null,null,null,null,null,42.333333333333336,6,52.092943981304899,33.5,-18.592943981304913]
[null,null,null,null,null,null,null,null,null,null,null,null,null,null,null,null,null,null,null,null,null,null,null,null,null,null,37.833333333333336,6,47.059654376956303,34.5,-12.55965437695631]
[null,null,null,null,null,null,null,null,null,null,null,null,null,null,null,null,null,null,null,null,null,null,null,null,null,null,37.333333333333336,6,46.498484723245014,35.75,-10.748484723245021]
[null,null,null,null,null,null,null,null,null,null,null,null,null,null,null,null,null,null,null,null,null,null,null,null,null,null,39,6,48.367496997597598,52,3.6325030024023874]
[null,null,null,null,null,null,null,null,null,null,null,null,null,null,null,null,null,null,null,null,null,null,null,null,null,null,46.8,5,57.061578825892241,39.25,-17.811578825892255]
[null,null,null,null,null,null,null,null,null,null,null,null,null,null,null,null,null,null,null,null,null,null,null,null,null,null,46,6,56.173494974687898,36.5,-19.673494974687912]
[null,null,null,null,null,null,null,null,null,null,null,null,null,null,null,null,null,null,null,null,null,null,null,null,null,null,40.833333333333336,6,50.418478089673741,65.5,15.081521910326245]
[null,null,null,null,null,null,null,null,null,null,null,null,null,null,null,null,null,null,null,null,null,null,null,null,null,null,45.5,6,55.618053172424027,58.5,2.881946827575959]
[null,null,null,null,null,null,null,null,null,null,null,null,null,null,null,null,null,null,null,null,null,null,null,null,null,null,46.666666666666664,6,56.91361743262626,39,-17.913617432626275]
[null,null,null,null,null,null,null,null,null,null,null,null,null,null,null,null,null,null,null,null,null,null,null,null,null,null,39.833333333333336,6,49.300381447714081,43.5,-5.8003814477140949]
[null,null,null,null,null,null,null,null,null,null,null,null,null,null,null,null,null,null,null,null,null,null,null,null,null,null,37,4,46.124143795447331,37.25,-8.8741437954473383]
[null,null,null,null,null,null,null,null,null,null,null,null,null,null,null,null,null,null,null,null,null,null,null,null,null,null,41,6,50.604686356149273,38,-12.604686356149287]
[null,null,null,null,null,null,null,null,null,null,null,null,null,null,null,null,null,null,null,null,null,null,null,null,null,null,40.666666666666664,6,50.232229901521158,178.25,128.01777009847882]
[null,null,null,null,null,null,null,null,null,null,null,null,null,null,null,null,null,null,null,null,null,null,null,null,null,null,46,1,56.173494974687898,73.5,17.326505025312088,52]
[null,null,null,null,null,null,null,null,null,null,null,null,null,null,null,null,null,null,null,null,null,null,null,null,null,null,50.333333333333336,3,60.975231660229717,37,-23.975231660229731]
[null,null,null,null,null,null,null,null,null,null,null,null,null,null,null,null,null,null,null,null,null,null,null,null,null,null,45.833333333333336,6,55.988381339128289,28.75,-27.238381339128303]
[null,null,null,null,null,null,null,null,null,null,null,null,null,null,null,null,null,null,null,null,null,null,null,null,null,null,30,6,38.215838362577493,35.5,-2.7158383625775002]
[null,null,null,null,null,null,null,null,null,null,null,null,null,null,null,null,null,null,null,null,null,null,null,null,null,null,37.666666666666664,6,46.87264298642765,48.5,1.6273570135723432]
[null,null,null,null,null,null,null,null,null,null,null,null,null,null,null,null,null,null,null,null,null,null,null,null,null,null,41.2,5,50.82808392152873,41.5,-9.3280839215287443]
[null,null,null,null,null,null,null,null,null,null,null,null,null,null,null,null,null,null,null,null,null,null,null,null,null,null,38.833333333333336,6,48.180792881253296,38.25,-9.9307928812533106]
[null,null,null,null,null,null,null,null,null,null,null,null,null,null,null,null,null,null,null,null,null,null,null,null,null,null,37,6,46.124143795447331,40.75,-5.3741437954473383]
[null,null,null,null,null,null,null,null,null,null,null,null,null,null,null,null,null,null,null,null,null,null,null,null,null,null,41.166666666666664,6,50.790854944126743,43,-7.7908549441267567]
[null,null,null,null,null,null,null,null,null,null,null,null,null,null,null,null,null,null,null,null,null,null,null,null,null,null,36.4,5,45.449861877399016,37.75,-7.6998618773990231]
[null,null,null,null,null,null,null,null,null,null,null,null,null,null,null,null,null,null,null,null,null,null,null,null,null,null,35.166666666666664,6,44.06189010399526,38,-6.0618901039952675]
[null,null,null,null,null,null,null,null,null,null,null,null,null,null,null,null,null,null,null,null,null,null,null,null,null,null,38,6,47.246621004453466,38.75,-8.4966210044534733]
[null,null,null,null,null,null,null,null,null,null,null,null,null,null,null,null,null,null,null,null,null,null,null,null,null,null,39.666666666666664,6,49.113888480512259,40,-9.1138884805122728]
[null,null,null,null,null,null,null,null,null,null,null,null,null,null,null,null,null,null,null,null,null,null,null,null,null,null,40.166666666666664,6,49.673243337582434,37,-12.673243337582448]
[null,null,null,null,null,null,null,null,null,null,null,null,null,null,null,null,null,null,null,null,null,null,null,null,null,null,41,6,50.604686356149273,31.75,-18.854686356149287]
[null,null,null,null,null,null,null,null,null,null,null,null,null,null,null,null,null,null,null,null,null,null,null,null,null,null,32.4,5,40.938149682454622,44,3.0618503175453711]
[null,null,null,null,null,null,null,null,null,null,null,null,null,null,null,null,null,null,null,null,null,null,null,null,null,null,38,6,47.246621004453466,38.5,-8.7466210044534733]
[null,null,null,null,null,null,null,null,null,null,null,null,null,null,null,null,null,null,null,null,null,null,null,null,null,null,36.666666666666664,6,45.749617728959137,39.6,-6.1496177289591429]
[null,null,null,null,null,null,null,null,null,null,null,null,null,null,null,null,null,null,null,null,null,null,null,null,null,null,33.333333333333336,6,41.993587371177725,39.800000000000004,-2.1935873711777276]
[null,null,null,null,null,null,null,null,null,null,null,null,null,null,null,null,null,null,null,null,null,null,null,null,null,null,39.166666666666664,6,48.554158344425957,151.80000000000001,103.24584165557404]
[null,null,null,null,null,null,null,null,null,null,null,null,null,null,null,null,null,null,null,null,null,null,null,null,null,null,37.5,0,46.685586535436919,576,529.31441346456313]
[null,null,null,null,null,null,null,null,null,null,null,null,null,null,null,null,null,null,null,null,null,null,null,null,null,null,37.5,0,46.685586535436919,26.8,-19.885586535436925]
[null,null,null,null,null,null,null,null,null,null,null,null,null,null,null,null,null,null,null,null,null,null,null,null,null,null,41.5,2,51.163074045043842,27.799999999999997,-23.363074045043859]
[null,null,null,null,null,null,null,null,null,null,null,null,null,null,null,null,null,null,null,null,null,null,null,null,null,null,23.8,5,31.117786550590282,33.200000000000003,2.0822134494097142]
[null,null,null,null,null,null,null,null,null,null,null,null,null,null,null,null,null,null,null,null,null,null,null,null,null,null,33.666666666666664,6,42.370114259431269,28.200000000000003,-14.170114259431273,45]
[null,null,null,null,null,null,null,null,null,null,null,null,null,null,null,null,null,null,null,null,null,null,null,null,null,null,29.666666666666668,6,37.836733985850763,31.6,-6.2367339858507691]
[null,null,null,null,null,null,null,null,null,null,null,null,null,null,null,null,null,null,null,null,null,null,null,null,null,null,29.333333333333332,6,37.457371737969297,27.000000000000004,-10.4573717379693]
[null,null,null,null,null,null,null,null,null,null,null,null,null,null,null,null,null,null,null,null,null,null,null,null,null,null,31.333333333333332,6,39.729761145206666,32.800000000000004,-6.929761145206669]
[null,null,null,null,null,null,null,null,null,null,null,null,null,null,null,null,null,null,null,null,null,null,null,null,null,null,31.666666666666668,6,40.107638174733736,32.400000000000006,-7.7076381747337379]
[null,null,null,null,null,null,null,null,null,null,null,null,null,null,null,null,null,null,null,null,null,null,null,null,null,null,32,5,40.485281374238568,83.000000000000014,42.514718625761439]
[null,null,null,null,null,null,null,null,null,null,null,null,null,null,null,null,null,null,null,null,null,null,null,null,null,null,33,4,41.616843969807043,75.2,33.583156030192953]
[null,null,null,null,null,null,null,null,null,null,null,null,null,null,null,null,null,null,null,null,null,null,null,null,null,null,37.5,1,46.685586535436919,28.599999999999998,-18.085586535436928]
[null,null,null,null,null,null,null,null,null,null,null,null,null,null,null,null,null,null,null,null,null,null,null,null,null,null,22.75,4,29.904544010627092,24.200000000000003,-5.7045440106270959]
[null,null,null,null,null,null,null,null,null,null,null,null,null,null,null,null,null,null,null,null,null,null,null,null,null,null,29.5,6,37.647085368400163,25.800000000000004,-11.847085368400165]
[null,null,null,null,null,null,null,null,null,null,null,null,null,null,null,null,null,null,null,null,null,null,null,null,null,null,26.333333333333332,6,34.030735492503659,29.6,-4.4307354925036648]
[null,null,null,null,null,null,null,null,null,null,null,null,null,null,null,null,null,null,null,null,null,null,null,null,null,null,29.166666666666668,6,37.267592539676492,27.000000000000004,-10.267592539676496]
[null,null,null,null,null,null,null,null,null,null,null,null,null,null,null,null,null,null,null,null,null,null,null,null,null,null,30.666666666666668,6,38.973290529584744,27.800000000000004,-11.173290529584747]
[null,null,null,null,null,null,null,null,null,null,null,null,null,null,null,null,null,null,null,null,null,null,null,null,null,null,27.666666666666668,6,35.556533585696421,37.800000000000004,2.2434664143035761]
[null,null,null,null,null,null,null,null,null,null,null,null,null,null,null,null,null,null,null,null,null,null,null,null,null,null,37.5,6,46.685586535436919,413.6,366.9144134645631]
[null,null,null,null,null,null,null,null,null,null,null,null,null,null,null,null,null,null,null,null,null,null,null,null,null,null,38.333333333333336,6,47.620421143836694,629.20000000000005,581.57957885616338]
[null,null,null,null,null,null,null,null,null,null,null,null,null,null,null,null,null,null,null,null,null,null,null,null,null,null,42.5,1,52.278803607803972,795.80000000000007,743.52119639219609]
[null,null,null,null,null,null,null,null,null,null,null,null,null,null,null,null,null,null,null,null,null,null,null,null,null,null,31,2,39.351646544245028,25.200000000000003,-14.151646544245033]
[null,null,null,null,null,null,null,null,null,null,null,null,null,null,null,null,null,null,null,null,null,null,null,null,null,null,26.166666666666668,6,33.839671293278073,28.200000000000003,-5.6396712932780773]
[null,null,null,null,null,null,null,null,null,null,null,null,null,null,null,null,null,null,null,null,null,null,null,null,null,null,27.333333333333332,6,35.175526904012393,42.000000000000007,6.8244730959876065]
[null,null,null,null,null,null,null,null,null,null,null,null,null,null,null,null,null,null,null,null,null,null,null,null,null,null,31.4,5,39.805355435673135,46.2,6.3946445643268603]
[null,null,null,null,null,null,null,null,null,null,null,null,null,null,null,null,null,null,null,null,null,null,null,null,null,null,30,1,38.215838362577493,30.400000000000002,-7.8158383625774981]
[null,null,null,null,null,null,null,null,null,null,null,null,null,null,null,null,null,null,null,null,null,null,null,null,null,null,30.666666666666668,6,38.973290529584744,25.200000000000003,-13.773290529584749]
[null,null,null,null,null,null,null,null,null,null,null,null,null,null,null,null,null,null,null,null,null,null,null,null,null,null,25.2,5,32.729940238806677,29.000000000000004,-3.7299402388066802]
[null,null,null,null,null,null,null,null,null,null,null,null,null,null,null,null,null,null,null,null,null,null,null,null,null,null,25.666666666666668,6,33.266008743451998,29.600000000000005,-3.6660087434520001]
[null,null,null,null,null,null,null,null,null,null,null,null,null,null,null,null,null,null,null,null,null,null,null,null,null,null,30.166666666666668,6,38.40529519330871,29.200000000000003,-9.2052951933087144]
[null,null,null,null,null,null,null,null,null,null,null,null,null,null,null,null,null,null,null,null,null,null,null,null,null,null,29,6,37.077747210701759,25,-12.077747210701766]
[null,null,null,null,null,null,null,null,null,null,null,null,null,null,null,null,null,null,null,null,null,null,null,null,null,null,25.333333333333332,6,32.883167768604082,29,-3.8831677686040891]
[null,null,null,null,null,null,null,null,null,null,null,null,null,null,null,null,null,null,null,null,null,null,null,null,null,null,18,3,24.363961030678929,26.800000000000004,2.4360389693210678]
[null,null,null,null,null,null,null,null,null,null,null,null,null,null,null,null,null,null,null,null,null,null,null,null,null,null,25.333333333333332,6,32.883167768604082,31,-1.8831677686040891]
[null,null,null,null,null,null,null,null,null,null,null,null,null,null,null,null,null,null,null,null,null,null,null,null,null,null,29.666666666666668,6,37.836733985850763,26.6,-11.236733985850769]
[null,null,null,null,null,null,null,null,null,null,null,null,null,null,null,null,null,null,null,null,null,null,null,null,null,null,25.5,6,33.074628703771559,23.400000000000002,-9.6746287037715639]
[null,null,null,null,null,null,null,null,null,null,null,null,null,null,null,null,null,null,null,null,null,null,null,null,null,null,25.833333333333332,6,33.457308674321787,24.400000000000002,-9.0573086743217921]
[null,null,null,null,null,null,null,null,null,null,null,null,null,null,null,null,null,null,null,null,null,null,null,null,null,null,25.5,6,33.074628703771559,26.200000000000003,-6.8746287037715632]
[null,null,null,null,null,null,null,null,null,null,null,null,null,null,null,null,null,null,null,null,null,null,null,null,null,null,26.166666666666668,6,33.839671293278073,48,14.16032870672192]
[null,null,null,null,null,null,null,null,null,null,null,null,null,null,null,null,null,null,null,null,null,null,null,null,null,null,25.25,4,32.787406715840667,1034.5999999999999,1001.8125932841592]
[null,null,null,null,null,null,null,null,null,null,null,null,null,null,null,null,null,null,null,null,null,null,null,null,null,null,26,0,33.648529270389176,92.600000000000009,58.951470729610826]
[null,null,null,null,null,null,null,null,null,null,null,null,null,null,null,null,null,null,null,null,null,null,null,null,null,null,26,0,33.648529270389176,33.200000000000003,-0.44852927038918011]
[null,null,null,null,null,null,null,null,null,null,null,null,null,null,null,null,null,null,null,null,null,null,null,null,null,null,35,6,43.874119674649421,24.400000000000002,-19.474119674649426]
[null,null,null,null,null,null,null,null,null,null,null,null,null,null,null,null,null,null,null,null,null,null,null,null,null,null,25.833333333333332,6,33.457308674321787,28.800000000000004,-4.65730867432179]
[null,null,null,null,null,null,null,null,null,null,null,null,null,null,null,null,null,null,null,null,null,null,null,null,null,null,25.8,5,33.419055059520176,24.6,-8.8190550595201813]
[null,null,null,null,null,null,null,null,null,null,null,null,null,null,null,null,null,null,null,null,null,null,null,null,null,null,25.5,6,33.074628703771559,22.6,-10.474628703771565]
[null,null,null,null,null,null,null,null,null,null,null,null,null,null,null,null,null,null,null,null,null,null,null,null,null,null,24,6,31.348469228349533,22.200000000000003,-9.148469228349537]
[null,null,null,null,null,null,null,null,null,null,null,null,null,null,null,null,null,null,null,null,null,null,null,null,null,null,21.833333333333332,6,28.842256217771425,22.200000000000003,-6.642256217771429]
[null,null,null,null,null,null,null,null,null,null,null,null,null,null,null,null,null,null,null,null,null,null,null,null,null,null,22.833333333333332,6,30.000968926749056,26.800000000000004,-3.2009689267490593]
[null,null,null,null,null,null,null,null,null,null,null,null,null,null,null,null,null,null,null,null,null,null,null,null,null,null,26.833333333333332,6,34.603468467293361,26,-8.6034684672933679]
[null,null,null,null,null,null,null,null,null,null,null,null,null,null,null,null,null,null,null,null,null,null,null,null,null,null,26.5,6,34.221722605740254,24.800000000000004,-9.421722605740257]
[null,null,null,null,null,null,null,null,null,null,null,null,null,null,null,null,null,null,null,null,null,null,null,null,null,null,24.666666666666668,6,32.116498879542334,24.400000000000006,-7.7164988795423355]
[null,null,null,null,null,null,null,null,null,null,null,null,null,null,null,null,null,null,null,null,null,null,null,null,null,null,23.4,5,30.656031973468693,25.200000000000003,-5.4560319734686971]
[null,null,null,null,null,null,null,null,null,null,null,null,null,null,null,null,null,null,null,null,null,null,null,null,null,null,24.833333333333332,6,32.30829152719636,23.2,-9.1082915271963678]
[null,null,null,null,null,null,null,null,null,null,null,null,null,null,null,null,null,null,null,null,null,null,null,null,null,null,25.166666666666668,6,32.691625138312872,25.4,-7.2916251383128809]
[null,null,null,null,null,null,null,null,null,null,null,null,null,null,null,null,null,null,null,null,null,null,null,null,null,null,21,3,27.87386354243376,27.6,-0.27386354243376587]
[null,null,null,null,null,null,null,null,null,null,null,null,null,null,null,null,null,null,null,null,null,null,null,null,null,null,25.166666666666668,6,32.691625138312872,24.599999999999998,-8.0916251383128817]
[null,null,null,null,null,null,null,null,null,null,null,null,null,null,null,null,null,null,null,null,null,null,null,null,null,null,25.5,6,33.074628703771559,23.6,-9.4746287037715646]
[null,null,null,null,null,null,null,null,null,null,null,null,null,null,null,null,null,null,null,null,null,null,null,null,null,null,24.333333333333332,6,31.732657626807701,36.400000000000006,4.6673423731922981]
[null,null,null,null,null,null,null,null,null,null,null,null,null,null,null,null,null,null,null,null,null,null,null,null,null,null,26.666666666666668,3,34.412633359081504,777.6,743.18736664091853]
[null,null,null,null,null,null,null,null,null,null,null,null,null,null,null,null,null,null,null,null,null,null,null,null,null,null,33.5,1,42.181877677092672,543.20000000000005,501.01812232290735]
[null,null,null,null,null,null,null,null,null,null,null,null,null,null,null,null,null,null,null,null,null,null,null,null,null,null,33.5,0,42.181877677092672,33.000000000000007,-9.1818776770926718]
[null,null,null,null,null,null,null,null,null,null,null,null,null,null,null,null,null,null,null,null,null,null,null,null,null,null,27.833333333333332,6,35.746929229005538,31.400000000000002,-4.3469292290055428]
[null,null,null,null,null,null,null,null,null,null,null,null,null,null,null,null,null,null,null,null,null,null,null,null,null,null,23.8,5,31.117786550590282,43.600000000000009,12.48221344940972]
[null,null,null,null,null,null,null,null,null,null,null,null,null,null,null,null,null,null,null,null,null,null,null,null,null,null,24.5,0,31.924621202458749,26.6,-5.3246212024587543]
[null,null,null,null,null,null,null,null,null,null,null,null,null,null,null,null,null,null,null,null,null,null,null,null,null,null,24.25,4,31.636643351347079,45.333333333333329,13.696689981986243]
[null,null,null,null,null,null,null,null,null,null,null,null,null,null,null,null,null,null,null,null,null,null,null,null,null,null,25.2,5,32.729940238806677,41.999999999999993,9.2700597611933091]
[null,null,null,null,null,null,null,null,null,null,null,null,null,null,null,null,null,null,null,null,null,null,null,null,null,null,19,2,25.538348415311013,25.5,-3.834841531102029E-2]
[null,null,null,null,null,null,null,null,null,null,null,null,null,null,null,null,null,null,null,null,null,null,null,null,null,null,25.5,6,33.074628703771559,25.333333333333336,-7.7412953704382303]
[null,null,null,null,null,null,null,null,null,null,null,null,null,null,null,null,null,null,null,null,null,null,null,null,null,null,26.333333333333332,6,34.030735492503659,25.666666666666664,-8.364068825837002]
[null,null,null,null,null,null,null,null,null,null,null,null,null,null,null,null,null,null,null,null,null,null,null,null,null,null,26,6,33.648529270389176,26.833333333333332,-6.8151959370558508]
[null,null,null,null,null,null,null,null,null,null,null,null,null,null,null,null,null,null,null,null,null,null,null,null,null,null,25.5,6,33.074628703771559,23.333333333333332,-9.7412953704382339]
[null,null,null,null,null,null,null,null,null,null,null,null,null,null,null,null,null,null,null,null,null,null,null,null,null,null,23.5,6,30.771519786124493,21.166666666666664,-9.6048531194578359]
[null,null,null,null,null,null,null,null,null,null,null,null,null,null,null,null,null,null,null,null,null,null,null,null,null,null,21.5,6,28.45521387162178,26,-2.4552138716217868]
[null,null,null,null,null,null,null,null,null,null,null,null,null,null,null,null,null,null,null,null,null,null,null,null,null,null,20.75,4,27.582825184358224,20.666666666666668,-6.9161585176915636]
[null,null,null,null,null,null,null,null,null,null,null,null,null,null,null,null,null,null,null,null,null,null,null,null,null,null,22,6,29.035623639735142,22.666666666666664,-6.3689569730684852]
[null,null,null,null,null,null,null,null,null,null,null,null,null,null,null,null,null,null,null,null,null,null,null,null,null,null,21.333333333333332,6,28.261536563608843,23.166666666666668,-5.094869896942182]
[null,null,null,null,null,null,null,null,null,null,null,null,null,null,null,null,null,null,null,null,null,null,null,null,null,null,25.333333333333332,6,32.883167768604082,24.999999999999996,-7.8831677686040926]
[null,null,null,null,null,null,null,null,null,null,null,null,null,null,null,null,null,null,null,null,null,null,null,null,null,null,24.833333333333332,6,32.30829152719636,20.833333333333332,-11.474958193863035]
[null,null,null,null,null,null,null,null,null,null,null,null,null,null,null,null,null,null,null,null,null,null,null,null,null,null,20.833333333333332,6,27.67986530214791,36.5,8.8201346978520831]
[null,null,null,null,null,null,null,null,null,null,null,null,null,null,null,null,null,null,null,null,null,null,null,null,null,null,26.4,5,34.107139547199075,31.333333333333329,-2.773806213865754]
[null,null,null,null,null,null,null,null,null,null,null,null,null,null,null,null,null,null,null,null,null,null,null,null,null,null,31.833333333333332,6,40.296488773238707,413,372.70351122676129]
[null,null,null,null,null,null,null,null,null,null,null,null,null,null,null,null,null,null,null,null,null,null,null,null,null,null,29,4,37.077747210701759,487.5,450.42225278929823]
[null,null,null,null,null,null,null,null,null,null,null,null,null,null,null,null,null,null,null,null,null,null,null,null,null,null,30.5,0,38.784020762890449,27.166666666666664,-11.617354096223792]
[null,null,null,null,null,null,null,null,null,null,null,null,null,null,null,null,null,null,null,null,null,null,null,null,null,null,21,3,27.87386354243376,35.499999999999993,7.6261364575662256]
[null,null,null,null,null,null,null,null,null,null,null,null,null,null,null,null,null,null,null,null,null,null,null,null,null,null,26.4,5,34.107139547199075,27.333333333333329,-6.773806213865754]
[null,null,null,null,null,null,null,null,null,null,null,null,null,null,null,null,null,null,null,null,null,null,null,null,null,null,27.333333333333332,6,35.175526904012393,23.666666666666664,-11.508860237345736]
[null,null,null,null,null,null,null,null,null,null,null,null,null,null,null,null,null,null,null,null,null,null,null,null,null,null,19.25,4,25.831223290544091,25.5,-0.3312232905440986]
[null,null,null,null,null,null,null,null,null,null,null,null,null,null,null,null,null,null,null,null,null,null,null,null,null,null,20.25,4,27,22.666666666666661,-4.3333333333333464]
[null,null,null,null,null,null,null,null,null,null,null,null,null,null,null,null,null,null,null,null,null,null,null,null,null,null,22.5,6,29.615124735378853,23.166666666666664,-6.4484580687121955]
[null,null,null,null,null,null,null,null,null,null,null,null,null,null,null,null,null,null,null,null,null,null,null,null,null,null,24.333333333333332,6,31.732657626807701,23.333333333333332,-8.3993242934743755]
[null,null,null,null,null,null,null,null,null,null,null,null,null,null,null,null,null,null,null,null,null,null,null,null,null,null,24,6,31.348469228349533,20.166666666666664,-11.181802561682876]
[null,null,null,null,null,null,null,null,null,null,null,null,null,null,null,null,null,null,null,null,null,null,null,null,null,null,19.666666666666668,6,26.318734014491703,22.833333333333332,-3.485400681158378]
[null,null,null,null,null,null,null,null,null,null,null,null,null,null,null,null,null,null,null,null,null,null,null,null,null,null,22.2,5,29.267531393633845,24,-5.2675313936338526]
[null,null,null,null,null,null,null,null,null,null,null,null,null,null,null,null,null,null,null,null,null,null,null,null,null,null,20.333333333333332,6,27.097207962567673,20.833333333333332,-6.2638746292343477]
[null,null,null,null,null,null,null,null,null,null,null,null,null,null,null,null,null,null,null,null,null,null,null,null,null,null,19.666666666666668,6,26.318734014491703,18.833333333333332,-7.485400681158378]
[null,null,null,null,null,null,null,null,null,null,null,null,null,null,null,null,null,null,null,null,null,null,null,null,null,null,20,6,26.708203932499369,19,-7.7082039324993765]
[null,null,null,null,null,null,null,null,null,null,null,null,null,null,null,null,null,null,null,null,null,null,null,null,null,null,18.333333333333332,6,24.755949622665895,23.333333333333332,-1.42261628933257]
[null,null,null,null,null,null,null,null,null,null,null,null,null,null,null,null,null,null,null,null,null,null,null,null,null,null,18.333333333333332,6,24.755949622665895,24.166666666666664,-0.58928295599923786]
[null,null,null,null,null,null,null,null,null,null,null,null,null,null,null,null,null,null,null,null,null,null,null,null,null,null,21,5,27.87386354243376,224.66666666666666,196.79280312423288]
[null,null,null,null,null,null,null,null,null,null,null,null,null,null,null,null,null,null,null,null,null,null,null,null,null,null,31.5,0,39.918729120241366,74.666666666666657,34.747937546425284,44]
[null,null,null,null,null,null,null,null,null,null,null,null,null,null,null,null,null,null,null,null,null,null,null,null,null,null,31.5,0,39.918729120241366,23.333333333333336,-16.585395786908038]
[null,null,null,null,null,null,null,null,null,null,null,null,null,null,null,null,null,null,null,null,null,null,null,null,null,null,26.75,4,34.508060324591455,19.5,-15.008060324591462]
[null,null,null,null,null,null,null,null,null,null,null,null,null,null,null,null,null,null,null,null,null,null,null,null,null,null,20.666666666666668,6,27.485757515159595,15.166666666666666,-12.319090848492936]
[null,null,null,null,null,null,null,null,null,null,null,null,null,null,null,null,null,null,null,null,null,null,null,null,null,null,21.166666666666668,6,28.067753537587798,16.166666666666664,-11.901086870921141]
[null,null,null,null,null,null,null,null,null,null,null,null,null,null,null,null,null,null,null,null,null,null,null,null,null,null,19.399999999999999,5,26.006814663663569,21.333333333333329,-4.6734813303302474]
[null,null,null,null,null,null,null,null,null,null,null,null,null,null,null,null,null,null,null,null,null,null,null,null,null,null,20.333333333333332,6,27.097207962567673,20.833333333333329,-6.2638746292343512]
[null,null,null,null,null,null,null,null,null,null,null,null,null,null,null,null,null,null,null,null,null,null,null,null,null,null,20.5,6,27.291538853603065,20.499999999999996,-6.7915388536030754]
[null,null,null,null,null,null,null,null,null,null,null,null,null,null,null,null,null,null,null,null,null,null,null,null,null,null,20.833333333333332,6,27.67986530214791,19.333333333333332,-8.3465319688145847]
[null,null,null,null,null,null,null,null,null,null,null,null,null,null,null,null,null,null,null,null,null,null,null,null,null,null,18.666666666666668,6,25.147407365074528,21.333333333333336,-3.8140740317411996]
[null,null,null,null,null,null,null,null,null,null,null,null,null,null,null,null,null,null,null,null,null,null,null,null,null,null,21.166666666666668,6,28.067753537587798,15.499999999999996,-12.567753537587809]
[null,null,null,null,null,null,null,null,null,null,null,null,null,null,null,null,null,null,null,null,null,null,null,null,null,null,18.166666666666668,6,24.560022592938878,25.499999999999996,0.93997740706111088]
[null,null,null,null,null,null,null,null,null,null,null,null,null,null,null,null,null,null,null,null,null,null,null,null,null,null,26.166666666666668,6,33.839671293278073,20,-13.83967129327808]
[null,null,null,null,null,null,null,null,null,null,null,null,null,null,null,null,null,null,null,null,null,null,null,null,null,null,21.166666666666668,6,28.067753537587798,20.999999999999996,-7.0677535375878087]
[null,null,null,null,null,null,null,null,null,null,null,null,null,null,null,null,null,null,null,null,null,null,null,null,null,null,23,6,30.193747284969078,23.166666666666664,-7.0270806183024206]
[null,null,null,null,null,null,null,null,null,null,null,null,null,null,null,null,null,null,null,null,null,null,null,null,null,null,21.333333333333332,6,28.261536563608843,21.999999999999996,-6.2615365636088534]
[null,null,null,null,null,null,null,null,null,null,null,null,null,null,null,null,null,null,null,null,null,null,null,null,null,null,23.166666666666668,6,30.386431205763493,20.999999999999996,-9.386431205763504]
[null,null,null,null,null,null,null,null,null,null,null,null,null,null,null,null,null,null,null,null,null,null,null,null,null,null,22,6,29.035623639735142,18.333333333333332,-10.702290306401817]
[null,null,null,null,null,null,null,null,null,null,null,null,null,null,null,null,null,null,null,null,null,null,null,null,null,null,16.666666666666668,6,22.790391023624615,83,60.209608976375378]
[null,null,null,null,null,null,null,null,null,null,null,null,null,null,null,null,null,null,null,null,null,null,null,null,null,null,18.333333333333332,3,24.755949622665895,123.83333333333333,99.077383710667419]
[null,null,null,null,null,null,null,null,null,null,null,null,null,null,null,null,null,null,null,null,null,null,null,null,null,null,32,1,40.485281374238568,41,0.51471862576142513]
[null,null,null,null,null,null,null,null,null,null,null,null,null,null,null,null,null,null,null,null,null,null,null,null,null,null,22.5,4,29.615124735378853,19,-10.61512473537886]
[null,null,null,null,null,null,null,null,null,null,null,null,null,null,null,null,null,null,null,null,null,null,null,null,null,null,18.166666666666668,6,24.560022592938878,17.833333333333332,-6.7266892596055534]
[null,null,null,null,null,null,null,null,null,null,null,null,null,null,null,null,null,null,null,null,null,null,null,null,null,null,16.666666666666668,6,22.790391023624615,21.166666666666664,-1.623724356957954]
[null,null,null,null,null,null,null,null,null,null,null,null,null,null,null,null,null,null,null,null,null,null,null,null,null,null,20,5,26.708203932499369,18.333333333333332,-8.3748705991660444]
[null,null,null,null,null,null,null,null,null,null,null,null,null,null,null,null,null,null,null,null,null,null,null,null,null,null,18.5,6,24.951743950281969,18.166666666666664,-6.7850772836153119]
[null,null,null,null,null,null,null,null,null,null,null,null,null,null,null,null,null,null,null,null,null,null,null,null,null,null,18.5,6,24.951743950281969,17.666666666666664,-7.2850772836153119]
[null,null,null,null,null,null,null,null,null,null,null,null,null,null,null,null,null,null,null,null,null,null,null,null,null,null,15.666666666666666,6,21.603837710185623,16.333333333333332,-5.2705043768522941]
[null,null,null,null,null,null,null,null,null,null,null,null,null,null,null,null,null,null,null,null,null,null,null,null,null,null,16.8,5,22.94817045957576,21,-1.9481704595757634]
[null,null,null,null,null,null,null,null,null,null,null,null,null,null,null,null,null,null,null,null,null,null,null,null,null,null,18,4,24.363961030678929,19.833333333333332,-4.5306276973456043]
[null,null,null,null,null,null,null,null,null,null,null,null,null,null,null,null,null,null,null,null,null,null,null,null,null,null,19.666666666666668,6,26.318734014491703,18.499999999999996,-7.8187340144917137]
[null,null,null,null,null,null,null,null,null,null,null,null,null,null,null,null,null,null,null,null,null,null,null,null,null,null,19.333333333333332,6,25.928786312469789,20.499999999999996,-5.4287863124697999]
[null,null,null,null,null,null,null,null,null,null,null,null,null,null,null,null,null,null,null,null,null,null,null,null,null,null,15,4,20.809475019311126,20.166666666666664,-0.64280835264446523]
[null,null,null,null,null,null,null,null,null,null,null,null,null,null,null,null,null,null,null,null,null,null,null,null,null,null,18.600000000000001,5,25.06915759585435,27.8,2.7308424041456441]
[null,null,null,null,null,null,null,null,null,null,null,null,null,null,null,null,null,null,null,null,null,null,null,null,null,null,23,5,30.193747284969078,40.200000000000003,10.006252715030918]
[null,null,null,null,null,null,null,null,null,null,null,null,null,null,null,null,null,null,null,null,null,null,null,null,null,null,22,0,29.035623639735142,19.399999999999999,-9.6356236397351509]
[null,null,null,null,null,null,null,null,null,null,null,null,null,null,null,null,null,null,null,null,null,null,null,null,null,null,20,3,26.708203932499369,19,-7.7082039324993765]
[null,null,null,null,null,null,null,null,null,null,null,null,null,null,null,null,null,null,null,null,null,null,null,null,null,null,17.666666666666668,6,23.971426773125913,19,-4.9714267731259163]
[null,null,null,null,null,null,null,null,null,null,null,null,null,null,null,null,null,null,null,null,null,null,null,null,null,null,18.5,6,24.951743950281969,27.6,2.6482560497180252]
[null,null,null,null,null,null,null,null,null,null,null,null,null,null,null,null,null,null,null,null,null,null,null,null,null,null,23.8,5,31.117786550590282,70,38.882213449409711]
[null,null,null,null,null,null,null,null,null,null,null,null,null,null,null,null,null,null,null,null,null,null,null,null,null,null,30,0,38.215838362577493,18.600000000000001,-19.615838362577499]
[null,null,null,null,null,null,null,null,null,null,null,null,null,null,null,null,null,null,null,null,null,null,null,null,null,null,29.5,2,37.647085368400163,18.8,-18.847085368400169]
[null,null,null,null,null,null,null,null,null,null,null,null,null,null,null,null,null,null,null,null,null,null,null,null,null,null,17.166666666666668,6,23.381568113994696,16,-7.3815681139946996]
[null,null,null,null,null,null,null,null,null,null,null,null,null,null,null,null,null,null,null,null,null,null,null,null,null,null,16.666666666666668,6,22.790391023624615,16.8,-5.9903910236246176]
[null,null,null,null,null,null,null,null,null,null,null,null,null,null,null,null,null,null,null,null,null,null,null,null,null,null,15.6,5,21.52452529743945,19.200000000000003,-2.3245252974394504]
[null,null,null,null,null,null,null,null,null,null,null,null,null,null,null,null,null,null,null,null,null,null,null,null,null,null,15.166666666666666,6,21.008327389440627,18.8,-2.2083273894406297]
[null,null,null,null,null,null,null,null,null,null,null,null,null,null,null,null,null,null,null,null,null,null,null,null,null,null,20.166666666666668,6,26.902763459320408,18.200000000000003,-8.702763459320412]
[null,null,null,null,null,null,null,null,null,null,null,null,null,null,null,null,null,null,null,null,null,null,null,null,null,null,16.5,4,22.593028803476969,18.8,-3.7930288034769717]
[null,null,null,null,null,null,null,null,null,null,null,null,null,null,null,null,null,null,null,null,null,null,null,null,null,null,18,6,24.363961030678929,16,-8.3639610306789365]
[null,null,null,null,null,null,null,null,null,null,null,null,null,null,null,null,null,null,null,null,null,null,null,null,null,null,16.666666666666668,6,22.790391023624615,21.200000000000003,-1.5903910236246155]
[null,null,null,null,null,null,null,null,null,null,null,null,null,null,null,null,null,null,null,null,null,null,null,null,null,null,20.833333333333332,6,27.67986530214791,26.6,-1.0798653021479154]
[null,null,null,null,null,null,null,null,null,null,null,null,null,null,null,null,null,null,null,null,null,null,null,null,null,null,16,2,22,174.40000000000003,152.40000000000003]
[null,null,null,null,null,null,null,null,null,null,null,null,null,null,null,null,null,null,null,null,null,null,null,null,null,null,16,1,22,115.00000000000003,93.000000000000028]
[null,null,null,null,null,null,null,null,null,null,null,null,null,null,null,null,null,null,null,null,null,null,null,null,null,null,16,1,22,16.400000000000002,-5.6000000000000014]
[null,null,null,null,null,null,null,null,null,null,null,null,null,null,null,null,null,null,null,null,null,null,null,null,null,null,17,2,23.184658438426489,14.4,-8.7846584384264919]
[null,null,null,null,null,null,null,null,null,null,null,null,null,null,null,null,null,null,null,null,null,null,null,null,null,null,14.4,5,20.092099788303081,15.8,-4.2920997883030836]
[null,null,null,null,null,null,null,null,null,null,null,null,null,null,null,null,null,null,null,null,null,null,null,null,null,null,15.5,6,21.405505905508861,14.000000000000002,-7.4055059055088623]
[null,null,null,null,null,null,null,null,null,null,null,null,null,null,null,null,null,null,null,null,null,null,null,null,null,null,15.666666666666666,6,21.603837710185623,15.000000000000002,-6.6038377101856245]
[null,null,null,null,null,null,null,null,null,null,null,null,null,null,null,null,null,null,null,null,null,null,null,null,null,null,13,5,18.408326913195985,734.6,716.19167308680403]
[null,null,null,null,null,null,null,null,null,null,null,null,null,null,null,null,null,null,null,null,null,null,null,null,null,null,12,0,17.196152422706632,689,671.80384757729337]
[null,null,null,null,null,null,null,null,null,null,null,null,null,null,null,null,null,null,null,null,null,null,null,null,null,null,12,0,17.196152422706632,485.20000000000005,468.00384757729341]
[null,null,null,null,null,null,null,null,null,null,null,null,null,null,null,null,null,null,null,null,null,null,null,null,null,null,12,1,17.196152422706632,18.600000000000001,1.4038475772933658]
[null,null,null,null,null,null,null,null,null,null,null,null,null,null,null,null,null,null,null,null,null,null,null,null,null,null,13.75,4,19.312148865321745,18,-1.312148865321749]
[null,null,null,null,null,null,null,null,null,null,null,null,null,null,null,null,null,null,null,null,null,null,null,null,null,null,16.5,4,22.593028803476969,15.4,-7.193028803476972]
[null,null,null,null,null,null,null,null,null,null,null,null,null,null,null,null,null,null,null,null,null,null,null,null,null,null,17.333333333333332,6,23.578331331731732,17.200000000000003,-6.3783313317317329]
[null,null,null,null,null,null,null,null,null,null,null,null,null,null,null,null,null,null,null,null,null,null,null,null,null,null,13.333333333333334,3,18.810558908384994,17.8,-1.0105589083849971]
[null,null,null,null,null,null,null,null,null,null,null,null,null,null,null,null,null,null,null,null,null,null,null,null,null,null,16.2,5,22.237383539249432,16,-6.2373835392494357,32]
[null,null,null,null,null,null,null,null,null,null,null,null,null,null,null,null,null,null,null,null,null,null,null,null,null,null,14.833333333333334,6,20.610443337479005,13.600000000000001,-7.0104433374790069]
[null,null,null,null,null,null,null,null,null,null,null,null,null,null,null,null,null,null,null,null,null,null,null,null,null,null,14.5,6,20.211829829397931,17.8,-2.4118298293979343]
[null,null,null,null,null,null,null,null,null,null,null,null,null,null,null,null,null,null,null,null,null,null,null,null,null,null,13.166666666666666,6,18.609551930935979,17.400000000000002,-1.2095519309359801]
[null,null,null,null,null,null,null,null,null,null,null,null,null,null,null,null,null,null,null,null,null,null,null,null,null,null,14.5,4,20.211829829397931,13.8,-6.4118298293979343]
[null,null,null,null,null,null,null,null,null,null,null,null,null,null,null,null,null,null,null,null,null,null,null,null,null,null,15.166666666666666,6,21.008327389440627,16.600000000000001,-4.408327389440629]
[null,null,null,null,null,null,null,null,null,null,null,null,null,null,null,null,null,null,null,null,null,null,null,null,null,null,15.5,6,21.405505905508861,15,-6.4055059055088641]
[null,null,null,null,null,null,null,null,null,null,null,null,null,null,null,null,null,null,null,null,null,null,null,null,null,null,15,6,20.809475019311126,17.600000000000001,-3.2094750193111281]
[null,null,null,null,null,null,null,null,null,null,null,null,null,null,null,null,null,null,null,null,null,null,null,null,null,null,15.8,5,21.762382074305538,14.400000000000002,-7.3623820743055397]
[null,null,null,null,null,null,null,null,null,null,null,null,null,null,null,null,null,null,null,null,null,null,null,null,null,null,14.6,5,20.331491952362839,18.200000000000003,-2.1314919523628397]
[null,null,null,null,null,null,null,null,null,null,null,null,null,null,null,null,null,null,null,null,null,null,null,null,null,null,15.333333333333334,6,21.207003395568698,16.200000000000003,-5.0070033955686988]
[null,null,null,null,null,null,null,null,null,null,null,null,null,null,null,null,null,null,null,null,null,null,null,null,null,null,15.333333333333334,3,21.207003395568698,18.8,-2.4070033955687009]
[null,null,null,null,null,null,null,null,null,null,null,null,null,null,null,null,null,null,null,null,null,null,null,null,null,null,13,4,18.408326913195985,71.600000000000009,53.191673086804016]
[null,null,null,null,null,null,null,null,null,null,null,null,null,null,null,null,null,null,null,null,null,null,null,null,null,null,16,2,22,979.60000000000014,957.60000000000014]
[null,null,null,null,null,null,null,null,null,null,null,null,null,null,null,null,null,null,null,null,null,null,null,null,null,null,16,0,22,71.600000000000009,49.600000000000009]
[null,null,null,null,null,null,null,null,null,null,null,null,null,null,null,null,null,null,null,null,null,null,null,null,null,null,16,0,22,13,-9.0000000000000036]
[null,null,null,null,null,null,null,null,null,null,null,null,null,null,null,null,null,null,null,null,null,null,null,null,null,null,15.8,5,21.762382074305538,14,-7.7623820743055418]
[null,null,null,null,null,null,null,null,null,null,null,null,null,null,null,null,null,null,null,null,null,null,null,null,null,null,12.5,6,17.803300858899107,18.8,0.99669914110089053]
[null,null,null,null,null,null,null,null,null,null,null,null,null,null,null,null,null,null,null,null,null,null,null,null,null,null,20,6,26.708203932499369,18,-8.7082039324993765]
[null,null,null,null,null,null,null,null,null,null,null,null,null,null,null,null,null,null,null,null,null,null,null,null,null,null,16.333333333333332,6,22.395511159824402,17.600000000000001,-4.7955111598244038]
[null,null,null,null,null,null,null,null,null,null,null,null,null,null,null,null,null,null,null,null,null,null,null,null,null,null,18,6,24.363961030678929,15.800000000000002,-8.563961030678934]
[null,null,null,null,null,null,null,null,null,null,null,null,null,null,null,null,null,null,null,null,null,null,null,null,null,null,17.833333333333332,6,24.167763062993295,17.600000000000001,-6.5677630629933006]
[null,null,null,null,null,null,null,null,null,null,null,null,null,null,null,null,null,null,null,null,null,null,null,null,null,null,17.166666666666668,6,23.381568113994696,19.400000000000002,-3.9815681139946975]
[null,null,null,null,null,null,null,null,null,null,null,null,null,null,null,null,null,null,null,null,null,null,null,null,null,null,18.833333333333332,6,25.342941616479102,18.600000000000001,-6.7429416164791078]
[null,null,null,null,null,null,null,null,null,null,null,null,null,null,null,null,null,null,null,null,null,null,null,null,null,null,20.166666666666668,6,26.902763459320408,20.400000000000002,-6.5027634593204127]
[null,null,null,null,null,null,null,null,null,null,null,null,null,null,null,null,null,null,null,null,null,null,null,null,null,null,19.833333333333332,6,26.513527941277026,16.600000000000001,-9.9135279412770316]
[null,null,null,null,null,null,null,null,null,null,null,null,null,null,null,null,null,null,null,null,null,null,null,null,null,null,20.666666666666668,6,27.485757515159595,21.200000000000003,-6.2857575151595988]
[null,null,null,null,null,null,null,null,null,null,null,null,null,null,null,null,null,null,null,null,null,null,null,null,null,null,16.333333333333332,3,22.395511159824402,31.600000000000005,9.2044888401755998]
[null,null,null,null,null,null,null,null,null,null,null,null,null,null,null,null,null,null,null,null,null,null,null,null,null,null,18,0,24.363961030678929,16.2,-8.1639610306789372]
[null,null,null,null,null,null,null,null,null,null,null,null,null,null,null,null,null,null,null,null,null,null,null,null,null,null,17.666666666666668,3,23.971426773125913,16.8,-7.1714267731259156]
[null,null,null,null,null,null,null,null,null,null,null,null,null,null,null,null,null,null,null,null,null,null,null,null,null,null,17.833333333333332,6,24.167763062993295,16.400000000000002,-7.7677630629932999]
[null,null,null,null,null,null,null,null,null,null,null,null,null,null,null,null,null,null,null,null,null,null,null,null,null,null,18.333333333333332,6,24.755949622665895,18.600000000000001,-6.1559496226659007]
[null,null,null,null,null,null,null,null,null,null,null,null,null,null,null,null,null,null,null,null,null,null,null,null,null,null,14.5,6,20.211829829397931,40.6,20.388170170602066]
[null,null,null,null,null,null,null,null,null,null,null,null,null,null,null,null,null,null,null,null,null,null,null,null,null,null,15.25,4,21.107687256929992,730.6,709.49231274306999]
[null,null,null,null,null,null,null,null,null,null,null,null,null,null,null,null,null,null,null,null,null,null,null,null,null,null,14.5,0,20.211829829397931,17.399999999999999,-2.8118298293979365]
[null,null,null,null,null,null,null,null,null,null,null,null,null,null,null,null,null,null,null,null,null,null,null,null,null,null,14.5,0,20.211829829397931,13.5,-6.711829829397935]
[null,null,null,null,null,null,null,null,null,null,null,null,null,null,null,null,null,null,null,null,null,null,null,null,null,null,17.333333333333332,3,23.578331331731732,14,-9.5783313317317358]
[null,null,null,null,null,null,null,null,null,null,null,null,null,null,null,null,null,null,null,null,null,null,null,null,null,null,13.166666666666666,6,18.609551930935979,15.499999999999996,-3.1095519309359858]
[null,null,null,null,null,null,null,null,null,null,null,null,null,null,null,null,null,null,null,null,null,null,null,null,null,null,12.8,5,18.166563145999497,15,-3.1665631459995005]
[null,null,null,null,null,null,null,null,null,null,null,null,null,null,null,null,null,null,null,null,null,null,null,null,null,null,15,6,20.809475019311126,18.5,-2.3094750193111295]
[null,null,null,null,null,null,null,null,null,null,null,null,null,null,null,null,null,null,null,null,null,null,null,null,null,null,16.25,4,22.296693311223912,13.666666666666664,-8.6300266445572511]
[null,null,null,null,null,null,null,null,null,null,null,null,null,null,null,null,null,null,null,null,null,null,null,null,null,null,20,6,26.708203932499369,15.33333333333333,-11.374870599166046]
[null,null,null,null,null,null,null,null,null,null,null,null,null,null,null,null,null,null,null,null,null,null,null,null,null,null,14.5,6,20.211829829397931,14,-6.211829829397935]
[null,null,null,null,null,null,null,null,null,null,null,null,null,null,null,null,null,null,null,null,null,null,null,null,null,null,14.5,6,20.211829829397931,11.999999999999998,-8.2118298293979368]
[null,null,null,null,null,null,null,null,null,null,null,null,null,null,null,null,null,null,null,null,null,null,null,null,null,null,13.833333333333334,6,19.412311734438681,11.833333333333332,-7.5789784011053527]
[null,null,null,null,null,null,null,null,null,null,null,null,null,null,null,null,null,null,null,null,null,null,null,null,null,null,12.333333333333334,6,17.601160209759705,11.833333333333332,-5.7678268764263763]
[null,null,null,null,null,null,null,null,null,null,null,null,null,null,null,null,null,null,null,null,null,null,null,null,null,null,12.666666666666666,6,18.005205792682322,14.333333333333332,-3.6718724593489931]
[null,null,null,null,null,null,null,null,null,null,null,null,null,null,null,null,null,null,null,null,null,null,null,null,null,null,13.4,5,18.890901565316938,14.833333333333332,-4.0575682319836091]
[null,null,null,null,null,null,null,null,null,null,null,null,null,null,null,null,null,null,null,null,null,null,null,null,null,null,14.5,6,20.211829829397931,14.666666666666666,-5.545163162731269]
[null,null,null,null,null,null,null,null,null,null,null,null,null,null,null,null,null,null,null,null,null,null,null,null,null,null,13.166666666666666,6,18.609551930935979,15.833333333333332,-2.7762185976026501]
[null,null,null,null,null,null,null,null,null,null,null,null,null,null,null,null,null,null,null,null,null,null,null,null,null,null,13.4,5,18.890901565316938,16.5,-2.3909015653169412]
[null,null,null,null,null,null,null,null,null,null,null,null,null,null,null,null,null,null,null,null,null,null,null,null,null,null,16.333333333333332,6,22.395511159824402,16.833333333333332,-5.5621778264910731]
[null,null,null,null,null,null,null,null,null,null,null,null,null,null,null,null,null,null,null,null,null,null,null,null,null,null,15.166666666666666,6,21.008327389440627,416.83333333333326,395.82500594389262]
[null,null,null,null,null,null,null,null,null,null,null,null,null,null,null,null,null,null,null,null,null,null,null,null,null,null,15.5,1,21.405505905508861,316.33333333333331,294.92782742782447]
[null,null,null,null,null,null,null,null,null,null,null,null,null,null,null,null,null,null,null,null,null,null,null,null,null,null,15.5,0,21.405505905508861,19.999999999999996,-1.4055059055088677]
[null,null,null,null,null,null,null,null,null,null,null,null,null,null,null,null,null,null,null,null,null,null,null,null,null,null,15.5,0,21.405505905508861,15.499999999999998,-5.9055059055088659]
[null,null,null,null,null,null,null,null,null,null,null,null,null,null,null,null,null,null,null,null,null,null,null,null,null,null,14.666666666666666,6,20.411229313204693,14.666666666666664,-5.7445626465380322]
[null,null,null,null,null,null,null,null,null,null,null,null,null,null,null,null,null,null,null,null,null,null,null,null,null,null,14.666666666666666,6,20.411229313204693,13.666666666666664,-6.7445626465380322]
[null,null,null,null,null,null,null,null,null,null,null,null,null,null,null,null,null,null,null,null,null,null,null,null,null,null,14.666666666666666,6,20.411229313204693,14.166666666666664,-6.2445626465380322]
[null,null,null,null,null,null,null,null,null,null,null,null,null,null,null,null,null,null,null,null,null,null,null,null,null,null,14.166666666666666,6,19.812461561984772,14.33333333333333,-5.4791282286514456]
[null,null,null,null,null,null,null,null,null,null,null,null,null,null,null,null,null,null,null,null,null,null,null,null,null,null,17.166666666666668,6,23.381568113994696,15.83333333333333,-7.5482347806613692]
[null,null,null,null,null,null,null,null,null,null,null,null,null,null,null,null,null,null,null,null,null,null,null,null,null,null,14.666666666666666,6,20.411229313204693,14.833333333333332,-5.5778959798713643]
[null,null,null,null,null,null,null,null,null,null,null,null,null,null,null,null,null,null,null,null,null,null,null,null,null,null,14.5,6,20.211829829397931,13,-7.211829829397935]
[null,null,null,null,null,null,null,null,null,null,null,null,null,null,null,null,null,null,null,null,null,null,null,null,null,null,15.666666666666666,6,21.603837710185623,14.499999999999998,-7.103837710185628]
[null,null,null,null,null,null,null,null,null,null,null,null,null,null,null,null,null,null,null,null,null,null,null,null,null,null,13.666666666666666,6,19.211934919871375,15.166666666666666,-4.0452682532047124]
[null,null,null,null,null,null,null,null,null,null,null,null,null,null,null,null,null,null,null,null,null,null,null,null,null,null,15,4,20.809475019311126,15.666666666666666,-5.1428083526444635]
[null,null,null,null,null,null,null,null,null,null,null,null,null,null,null,null,null,null,null,null,null,null,null,null,null,null,11.75,4,16.891740950300782,13.999999999999998,-2.8917409503007878]
[null,null,null,null,null,null,null,null,null,null,null,null,null,null,null,null,null,null,null,null,null,null,null,null,null,null,15,6,20.809475019311126,15.666666666666664,-5.1428083526444652]
[null,null,null,null,null,null,null,null,null,null,null,null,null,null,null,null,null,null,null,null,null,null,null,null,null,null,13,6,18.408326913195985,14.666666666666666,-3.7416602465293227]
[null,null,null,null,null,null,null,null,null,null,null,null,null,null,null,null,null,null,null,null,null,null,null,null,null,null,14.5,6,20.211829829397931,14,-6.211829829397935]
[null,null,null,null,null,null,null,null,null,null,null,null,null,null,null,null,null,null,null,null,null,null,null,null,null,null,12.4,5,17.682045058497703,14.5,-3.1820450584977067]
[null,null,null,null,null,null,null,null,null,null,null,null,null,null,null,null,null,null,null,null,null,null,null,null,null,null,15.666666666666666,6,21.603837710185623,13.166666666666666,-8.4371710435189602]
[null,null,null,null,null,null,null,null,null,null,null,null,null,null,null,null,null,null,null,null,null,null,null,null,null,null,14.333333333333334,6,20.012241679133609,89.166666666666657,69.154424987533048]
[null,null,null,null,null,null,null,null,null,null,null,null,null,null,null,null,null,null,null,null,null,null,null,null,null,null,22.333333333333332,3,29.422056772712246,177,147.57794322728773]
[null,null,null,null,null,null,null,null,null,null,null,null,null,null,null,null,null,null,null,null,null,null,null,null,null,null,22.5,0,29.615124735378853,52.166666666666664,22.551541931287804,39]
[null,null,null,null,null,null,null,null,null,null,null,null,null,null,null,null,null,null,null,null,null,null,null,null,null,null,22.5,1,29.615124735378853,12.499999999999998,-17.115124735378863]
[null,null,null,null,null,null,null,null,null,null,null,null,null,null,null,null,null,null,null,null,null,null,null,null,null,null,16.600000000000001,5,22.711464636239011,13.833333333333332,-8.8781313029056825]
[null,null,null,null,null,null,null,null,null,null,null,null,null,null,null,null,null,null,null,null,null,null,null,null,null,null,11.166666666666666,6,16.179151080607522,13.833333333333332,-2.345817747274193]
[null,null,null,null,null,null,null,null,null,null,null,null,null,null,null,null,null,null,null,null,null,null,null,null,null,null,14.333333333333334,6,20.012241679133609,15.833333333333332,-4.1789083458002807]
[null,null,null,null,null,null,null,null,null,null,null,null,null,null,null,null,null,null,null,null,null,null,null,null,null,null,14.333333333333334,6,20.012241679133609,15.833333333333332,-4.1789083458002807]
[null,null,null,null,null,null,null,null,null,null,null,null,null,null,null,null,null,null,null,null,null,null,null,null,null,null,14.666666666666666,6,20.411229313204693,12.333333333333332,-8.0778959798713643]
[null,null,null,null,null,null,null,null,null,null,null,null,null,null,null,null,null,null,null,null,null,null,null,null,null,null,11.833333333333334,6,16.993275193470907,11.166666666666666,-5.8266085268042449]
[null,null,null,null,null,null,null,null,null,null,null,null,null,null,null,null,null,null,null,null,null,null,null,null,null,null,11,6,15.974937185533101,11.666666666666664,-4.3082705188664399]
[null,null,null,null,null,null,null,null,null,null,null,null,null,null,null,null,null,null,null,null,null,null,null,null,null,null,10.666666666666666,6,15.565646152233022,16.333333333333332,0.76768718110030676]
[null,null,null,null,null,null,null,null,null,null,null,null,null,null,null,null,null,null,null,null,null,null,null,null,null,null,14.166666666666666,6,19.812461561984772,17.5,-2.3124615619847759]
[null,null,null,null,null,null,null,null,null,null,null,null,null,null,null,null,null,null,null,null,null,null,null,null,null,null,13.833333333333334,6,19.412311734438681,17,-2.4123117344386849]
[null,null,null,null,null,null,null,null,null,null,null,null,null,null,null,null,null,null,null,null,null,null,null,null,null,null,17,6,23.184658438426489,15.333333333333332,-7.8513251050931601]
[null,null,null,null,null,null,null,null,null,null,null,null,null,null,null,null,null,null,null,null,null,null,null,null,null,null,15,6,20.809475019311126,14.333333333333332,-6.4761416859777974]
[null,null,null,null,null,null,null,null,null,null,null,null,null,null,null,null,null,null,null,null,null,null,null,null,null,null,15.333333333333334,6,21.207003395568698,13.833333333333332,-7.3736700622353695]
[null,null,null,null,null,null,null,null,null,null,null,null,null,null,null,null,null,null,null,null,null,null,null,null,null,null,13.833333333333334,6,19.412311734438681,12.499999999999998,-6.9123117344386866]
[null,null,null,null,null,null,null,null,null,null,null,null,null,null,null,null,null,null,null,null,null,null,null,null,null,null,13,6,18.408326913195985,13.5,-4.9083269131959888]
[null,null,null,null,null,null,null,null,null,null,null,null,null,null,null,null,null,null,null,null,null,null,null,null,null,null,12.5,6,17.803300858899107,12.333333333333334,-5.4699675255657763]
[null,null,null,null,null,null,null,null,null,null,null,null,null,null,null,null,null,null,null,null,null,null,null,null,null,null,11.666666666666666,6,16.790142049646466,103.16666666666666,86.376524617020181]
[null,null,null,null,null,null,null,null,null,null,null,null,null,null,null,null,null,null,null,null,null,null,null,null,null,null,12,4,17.196152422706632,115.49999999999999,98.303847577293354]
[null,null,null,null,null,null,null,null,null,null,null,null,null,null,null,null,null,null,null,null,null,null,null,null,null,null,18,0,24.363961030678929,45.166666666666671,20.802705635987735]
[null,null,null,null,null,null,null,null,null,null,null,null,null,null,null,null,null,null,null,null,null,null,null,null,null,null,19.2,5,25.772670690061993,16.833333333333332,-8.939337356728668]
[null,null,null,null,null,null,null,null,null,null,null,null,null,null,null,null,null,null,null,null,null,null,null,null,null,null,10,4,14.743416490252569,14,-0.74341649025257261]
[null,null,null,null,null,null,null,null,null,null,null,null,null,null,null,null,null,null,null,null,null,null,null,null,null,null,15.833333333333334,6,21.802001526489995,12.333333333333332,-9.4686681931566667,33]
[null,null,null,null,null,null,null,null,null,null,null,null,null,null,null,null,null,null,null,null,null,null,null,null,null,null,11.8,5,16.9526692111953,13.5,-3.4526692111953032]
[null,null,null,null,null,null,null,null,null,null,null,null,null,null,null,null,null,null,null,null,null,null,null,null,null,null,10.8,5,15.729503017546495,15.999999999999998,0.27049698245349951]
[null,null,null,null,null,null,null,null,null,null,null,null,null,null,null,null,null,null,null,null,null,null,null,null,null,null,12.333333333333334,6,17.601160209759705,17.666666666666664,6.550645690695589E-2]
[null,null,null,null,null,null,null,null,null,null,null,null,null,null,null,null,null,null,null,null,null,null,null,null,null,null,15.166666666666666,6,21.008327389440627,16.5,-4.5083273894406304]
[null,null,null,null,null,null,null,null,null,null,null,null,null,null,null,null,null,null,null,null,null,null,null,null,null,null,17.166666666666668,6,23.381568113994696,12.833333333333332,-10.548234780661367]
[null,null,null,null,null,null,null,null,null,null,null,null,null,null,null,null,null,null,null,null,null,null,null,null,null,null,13.666666666666666,6,19.211934919871375,14.428571428571427,-4.7833634912999514]
[null,null,null,null,null,null,null,null,null,null,null,null,null,null,null,null,null,null,null,null,null,null,null,null,null,null,13,5,18.408326913195985,12.142857142857141,-6.2654697703388482]
[null,null,null,null,null,null,null,null,null,null,null,null,null,null,null,null,null,null,null,null,null,null,null,null,null,null,12.166666666666666,6,17.398779050780753,11.714285714285714,-5.6844933364950432]
[null,null,null,null,null,null,null,null,null,null,null,null,null,null,null,null,null,null,null,null,null,null,null,null,null,null,11.833333333333334,6,16.993275193470907,15.142857142857141,-1.8504180506137704]
[null,null,null,null,null,null,null,null,null,null,null,null,null,null,null,null,null,null,null,null,null,null,null,null,null,null,15.166666666666666,6,21.008327389440627,13.428571428571427,-7.5797559608692033]
[null,null,null,null,null,null,null,null,null,null,null,null,null,null,null,null,null,null,null,null,null,null,null,null,null,null,11.666666666666666,6,16.790142049646466,13.714285714285714,-3.075856335360756]
[null,null,null,null,null,null,null,null,null,null,null,null,null,null,null,null,null,null,null,null,null,null,null,null,null,null,13,6,18.408326913195985,14.857142857142856,-3.5511840560531329]
[null,null,null,null,null,null,null,null,null,null,null,null,null,null,null,null,null,null,null,null,null,null,null,null,null,null,14.5,6,20.211829829397931,12.428571428571427,-7.783258400826508]
[null,null,null,null,null,null,null,null,null,null,null,null,null,null,null,null,null,null,null,null,null,null,null,null,null,null,13.5,6,19.01135192126215,12.428571428571429,-6.5827804926907252]
[null,null,null,null,null,null,null,null,null,null,null,null,null,null,null,null,null,null,null,null,null,null,null,null,null,null,11.5,6,16.586747487343949,43.571428571428577,26.984681084084624]
[null,null,null,null,null,null,null,null,null,null,null,null,null,null,null,null,null,null,null,null,null,null,null,null,null,null,13.166666666666666,6,18.609551930935979,58.571428571428562,39.961876640492576]
[null,null,null,null,null,null,null,null,null,null,null,null,null,null,null,null,null,null,null,null,null,null,null,null,null,null,17.5,0,23.774950199005566,14.285714285714285,-9.4892359132912851]
[null,null,null,null,null,null,null,null,null,null,null,null,null,null,null,null,null,null,null,null,null,null,null,null,null,null,17.5,1,23.774950199005566,12.142857142857142,-11.632093056148427]
[null,null,null,null,null,null,null,null,null,null,null,null,null,null,null,null,null,null,null,null,null,null,null,null,null,null,12.333333333333334,6,17.601160209759705,13.428571428571427,-4.1725887811882814]
[null,null,null,null,null,null,null,null,null,null,null,null,null,null,null,null,null,null,null,null,null,null,null,null,null,null,10.166666666666666,6,14.949448284093913,12.999999999999998,-1.9494482840939185]
[null,null,null,null,null,null,null,null,null,null,null,null,null,null,null,null,null,null,null,null,null,null,null,null,null,null,13,6,18.408326913195985,11.714285714285714,-6.6940411989102753]
[null,null,null,null,null,null,null,null,null,null,null,null,null,null,null,null,null,null,null,null,null,null,null,null,null,null,11.6,5,16.708815909777918,13.142857142857142,-3.5659587669207795]
[null,null,null,null,null,null,null,null,null,null,null,null,null,null,null,null,null,null,null,null,null,null,null,null,null,null,12,6,17.196152422706632,12.285714285714285,-4.9104381369923509]
[null,null,null,null,null,null,null,null,null,null,null,null,null,null,null,null,null,null,null,null,null,null,null,null,null,null,13.5,6,19.01135192126215,14.285714285714285,-4.7256376355478693]
[null,null,null,null,null,null,null,null,null,null,null,null,null,null,null,null,null,null,null,null,null,null,null,null,null,null,13.166666666666666,6,18.609551930935979,12.714285714285712,-5.8952662166502705]
[null,null,null,null,null,null,null,null,null,null,null,null,null,null,null,null,null,null,null,null,null,null,null,null,null,null,11.833333333333334,6,16.993275193470907,13.285714285714285,-3.7075609077566263]
[null,null,null,null,null,null,null,null,null,null,null,null,null,null,null,null,null,null,null,null,null,null,null,null,null,null,13.5,6,19.01135192126215,14.428571428571427,-4.582780492690727]
[null,null,null,null,null,null,null,null,null,null,null,null,null,null,null,null,null,null,null,null,null,null,null,null,null,null,14.5,6,20.211829829397931,12.142857142857142,-8.0689726865407927]
[null,null,null,null,null,null,null,null,null,null,null,null,null,null,null,null,null,null,null,null,null,null,null,null,null,null,15,6,20.809475019311126,13.714285714285712,-7.0951893050254178]
[null,null,null,null,null,null,null,null,null,null,null,null,null,null,null,null,null,null,null,null,null,null,null,null,null,null,12.333333333333334,6,17.601160209759705,14.857142857142854,-2.7440173526168543]
[null,null,null,null,null,null,null,null,null,null,null,null,null,null,null,null,null,null,null,null,null,null,null,null,null,null,10.833333333333334,6,15.770437747866209,14.857142857142856,-0.9132948907233569]
[null,null,null,null,null,null,null,null,null,null,null,null,null,null,null,null,null,null,null,null,null,null,null,null,null,null,11.666666666666666,6,16.790142049646466,10.857142857142856,-5.9329991925036136]
[null,null,null,null,null,null,null,null,null,null,null,null,null,null,null,null,null,null,null,null,null,null,null,null,null,null,12.8,5,18.166563145999497,14.857142857142858,-3.3094202888566429]
[null,null,null,null,null,null,null,null,null,null,null,null,null,null,null,null,null,null,null,null,null,null,null,null,null,null,13,6,18.408326913195985,18.142857142857142,-0.26546977033884644]
[null,null,null,null,null,null,null,null,null,null,null,null,null,null,null,null,null,null,null,null,null,null,null,null,null,null,14.333333333333334,6,20.012241679133609,249.71428571428569,229.70204403515208]
[null,null,null,null,null,null,null,null,null,null,null,null,null,null,null,null,null,null,null,null,null,null,null,null,null,null,11.666666666666666,3,16.790142049646466,985.85714285714266,969.06700080749624]
[null,null,null,null,null,null,null,null,null,null,null,null,null,null,null,null,null,null,null,null,null,null,null,null,null,null,13,0,18.408326913195985,11.857142857142858,-6.5511840560531311]
[null,null,null,null,null,null,null,null,null,null,null,null,null,null,null,null,null,null,null,null,null,null,null,null,null,null,11,2,15.974937185533101,12.285714285714285,-3.6892228998188195]
[null,null,null,null,null,null,null,null,null,null,null,null,null,null,null,null,null,null,null,null,null,null,null,null,null,null,12.5,6,17.803300858899107,12.428571428571427,-5.3747294303276831]
[null,null,null,null,null,null,null,null,null,null,null,null,null,null,null,null,null,null,null,null,null,null,null,null,null,null,12,6,17.196152422706632,13.571428571428569,-3.6247238512780662]
[null,null,null,null,null,null,null,null,null,null,null,null,null,null,null,null,null,null,null,null,null,null,null,null,null,null,11.833333333333334,6,16.993275193470907,13,-3.993275193470911]
[null,null,null,null,null,null,null,null,null,null,null,null,null,null,null,null,null,null,null,null,null,null,null,null,null,null,13.666666666666666,6,19.211934919871375,12.571428571428569,-6.6405063484428091]
[null,null,null,null,null,null,null,null,null,null,null,null,null,null,null,null,null,null,null,null,null,null,null,null,null,null,11.333333333333334,6,16.383085802514373,13.285714285714285,-3.0973715168000915]
[null,null,null,null,null,null,null,null,null,null,null,null,null,null,null,null,null,null,null,null,null,null,null,null,null,null,11.833333333333334,6,16.993275193470907,11.714285714285715,-5.2789894791851957]
[null,null,null,null,null,null,null,null,null,null,null,null,null,null,null,null,null,null,null,null,null,null,null,null,null,null,10.666666666666666,6,15.565646152233022,13.285714285714285,-2.2799318665187407]
[null,null,null,null,null,null,null,null,null,null,null,null,null,null,null,null,null,null,null,null,null,null,null,null,null,null,10.166666666666666,6,14.949448284093913,9.7142857142857117,-5.2351625698082049]
[null,null,null,null,null,null,null,null,null,null,null,null,null,null,null,null,null,null,null,null,null,null,null,null,null,null,13.5,6,19.01135192126215,11.428571428571429,-7.5827804926907252]
[null,null,null,null,null,null,null,null,null,null,null,null,null,null,null,null,null,null,null,null,null,null,null,null,null,null,9.6,5,14.2475800154489,12.142857142857142,-2.1047228725917613]
[null,null,null,null,null,null,null,null,null,null,null,null,null,null,null,null,null,null,null,null,null,null,null,null,null,null,9.25,4,13.812071897723666,12.428571428571427,-1.3835004691522421]
[null,null,null,null,null,null,null,null,null,null,null,null,null,null,null,null,null,null,null,null,null,null,null,null,null,null,10.8,5,15.729503017546495,11.571428571428571,-4.1580744461179275]
[null,null,null,null,null,null,null,null,null,null,null,null,null,null,null,null,null,null,null,null,null,null,null,null,null,null,11.166666666666666,6,16.179151080607522,12.142857142857142,-4.0362939377503828]
[null,null,null,null,null,null,null,null,null,null,null,null,null,null,null,null,null,null,null,null,null,null,null,null,null,null,11,6,15.974937185533101,16.714285714285715,0.73934852875261114]
[null,null,null,null,null,null,null,null,null,null,null,null,null,null,null,null,null,null,null,null,null,null,null,null,null,null,13.4,5,18.890901565316938,11.428571428571427,-7.4623301367455142]
[null,null,null,null,null,null,null,null,null,null,null,null,null,null,null,null,null,null,null,null,null,null,null,null,null,null,12.333333333333334,6,17.601160209759705,11.142857142857142,-6.4583030669025661]
[null,null,null,null,null,null,null,null,null,null,null,null,null,null,null,null,null,null,null,null,null,null,null,null,null,null,11.833333333333334,6,16.993275193470907,10.714285714285714,-6.2789894791851975]
[null,null,null,null,null,null,null,null,null,null,null,null,null,null,null,null,null,null,null,null,null,null,null,null,null,null,12.166666666666666,6,17.398779050780753,17.428571428571427,2.9792377790670344E-2]
[null,null,null,null,null,null,null,null,null,null,null,null,null,null,null,null,null,null,null,null,null,null,null,null,null,null,10.666666666666666,6,15.565646152233022,29.714285714285712,14.148639562052686]
[null,null,null,null,null,null,null,null,null,null,null,null,null,null,null,null,null,null,null,null,null,null,null,null,null,null,14,3,19.612486080160913,33.142857142857146,13.530371062696229]
[null,null,null,null,null,null,null,null,null,null,null,null,null,null,null,null,null,null,null,null,null,null,null,null,null,null,15,0,20.809475019311126,13.285714285714286,-7.5237607335968431]
[null,null,null,null,null,null,null,null,null,null,null,null,null,null,null,null,null,null,null,null,null,null,null,null,null,null,17.333333333333332,3,23.578331331731732,12.428571428571427,-11.149759903160309]
[null,null,null,null,null,null,null,null,null,null,null,null,null,null,null,null,null,null,null,null,null,null,null,null,null,null,12.5,6,17.803300858899107,12.428571428571427,-5.3747294303276831]
[null,null,null,null,null,null,null,null,null,null,null,null,null,null,null,null,null,null,null,null,null,null,null,null,null,null,13,5,18.408326913195985,10.857142857142856,-7.5511840560531329]
[null,null,null,null,null,null,null,null,null,null,null,null,null,null,null,null,null,null,null,null,null,null,null,null,null,null,9.6666666666666661,6,14.330356193211074,10.999999999999998,-3.3303561932110792]
[null,null,null,null,null,null,null,null,null,null,null,null,null,null,null,null,null,null,null,null,null,null,null,null,null,null,9.4,5,13.998912915026768,15.142857142857142,1.1439442278303709]
[null,null,null,null,null,null,null,null,null,null,null,null,null,null,null,null,null,null,null,null,null,null,null,null,null,null,8.75,4,13.187059837324712,21.571428571428566,8.38436873410385]
[null,null,null,null,null,null,null,null,null,null,null,null,null,null,null,null,null,null,null,null,null,null,null,null,null,null,13.25,4,18.71008241696039,13.571428571428571,-5.138653845531822,31]
[null,null,null,null,null,null,null,null,null,null,null,null,null,null,null,null,null,null,null,null,null,null,null,null,null,null,16.833333333333332,6,22.987600145878918,12.285714285714283,-10.701885860164639]
[null,null,null,null,null,null,null,null,null,null,null,null,null,null,null,null,null,null,null,null,null,null,null,null,null,null,12.6,5,17.924471804789654,13.142857142857142,-4.7816146619325153]
[null,null,null,null,null,null,null,null,null,null,null,null,null,null,null,null,null,null,null,null,null,null,null,null,null,null,10.8,5,15.729503017546495,12.999999999999998,-2.7295030175465005]
[null,null,null,null,null,null,null,null,null,null,null,null,null,null,null,null,null,null,null,null,null,null,null,null,null,null,13.5,6,19.01135192126215,13.999999999999998,-5.0113519212621558]
[null,null,null,null,null,null,null,null,null,null,null,null,null,null,null,null,null,null,null,null,null,null,null,null,null,null,11.8,5,16.9526692111953,11.428571428571429,-5.5240977826238744]
[null,null,null,null,null,null,null,null,null,null,null,null,null,null,null,null,null,null,null,null,null,null,null,null,null,null,11.833333333333334,6,16.993275193470907,12,-4.993275193470911]
[null,null,null,null,null,null,null,null,null,null,null,null,null,null,null,null,null,null,null,null,null,null,null,null,null,null,12.666666666666666,6,18.005205792682322,13,-5.0052057926823252]
[null,null,null,null,null,null,null,null,null,null,null,null,null,null,null,null,null,null,null,null,null,null,null,null,null,null,12.666666666666666,6,18.005205792682322,14.285714285714285,-3.7194915069680405]
[null,null,null,null,null,null,null,null,null,null,null,null,null,null,null,null,null,null,null,null,null,null,null,null,null,null,10.8,5,15.729503017546495,12.166666666666666,-3.5628363508798326]
[null,null,null,null,null,null,null,null,null,null,null,null,null,null,null,null,null,null,null,null,null,null,null,null,null,null,13.166666666666666,6,18.609551930935979,14.333333333333332,-4.2762185976026501]
[null,null,null,null,null,null,null,null,null,null,null,null,null,null,null,null,null,null,null,null,null,null,null,null,null,null,14.833333333333334,6,20.610443337479005,11.499999999999998,-9.1104433374790101]
[null,null,null,null,null,null,null,null,null,null,null,null,null,null,null,null,null,null,null,null,null,null,null,null,null,null,14.333333333333334,6,20.012241679133609,9.8333333333333321,-10.178908345800281]
[null,null,null,null,null,null,null,null,null,null,null,null,null,null,null,null,null,null,null,null,null,null,null,null,null,null,10.199999999999999,5,14.990615826801392,9.3333333333333321,-5.6572824934680632]
[null,null,null,null,null,null,null,null,null,null,null,null,null,null,null,null,null,null,null,null,null,null,null,null,null,null,9,6,13.5,11.333333333333334,-2.1666666666666696]
[null,null,null,null,null,null,null,null,null,null,null,null,null,null,null,null,null,null,null,null,null,null,null,null,null,null,11,5,15.974937185533101,13.83333333333333,-2.1416038521997738]
[null,null,null,null,null,null,null,null,null,null,null,null,null,null,null,null,null,null,null,null,null,null,null,null,null,null,10.8,5,15.729503017546495,12.666666666666664,-3.0628363508798344]
[null,null,null,null,null,null,null,null,null,null,null,null,null,null,null,null,null,null,null,null,null,null,null,null,null,null,13.5,6,19.01135192126215,12.833333333333332,-6.1780185879288219]
[null,null,null,null,null,null,null,null,null,null,null,null,null,null,null,null,null,null,null,null,null,null,null,null,null,null,12.833333333333334,6,18.206879648384504,9.8333333333333321,-8.3735463150511755]
[null,null,null,null,null,null,null,null,null,null,null,null,null,null,null,null,null,null,null,null,null,null,null,null,null,null,13.166666666666666,6,18.609551930935979,11,-7.6095519309359823]
[null,null,null,null,null,null,null,null,null,null,null,null,null,null,null,null,null,null,null,null,null,null,null,null,null,null,10.833333333333334,6,15.770437747866209,10.499999999999998,-5.2704377478662146]
[null,null,null,null,null,null,null,null,null,null,null,null,null,null,null,null,null,null,null,null,null,null,null,null,null,null,10.199999999999999,5,14.990615826801392,11.333333333333332,-3.6572824934680632]
[null,null,null,null,null,null,null,null,null,null,null,null,null,null,null,null,null,null,null,null,null,null,null,null,null,null,13.166666666666666,6,18.609551930935979,13.499999999999998,-5.109551930935984]
[null,null,null,null,null,null,null,null,null,null,null,null,null,null,null,null,null,null,null,null,null,null,null,null,null,null,11.666666666666666,6,16.790142049646466,11.5,-5.2901420496464695]
[null,null,null,null,null,null,null,null,null,null,null,null,null,null,null,null,null,null,null,null,null,null,null,null,null,null,13.166666666666666,6,18.609551930935979,12,-6.6095519309359823]
[null,null,null,null,null,null,null,null,null,null,null,null,null,null,null,null,null,null,null,null,null,null,null,null,null,null,12.833333333333334,6,18.206879648384504,11,-7.2068796483845077]
[null,null,null,null,null,null,null,null,null,null,null,null,null,null,null,null,null,null,null,null,null,null,null,null,null,null,10,6,14.743416490252569,11.166666666666666,-3.5767498235859065]
[null,null,null,null,null,null,null,null,null,null,null,null,null,null,null,null,null,null,null,null,null,null,null,null,null,null,13.333333333333334,6,18.810558908384994,14.166666666666664,-4.6438922417183335]
[null,null,null,null,null,null,null,null,null,null,null,null,null,null,null,null,null,null,null,null,null,null,null,null,null,null,10.666666666666666,6,15.565646152233022,11.333333333333334,-4.2323128188996915]
[null,null,null,null,null,null,null,null,null,null,null,null,null,null,null,null,null,null,null,null,null,null,null,null,null,null,13.666666666666666,6,19.211934919871375,12.666666666666664,-6.5452682532047142]
[null,null,null,null,null,null,null,null,null,null,null,null,null,null,null,null,null,null,null,null,null,null,null,null,null,null,12,6,17.196152422706632,11.666666666666666,-5.5294857560399695]
[null,null,null,null,null,null,null,null,null,null,null,null,null,null,null,null,null,null,null,null,null,null,null,null,null,null,13.166666666666666,6,18.609551930935979,12.5,-6.1095519309359823]
[null,null,null,null,null,null,null,null,null,null,null,null,null,null,null,null,null,null,null,null,null,null,null,null,null,null,12.166666666666666,6,17.398779050780753,13.833333333333332,-3.5654457174474246]
[null,null,null,null,null,null,null,null,null,null,null,null,null,null,null,null,null,null,null,null,null,null,null,null,null,null,12.666666666666666,6,18.005205792682322,11.999999999999998,-6.005205792682327]
[null,null,null,null,null,null,null,null,null,null,null,null,null,null,null,null,null,null,null,null,null,null,null,null,null,null,12.5,6,17.803300858899107,11.833333333333332,-5.969967525565778]
[null,null,null,null,null,null,null,null,null,null,null,null,null,null,null,null,null,null,null,null,null,null,null,null,null,null,13.5,6,19.01135192126215,12.333333333333332,-6.6780185879288219]
[null,null,null,null,null,null,null,null,null,null,null,null,null,null,null,null,null,null,null,null,null,null,null,null,null,null,11.833333333333334,6,16.993275193470907,8.8333333333333321,-8.1599418601375788]
[null,null,null,null,null,null,null,null,null,null,null,null,null,null,null,null,null,null,null,null,null,null,null,null,null,null,10.5,6,15.360555523805896,11.166666666666664,-4.1938888571392354]
[null,null,null,null,null,null,null,null,null,null,null,null,null,null,null,null,null,null,null,null,null,null,null,null,null,null,10.333333333333334,6,15.155158713829811,12.5,-2.6551587138298149]
[null,null,null,null,null,null,null,null,null,null,null,null,null,null,null,null,null,null,null,null,null,null,null,null,null,null,10.6,5,15.483646178829911,10.666666666666666,-4.8169795121632486,28]
[null,null,null,null,null,null,null,null,null,null,null,null,null,null,null,null,null,null,null,null,null,null,null,null,null,null,10.5,6,15.360555523805896,10.333333333333334,-5.0272221904725658]
[null,null,null,null,null,null,null,null,null,null,null,null,null,null,null,null,null,null,null,null,null,null,null,null,null,null,11.166666666666666,6,16.179151080607522,31.499999999999996,15.320848919392471]
[null,null,null,null,null,null,null,null,null,null,null,null,null,null,null,null,null,null,null,null,null,null,null,null,null,null,8.5,4,12.873213921133976,48.833333333333336,35.960119412199354]
[null,null,null,null,null,null,null,null,null,null,null,null,null,null,null,null,null,null,null,null,null,null,null,null,null,null,9,0,13.5,12.499999999999998,-1.0000000000000053]
[null,null,null,null,null,null,null,null,null,null,null,null,null,null,null,null,null,null,null,null,null,null,null,null,null,null,9,1,13.5,12.833333333333332,-0.6666666666666714]
[null,null,null,null,null,null,null,null,null,null,null,null,null,null,null,null,null,null,null,null,null,null,null,null,null,null,12.666666666666666,6,18.005205792682322,12.999999999999998,-5.005205792682327]
[null,null,null,null,null,null,null,null,null,null,null,null,null,null,null,null,null,null,null,null,null,null,null,null,null,null,11,5,15.974937185533101,11.499999999999998,-4.4749371855331059]
[null,null,null,null,null,null,null,null,null,null,null,null,null,null,null,null,null,null,null,null,null,null,null,null,null,null,12.6,5,17.924471804789654,13.166666666666666,-4.7578051381229916]
[null,null,null,null,null,null,null,null,null,null,null,null,null,null,null,null,null,null,null,null,null,null,null,null,null,null,11.166666666666666,6,16.179151080607522,8.1666666666666661,-8.0124844139408591]
[null,null,null,null,null,null,null,null,null,null,null,null,null,null,null,null,null,null,null,null,null,null,null,null,null,null,11.666666666666666,6,16.790142049646466,10.666666666666666,-6.1234753829798034]
[null,null,null,null,null,null,null,null,null,null,null,null,null,null,null,null,null,null,null,null,null,null,null,null,null,null,8.4,5,12.747413023856833,9.8333333333333321,-2.9140796905235042]
[null,null,null,null,null,null,null,null,null,null,null,null,null,null,null,null,null,null,null,null,null,null,null,null,null,null,8.1666666666666661,6,12.453273716537227,11.333333333333332,-1.1199403832038985]
[null,null,null,null,null,null,null,null,null,null,null,null,null,null,null,null,null,null,null,null,null,null,null,null,null,null,10.25,4,15.052343178074636,10.5,-4.55234317807464]
[null,null,null,null,null,null,null,null,null,null,null,null,null,null,null,null,null,null,null,null,null,null,null,null,null,null,11.333333333333334,6,16.383085802514373,12.333333333333334,-4.0497524691810423]
[null,null,null,null,null,null,null,null,null,null,null,null,null,null,null,null,null,null,null,null,null,null,null,null,null,null,9.8000000000000007,5,14.495742752749559,11.333333333333334,-3.1624094194162282]
[null,null,null,null,null,null,null,null,null,null,null,null,null,null,null,null,null,null,null,null,null,null,null,null,null,null,11.833333333333334,6,16.993275193470907,9.5,-7.493275193470911]
[null,null,null,null,null,null,null,null,null,null,null,null,null,null,null,null,null,null,null,null,null,null,null,null,null,null,9.5,6,14.123310502226733,10.666666666666666,-3.4566438355600706]
[null,null,null,null,null,null,null,null,null,null,null,null,null,null,null,null,null,null,null,null,null,null,null,null,null,null,12,6,17.196152422706632,12.333333333333332,-4.8628190893733034]
[null,null,null,null,null,null,null,null,null,null,null,null,null,null,null,null,null,null,null,null,null,null,null,null,null,null,10,5,14.743416490252569,9.3333333333333321,-5.4100831569192405]
[null,null,null,null,null,null,null,null,null,null,null,null,null,null,null,null,null,null,null,null,null,null,null,null,null,null,12,6,17.196152422706632,11.166666666666668,-6.0294857560399677]
[null,null,null,null,null,null,null,null,null,null,null,null,null,null,null,null,null,null,null,null,null,null,null,null,null,null,9.1666666666666661,6,13.708142197812904,12.333333333333334,-1.374808864479574]
[null,null,null,null,null,null,null,null,null,null,null,null,null,null,null,null,null,null,null,null,null,null,null,null,null,null,9.6,5,14.2475800154489,11.666666666666666,-2.5809133487822375]
[null,null,null,null,null,null,null,null,null,null,null,null,null,null,null,null,null,null,null,null,null,null,null,null,null,null,11.333333333333334,6,16.383085802514373,10.5,-5.8830858025143762]
[null,null,null,null,null,null,null,null,null,null,null,null,null,null,null,null,null,null,null,null,null,null,null,null,null,null,12.666666666666666,6,18.005205792682322,9.6666666666666661,-8.3385391260156592]
[null,null,null,null,null,null,null,null,null,null,null,null,null,null,null,null,null,null,null,null,null,null,null,null,null,null,11,6,15.974937185533101,12.499999999999998,-3.4749371855331059]
[null,null,null,null,null,null,null,null,null,null,null,null,null,null,null,null,null,null,null,null,null,null,null,null,null,null,12.5,6,17.803300858899107,10.666666666666666,-7.1366341922324441]
[null,null,null,null,null,null,null,null,null,null,null,null,null,null,null,null,null,null,null,null,null,null,null,null,null,null,12.333333333333334,6,17.601160209759705,10.166666666666666,-7.4344935430930423]
[null,null,null,null,null,null,null,null,null,null,null,null,null,null,null,null,null,null,null,null,null,null,null,null,null,null,9.8333333333333339,6,14.537055263890029,10.666666666666666,-3.870388597223366]
[null,null,null,null,null,null,null,null,null,null,null,null,null,null,null,null,null,null,null,null,null,null,null,null,null,null,11,6,15.974937185533101,10.166666666666666,-5.8082705188664381]
[null,null,null,null,null,null,null,null,null,null,null,null,null,null,null,null,null,null,null,null,null,null,null,null,null,null,11.333333333333334,6,16.383085802514373,9.3333333333333321,-7.049752469181044]
[null,null,null,null,null,null,null,null,null,null,null,null,null,null,null,null,null,null,null,null,null,null,null,null,null,null,8.8000000000000007,5,13.249719092257399,10.833333333333332,-2.4163857589240703]
[null,null,null,null,null,null,null,null,null,null,null,null,null,null,null,null,null,null,null,null,null,null,null,null,null,null,11.5,6,16.586747487343949,12,-4.5867474873439527]
[null,null,null,null,null,null,null,null,null,null,null,null,null,null,null,null,null,null,null,null,null,null,null,null,null,null,11.166666666666666,6,16.179151080607522,11.499999999999998,-4.6791510806075269]
[null,null,null,null,null,null,null,null,null,null,null,null,null,null,null,null,null,null,null,null,null,null,null,null,null,null,12.333333333333334,6,17.601160209759705,11,-6.6011602097597084]
[null,null,null,null,null,null,null,null,null,null,null,null,null,null,null,null,null,null,null,null,null,null,null,null,null,null,12.666666666666666,6,18.005205792682322,12.333333333333332,-5.6718724593489931]
[null,null,null,null,null,null,null,null,null,null,null,null,null,null,null,null,null,null,null,null,null,null,null,null,null,null,10.333333333333334,6,15.155158713829811,10.666666666666664,-4.4884920471631506]
[null,null,null,null,null,null,null,null,null,null,null,null,null,null,null,null,null,null,null,null,null,null,null,null,null,null,10.25,4,15.052343178074636,9.7142857142857135,-5.3380574637889264]
[null,null,null,null,null,null,null,null,null,null,null,null,null,null,null,null,null,null,null,null,null,null,null,null,null,null,10.666666666666666,6,15.565646152233022,11.428571428571427,-4.1370747236615983]
[null,null,null,null,null,null,null,null,null,null,null,null,null,null,null,null,null,null,null,null,null,null,null,null,null,null,10.5,6,15.360555523805896,10.285714285714285,-5.074841238091615]
[null,null,null,null,null,null,null,null,null,null,null,null,null,null,null,null,null,null,null,null,null,null,null,null,null,null,11.166666666666666,6,16.179151080607522,11.285714285714285,-4.8934367948932405]
[null,null,null,null,null,null,null,null,null,null,null,null,null,null,null,null,null,null,null,null,null,null,null,null,null,null,9.3333333333333339,6,13.915909028289175,12,-1.9159090282891782]
[null,null,null,null,null,null,null,null,null,null,null,null,null,null,null,null,null,null,null,null,null,null,null,null,null,null,11.333333333333334,6,16.383085802514373,9.7142857142857135,-6.6688000882286627]
[null,null,null,null,null,null,null,null,null,null,null,null,null,null,null,null,null,null,null,null,null,null,null,null,null,null,10.666666666666666,6,15.565646152233022,10.142857142857142,-5.422789009375883]
[null,null,null,null,null,null,null,null,null,null,null,null,null,null,null,null,null,null,null,null,null,null,null,null,null,null,10,5,14.743416490252569,10.285714285714283,-4.4577022045382897]
[null,null,null,null,null,null,null,null,null,null,null,null,null,null,null,null,null,null,null,null,null,null,null,null,null,null,9.4,5,13.998912915026768,13.714285714285715,-0.28462720074105619]
[null,null,null,null,null,null,null,null,null,null,null,null,null,null,null,null,null,null,null,null,null,null,null,null,null,null,12.833333333333334,6,18.206879648384504,13.428571428571427,-4.7783082198130806]
[null,null,null,null,null,null,null,null,null,null,null,null,null,null,null,null,null,null,null,null,null,null,null,null,null,null,12.5,6,17.803300858899107,15.571428571428569,-2.2318722874705408]
[null,null,null,null,null,null,null,null,null,null,null,null,null,null,null,null,null,null,null,null,null,null,null,null,null,null,12,5,17.196152422706632,12.714285714285714,-4.4818667084209221]
[null,null,null,null,null,null,null,null,null,null,null,null,null,null,null,null,null,null,null,null,null,null,null,null,null,null,12.75,4,18.106071321407136,11.571428571428569,-6.5346427499785698]
[null,null,null,null,null,null,null,null,null,null,null,null,null,null,null,null,null,null,null,null,null,null,null,null,null,null,14.8,5,20.570615218501406,10.857142857142856,-9.7134723613585532]
[null,null,null,null,null,null,null,null,null,null,null,null,null,null,null,null,null,null,null,null,null,null,null,null,null,null,16.166666666666668,6,22.197835707574079,10.428571428571429,-11.769264279002654]
[null,null,null,null,null,null,null,null,null,null,null,null,null,null,null,null,null,null,null,null,null,null,null,null,null,null,17.333333333333332,6,23.578331331731732,10.857142857142858,-12.721188474588878]
[null,null,null,null,null,null,null,null,null,null,null,null,null,null,null,null,null,null,null,null,null,null,null,null,null,null,15.666666666666666,6,21.603837710185623,11.142857142857142,-10.460980567328484]
[null,null,null,null,null,null,null,null,null,null,null,null,null,null,null,null,null,null,null,null,null,null,null,null,null,null,15,6,20.809475019311126,10.285714285714285,-10.523760733596845]
[null,null,null,null,null,null,null,null,null,null,null,null,null,null,null,null,null,null,null,null,null,null,null,null,null,null,15,6,20.809475019311126,10.999999999999998,-9.8094750193111313]
[null,null,null,null,null,null,null,null,null,null,null,null,null,null,null,null,null,null,null,null,null,null,null,null,null,null,14.166666666666666,6,19.812461561984772,11.857142857142856,-7.9553187048419201]
[null,null,null,null,null,null,null,null,null,null,null,null,null,null,null,null,null,null,null,null,null,null,null,null,null,null,13,6,18.408326913195985,12.285714285714285,-6.1226126274817041]
[null,null,null,null,null,null,null,null,null,null,null,null,null,null,null,null,null,null,null,null,null,null,null,null,null,null,11.833333333333334,6,16.993275193470907,13.285714285714285,-3.7075609077566263]
[null,null,null,null,null,null,null,null,null,null,null,null,null,null,null,null,null,null,null,null,null,null,null,null,null,null,12.333333333333334,6,17.601160209759705,12.857142857142858,-4.7440173526168508]
[null,null,null,null,null,null,null,null,null,null,null,null,null,null,null,null,null,null,null,null,null,null,null,null,null,null,11.5,6,16.586747487343949,12.857142857142858,-3.729604630201095]
[null,null,null,null,null,null,null,null,null,null,null,null,null,null,null,null,null,null,null,null,null,null,null,null,null,null,11,6,15.974937185533101,13.714285714285714,-2.2606514712473906]
[null,null,null,null,null,null,null,null,null,null,null,null,null,null,null,null,null,null,null,null,null,null,null,null,null,null,10.5,6,15.360555523805896,13.285714285714283,-2.0748412380916168]
[null,null,null,null,null,null,null,null,null,null,null,null,null,null,null,null,null,null,null,null,null,null,null,null,null,null,11.166666666666666,6,16.179151080607522,12.285714285714285,-3.8934367948932405]
[null,null,null,null,null,null,null,null,null,null,null,null,null,null,null,null,null,null,null,null,null,null,null,null,null,null,10.833333333333334,6,15.770437747866209,11.999999999999998,-3.7704377478662146]
[null,null,null,null,null,null,null,null,null,null,null,null,null,null,null,null,null,null,null,null,null,null,null,null,null,null,10.666666666666666,6,15.565646152233022,11.428571428571429,-4.1370747236615966]
[null,null,null,null,null,null,null,null,null,null,null,null,null,null,null,null,null,null,null,null,null,null,null,null,null,null,10.333333333333334,6,15.155158713829811,12.285714285714285,-2.8694444281155302]
[null,null,null,null,null,null,null,null,null,null,null,null,null,null,null,null,null,null,null,null,null,null,null,null,null,null,10.833333333333334,6,15.770437747866209,11.857142857142856,-3.9132948907233569]
[null,null,null,null,null,null,null,null,null,null,null,null,null,null,null,null,null,null,null,null,null,null,null,null,null,null,11,5,15.974937185533101,11.714285714285714,-4.2606514712473906]
[null,null,null,null,null,null,null,null,null,null,null,null,null,null,null,null,null,null,null,null,null,null,null,null,null,null,11.6,5,16.708815909777918,11.857142857142858,-4.8516730526350642]
[null,null,null,null,null,null,null,null,null,null,null,null,null,null,null,null,null,null,null,null,null,null,null,null,null,null,14,6,19.612486080160913,11.714285714285715,-7.8982003658752014]
[null,null,null,null,null,null,null,null,null,null,null,null,null,null,null,null,null,null,null,null,null,null,null,null,null,null,12.833333333333334,6,18.206879648384504,10.857142857142856,-7.3497367912416518]
[null,null,null,null,null,null,null,null,null,null,null,null,null,null,null,null,null,null,null,null,null,null,null,null,null,null,13.666666666666666,6,19.211934919871375,10.714285714285712,-8.4976492055856667]
[null,null,null,null,null,null,null,null,null,null,null,null,null,null,null,null,null,null,null,null,null,null,null,null,null,null,13.5,6,19.01135192126215,10.571428571428571,-8.4399233498335828]
[null,null,null,null,null,null,null,null,null,null,null,null,null,null,null,null,null,null,null,null,null,null,null,null,null,null,12.5,6,17.803300858899107,11.142857142857142,-6.6604437160419678]
[null,null,null,null,null,null,null,null,null,null,null,null,null,null,null,null,null,null,null,null,null,null,null,null,null,null,12.166666666666666,6,17.398779050780753,10.571428571428569,-6.8273504793521873]
[null,null,null,null,null,null,null,null,null,null,null,null,null,null,null,null,null,null,null,null,null,null,null,null,null,null,11.166666666666666,6,16.179151080607522,10.714285714285714,-5.4648653663218116]
[null,null,null,null,null,null,null,null,null,null,null,null,null,null,null,null,null,null,null,null,null,null,null,null,null,null,12.333333333333334,6,17.601160209759705,11.142857142857142,-6.4583030669025661]
[null,null,null,null,null,null,null,null,null,null,null,null,null,null,null,null,null,null,null,null,null,null,null,null,null,null,12.166666666666666,6,17.398779050780753,12.285714285714286,-5.1130647650664702]
[null,null,null,null,null,null,null,null,null,null,null,null,null,null,null,null,null,null,null,null,null,null,null,null,null,null,11.5,6,16.586747487343949,12.428571428571429,-4.1581760587725238]
[null,null,null,null,null,null,null,null,null,null,null,null,null,null,null,null,null,null,null,null,null,null,null,null,null,null,11.666666666666666,6,16.790142049646466,11.857142857142858,-4.9329991925036119]
[null,null,null,null,null,null,null,null,null,null,null,null,null,null,null,null,null,null,null,null,null,null,null,null,null,null,12,6,17.196152422706632,11.571428571428569,-5.6247238512780662]
[null,null,null,null,null,null,null,null,null,null,null,null,null,null,null,null,null,null,null,null,null,null,null,null,null,null,11.833333333333334,6,16.993275193470907,11.857142857142854,-5.1361323363280569]
[null,null,null,null,null,null,null,null,null,null,null,null,null,null,null,null,null,null,null,null,null,null,null,null,null,null,10.5,6,15.360555523805896,11.428571428571427,-3.9319840952344727]
[null,null,null,null,null,null,null,null,null,null,null,null,null,null,null,null,null,null,null,null,null,null,null,null,null,null,10.5,6,15.360555523805896,10.714285714285714,-4.6462698095201862]
[null,null,null,null,null,null,null,null,null,null,null,null,null,null,null,null,null,null,null,null,null,null,null,null,null,null,10.666666666666666,6,15.565646152233022,10.571428571428569,-4.994217580804456]
[null,null,null,null,null,null,null,null,null,null,null,null,null,null,null,null,null,null,null,null,null,null,null,null,null,null,10.833333333333334,6,15.770437747866209,10,-5.7704377478662128]
[null,null,null,null,null,null,null,null,null,null,null,null,null,null,null,null,null,null,null,null,null,null,null,null,null,null,10.166666666666666,6,14.949448284093913,10.714285714285714,-4.2351625698082032]
[null,null,null,null,null,null,null,null,null,null,null,null,null,null,null,null,null,null,null,null,null,null,null,null,null,null,10.833333333333334,6,15.770437747866209,10.571428571428571,-5.1990091764376416]
[null,null,null,null,null,null,null,null,null,null,null,null,null,null,null,null,null,null,null,null,null,null,null,null,null,null,12.166666666666666,6,17.398779050780753,11,-6.3987790507807567]
[null,null,null,null,null,null,null,null,null,null,null,null,null,null,null,null,null,null,null,null,null,null,null,null,null,null,12.333333333333334,6,17.601160209759705,11.714285714285712,-5.8868744954739967]
[null,null,null,null,null,null,null,null,null,null,null,null,null,null,null,null,null,null,null,null,null,null,null,null,null,null,12.666666666666666,6,18.005205792682322,12.428571428571427,-5.5766343641108982]
[null,null,null,null,null,null,null,null,null,null,null,null,null,null,null,null,null,null,null,null,null,null,null,null,null,null,11.5,6,16.586747487343949,13,-3.5867474873439527]
[null,null,null,null,null,null,null,null,null,null,null,null,null,null,null,null,null,null,null,null,null,null,null,null,null,null,12,6,17.196152422706632,13.857142857142858,-3.3390095655637779]
[null,null,null,null,null,null,null,null,null,null,null,null,null,null,null,null,null,null,null,null,null,null,null,null,null,null,11.5,6,16.586747487343949,13.714285714285714,-2.8724617730582391]
[null,null,null,null,null,null,null,null,null,null,null,null,null,null,null,null,null,null,null,null,null,null,null,null,null,null,11.166666666666666,6,16.179151080607522,13.999999999999998,-2.1791510806075269]
[null,null,null,null,null,null,null,null,null,null,null,null,null,null,null,null,null,null,null,null,null,null,null,null,null,null,10.333333333333334,6,15.155158713829811,13.714285714285714,-1.4408729995441014]
[null,null,null,null,null,null,null,null,null,null,null,null,null,null,null,null,null,null,null,null,null,null,null,null,null,null,10.166666666666666,6,14.949448284093913,12.857142857142856,-2.0923054269510608]
[null,null,null,null,null,null,null,null,null,null,null,null,null,null,null,null,null,null,null,null,null,null,null,null,null,null,10.5,6,15.360555523805896,12.714285714285714,-2.6462698095201862]
[null,null,null,null,null,null,null,null,null,null,null,null,null,null,null,null,null,null,null,null,null,null,null,null,null,null,10.5,6,15.360555523805896,11.857142857142856,-3.5034126666630439]
[null,null,null,null,null,null,null,null,null,null,null,null,null,null,null,null,null,null,null,null,null,null,null,null,null,null,10.5,6,15.360555523805896,11.285714285714285,-4.074841238091615]
[null,null,null,null,null,null,null,null,null,null,null,null,null,null,null,null,null,null,null,null,null,null,null,null,null,null,11,6,15.974937185533101,11,-4.9749371855331042]
[null,null,null,null,null,null,null,null,null,null,null,null,null,null,null,null,null,null,null,null,null,null,null,null,null,null,12.333333333333334,6,17.601160209759705,10.714285714285714,-6.8868744954739949]
[null,null,null,null,null,null,null,null,null,null,null,null,null,null,null,null,null,null,null,null,null,null,null,null,null,null,12.5,6,17.803300858899107,11.142857142857142,-6.6604437160419678]
[null,null,null,null,null,null,null,null,null,null,null,null,null,null,null,null,null,null,null,null,null,null,null,null,null,null,13.666666666666666,6,19.211934919871375,11.571428571428571,-7.6405063484428073]
[null,null,null,null,null,null,null,null,null,null,null,null,null,null,null,null,null,null,null,null,null,null,null,null,null,null,14.166666666666666,6,19.812461561984772,12.428571428571429,-7.3838901334133471]
[null,null,null,null,null,null,null,null,null,null,null,null,null,null,null,null,null,null,null,null,null,null,null,null,null,null,14.166666666666666,6,19.812461561984772,13,-6.8124615619847759]
[null,null,null,null,null,null,null,null,null,null,null,null,null,null,null,null,null,null,null,null,null,null,null,null,null,null,14,6,19.612486080160913,12.857142857142856,-6.7553432230180608]
[null,null,null,null,null,null,null,null,null,null,null,null,null,null,null,null,null,null,null,null,null,null,null,null,null,null,13.333333333333334,6,18.810558908384994,12.571428571428571,-6.2391303369564266]
[null,null,null,null,null,null,null,null,null,null,null,null,null,null,null,null,null,null,null,null,null,null,null,null,null,null,12.833333333333334,6,18.206879648384504,13.142857142857142,-5.0640225055273653]
[null,null,null,null,null,null,null,null,null,null,null,null,null,null,null,null,null,null,null,null,null,null,null,null,null,null,12.166666666666666,6,17.398779050780753,12.571428571428569,-4.8273504793521873]
[null,null,null,null,null,null,null,null,null,null,null,null,null,null,null,null,null,null,null,null,null,null,null,null,null,null,11.333333333333334,6,16.383085802514373,12.142857142857142,-4.2402286596572338]
[null,null,null,null,null,null,null,null,null,null,null,null,null,null,null,null,null,null,null,null,null,null,null,null,null,null,11.333333333333334,6,16.383085802514373,11.571428571428571,-4.811657231085805]
[null,null,null,null,null,null,null,null,null,null,null,null,null,null,null,null,null,null,null,null,null,null,null,null,null,null,10.666666666666666,6,15.565646152233022,11.142857142857142,-4.422789009375883]
[null,null,null,null,null,null,null,null,null,null,null,null,null,null,null,null,null,null,null,null,null,null,null,null,null,null,10.5,6,15.360555523805896,11.428571428571427,-3.9319840952344727]
[null,null,null,null,null,null,null,null,null,null,null,null,null,null,null,null,null,null,null,null,null,null,null,null,null,null,11.333333333333334,6,16.383085802514373,11.714285714285712,-4.6688000882286644]
[null,null,null,null,null,null,null,null,null,null,null,null,null,null,null,null,null,null,null,null,null,null,null,null,null,null,11.5,6,16.586747487343949,11.142857142857141,-5.4438903444868121]
[null,null,null,null,null,null,null,null,null,null,null,null,null,null,null,null,null,null,null,null,null,null,null,null,null,null,12.833333333333334,6,18.206879648384504,12,-6.2068796483845077]
[null,null,null,null,null,null,null,null,null,null,null,null,null,null,null,null,null,null,null,null,null,null,null,null,null,null,13.333333333333334,6,18.810558908384994,12.571428571428571,-6.2391303369564266]
[null,null,null,null,null,null,null,null,null,null,null,null,null,null,null,null,null,null,null,null,null,null,null,null,null,null,13.5,6,19.01135192126215,12,-7.011351921262154]
[null,null,null,null,null,null,null,null,null,null,null,null,null,null,null,null,null,null,null,null,null,null,null,null,null,null,12.833333333333334,6,18.206879648384504,12,-6.2068796483845077]
[null,null,null,null,null,null,null,null,null,null,null,null,null,null,null,null,null,null,null,null,null,null,null,null,null,null,12.833333333333334,6,18.206879648384504,11.714285714285714,-6.4925939340987942]
[null,null,null,null,null,null,null,null,null,null,null,null,null,null,null,null,null,null,null,null,null,null,null,null,null,null,12.5,6,17.803300858899107,11.285714285714286,-6.5175865731848237]
[null,null,null,null,null,null,null,null,null,null,null,null,null,null,null,null,null,null,null,null,null,null,null,null,null,null,11.166666666666666,6,16.179151080607522,11.285714285714286,-4.8934367948932387]
[null,null,null,null,null,null,null,null,null,null,null,null,null,null,null,null,null,null,null,null,null,null,null,null,null,null,11.166666666666666,6,16.179151080607522,10.428571428571429,-5.7505796520360963]
[null,null,null,null,null,null,null,null,null,null,null,null,null,null,null,null,null,null,null,null,null,null,null,null,null,null,11.333333333333334,6,16.383085802514373,10.714285714285715,-5.6688000882286609]
[null,null,null,null,null,null,null,null,null,null,null,null,null,null,null,null,null,null,null,null,null,null,null,null,null,null,12.166666666666666,6,17.398779050780753,11.428571428571427,-5.9702076222093297]
[null,null,null,null,null,null,null,null,null,null,null,null,null,null,null,null,null,null,null,null,null,null,null,null,null,null,11.166666666666666,6,16.179151080607522,11.285714285714285,-4.8934367948932405]
[null,null,null,null,null,null,null,null,null,null,null,null,null,null,null,null,null,null,null,null,null,null,null,null,null,null,11.166666666666666,6,16.179151080607522,11.714285714285715,-4.4648653663218099]
[null,null,null,null,null,null,null,null,null,null,null,null,null,null,null,null,null,null,null,null,null,null,null,null,null,null,12.333333333333334,6,17.601160209759705,13.142857142857142,-4.4583030669025661]
[null,null,null,null,null,null,null,null,null,null,null,null,null,null,null,null,null,null,null,null,null,null,null,null,null,null,12.333333333333334,6,17.601160209759705,13.000000000000002,-4.6011602097597066]
[null,null,null,null,null,null,null,null,null,null,null,null,null,null,null,null,null,null,null,null,null,null,null,null,null,null,12.166666666666666,6,17.398779050780753,13.142857142857142,-4.2559219079236144]
[null,null,null,null,null,null,null,null,null,null,null,null,null,null,null,null,null,null,null,null,null,null,null,null,null,null,12,6,17.196152422706632,12.857142857142856,-4.3390095655637797]
[null,null,null,null,null,null,null,null,null,null,null,null,null,null,null,null,null,null,null,null,null,null,null,null,null,null,12.166666666666666,6,17.398779050780753,12.285714285714285,-5.113064765066472]
[null,null,null,null,null,null,null,null,null,null,null,null,null,null,null,null,null,null,null,null,null,null,null,null,null,null,11.333333333333334,6,16.383085802514373,12.428571428571427,-3.9545143739429491]
[null,null,null,null,null,null,null,null,null,null,null,null,null,null,null,null,null,null,null,null,null,null,null,null,null,null,10.333333333333334,6,15.155158713829811,12,-3.1551587138298149]
[null,null,null,null,null,null,null,null,null,null,null,null,null,null,null,null,null,null,null,null,null,null,null,null,null,null,9.8333333333333339,6,14.537055263890029,11.285714285714285,-3.2513409781757474]
[null,null,null,null,null,null,null,null,null,null,null,null,null,null,null,null,null,null,null,null,null,null,null,null,null,null,10.833333333333334,6,15.770437747866209,11.142857142857142,-4.6275806050090704]
[null,null,null,null,null,null,null,null,null,null,null,null,null,null,null,null,null,null,null,null,null,null,null,null,null,null,11.5,6,16.586747487343949,11.428571428571427,-5.1581760587725256]
[null,null,null,null,null,null,null,null,null,null,null,null,null,null,null,null,null,null,null,null,null,null,null,null,null,null,11.5,6,16.586747487343949,10.428571428571427,-6.1581760587725256]
[null,null,null,null,null,null,null,null,null,null,null,null,null,null,null,null,null,null,null,null,null,null,null,null,null,null,12.666666666666666,6,18.005205792682322,10.571428571428571,-7.4337772212537541]
[null,null,null,null,null,null,null,null,null,null,null,null,null,null,null,null,null,null,null,null,null,null,null,null,null,null,13.5,6,19.01135192126215,10.285714285714285,-8.7256376355478693]
[null,null,null,null,null,null,null,null,null,null,null,null,null,null,null,null,null,null,null,null,null,null,null,null,null,null,13.333333333333334,6,18.810558908384994,10.428571428571429,-8.381987479813569]
[null,null,null,null,null,null,null,null,null,null,null,null,null,null,null,null,null,null,null,null,null,null,null,null,null,null,12.666666666666666,6,18.005205792682322,10.285714285714286,-7.7194915069680388]
[null,null,null,null,null,null,null,null,null,null,null,null,null,null,null,null,null,null,null,null,null,null,null,null,null,null,12.5,6,17.803300858899107,11.142857142857142,-6.6604437160419678]
[null,null,null,null,null,null,null,null,null,null,null,null,null,null,null,null,null,null,null,null,null,null,null,null,null,null,12.666666666666666,6,18.005205792682322,11.285714285714285,-6.7194915069680405]
[null,null,null,null,null,null,null,null,null,null,null,null,null,null,null,null,null,null,null,null,null,null,null,null,null,null,12.333333333333334,6,17.601160209759705,11.571428571428569,-6.029731638331139]
[null,null,null,null,null,null,null,null,null,null,null,null,null,null,null,null,null,null,null,null,null,null,null,null,null,null,11.333333333333334,6,16.383085802514373,10.571428571428568,-5.8116572310858086]
[null,null,null,null,null,null,null,null,null,null,null,null,null,null,null,null,null,null,null,null,null,null,null,null,null,null,11.5,6,16.586747487343949,11.428571428571425,-5.1581760587725274]
[null,null,null,null,null,null,null,null,null,null,null,null,null,null,null,null,null,null,null,null,null,null,null,null,null,null,11,6,15.974937185533101,11.857142857142856,-4.1177943283902483]
[null,null,null,null,null,null,null,null,null,null,null,null,null,null,null,null,null,null,null,null,null,null,null,null,null,null,11,6,15.974937185533101,12.142857142857142,-3.8320800426759618]
[null,null,null,null,null,null,null,null,null,null,null,null,null,null,null,null,null,null,null,null,null,null,null,null,null,null,10.333333333333334,6,15.155158713829811,12.571428571428569,-2.5837301424012455]
[null,null,null,null,null,null,null,null,null,null,null,null,null,null,null,null,null,null,null,null,null,null,null,null,null,null,10.5,6,15.360555523805896,11.999999999999998,-3.3605555238059015]
[null,null,null,null,null,null,null,null,null,null,null,null,null,null,null,null,null,null,null,null,null,null,null,null,null,null,10.333333333333334,6,15.155158713829811,12.714285714285714,-2.4408729995441014]
[null,null,null,null,null,null,null,null,null,null,null,null,null,null,null,null,null,null,null,null,null,null,null,null,null,null,10.333333333333334,6,15.155158713829811,13.571428571428569,-1.5837301424012455]
[null,null,null,null,null,null,null,null,null,null,null,null,null,null,null,null,null,null,null,null,null,null,null,null,null,null,10.5,6,15.360555523805896,12.571428571428571,-2.7891269523773285]
[null,null,null,null,null,null,null,null,null,null,null,null,null,null,null,null,null,null,null,null,null,null,null,null,null,null,10.666666666666666,6,15.565646152233022,12.857142857142858,-2.7085032950901677]
[null,null,null,null,null,null,null,null,null,null,null,null,null,null,null,null,null,null,null,null,null,null,null,null,null,null,12,6,17.196152422706632,12.571428571428571,-4.6247238512780644]
[null,null,null,null,null,null,null,null,null,null,null,null,null,null,null,null,null,null,null,null,null,null,null,null,null,null,11.5,6,16.586747487343949,11.714285714285712,-4.8724617730582409]
[null,null,null,null,null,null,null,null,null,null,null,null,null,null,null,null,null,null,null,null,null,null,null,null,null,null,10.833333333333334,6,15.770437747866209,11.714285714285712,-4.056152033580501]
[null,null,null,null,null,null,null,null,null,null,null,null,null,null,null,null,null,null,null,null,null,null,null,null,null,null,11.5,6,16.586747487343949,11.857142857142856,-4.7296046302010968]
[null,null,null,null,null,null,null,null,null,null,null,null,null,null,null,null,null,null,null,null,null,null,null,null,null,null,12.166666666666666,6,17.398779050780753,12.142857142857142,-5.2559219079236144]
[null,null,null,null,null,null,null,null,null,null,null,null,null,null,null,null,null,null,null,null,null,null,null,null,null,null,11.666666666666666,6,16.790142049646466,12.714285714285714,-4.075856335360756]
[null,null,null,null,null,null,null,null,null,null,null,null,null,null,null,null,null,null,null,null,null,null,null,null,null,null,12.166666666666666,6,17.398779050780753,12.285714285714285,-5.113064765066472]
[null,null,null,null,null,null,null,null,null,null,null,null,null,null,null,null,null,null,null,null,null,null,null,null,null,null,12.5,6,17.803300858899107,12.857142857142858,-4.9461580017562525]
[null,null,null,null,null,null,null,null,null,null,null,null,null,null,null,null,null,null,null,null,null,null,null,null,null,null,14,6,19.612486080160913,13.428571428571427,-6.1839146515894896]
[null,null,null,null,null,null,null,null,null,null,null,null,null,null,null,null,null,null,null,null,null,null,null,null,null,null,13.333333333333334,6,18.810558908384994,13.285714285714286,-5.5248446226707113]
[null,null,null,null,null,null,null,null,null,null,null,null,null,null,null,null,null,null,null,null,null,null,null,null,null,null,12.333333333333334,6,17.601160209759705,12.857142857142856,-4.7440173526168525]
[null,null,null,null,null,null,null,null,null,null,null,null,null,null,null,null,null,null,null,null,null,null,null,null,null,null,13,6,18.408326913195985,11.999999999999998,-6.4083269131959906]
[null,null,null,null,null,null,null,null,null,null,null,null,null,null,null,null,null,null,null,null,null,null,null,null,null,null,11.666666666666666,6,16.790142049646466,12.285714285714285,-4.5044277639321848]
[null,null,null,null,null,null,null,null,null,null,null,null,null,null,null,null,null,null,null,null,null,null,null,null,null,null,11.833333333333334,6,16.993275193470907,11.428571428571427,-5.5647037648994839]
[null,null,null,null,null,null,null,null,null,null,null,null,null,null,null,null,null,null,null,null,null,null,null,null,null,null,11.333333333333334,6,16.383085802514373,10.714285714285712,-5.6688000882286644]
[null,null,null,null,null,null,null,null,null,null,null,null,null,null,null,null,null,null,null,null,null,null,null,null,null,null,12,6,17.196152422706632,10.142857142857141,-7.053295279849495]
[null,null,null,null,null,null,null,null,null,null,null,null,null,null,null,null,null,null,null,null,null,null,null,null,null,null,12.833333333333334,6,18.206879648384504,9.5714285714285712,-8.6354510769559365]
[null,null,null,null,null,null,null,null,null,null,null,null,null,null,null,null,null,null,null,null,null,null,null,null,null,null,12.166666666666666,6,17.398779050780753,9.5714285714285712,-7.8273504793521855]
[null,null,null,null,null,null,null,null,null,null,null,null,null,null,null,null,null,null,null,null,null,null,null,null,null,null,12.666666666666666,6,18.005205792682322,10.571428571428571,-7.4337772212537541]
[null,null,null,null,null,null,null,null,null,null,null,null,null,null,null,null,null,null,null,null,null,null,null,null,null,null,13,6,18.408326913195985,9.2857142857142847,-9.1226126274817041]
[null,null,null,null,null,null,null,null,null,null,null,null,null,null,null,null,null,null,null,null,null,null,null,null,null,null,13.833333333333334,6,19.412311734438681,8.9999999999999982,-10.412311734438687]
[null,null,null,null,null,null,null,null,null,null,null,null,null,null,null,null,null,null,null,null,null,null,null,null,null,null,13,6,18.408326913195985,8.8571428571428577,-9.5511840560531311]
[null,null,null,null,null,null,null,null,null,null,null,null,null,null,null,null,null,null,null,null,null,null,null,null,null,null,12.833333333333334,6,18.206879648384504,8.2857142857142847,-9.921165362670223]
[null,null,null,null,null,null,null,null,null,null,null,null,null,null,null,null,null,null,null,null,null,null,null,null,null,null,12,6,17.196152422706632,8.7142857142857153,-8.4818667084209203]
[null,null,null,null,null,null,null,null,null,null,null,null,null,null,null,null,null,null,null,null,null,null,null,null,null,null,12.166666666666666,6,17.398779050780753,7.5714285714285703,-9.8273504793521873]
[null,null,null,null,null,null,null,null,null,null,null,null,null,null,null,null,null,null,null,null,null,null,null,null,null,null,11,6,15.974937185533101,8.5714285714285712,-7.403508614104533]
[null,null,null,null,null,null,null,null,null,null,null,null,null,null,null,null,null,null,null,null,null,null,null,null,null,null,9.8333333333333339,6,14.537055263890029,10.142857142857142,-4.3941981210328898]
[null,null,null,null,null,null,null,null,null,null,null,null,null,null,null,null,null,null,null,null,null,null,null,null,null,null,10.166666666666666,6,14.949448284093913,11.142857142857141,-3.8065911412367761]
[null,null,null,null,null,null,null,null,null,null,null,null,null,null,null,null,null,null,null,null,null,null,null,null,null,null,9.1666666666666661,6,13.708142197812904,12.857142857142854,-0.85099934067005378]
[null,null,null,null,null,null,null,null,null,null,null,null,null,null,null,null,null,null,null,null,null,null,null,null,null,null,10,6,14.743416490252569,14.142857142857141,-0.60055934739543204]
[null,null,null,null,null,null,null,null,null,null,null,null,null,null,null,null,null,null,null,null,null,null,null,null,null,null,10,6,14.743416490252569,13.999999999999998,-0.74341649025257439]
[null,null,null,null,null,null,null,null,null,null,null,null,null,null,null,null,null,null,null,null,null,null,null,null,null,null,9.6666666666666661,6,14.330356193211074,15,0.66964380678892255]
[null,null,null,null,null,null,null,null,null,null,null,null,null,null,null,null,null,null,null,null,null,null,null,null,null,null,9,6,13.5,14.428571428571427,0.9285714285714235]
[null,null,null,null,null,null,null,null,null,null,null,null,null,null,null,null,null,null,null,null,null,null,null,null,null,null,8.3333333333333339,6,12.663460352255527,13.428571428571427,0.76511107631589681]
[null,null,null,null,null,null,null,null,null,null,null,null,null,null,null,null,null,null,null,null,null,null,null,null,null,null,8.6666666666666661,6,13.082547099830588,13.285714285714283,0.2031671858836912]
[null,null,null,null,null,null,null,null,null,null,null,null,null,null,null,null,null,null,null,null,null,null,null,null,null,null,8.1666666666666661,6,12.453273716537227,12.142857142857142,-0.31041657368008835]
[null,null,null,null,null,null,null,null,null,null,null,null,null,null,null,null,null,null,null,null,null,null,null,null,null,null,6.5,6,10.324264635194588,10.857142857142856,0.53287822194826617]
[null,null,null,null,null,null,null,null,null,null,null,null,null,null,null,null,null,null,null,null,null,null,null,null,null,null,6.8,5,10.711521443121589,10.714285714285714,2.7642711641231443E-3]
[null,null,null,null,null,null,null,null,null,null,null,null,null,null,null,null,null,null,null,null,null,null,null,null,null,null,7.25,4,11.288873605350878,10,-1.2888736053508794]
[null,null,null,null,null,null,null,null,null,null,null,null,null,null,null,null,null,null,null,null,null,null,null,null,null,null,8.25,4,12.558421984903521,9.1428571428571423,-3.4155648420463827]
[null,null,null,null,null,null,null,null,null,null,null,null,null,null,null,null,null,null,null,null,null,null,null,null,null,null,8.3333333333333339,3,12.663460352255527,9.2857142857142847,-3.3777460665412455]
[null,null,null,null,null,null,null,null,null,null,null,null,null,null,null,null,null,null,null,null,null,null,null,null,null,null,8,2,12.242640687119286,9.2857142857142847,-2.9569264014050045,25]
[null,null,null,null,null,null,null,null,null,null,null,null,null,null,null,null,null,null,null,null,null,null,null,null,null,null,10,2,14.743416490252569,9.8571428571428577,-4.886273633109715]
[null,null,null,null,null,null,null,null,null,null,null,null,null,null,null,null,null,null,null,null,null,null,null,null,null,null,11.75,4,16.891740950300782,10.857142857142858,-6.0345980931579284]
[null,null,null,null,null,null,null,null,null,null,null,null,null,null,null,null,null,null,null,null,null,null,null,null,null,null,13,5,18.408326913195985,11.285714285714285,-7.1226126274817041]
[null,null,null,null,null,null,null,null,null,null,null,null,null,null,null,null,null,null,null,null,null,null,null,null,null,null,13.666666666666666,6,19.211934919871375,12.857142857142858,-6.3547920627285208,32]
[null,null,null,null,null,null,null,null,null,null,null,null,null,null,null,null,null,null,null,null,null,null,null,null,null,null,12.166666666666666,6,17.398779050780753,13,-4.3987790507807567]
[null,null,null,null,null,null,null,null,null,null,null,null,null,null,null,null,null,null,null,null,null,null,null,null,null,null,11.333333333333334,6,16.383085802514373,14,-2.3830858025143762]
[null,null,null,null,null,null,null,null,null,null,null,null,null,null,null,null,null,null,null,null,null,null,null,null,null,null,11.333333333333334,6,16.383085802514373,14.571428571428571,-1.811657231085805]
[null,null,null,null,null,null,null,null,null,null,null,null,null,null,null,null,null,null,null,null,null,null,null,null,null,null,10.666666666666666,6,15.565646152233022,13.714285714285714,-1.8513604379473119]
[null,null,null,null,null,null,null,null,null,null,null,null,null,null,null,null,null,null,null,null,null,null,null,null,null,null,8.8333333333333339,6,13.291471958365086,13.571428571428571,0.27995661306348119]
[null,null,null,null,null,null,null,null,null,null,null,null,null,null,null,null,null,null,null,null,null,null,null,null,null,null,9.1666666666666661,6,13.708142197812904,14.714285714285714,1.0061435164728056]
[null,null,null,null,null,null,null,null,null,null,null,null,null,null,null,null,null,null,null,null,null,null,null,null,null,null,9,6,13.5,14.142857142857142,0.6428571428571388]
[null,null,null,null,null,null,null,null,null,null,null,null,null,null,null,null,null,null,null,null,null,null,null,null,null,null,8.8333333333333339,6,13.291471958365086,15,1.70852804163491]
[null,null,null,null,null,null,null,null,null,null,null,null,null,null,null,null,null,null,null,null,null,null,null,null,null,null,9,5,13.5,13.857142857142858,0.3571428571428541]
[null,null,null,null,null,null,null,null,null,null,null,null,null,null,null,null,null,null,null,null,null,null,null,null,null,null,9.5,4,14.123310502226733,13.714285714285712,-0.40902478794102493]
[null,null,null,null,null,null,null,null,null,null,null,null,null,null,null,null,null,null,null,null,null,null,null,null,null,null,11.4,5,16.464582904840242,13.571428571428569,-2.893154333411676]
[null,null,null,null,null,null,null,null,null,null,null,null,null,null,null,null,null,null,null,null,null,null,null,null,null,null,13.166666666666666,6,18.609551930935979,13.142857142857141,-5.4666947880788417]
[null,null,null,null,null,null,null,null,null,null,null,null,null,null,null,null,null,null,null,null,null,null,null,null,null,null,13.5,6,19.01135192126215,12.571428571428571,-6.4399233498335828]
[null,null,null,null,null,null,null,null,null,null,null,null,null,null,null,null,null,null,null,null,null,null,null,null,null,null,14.5,6,20.211829829397931,12.571428571428571,-7.6404012579693639]
[null,null,null,null,null,null,null,null,null,null,null,null,null,null,null,null,null,null,null,null,null,null,null,null,null,null,14.333333333333334,6,20.012241679133609,12.285714285714285,-7.7265273934193281,33]
[null,null,null,null,null,null,null,null,null,null,null,null,null,null,null,null,null,null,null,null,null,null,null,null,null,null,13.5,6,19.01135192126215,13.857142857142858,-5.1542090641192964]
[null,null,null,null,null,null,null,null,null,null,null,null,null,null,null,null,null,null,null,null,null,null,null,null,null,null,14.166666666666666,6,19.812461561984772,13.428571428571429,-6.3838901334133471]
[null,null,null,null,null,null,null,null,null,null,null,null,null,null,null,null,null,null,null,null,null,null,null,null,null,null,14.333333333333334,6,20.012241679133609,12.999999999999998,-7.0122416791336146]
[null,null,null,null,null,null,null,null,null,null,null,null,null,null,null,null,null,null,null,null,null,null,null,null,null,null,14.5,6,20.211829829397931,12.857142857142858,-7.3546869722550774]
[null,null,null,null,null,null,null,null,null,null,null,null,null,null,null,null,null,null,null,null,null,null,null,null,null,null,14.666666666666666,6,20.411229313204693,12.571428571428571,-7.8398007417761253]
[null,null,null,null,null,null,null,null,null,null,null,null,null,null,null,null,null,null,null,null,null,null,null,null,null,null,13.666666666666666,6,19.211934919871375,12.571428571428569,-6.6405063484428091]
[null,null,null,null,null,null,null,null,null,null,null,null,null,null,null,null,null,null,null,null,null,null,null,null,null,null,14.333333333333334,6,20.012241679133609,11.857142857142856,-8.155098821990757]
[null,null,null,null,null,null,null,null,null,null,null,null,null,null,null,null,null,null,null,null,null,null,null,null,null,null,13.5,6,19.01135192126215,9.8571428571428577,-9.1542090641192964]
[null,null,null,null,null,null,null,null,null,null,null,null,null,null,null,null,null,null,null,null,null,null,null,null,null,null,12.333333333333334,6,17.601160209759705,9.5714285714285694,-8.029731638331139]
[null,null,null,null,null,null,null,null,null,null,null,null,null,null,null,null,null,null,null,null,null,null,null,null,null,null,12.5,6,17.803300858899107,10.142857142857141,-7.6604437160419696]
[null,null,null,null,null,null,null,null,null,null,null,null,null,null,null,null,null,null,null,null,null,null,null,null,null,null,11.666666666666666,6,16.790142049646466,11.428571428571427,-5.3615706210750425]
[null,null,null,null,null,null,null,null,null,null,null,null,null,null,null,null,null,null,null,null,null,null,null,null,null,null,12.833333333333334,6,18.206879648384504,11.571428571428571,-6.6354510769559365]
[null,null,null,null,null,null,null,null,null,null,null,null,null,null,null,null,null,null,null,null,null,null,null,null,null,null,12.6,5,17.924471804789654,11.857142857142856,-6.0673289476468018]
[null,null,null,null,null,null,null,null,null,null,null,null,null,null,null,null,null,null,null,null,null,null,null,null,null,null,13,5,18.408326913195985,12.571428571428569,-5.8368983417674194]
[null,null,null,null,null,null,null,null,null,null,null,null,null,null,null,null,null,null,null,null,null,null,null,null,null,null,13.333333333333334,6,18.810558908384994,13.285714285714283,-5.5248446226707149]
[null,null,null,null,null,null,null,null,null,null,null,null,null,null,null,null,null,null,null,null,null,null,null,null,null,null,12.666666666666666,6,18.005205792682322,13.714285714285712,-4.2909200783966135]
[null,null,null,null,null,null,null,null,null,null,null,null,null,null,null,null,null,null,null,null,null,null,null,null,null,null,11,5,15.974937185533101,14.142857142857142,-1.8320800426759618]
[null,null,null,null,null,null,null,null,null,null,null,null,null,null,null,null,null,null,null,null,null,null,null,null,null,null,10.4,5,15.237354648979132,12.571428571428571,-2.665926077550564]
[null,null,null,null,null,null,null,null,null,null,null,null,null,null,null,null,null,null,null,null,null,null,null,null,null,null,10.5,6,15.360555523805896,12.285714285714285,-3.074841238091615]
[null,null,null,null,null,null,null,null,null,null,null,null,null,null,null,null,null,null,null,null,null,null,null,null,null,null,9.6666666666666661,6,14.330356193211074,12,-2.3303561932110775]
[null,null,null,null,null,null,null,null,null,null,null,null,null,null,null,null,null,null,null,null,null,null,null,null,null,null,10.166666666666666,6,14.949448284093913,11.142857142857142,-3.8065911412367743]
[null,null,null,null,null,null,null,null,null,null,null,null,null,null,null,null,null,null,null,null,null,null,null,null,null,null,10.166666666666666,6,14.949448284093913,12.142857142857142,-2.8065911412367743]
[null,null,null,null,null,null,null,null,null,null,null,null,null,null,null,null,null,null,null,null,null,null,null,null,null,null,9.8000000000000007,5,14.495742752749559,11.857142857142856,-2.6385998956067063]
[null,null,null,null,null,null,null,null,null,null,null,null,null,null,null,null,null,null,null,null,null,null,null,null,null,null,9.8000000000000007,5,14.495742752749559,10.857142857142858,-3.6385998956067045]
[null,null,null,null,null,null,null,null,null,null,null,null,null,null,null,null,null,null,null,null,null,null,null,null,null,null,10.6,5,15.483646178829911,11,-4.4836461788299147]
[null,null,null,null,null,null,null,null,null,null,null,null,null,null,null,null,null,null,null,null,null,null,null,null,null,null,12.6,5,17.924471804789654,11.714285714285712,-6.2101860905039459]
[null,null,null,null,null,null,null,null,null,null,null,null,null,null,null,null,null,null,null,null,null,null,null,null,null,null,14,6,19.612486080160913,11.857142857142856,-7.7553432230180608]
[null,null,null,null,null,null,null,null,null,null,null,null,null,null,null,null,null,null,null,null,null,null,null,null,null,null,14.333333333333334,6,20.012241679133609,11.857142857142856,-8.155098821990757]
[null,null,null,null,null,null,null,null,null,null,null,null,null,null,null,null,null,null,null,null,null,null,null,null,null,null,13.333333333333334,6,18.810558908384994,11.999999999999998,-6.8105589083849996]
[null,null,null,null,null,null,null,null,null,null,null,null,null,null,null,null,null,null,null,null,null,null,null,null,null,null,12.5,6,17.803300858899107,12,-5.8033008588991102]
[null,null,null,null,null,null,null,null,null,null,null,null,null,null,null,null,null,null,null,null,null,null,null,null,null,null,11.833333333333334,6,16.993275193470907,13.714285714285714,-3.2789894791851975]
[null,null,null,null,null,null,null,null,null,null,null,null,null,null,null,null,null,null,null,null,null,null,null,null,null,null,11.333333333333334,6,16.383085802514373,13.571428571428569,-2.8116572310858068]
[null,null,null,null,null,null,null,null,null,null,null,null,null,null,null,null,null,null,null,null,null,null,null,null,null,null,11.166666666666666,6,16.179151080607522,12.571428571428569,-3.6077225091789558]
[null,null,null,null,null,null,null,null,null,null,null,null,null,null,null,null,null,null,null,null,null,null,null,null,null,null,11,5,15.974937185533101,11.714285714285712,-4.2606514712473924]
[null,null,null,null,null,null,null,null,null,null,null,null,null,null,null,null,null,null,null,null,null,null,null,null,null,null,10.4,5,15.237354648979132,11.857142857142856,-3.3802117918362793]
[null,null,null,null,null,null,null,null,null,null,null,null,null,null,null,null,null,null,null,null,null,null,null,null,null,null,10,5,14.743416490252569,10.857142857142856,-3.8862736331097167]
[null,null,null,null,null,null,null,null,null,null,null,null,null,null,null,null,null,null,null,null,null,null,null,null,null,null,9.6,5,14.2475800154489,10.428571428571427,-3.8190085868774766]
[null,null,null,null,null,null,null,null,null,null,null,null,null,null,null,null,null,null,null,null,null,null,null,null,null,null,8.75,4,13.187059837324712,9.5714285714285712,-3.6156312658961447]
[null,null,null,null,null,null,null,null,null,null,null,null,null,null,null,null,null,null,null,null,null,null,null,null,null,null,9.75,4,14.433748498798799,9.4285714285714288,-5.0051770702273739]
[null,null,null,null,null,null,null,null,null,null,null,null,null,null,null,null,null,null,null,null,null,null,null,null,null,null,9.8000000000000007,5,14.495742752749559,10.142857142857142,-4.3528856098924198]
[null,null,null,null,null,null,null,null,null,null,null,null,null,null,null,null,null,null,null,null,null,null,null,null,null,null,11,5,15.974937185533101,11.428571428571429,-4.5463657569616753]
[null,null,null,null,null,null,null,null,null,null,null,null,null,null,null,null,null,null,null,null,null,null,null,null,null,null,11.8,5,16.9526692111953,12.428571428571429,-4.5240977826238744]
[null,null,null,null,null,null,null,null,null,null,null,null,null,null,null,null,null,null,null,null,null,null,null,null,null,null,13.6,5,19.131726674375734,11.571428571428571,-7.5602981029471668]
[null,null,null,null,null,null,null,null,null,null,null,null,null,null,null,null,null,null,null,null,null,null,null,null,null,null,13.166666666666666,6,18.609551930935979,12.571428571428571,-6.0381233595074111]
[null,null,null,null,null,null,null,null,null,null,null,null,null,null,null,null,null,null,null,null,null,null,null,null,null,null,12.333333333333334,6,17.601160209759705,13.285714285714286,-4.3154459240454219]
[null,null,null,null,null,null,null,null,null,null,null,null,null,null,null,null,null,null,null,null,null,null,null,null,null,null,12,6,17.196152422706632,14.714285714285715,-2.4818667084209203]
[null,null,null,null,null,null,null,null,null,null,null,null,null,null,null,null,null,null,null,null,null,null,null,null,null,null,10.666666666666666,6,15.565646152233022,14.714285714285714,-0.85136043794731187]
[null,null,null,null,null,null,null,null,null,null,null,null,null,null,null,null,null,null,null,null,null,null,null,null,null,null,9.6,5,14.2475800154489,14,-0.24758001544890362]
[null,null,null,null,null,null,null,null,null,null,null,null,null,null,null,null,null,null,null,null,null,null,null,null,null,null,9.1666666666666661,6,13.708142197812904,14.857142857142856,1.149000659329948]
[null,null,null,null,null,null,null,null,null,null,null,null,null,null,null,null,null,null,null,null,null,null,null,null,null,null,9.8333333333333339,6,14.537055263890029,17.142857142857142,2.6058018789671102]
[null,null,null,null,null,null,null,null,null,null,null,null,null,null,null,null,null,null,null,null,null,null,null,null,null,null,9.5,6,14.123310502226733,17.285714285714285,3.162403783487548]
[null,null,null,null,null,null,null,null,null,null,null,null,null,null,null,null,null,null,null,null,null,null,null,null,null,null,10.5,6,15.360555523805896,17.142857142857142,1.7823016190512426]
[null,null,null,null,null,null,null,null,null,null,null,null,null,null,null,null,null,null,null,null,null,null,null,null,null,null,10.4,5,15.237354648979132,16.142857142857139,0.90550249387800363]
[null,null,null,null,null,null,null,null,null,null,null,null,null,null,null,null,null,null,null,null,null,null,null,null,null,null,10,4,14.743416490252569,15.857142857142854,1.1137263668902815]
[null,null,null,null,null,null,null,null,null,null,null,null,null,null,null,null,null,null,null,null,null,null,null,null,null,null,9.75,4,14.433748498798799,15.571428571428571,1.1376800726297684]
[null,null,null,null,null,null,null,null,null,null,null,null,null,null,null,null,null,null,null,null,null,null,null,null,null,null,10.25,4,15.052343178074636,13.428571428571427,-1.6237717495032129]
[null,null,null,null,null,null,null,null,null,null,null,null,null,null,null,null,null,null,null,null,null,null,null,null,null,null,11.333333333333334,3,16.383085802514373,11.999999999999998,-4.383085802514378]
[null,null,null,null,null,null,null,null,null,null,null,null,null,null,null,null,null,null,null,null,null,null,null,null,null,null,14.833333333333334,6,20.610443337479005,12.285714285714285,-8.3247290517647237]
[null,null,null,null,null,null,null,null,null,null,null,null,null,null,null,null,null,null,null,null,null,null,null,null,null,null,14.333333333333334,6,20.012241679133609,11,-9.0122416791336128,33]
[null,null,null,null,null,null,null,null,null,null,null,null,null,null,null,null,null,null,null,null,null,null,null,null,null,null,13.333333333333334,6,18.810558908384994,11,-7.8105589083849978]
[null,null,null,null,null,null,null,null,null,null,null,null,null,null,null,null,null,null,null,null,null,null,null,null,null,null,14.8,5,20.570615218501406,10.999999999999998,-9.5706152185014108]
[null,null,null,null,null,null,null,null,null,null,null,null,null,null,null,null,null,null,null,null,null,null,null,null,null,null,16.399999999999999,5,22.474537019394973,11,-11.474537019394976]
[null,null,null,null,null,null,null,null,null,null,null,null,null,null,null,null,null,null,null,null,null,null,null,null,null,null,17.333333333333332,6,23.578331331731732,10.857142857142856,-12.72118847458888]
[null,null,null,null,null,null,null,null,null,null,null,null,null,null,null,null,null,null,null,null,null,null,null,null,null,null,17.166666666666668,6,23.381568113994696,10.285714285714285,-13.095853828280415]
[null,null,null,null,null,null,null,null,null,null,null,null,null,null,null,null,null,null,null,null,null,null,null,null,null,null,16.5,6,22.593028803476969,9.7142857142857135,-12.878743089191259]
[null,null,null,null,null,null,null,null,null,null,null,null,null,null,null,null,null,null,null,null,null,null,null,null,null,null,16.5,6,22.593028803476969,10,-12.593028803476972]
[null,null,null,null,null,null,null,null,null,null,null,null,null,null,null,null,null,null,null,null,null,null,null,null,null,null,14.166666666666666,6,19.812461561984772,9.7142857142857117,-10.098175847699064]
[null,null,null,null,null,null,null,null,null,null,null,null,null,null,null,null,null,null,null,null,null,null,null,null,null,null,12,6,17.196152422706632,9.4285714285714288,-7.7675809941352068]
[null,null,null,null,null,null,null,null,null,null,null,null,null,null,null,null,null,null,null,null,null,null,null,null,null,null,11.5,6,16.586747487343949,9.7142857142857135,-6.8724617730582391]
[null,null,null,null,null,null,null,null,null,null,null,null,null,null,null,null,null,null,null,null,null,null,null,null,null,null,11.666666666666666,6,16.790142049646466,10.428571428571429,-6.3615706210750407]
[null,null,null,null,null,null,null,null,null,null,null,null,null,null,null,null,null,null,null,null,null,null,null,null,null,null,11.166666666666666,6,16.179151080607522,10.999999999999998,-5.1791510806075269]
[null,null,null,null,null,null,null,null,null,null,null,null,null,null,null,null,null,null,null,null,null,null,null,null,null,null,10.833333333333334,6,15.770437747866209,10.571428571428571,-5.1990091764376416]
[null,null,null,null,null,null,null,null,null,null,null,null,null,null,null,null,null,null,null,null,null,null,null,null,null,null,11.166666666666666,6,16.179151080607522,10.428571428571427,-5.7505796520360981]
[null,null,null,null,null,null,null,null,null,null,null,null,null,null,null,null,null,null,null,null,null,null,null,null,null,null,11.333333333333334,6,16.383085802514373,10.571428571428569,-5.8116572310858068]
[null,null,null,null,null,null,null,null,null,null,null,null,null,null,null,null,null,null,null,null,null,null,null,null,null,null,10.666666666666666,6,15.565646152233022,11,-4.5656461522330254]
[null,null,null,null,null,null,null,null,null,null,null,null,null,null,null,null,null,null,null,null,null,null,null,null,null,null,9.1666666666666661,6,13.708142197812904,10.428571428571427,-3.2795707692414808]
[null,null,null,null,null,null,null,null,null,null,null,null,null,null,null,null,null,null,null,null,null,null,null,null,null,null,10.166666666666666,6,14.949448284093913,9.428571428571427,-5.5208768555224896]
[null,null,null,null,null,null,null,null,null,null,null,null,null,null,null,null,null,null,null,null,null,null,null,null,null,null,10,6,14.743416490252569,9.7142857142857117,-5.0291307759668609]
[null,null,null,null,null,null,null,null,null,null,null,null,null,null,null,null,null,null,null,null,null,null,null,null,null,null,9.3333333333333339,6,13.915909028289175,16.285714285714285,2.3698052574251065]
[null,null,null,null,null,null,null,null,null,null,null,null,null,null,null,null,null,null,null,null,null,null,null,null,null,null,9.3333333333333339,6,13.915909028289175,21.142857142857142,7.2269481145679642]
[null,null,null,null,null,null,null,null,null,null,null,null,null,null,null,null,null,null,null,null,null,null,null,null,null,null,10,6,14.743416490252569,27.571428571428569,12.828012081175997]

{"sheet":"Identify","index":6,"n_rows":81,"n_cols":49,"rows_kept":81,"cut":false,"hidden":false,"merged":[[0,21,0,23]]}
["Peak Energy keV","Pgamma%","Origin of Peak","Found Peak (keV)","Peak Area counts","Area Uncerty","Peak position Ch","FWHM keV","Diff keV",null,"Unident. Peak (keV)","Peak Area counts","Area Uncerty","Peak position Ch",null,null,null,null,null,null,null,"All the working relating to the recalibrations are performed to the right of this line. Do not use any of the cells.",null,null,null,null,null,null,"n",{"$f":"COUNT(AE2:AE999)","v":80},"x=ch","y=keV","x^2","y^2","xy","x^3","x^4","x2y","n",{"$f":"COUNT(AO2:AO1000)","v":14},"x=keV","y=FWHM","x^2","y^2","xy","x^3","x^4","x2y","(xy)^2"]
[null,null,null,null,null,null,null,null,null,null,null,null,null,null,null,null,null,null,null,null,null,null,null,null,null,null,null,null,"Sum x",{"$f":"SUM(AE2:AE1000)","v":175763.48259722407},95.77081876503955,25.19,9172.0497269260522,634.53610000000003,2412.4669246913463,878414.71210136544,84126496.193204254,231043.93262126727,null,{"$f":"SUM(AO2:AO999)","v":11895.211958079391},185.7486717142622,1.0290428369931057,34502.569043612748,1.0589291603668196,191.14334010854543,6408806.37058069,1190427270.6092649,35504.621532189769,{"$f":"AO2^2*AP2^2","v":36535.776467851072}]
[null,null,null,null,null,null,null,null,null,null,null,null,null,null,null,null,null,null,null,null,null,null,null,null,null,null,null,null,"Sum y",{"$f":"SUM(AF2:AF1000)","v":51830.024656367626},100.90933563680578,25.19,10182.694018661521,634.53610000000003,2541.9061646911377,1027528.8884160101,103687257.47768511,256502.06233008372,null,{"$f":"SUM(AP2:AP999)","v":20.754038489949906},269.64122377622374,1.3235005117350407,72706.389559539573,1.7516536045629145,356.87029765269472,19604639.857185107,5286219082.7835245,96226.943788457851,{"$f":"AO3^2*AP3^2","v":127356.40934672295}]
[null,null,null,null,null,null,null,null,null,null,null,null,null,null,null,"Match Tolerance:",1,"keV",null,null,null,null,null,null,null,null,null,null,"Sum x^2",{"$f":"SUM(AG2:AG1000)","v":682676217.34144819},171.45062787125835,46.54,29395.317797448712,2165.9715999999999,7979.3122211283635,5039845.6928477567,864084708.41300488,1368058.0902932631,null,{"$f":"SUM(AQ2:AQ999)","v":13660404.500196312},338.31206258890472,1.0615641076415778,114455.05169315898,1.1269183546328594,359.13994282657228,38721524.612032332,13099958858.083696,121501.37481571897,128981.49853347358]
[null,null,null,null,null,null,null,null,null,null,null,null,null,null,null,"Peaks Detected:",{"$f":"Search!B29","v":0},null,null,null,0,null,null,null,null,null,null,null,"Sum y^2",{"$f":"SUM(AH2:AH1000)","v":59710337.34727142},194.09012234730923,53.334999999999994,37670.975592793468,2844.6222249999992,10351.796675393736,7311564.261747784,1419102402.1128411,2009181.4832416393,null,{"$f":"SUM(AR2:AR999)","v":32.027069598494826},462,1.2129257572265706,213444,1.4711888925436496,560.37169983867557,98611128,45558341136,258891.72532546814,314016.44198008673]
[null,null,null,null,null,null,null,null,null,null,null,null,null,null,null,"Peaks Identified:",{"$f":"COUNT(Identify!G2:G999)","v":0},null,null,null,{"$f":"U9*0.25","v":2048},null,null,null,null,null,null,null,"Sum xy",{"$f":"SUM(AI2:AI1000)","v":201896937.46615586},215.76233746331994,59.54,46553.386267635557,3545.0115999999998,12846.489572566068,10044467.437937867,2167217772.9836788,2771788.618375021,null,{"$f":"SUM(AS2:AS999)","v":19258.839804911815},510.7,1.6070619246282871,260814.49,2.5826480295899743,820.7265249076662,133197960.043,68024198193.960091,419145.03627034515,673592.02868701401]
[null,null,null,null,null,null,null,null,null,null,null,null,null,null,null,"Peaks  were Significant:",{"$f":"COUNTA(Identify!F2:F999)","v":0},{"$f":"CONCATENATE(Q6-Q7, \" being below the Critical Limit\")","v":"0 being below the Critical Limit"},null,null,{"$f":"U9*0.5","v":4096},null,null,null,null,null,null,null,"Sum x^3",{"$f":"SUM(AJ2:AJ1000)","v":3274766328851.5942},227.97646218047308,63.28,51973.26730832467,4004.3584000000001,14426.350526780338,11848681.608911898,2701220514.70257,3288868.3552707853,null,{"$f":"SUM(AT2:AT999)","v":18566480905.074059},583.19000000000005,1.1327294449495495,340110.57610000006,1.2830759954557145,660.59648500012781,198349086.87575907,115675203975.07393,385253.26408722461,436387.71599452413]
[null,null,null,null,null,null,null,null,null,null,null,null,null,null,null," Items in Peak List:",{"$f":"COUNTA(PeakList!A:A)-1","v":109},{"$f":"CONCATENATE(\"of which \",Q8-Q6,\" were missed\")","v":"of which 109 were missed"},null,null,{"$f":"U9*0.75","v":6144},null,null,null,null,null,null,null,"Sum x^4",{"$f":"SUM(AK2:AK300)","v":1.756749377880953E+16},260.38562023415705,72.81,67800.671224726655,5301.2961000000005,18958.677009248975,17654319.829142615,4596931018.5234766,4936566.8718723478,null,{"$f":"SUM(AU2:AU999)","v":27645270306176.664},609.30999999999995,1.3228065892246104,371258.67609999992,1.749817272496047,805.99928288044725,226211623.93449095,137833004579.52466,491103.42305188527,649634.84400379518]
[null,null,null,null,null,null,null,null,null,null,null,null,null,null,null,"Unidentifiable Peaks:",{"$f":"COUNTA(Identify!K:K)-1","v":0},"of which",null,null,{"$f":"Search!B3","v":8192},"Linear Quad","Energy Cal",null,null,null,null,null,"Sum x^2y",{"$f":"SUM(AL2:AL1000)","v":969209482716.04932},267.17002196246267,74.91,71379.820635422788,5611.5080999999991,20013.706345208077,19070548.246842552,5095078793.9451284,5347062.3637995208,null,{"$f":"SUM(AV2:AV999)","v":23254278.274624433},794.95,1.9066753281075308,631945.50250000006,3.6354108068139603,1515.7115520790817,502365077.2123751,399355118129.9776,1204914.8983252661,2297381.509105979]
[null,null,null,null,null,null,null,null,null,null,null,null,null,null,null,null,{"$f":"Assessment!K8","v":0},"were SpecMaker peaks",null,null,{"$f":"$Q$18+$Q$19*U5+$Q$20*U5^2","v":-4.0904712677001953},"F(Quad)",{"$f":"AD1-2","v":78},null,null,null,null,null,"diffs",100,274.76268531629285,77.11,75494.533242220161,5945.9520999999995,21186.950664739343,20743080.680332549,5699424549.4606857,5821383.4583075969,null,{"$f":"SUM(AW2:AW999)","v":40338471.868123539},911.2,1.5595110348570995,830285.44000000006,2.4320746678410616,1421.0264549617891,756556092.92800009,689373911875.99377,1294839.3057611822,2019316.1857012699]
[null,null,null,null,null,null,null,null,null,null,null,null,null,null,null,null,{"$f":"COUNTA(L:L)-COUNTA(M:M)","v":0},"were not significant",null,null,{"$f":"$Q$18+$Q$19*U6+$Q$20*U6^2","v":603.4383379817009},"Matrix 1",null,null,null,null,null,null,null,null,282.2699757807942,79.290000000000006,79676.33922729014,6286.9041000000007,22381.186379659175,22490238.343989532,6348319032.6622143,6317536.9373318357,null,null,1120.29,1.5388581146529048,1255049.6841,2.3680842970330929,1723.9673572645027,1406019610.6003888,1575149709559.5095,1931343.3906698497,2972063.4489135537]
[null,null,null,null,null,null,null,null,null,null,null,null,null,null,null,null,{"$f":"Q9-Q10-Q11","v":0},"might be investigated",null,null,1211.3682715892792,{"$f":"AD1","v":80},{"$f":"AD2","v":175763.48259722407},{"$f":"AD4","v":682676217.34144819},null,null,null,null,null,null,287.9649684810858,81.23,82923.823072312734,6598.3129000000008,23391.3943897186,23879156.097349674,6876360432.9282265,6735902.148163964,null,null,1238.1099999999999,1.6936568441673923,1532916.3720999998,2.8684735057950506,2096.93347533209,1897919089.4607306,2349832603852.2251,2596234.3051434136,4397129.9999683164]
[null,null,null,null,null,null,null,null,null,null,null,null,null,null,null,"Spurious Detections:",{"$f":"Q5-Q6-Q9","v":0},"were not considered real.",null,null,1819.6993295550346,{"$f":"AD2","v":175763.48259722407},{"$f":"AD4","v":682676217.34144819},{"$f":"AD7","v":3274766328851.5942},null,null,null,null,null,null,299.3964135322073,84.94,89638.212435948488,7214.8035999999993,25430.731365425687,26837359.318761081,8035009128.7122297,7613869.764309464,null,null,1377.67,1.7201325981839646,1897974.6289000001,2.9588561553351167,2369.7750765401024,2614782706.9966636,3602307691948.0933,3264768.0296970033,5615833.9133906495]
[null,null,null,null,null,null,null,null,null,null,null,null,null,null,null,"RMS Energy diffs:",{"$f":"SQRT(SUMSQ(I2:I87))/COUNTA(I:I)/Control!C21","v":0},"keV",null,null,2428.4315118789673,{"$f":"AD4","v":682676217.34144819},{"$f":"AD7","v":3274766328851.5942},{"$f":"AD8","v":1.756749377880953E+16},null,null,null,null,null,null,308.79791510635943,87.327097878165645,95356.152374034369,7626.022023822723,26966.425757066536,29445781.045666136,9092795795.5800591,8327176.0516525768,null,null,1729.6,1.6050297730128764,2991516.1599999997,2.5761205722577656,2776.0594954030707,5174126350.3359995,8949168935541.1445,4801472.5032491516,7706506.3220175523]
[null,null,null,null,null,null,null,null,null,null,null,null,null,null,null,null,{"$f":"Q14/Search!B7","v":0},"channels",null,null,null,"Inverse of Matrix 1",null,null,"Matrix 2","Results matrix",null,null,null,null,317.75710827839566,89.937914455198239,100969.57986144806,8088.8284565505564,28578.411621873514,32083801.720858272,10194856057.397339,9080993.4361562226,null,null,1764.49,2.040543624569394,3113424.9601000003,4.1638182837707998,3600.5188201164501,5493607207.8468494,9693414982173.6875,6353079.4529072754,12963735.774012754]
[null,null,null,null,null,null,null,null,null,null,null,null,null,null,null,"No. FWHMS:",{"$f":"COUNTA(H2:H999)","v":0},null,null,null,null,{"$f":"MINVERSE(V12:X14)","v":4.7857180664011546E-2},-3.2140210321000389E-5,4.1315352324550733E-9,{"$f":"AD3","v":51830.024656367626},{"$f":"MMULT(V16:X18,Y16:Y18)","v":-4.2480540572396421},-4.2480540572396421,-4.2480540572396421,null,null,327.0343994382784,92.58,106951.49841595543,8571.0563999999995,30276.844699995814,34976819.053485967,11438623013.418116,9901569.723349154,null,null,null,null,null,null,null,null,null,null,0]
[null,null,null,null,null,null,null,null,null,null,null,null,null,null,null,"Suggestion for Updated Energy Calibration",null,null,null,null,null,-3.2140210321000369E-5,3.5430497430561065E-8,-5.3556440080857639E-12,{"$f":"AD6","v":201896937.46615586},0.2967400720463802,0.2967400720463802,0.2967400720463802,null,null,369.39244465019442,105.6,136450.77816464694,11151.359999999999,39007.842155060527,50403886.520660304,18618814861.737694,14409202.174186716]
[null,null,null,null,null,null,null,null,null,null,null,null,null,null,null,"Intercept:",{"$f":"Control!C20","v":-4.0904712677001953},{"$f":"V20","v":-4.2480540572396421},"keV",null,0,4.1315352324550684E-9,-5.3556440080857631E-12,8.9471964644434568E-16,{"$f":"AD9","v":969209482716.04932},2.0215281525018218E-8,2.0215281525018218E-8,2.0215281525018218E-8,null,null,381.51416602967834,109.16,145553.05888132096,11915.9056,41646.086363799688,55530553.872175835,21185692949.70929,15888571.907484995]
[null,null,null,null,null,null,null,null,null,null,null,null,null,null,null,"Gradient:",{"$f":"Control!C21","v":0.29654699563980103},{"$f":"V21","v":0.2967400720463802},"ke|V/ch",null,{"$f":"U22*0.25","v":607.10787796974182},"Result","Std.Unc","%RSD",null,null,null,null,null,null,394.60562212346736,112.81,155713.5970114487,12726.096100000001,44515.460231748351,61445460.821785606,24246724294.243847,17566050.878861528]
[null,null,null,null,null,null,null,null,null,null,null,null,null,null,null,"Quad:",{"$f":"Control!C22","v":4.7817749759815342E-8},{"$f":"V22","v":2.0215281525018218E-8},null,null,{"$f":"U22*0.5","v":1214.2157559394836},{"$f":"Z16","v":-4.2480540572396421},{"$f":"V16/W23","v":{"$error":"#DIV/0!"}},{"$f":"W20/V20","v":{"$error":"#DIV/0!"}},{"$f":"-INT(LOG10(W20))","v":{"$error":"#DIV/0!"}},{"$f":"ROUND(V20,Y20)","v":{"$error":"#DIV/0!"}},{"$f":"ROUNDUP(W20,Y20)","v":{"$error":"#DIV/0!"}},{"$f":"MAX(LEN(Z20),LEN(AA20))","v":{"$error":"#DIV/0!"}},null,null,422.61757833256127,121.994,178605.61751567855,14882.536036,51556.808851102476,75481873.551067755,31899966608.156864,21788813.70320769]
[null,null,null,null,null,null,null,null,null,null,null,null,null,null,null,null,null,null,null,null,{"$f":"U22*0.75","v":1821.3236339092255},{"$f":"Z17","v":0.2967400720463802},{"$f":"W17/W23","v":{"$error":"#DIV/0!"}},{"$f":"W21/V21","v":{"$error":"#DIV/0!"}},{"$f":"-INT(LOG10(W21))+$P$32","v":{"$error":"#DIV/0!"}},{"$f":"ROUND(V21,Y21)","v":{"$error":"#DIV/0!"}},{"$f":"ROUNDUP(W21,Y21)","v":{"$error":"#DIV/0!"}},{"$f":"MAX(LEN(Z21),LEN(AA21))","v":{"$error":"#DIV/0!"}},null,null,446,129.06,198916,16656.4836,57560.76,88716536,39567575056,25672098.960000001]
[null,null,null,null,null,null,null,null,null,null,null,null,null,null,null,"Suggestion for Updated Width Calibration",null,null,null,null,{"$f":"Search!B4","v":2428.4315118789673},{"$f":"Z18","v":2.0215281525018218E-8},{"$f":"X18/W23","v":{"$error":"#DIV/0!"}},{"$f":"W22/V22","v":{"$error":"#DIV/0!"}},{"$f":"-INT(LOG10(W22))+$P$32","v":{"$error":"#DIV/0!"}},{"$f":"ROUND(V22,Y22)","v":{"$error":"#DIV/0!"}},{"$f":"ROUNDUP(W22,Y22)","v":{"$error":"#DIV/0!"}},{"$f":"MAX(LEN(Z22),LEN(AA22))","v":{"$error":"#DIV/0!"}},null,null,449.79204839255561,129.06,202312.88679717109,16656.4836,58050.161765543227,90998727.768710807,40930504164.204964,26110501.170042902]
[null,null,null,null,null,null,null,null,null,null,null,null,null,null,null,"Intercept:",{"$f":"Control!C23","v":0.76357990503311157},{"$f":"V37","v":0.91403125832744436},"keV",null,{"$f":"$Q$23+$Q$24*U18+$Q$25*U18^2","v":0.76357990503311157},"R/n-m:",null,null,null,null,null,null,null,null,481.5991868329279,139.68,231937.77675813739,19510.502400000001,67269.774416823377,111701044.68255614,53795132287.507576,32397068.657576632]
[null,null,null,null,null,null,null,null,null,null,null,null,null,null,null,"Gradient:",{"$f":"Control!C24","v":9.1325311223044991E-4},{"$f":"V38","v":9.6903487170159341E-4},"keV/keV",null,{"$f":"$Q$23+$Q$24*U19+$Q$25*U19^2","v":1.2832602242319133},null,null,null,null,null,null,null,null,null,499.30837638514356,143.76,249308.8547283682,20666.937599999997,71780.57218912823,124481999.47286114,62154905045.970596,35840640.955750212]
[null,null,null,null,null,null,null,null,null,null,null,null,null,null,null,"Quad:",{"$f":"Control!C25","v":-9.4315595333682722E-8},{"$f":"V39","v":-2.6128613689612194E-7},null,null,1.7334148637973366,null,null,null,null,null,null,null,null,null,565.30127689165124,163.33000000000001,319565.53365533135,26676.688900000005,92330.657554713398,180650804.22592077,102122130300.41672,52194638.611925274]
[null,null,null,null,null,null,null,null,null,null,null,null,null,null,null,null,null,null,null,null,2.1140438237293813,"Linear Quad","Width Cal",null,null,null,null,null,null,null,640.77921731391245,185.7486717142622,410598.00534143025,34502.569043612748,119023.8884781638,263102668.49333531,168590721990.36118,76268034.100696206]
[null,null,null,null,null,null,null,null,null,null,null,null,null,null,null,"Do not update Width Calibration if there are any bad points.",null,null,null,null,2.4251471040280479,"F(Quad)",{"$f":"AN1-2","v":12},null,null,null,null,null,null,null,683.39197883463282,198.39,467024.59673551522,39358.592099999994,135578.13468100279,319160863.32753015,218111973955.97064,92653009.746358857]
[null,null,null,null,null,null,null,null,null,null,null,null,null,null,null,"Those can be deleted manually from the Search list.",null,null,null,null,null,"Matrix 1",null,null,null,null,null,null,null,null,706.39285969603884,205.31,498990.87222954759,42152.196100000001,145029.51802419373,352483589.19645089,248991890568.40472,102447815.97744842]
[null,null,null,null,null,null,null,null,null,null,null,null,null,null,null,null,null,null,null,null,null,{"$f":"AN1","v":14},{"$f":"AN2","v":11895.211958079391},{"$f":"AN4","v":13660404.500196312},null,null,null,null,null,null,719.39573585646372,209.26,517530.22476846294,43789.747599999995,150540.7516853236,372309036.87526947,267837533548.89575,108298374.83504856]
[null,null,null,null,null,null,null,null,null,null,null,null,null,null,null,null,null,"calibration",null,null,null,{"$f":"AN2","v":11895.211958079391},{"$f":"AN4","v":13660404.500196312},{"$f":"AN7","v":18566480905.074059},null,null,null,null,null,null,818.70463579576813,238.63,670277.28067348129,56944.276899999997,195367.48723994414,548759116.95596039,449271632987.03687,159948267.48711285]
[null,null,null,null,null,null,null,null,null,null,null,null,null,null,null,null,null,"calibration after Update",null,null,null,{"$f":"AN4","v":13660404.500196312},{"$f":"AN7","v":18566480905.074059},{"$f":"AN8","v":27645270306176.664},null,null,null,null,null,null,828.92279050285094,240.89,687112.99261503329,58027.992099999996,199679.21100423177,569563619.22921824,472124264620.38684,165518648.79103535]
[null,null,null,null,null,null,null,null,null,null,null,null,null,null,null,null,null,null,null,null,null,"Inverse of Matrix 1",null,null,"Matrix 2","Results matrix",null,null,null,null,924.68889108416784,269.64122377622374,855049.54529446806,72706.389559539573,249334.24420421428,790654815.8603636,731109724908.27649,230556605.78250402]
[null,null,null,null,null,null,null,null,null,null,null,null,null,null,null,null,null,null,null,null,null,{"$f":"MINVERSE(V29:X31)","v":0.96626269906049289},-2.2071048118302915E-3,1.0048239613529818E-6,{"$f":"AN3","v":20.754038489949906},{"$f":"MMULT(V33:X35,Y33:Y35)","v":0.91403125832744436},0.91403125832744436,0.91403125832744436,null,null,948.67541803223776,277.37,899985.04877864104,76934.116900000008,263134.10069960181,853793692.37284124,809973088025.0929,249628852.97973168]
[null,null,null,null,null,null,null,null,null,null,null,null,null,null,null,null,null,null,null,null,null,-2.2071048118302936E-3,5.8808762427281865E-6,-2.8589784468168546E-9,{"$f":"AN6","v":19258.839804911815},9.6903487170159341E-4,9.6903487170159341E-4,9.6903487170159341E-4,null,null,1009.2863367586669,295.22000000000003,1018658.9095677292,87154.848400000017,297961.51233789366,1028118519.2441916,1037665974041.7152,300728483.28258502]
[null,null,null,null,null,null,null,null,null,null,null,null,null,null,null,null,null,null,null,null,null,1.0048239613529831E-6,-2.8589784468168559E-9,1.4597385567344499E-12,{"$f":"AN9","v":23254278.274624433},-2.6128613689612194E-7,-2.6128613689612194E-7,-2.6128613689612194E-7,null,null,1025.4094487316786,300.05325224071703,1051464.5375482049,90031.954180231362,307677.43997030094,1078181671.8082142,1105577673721.4607,315495354.10712039]
[null,null,null,null,null,null,null,null,null,null,null,null,null,null,null,null,null,null,null,null,null,"Result","Std.Unc","%RSD",null,null,null,null,null,null,1119.6321212113291,328,1253576.0868481805,107584,367239.33575731597,1403544053.2176256,1571453005517.5969,411172956.48620319]
[null,null,null,null,null,null,null,null,null,null,null,null,null,null,null,null,null,null,null,null,null,{"$f":"Z33","v":0.91403125832744436},{"$f":"V33/W40","v":{"$error":"#DIV/0!"}},{"$f":"W37/V37","v":{"$error":"#DIV/0!"}},{"$f":"-INT(LOG10(W37))","v":{"$error":"#DIV/0!"}},{"$f":"ROUND(V37,Y37)","v":{"$error":"#DIV/0!"}},{"$f":"ROUNDUP(W37,Y37)","v":{"$error":"#DIV/0!"}},{"$f":"MAX(LEN(Z37),LEN(AA37))","v":{"$error":"#DIV/0!"}},null,null,1154.2831990907416,338.31206258890472,1332369.7037031567,114455.05169315898,390507.92989610817,1537931963.9620631,1775209027346.0374,450756742.59078276]
[null,null,null,null,null,null,null,null,null,null,null,null,null,null,null,null,null,null,null,null,null,{"$f":"Z34","v":9.6903487170159341E-4},{"$f":"W34/W40","v":{"$error":"#DIV/0!"}},{"$f":"W38/V38","v":{"$error":"#DIV/0!"}},{"$f":"-INT(LOG10(W38))+$P$32","v":{"$error":"#DIV/0!"}},{"$f":"ROUND(V38,Y38)","v":{"$error":"#DIV/0!"}},{"$f":"ROUNDUP(W38,Y38)","v":{"$error":"#DIV/0!"}},{"$f":"MAX(LEN(Z38),LEN(AA38))","v":{"$error":"#DIV/0!"}},null,null,1200.1203300868412,351.69846629560908,1440288.8066877488,123691.81119468367,422080.47946172219,1728519878.1024837,2074431846670.0195,506547364.33481425]
[null,null,null,null,null,null,null,null,null,null,null,null,null,null,null,null,null,null,null,null,null,{"$f":"Z35","v":-2.6128613689612194E-7},{"$f":"X35/W40","v":{"$error":"#DIV/0!"}},{"$f":"W39/V39","v":{"$error":"#DIV/0!"}},{"$f":"-INT(LOG10(W39))+$P$32","v":{"$error":"#DIV/0!"}},{"$f":"ROUND(V39,Y39)","v":{"$error":"#DIV/0!"}},{"$f":"ROUNDUP(W39,Y39)","v":{"$error":"#DIV/0!"}},{"$f":"MAX(LEN(Z39),LEN(AA39))","v":{"$error":"#DIV/0!"}},null,null,1393.7250092588392,409.46,1942469.4014335515,167657.49159999998,570674.64229112433,2707268184.4979887,3773187375505.6201,795363521.11098194]
[null,null,null,null,null,null,null,null,null,null,null,null,null,null,null,null,null,null,null,null,null,"R/n-m:",null,null,null,null,null,null,null,null,1573.679245125554,462,2476466.3665389335,213444,727039.81124800595,3897163722.2738123,6132885664598.5469,1144127461.3409872]
[null,null,null,null,null,null,null,null,null,null,null,null,null,null,null,null,null,null,null,null,null,null,null,null,null,null,null,null,null,null,1735.6343448511161,510.7,3012426.5790267629,260814.49,886388.45991546498,5228471031.9012051,9074713894026.8867,1538446253.9089677]
[null,null,null,null,null,null,null,null,null,null,null,null,null,null,null,null,null,null,null,null,null,null,null,null,null,null,null,null,null,null,1895.9473259865808,558.46,3594616.2629156662,311877.57160000002,1058810.7436704659,6815203091.6228333,12921266077617.789,2007449398.1878831]
[null,null,null,null,null,null,null,null,null,null,null,null,null,null,null,null,null,null,null,null,null,null,null,null,null,null,null,null,null,null,1933.0748432428018,569.70000000000005,3736778.3495781827,324558.09000000003,1101272.7381954242,7223472222.3439407,13963512433876.246,2128842625.7546909]
[null,null,null,null,null,null,null,null,null,null,null,null,null,null,null,null,null,null,null,null,null,null,null,null,null,null,null,null,null,null,1979.2066588943396,583.19000000000005,3917258.9986116947,340110.57610000006,1154253.53140059,7753065094.6660395,15344918062204.299,2284506275.4003544]
[null,null,null,null,null,null,null,null,null,null,null,null,null,null,null,null,null,null,null,null,null,null,null,null,null,null,null,null,null,null,2021.7910493550542,595.85,4087639.0472522113,355037.22250000003,1204684.196758209,8264352038.7287416,16708792980620.963,2435619726.3052301]
[null,null,null,null,null,null,null,null,null,null,null,null,null,null,null,null,null,null,null,null,null,null,null,null,null,null,null,null,null,null,2067.0839149099161,609.30999999999995,4272835.9112793049,371258.67609999992,1259494.9001937609,8832310383.2549057,18257126724718.051,2603481649.101593]
[null,null,null,null,null,null,null,null,null,null,null,null,null,null,null,null,null,null,null,null,null,null,null,null,null,null,null,null,null,null,2243.4621455729884,661.66,5033122.398618957,437793.95559999999,1484409.1632398234,11291619575.337151,25332321079479.84,3330215766.2702188]
[null,null,null,null,null,null,null,null,null,null,null,null,null,null,null,null,null,null,null,null,null,null,null,null,null,null,null,null,null,null,2272.3125740500736,669.62,5163404.4341860712,448390.94439999998,1521585.9458354104,11732868820.706917,26660745350972.383,3457518877.219677]
[null,null,null,null,null,null,null,null,null,null,null,null,null,null,null,null,null,null,null,null,null,null,null,null,null,null,null,null,null,null,2464.2320042006018,727.25696741854631,6072439.3705265149,528902.6966588205,1792129.8943906561,14963899440.419193,36874519908720.453,4416223841.4420996]
[null,null,null,null,null,null,null,null,null,null,null,null,null,null,null,null,null,null,null,null,null,null,null,null,null,null,null,null,null,null,2559.8816965658311,755.31,6552994.3004127583,570493.19609999994,1933504.2442331377,16774890167.326832,42941734301242.094,4949542125.0447598]
[null,null,null,null,null,null,null,null,null,null,null,null,null,null,null,null,null,null,null,null,null,null,null,null,null,null,null,null,null,null,2602.9526269127418,768.36,6775362.3779519433,590377.08960000006,2000004.6804146743,17635947299.975773,45905535352566.609,5205917436.723155]
[null,null,null,null,null,null,null,null,null,null,null,null,null,null,null,null,null,null,null,null,null,null,null,null,null,null,null,null,null,null,2692.516529725463,794.95,7249645.2628448503,631945.50250000006,2140416.0153052569,19519789704.855656,52557356437088.773,5763105501.698514]
[null,null,null,null,null,null,null,null,null,null,null,null,null,null,null,null,null,null,null,null,null,null,null,null,null,null,null,null,null,null,2719.7729549463702,803.06,7397164.9264577106,644905.36359999992,2184140.8691992317,20118609110.257534,54718048949216.102,5940367265.8411283]
[null,null,null,null,null,null,null,null,null,null,null,null,null,null,null,null,null,null,null,null,null,null,null,null,null,null,null,null,null,null,2818.833991662108,832.01,7945825.0725497333,692240.64009999996,2345298.0694027906,22397961806.304222,63136136083559.977,6611005918.6121035]
[null,null,null,null,null,null,null,null,null,null,null,null,null,null,null,null,null,null,null,null,null,null,null,null,null,null,null,null,null,null,2827.6658847618801,835.71,7995694.3558461862,698411.20410000009,2363108.6565543511,22609152155.009377,63931128232110.555,6682081730.1242161]
[null,null,null,null,null,null,null,null,null,null,null,null,null,null,null,null,null,null,null,null,null,null,null,null,null,null,null,null,null,null,2841.4097093674163,839.04,8073609.1364874253,703988.12159999995,2384056.402547637,22940431390.052853,65183164488773.227,6774081009.8784094]
[null,null,null,null,null,null,null,null,null,null,null,null,null,null,null,null,null,null,null,null,null,null,null,null,null,null,null,null,null,null,2913.5685665528363,860.56,8488881.7920047492,740563.51359999995,2507300.5656327088,24732939154.367748,72061114078629.766,7305192114.9276066]
[null,null,null,null,null,null,null,null,null,null,null,null,null,null,null,null,null,null,null,null,null,null,null,null,null,null,null,null,null,null,3084.2251465814775,911.2,9512444.7548055369,830285.44000000006,2810345.9535650425,29338521318.238312,90486605213227.359,8667739660.5788059]
[null,null,null,null,null,null,null,null,null,null,null,null,null,null,null,null,null,null,null,null,null,null,null,null,null,null,null,null,null,null,3161.1798231568791,934.06,9993057.8743341584,872468.0835999999,2952731.6256179144,31589852923.984112,99861205679791.906,9334115638.100563]
[null,null,null,null,null,null,null,null,null,null,null,null,null,null,null,null,null,null,null,null,null,null,null,null,null,null,null,null,null,null,3264.9161765183667,964.77,10659677.63969131,930781.15289999999,3149893.1796196247,34802953962.299278,113628727382134.91,10284137196.444984]
[null,null,null,null,null,null,null,null,null,null,null,null,null,null,null,null,null,null,null,null,null,null,null,null,null,null,null,null,null,null,3278.7456717230075,968.97,10750173.179842355,938902.86090000009,3177006.1935294429,35247083783.680885,115566223396601.91,10416595306.071846]
[null,null,null,null,null,null,null,null,null,null,null,null,null,null,null,null,null,null,null,null,null,null,null,null,null,null,null,null,null,null,3386.0598658954386,1001.03,11465401.415427836,1002061.0608999999,3389547.5075573106,38822535579.16095,131455429616894.63,11477210778.885727]
[null,null,null,null,null,null,null,null,null,null,null,null,null,null,null,null,null,null,null,null,null,null,null,null,null,null,null,null,null,null,3390.0876004608003,1001.03,11492693.938798066,1002061.0608999999,3393579.3906892748,38961239217.810326,132082013970885.83,11504531413.555027]
[null,null,null,null,null,null,null,null,null,null,null,null,null,null,null,null,null,null,null,null,null,null,null,null,null,null,null,null,null,null,3788.5629350168188,1120.29,14353209.112583252,1255049.6841,4244289.1704699919,54378036042.478554,206014611829542.91,16079756636.735891]
[null,null,null,null,null,null,null,null,null,null,null,null,null,null,null,null,null,null,null,null,null,null,null,null,null,null,null,null,null,null,3906.3214605571357,1155.19,15259347.353209233,1334463.9361,4512543.4880209975,59607916039.936958,232847681645893.63,17627445468.953773]
[null,null,null,null,null,null,null,null,null,null,null,null,null,null,null,null,null,null,null,null,null,null,null,null,null,null,null,null,null,null,3965.8862681345363,1173.23,15728253.89177808,1376468.6329000001,4652896.7463634824,62376466131.136261,247377970484232.28,18452859313.450798]
[null,null,null,null,null,null,null,null,null,null,null,null,null,null,null,null,null,null,null,null,null,null,null,null,null,null,null,null,null,null,4185.224161608855,1238.1099999999999,17516101.282914542,1532916.3720999998,5181767.8867295394,73308810306.441803,306813804153320.5,21686860159.38932]
[null,null,null,null,null,null,null,null,null,null,null,null,null,null,null,null,null,null,null,null,null,null,null,null,null,null,null,null,null,null,4502.1609290034403,1332.49,20269453.030645121,1775529.6000999999,5999084.4162877938,91256339486.840836,410850726161528.69,27008843468.804317]
[null,null,null,null,null,null,null,null,null,null,null,null,null,null,null,null,null,null,null,null,null,null,null,null,null,null,null,null,null,null,4656.1005085269026,1377.67,21679271.945504479,1897974.6289000001,6414569.9875822579,100940869129.95642,469990832087137.63,29866882581.163158]
[null,null,null,null,null,null,null,null,null,null,null,null,null,null,null,null,null,null,null,null,null,null,null,null,null,null,null,null,null,null,4757.1034153904266,1407.98,22630032.90471926,1982407.6804,6697906.4668014133,107653406821.43773,512118389268676.5,31862633729.186623]
[null,null,null,null,null,null,null,null,null,null,null,null,null,null,null,null,null,null,null,null,null,null,null,null,null,null,null,null,null,null,4905.1016309475444,1452.6,24060022.009924259,2110046.7599999998,7125150.6291144025,118016853201.51331,578884659118039.88,34949587971.615974]
[null,null,null,null,null,null,null,null,null,null,null,null,null,null,null,null,null,null,null,null,null,null,null,null,null,null,null,null,null,null,4935.6562311870211,1460.82,24360702.432455268,2133995.0723999999,7210105.3356426237,120236052756.84067,593443823002632.13,35586601327.379303]
[null,null,null,null,null,null,null,null,null,null,null,null,null,null,null,null,null,null,null,null,null,null,null,null,null,null,null,null,null,null,5054.244973554918,1495.8,25545392.252705153,2237417.6399999997,7560139.6314434465,129112670390.72377,652567065344568.5,38210797731.596367]
[null,null,null,null,null,null,null,null,null,null,null,null,null,null,null,null,null,null,null,null,null,null,null,null,null,null,null,null,null,null,5098.6576451686933,1509.19,25996309.782637164,2277654.4561000001,7694843.1315121409,132546283619.41667,675808122314836.75,39233370760.858185]
[null,null,null,null,null,null,null,null,null,null,null,null,null,null,null,null,null,null,null,null,null,null,null,null,null,null,null,null,null,null,5364.9377932679427,1588.2,28782557.525634702,2522379.2400000002,8520594.2032681461,154416630656.18625,828435617716470.88,45712457862.213036]
[null,null,null,null,null,null,null,null,null,null,null,null,null,null,null,null,null,null,null,null,null,null,null,null,null,null,null,null,null,null,5473.8055927278783,1620.74,29962547.666979,2626798.1476000003,8871615.6763577815,164009160991.88528,897754262695988.63,48561499505.779541]
[null,null,null,null,null,null,null,null,null,null,null,null,null,null,null,null,null,null,null,null,null,null,null,null,null,null,null,null,null,null,5840.7005297922324,1729.6,34113782.678715266,2991516.1599999997,10102075.636328645,199248388564.78934,1163750168650613.5,59003198521.105919]
[null,null,null,null,null,null,null,null,null,null,null,null,null,null,null,null,null,null,null,null,null,null,null,null,null,null,null,null,null,null,5958.7367668575798,1764.49,35506543.856700324,3113424.9601000003,10514131.437752532,211574148342.96133,1260714656647783.5,62650941569.709152]
[null,null,null,null,null,null,null,null,null,null,null,null,null,null,null,null,null,null,null,null,null,null,null,null,null,null,null,null,null,null,6237.9768242123255,1847.42,38912354.859410092,3412960.6564000002,11524163.144586334,242734367788.526,1514171360704656,71887462614.371399]
[null,null,null,null,null,null,null,null,null,null,null,null,null,null,null,null,null,null,null,null,null,null,null,null,null,null,null,null,null,null,7149.6571214307296,2118.54,51117596.954025149,4488211.7315999996,15146834.598035857,365473291092.77167,2613008718354161,108294673850.98044]
[null,null,null,null,null,null,null,null,null,null,null,null,null,null,null,null,null,null,null,null,null,null,null,null,null,null,null,null,null,null,7439.3699745328286,2204.21,55344225.617980577,4858541.7241000002,16397933.691565007,411726170326.17529,3062983309253937.5,121990295549.40897]

{"sheet":"Plots","index":7,"n_rows":8180,"n_cols":30,"rows_kept":2250,"cut":true,"hidden":false,"merged":[],"bounds":{"rows_first":1000,"rows_last":250,"rows_between":1000,"halvings":1}}
[]
[]
[]
[null,null,null,null,null,0,8192,"X"]
[null,null,null,null,null,0,0,"Y"]
[]
[]
[]
[]
[]
[]
[]
[]
[]
[]
[]
[]
[]
[]
[]
[]
[]
[]
[]
[]
[]
[]
[]
[]
[]
[]
[]
[]
[]
[]
[]
[]
[]
[]
[]
[]
[]
[]
[]
[]
[]
[null,null,null,null,null,null,null,null,null,null,null,null,null,null,null,null,null,null,null,null,null,null,null,null,null,null,null,null,null,10039.5]
[null,null,null,null,null,null,null,null,null,null,null,null,null,null,null,null,null,null,null,null,null,null,null,null,null,null,null,null,null,10039.5]
[null,null,null,null,null,null,null,null,null,null,null,null,null,null,null,null,null,null,null,null,null,null,null,null,null,null,null,null,null,10039.5]
[null,null,null,null,null,null,null,null,null,null,null,null,null,null,null,null,null,null,null,null,null,null,null,null,null,null,null,null,null,10039.5]
[null,null,null,null,null,null,null,null,null,null,null,null,null,null,null,null,null,null,null,null,null,null,null,null,null,null,null,null,null,10039.5]
[null,null,null,null,null,null,null,null,null,null,null,null,null,null,null,null,null,null,null,null,null,null,null,null,null,null,null,null,null,10039.5]
[null,null,null,null,null,null,null,null,null,null,null,null,null,null,null,null,null,null,null,null,null,null,null,null,null,null,null,null,null,10039.5]
[null,null,null,null,null,null,null,null,null,null,null,null,null,null,null,null,null,null,null,null,null,null,null,null,null,null,null,null,null,10039.5]
[null,null,null,null,null,null,null,null,null,null,null,null,null,null,null,null,null,null,null,null,null,null,null,null,null,null,null,null,null,10039.5]
[null,null,null,null,null,null,null,null,null,null,null,null,null,null,null,null,null,null,null,null,null,null,null,null,null,null,null,null,null,10039.5]
[null,null,null,null,null,null,null,null,null,null,null,null,null,null,null,null,null,null,null,null,null,null,null,null,null,null,null,null,null,10039.5]
[null,null,null,null,null,null,null,null,null,null,null,null,null,null,null,null,null,null,null,null,null,null,null,null,null,null,null,null,null,1666.6666666666667]
[null,null,null,null,null,null,null,null,null,null,null,null,null,null,null,null,null,null,null,null,null,null,null,null,null,null,null,null,null,929]
[null,null,null,null,null,null,null,null,null,null,null,null,null,null,null,null,null,null,null,null,null,null,null,null,null,null,null,null,null,929]
[null,null,null,null,null,null,null,null,null,null,null,null,null,null,null,null,null,null,null,null,null,null,null,null,null,null,null,null,null,929]
[null,null,null,null,null,null,null,null,null,null,null,null,null,null,null,null,null,null,null,null,null,null,null,null,null,null,null,null,null,929]
[null,null,null,null,null,null,null,null,null,null,null,null,null,null,null,null,null,null,null,null,null,null,null,null,null,null,null,null,null,929]
[null,null,null,null,null,null,null,null,null,null,null,null,null,null,null,null,null,null,null,null,null,null,null,null,null,null,null,null,null,929]
[null,null,null,null,null,null,null,null,null,null,null,null,null,null,null,null,null,null,null,null,null,null,null,null,null,null,null,null,null,929]
[null,null,null,null,null,null,null,null,null,null,null,null,null,null,null,null,null,null,null,null,null,null,null,null,null,null,null,null,null,929]
[null,null,null,null,null,null,null,null,null,null,null,null,null,null,null,null,null,null,null,null,null,null,null,null,null,null,null,null,null,929]
[null,null,null,null,null,null,null,null,null,null,null,null,null,null,null,null,null,null,null,null,null,null,null,null,null,null,null,null,null,929]
[null,null,null,null,null,null,null,null,null,null,null,null,null,null,null,null,null,null,null,null,null,null,null,null,null,null,null,null,null,929]
[null,null,null,null,null,null,null,null,null,null,null,null,null,null,null,null,null,null,null,null,null,null,null,null,null,null,null,null,null,929]
[null,null,null,null,null,null,null,null,null,null,null,null,null,null,null,null,null,null,null,null,null,null,null,null,null,null,null,null,null,929]
[null,null,null,null,null,null,null,null,null,null,null,null,null,null,null,null,null,null,null,null,null,null,null,null,null,null,null,null,null,929]
[null,null,null,null,null,null,null,null,null,null,null,null,null,null,null,null,null,null,null,null,null,null,null,null,null,null,null,null,null,929]
[null,null,null,null,null,null,null,null,null,null,null,null,null,null,null,null,null,null,null,null,null,null,null,null,null,null,null,null,null,929]
[null,null,null,null,null,null,null,null,null,null,null,null,null,null,null,null,null,null,null,null,null,null,null,null,null,null,null,null,null,915]
[null,null,null,null,null,null,null,null,null,null,null,null,null,null,null,null,null,null,null,null,null,null,null,null,null,null,null,null,null,912.66666666666663]
[null,null,null,null,null,null,null,null,null,null,null,null,null,null,null,null,null,null,null,null,null,null,null,null,null,null,null,null,null,912.66666666666663]
[null,null,null,null,null,null,null,null,null,null,null,null,null,null,null,null,null,null,null,null,null,null,null,null,null,null,null,null,null,912.66666666666663]
[null,null,null,null,null,null,null,null,null,null,null,null,null,null,null,null,null,null,null,null,null,null,null,null,null,null,null,null,null,912.66666666666663]
[null,null,null,null,null,null,null,null,null,null,null,null,null,null,null,null,null,null,null,null,null,null,null,null,null,null,null,null,null,893.5]
[null,null,null,null,null,null,null,null,null,null,null,null,null,null,null,null,null,null,null,null,null,null,null,null,null,null,null,null,null,893.5]
[null,null,null,null,null,null,null,null,null,null,null,null,null,null,null,null,null,null,null,null,null,null,null,null,null,null,null,null,null,893.5]
[null,null,null,null,null,null,null,null,null,null,null,null,null,null,null,null,null,null,null,null,null,null,null,null,null,null,null,null,null,893.5]
[null,null,null,null,null,null,null,null,null,null,null,null,null,null,null,null,null,null,null,null,null,null,null,null,null,null,null,null,null,759]
[null,null,null,null,null,null,null,null,null,null,null,null,null,null,null,null,null,null,null,null,null,null,null,null,null,null,null,null,null,738.33333333333337]
[null,null,null,null,null,null,null,null,null,null,null,null,null,null,null,null,null,null,null,null,null,null,null,null,null,null,null,null,null,696.33333333333337]
[null,null,null,null,null,null,null,null,null,null,null,null,null,null,null,null,null,null,null,null,null,null,null,null,null,null,null,null,null,690.75]
[null,null,null,null,null,null,null,null,null,null,null,null,null,null,null,null,null,null,null,null,null,null,null,null,null,null,null,null,null,689.8]
[null,null,null,null,null,null,null,null,null,null,null,null,null,null,null,null,null,null,null,null,null,null,null,null,null,null,null,null,null,679.66666666666663]
[null,null,null,null,null,null,null,null,null,null,null,null,null,null,null,null,null,null,null,null,null,null,null,null,null,null,null,null,null,666.66666666666663]
[null,null,null,null,null,null,null,null,null,null,null,null,null,null,null,null,null,null,null,null,null,null,null,null,null,null,null,null,null,654.5]
[null,null,null,null,null,null,null,null,null,null,null,null,null,null,null,null,null,null,null,null,null,null,null,null,null,null,null,null,null,640.33333333333337]
[null,null,null,null,null,null,null,null,null,null,null,null,null,null,null,null,null,null,null,null,null,null,null,null,null,null,null,null,null,633]
[null,null,null,null,null,null,null,null,null,null,null,null,null,null,null,null,null,null,null,null,null,null,null,null,null,null,null,null,null,622.4]
[null,null,null,null,null,null,null,null,null,null,null,null,null,null,null,null,null,null,null,null,null,null,null,null,null,null,null,null,null,620.75]
[null,null,null,null,null,null,null,null,null,null,null,null,null,null,null,null,null,null,null,null,null,null,null,null,null,null,null,null,null,616.66666666666663]
[null,null,null,null,null,null,null,null,null,null,null,null,null,null,null,null,null,null,null,null,null,null,null,null,null,null,null,null,null,613]
[null,null,null,null,null,null,null,null,null,null,null,null,null,null,null,null,null,null,null,null,null,null,null,null,null,null,null,null,null,643.5]
[null,null,null,null,null,null,null,null,null,null,null,null,null,null,null,null,null,null,null,null,null,null,null,null,null,null,null,null,null,650]
[null,null,null,null,null,null,null,null,null,null,null,null,null,null,null,null,null,null,null,null,null,null,null,null,null,null,null,null,null,650]
[null,null,null,null,null,null,null,null,null,null,null,null,null,null,null,null,null,null,null,null,null,null,null,null,null,null,null,null,null,650]
[null,null,null,null,null,null,null,null,null,null,null,null,null,null,null,null,null,null,null,null,null,null,null,null,null,null,null,null,null,650]
[null,null,null,null,null,null,null,null,null,null,null,null,null,null,null,null,null,null,null,null,null,null,null,null,null,null,null,null,null,644]
[null,null,null,null,null,null,null,null,null,null,null,null,null,null,null,null,null,null,null,null,null,null,null,null,null,null,null,null,null,631.33333333333337]
[null,null,null,null,null,null,null,null,null,null,null,null,null,null,null,null,null,null,null,null,null,null,null,null,null,null,null,null,null,616]
[null,null,null,null,null,null,null,null,null,null,null,null,null,null,null,null,null,null,null,null,null,null,null,null,null,null,null,null,null,624]
[null,null,null,null,null,null,null,null,null,null,null,null,null,null,null,null,null,null,null,null,null,null,null,null,null,null,null,null,null,628.20000000000005]
[null,null,null,null,null,null,null,null,null,null,null,null,null,null,null,null,null,null,null,null,null,null,null,null,null,null,null,null,null,622.66666666666663]
[null,null,null,null,null,null,null,null,null,null,null,null,null,null,null,null,null,null,null,null,null,null,null,null,null,null,null,null,null,607.66666666666663]
[null,null,null,null,null,null,null,null,null,null,null,null,null,null,null,null,null,null,null,null,null,null,null,null,null,null,null,null,null,605.66666666666663]
[null,null,null,null,null,null,null,null,null,null,null,null,null,null,null,null,null,null,null,null,null,null,null,null,null,null,null,null,null,598.5]
[null,null,null,null,null,null,null,null,null,null,null,null,null,null,null,null,null,null,null,null,null,null,null,null,null,null,null,null,null,583]
[null,null,null,null,null,null,null,null,null,null,null,null,null,null,null,null,null,null,null,null,null,null,null,null,null,null,null,null,null,567.16666666666663]
[null,null,null,null,null,null,null,null,null,null,null,null,null,null,null,null,null,null,null,null,null,null,null,null,null,null,null,null,null,554.83333333333337]
[null,null,null,null,null,null,null,null,null,null,null,null,null,null,null,null,null,null,null,null,null,null,null,null,null,null,null,null,null,549.6]
[null,null,null,null,null,null,null,null,null,null,null,null,null,null,null,null,null,null,null,null,null,null,null,null,null,null,null,null,null,548.66666666666663]
[null,null,null,null,null,null,null,null,null,null,null,null,null,null,null,null,null,null,null,null,null,null,null,null,null,null,null,null,null,549.16666666666663]
[null,null,null,null,null,null,null,null,null,null,null,null,null,null,null,null,null,null,null,null,null,null,null,null,null,null,null,null,null,548.33333333333337]
[null,null,null,null,null,null,null,null,null,null,null,null,null,null,null,null,null,null,null,null,null,null,null,null,null,null,null,null,null,544.33333333333337]
[null,null,null,null,null,null,null,null,null,null,null,null,null,null,null,null,null,null,null,null,null,null,null,null,null,null,null,null,null,547.16666666666663]
[null,null,null,null,null,null,null,null,null,null,null,null,null,null,null,null,null,null,null,null,null,null,null,null,null,null,null,null,null,541.83333333333337]
[null,null,null,null,null,null,null,null,null,null,null,null,null,null,null,null,null,null,null,null,null,null,null,null,null,null,null,null,null,539.33333333333337]
[null,null,null,null,null,null,null,null,null,null,null,null,null,null,null,null,null,null,null,null,null,null,null,null,null,null,null,null,null,531.66666666666663]
[null,null,null,null,null,null,null,null,null,null,null,null,null,null,null,null,null,null,null,null,null,null,null,null,null,null,null,null,null,531.33333333333337]
[null,null,null,null,null,null,null,null,null,null,null,null,null,null,null,null,null,null,null,null,null,null,null,null,null,null,null,null,null,538.16666666666663]
[null,null,null,null,null,null,null,null,null,null,null,null,null,null,null,null,null,null,null,null,null,null,null,null,null,null,null,null,null,534.5]
[null,null,null,null,null,null,null,null,null,null,null,null,null,null,null,null,null,null,null,null,null,null,null,null,null,null,null,null,null,535.66666666666663]
[null,null,null,null,null,null,null,null,null,null,null,null,null,null,null,null,null,null,null,null,null,null,null,null,null,null,null,null,null,533.33333333333337]
[null,null,null,null,null,null,null,null,null,null,null,null,null,null,null,null,null,null,null,null,null,null,null,null,null,null,null,null,null,536.83333333333337]
[null,null,null,null,null,null,null,null,null,null,null,null,null,null,null,null,null,null,null,null,null,null,null,null,null,null,null,null,null,533]
[null,null,null,null,null,null,null,null,null,null,null,null,null,null,null,null,null,null,null,null,null,null,null,null,null,null,null,null,null,525.83333333333337]
[null,null,null,null,null,null,null,null,null,null,null,null,null,null,null,null,null,null,null,null,null,null,null,null,null,null,null,null,null,527.5]
[null,null,null,null,null,null,null,null,null,null,null,null,null,null,null,null,null,null,null,null,null,null,null,null,null,null,null,null,null,523.5]
[null,null,null,null,null,null,null,null,null,null,null,null,null,null,null,null,null,null,null,null,null,null,null,null,null,null,null,null,null,523.16666666666663]
[null,null,null,null,null,null,null,null,null,null,null,null,null,null,null,null,null,null,null,null,null,null,null,null,null,null,null,null,null,519.16666666666663]
[null,null,null,null,null,null,null,null,null,null,null,null,null,null,null,null,null,null,null,null,null,null,null,null,null,null,null,null,null,516.33333333333337]
[null,null,null,null,null,null,null,null,null,null,null,null,null,null,null,null,null,null,null,null,null,null,null,null,null,null,null,null,null,517.33333333333337]
[null,null,null,null,null,null,null,null,null,null,null,null,null,null,null,null,null,null,null,null,null,null,null,null,null,null,null,null,null,511.66666666666669]
[null,null,null,null,null,null,null,null,null,null,null,null,null,null,null,null,null,null,null,null,null,null,null,null,null,null,null,null,null,514.83333333333337]
[null,null,null,null,null,null,null,null,null,null,null,null,null,null,null,null,null,null,null,null,null,null,null,null,null,null,null,null,null,520.16666666666663]
[null,null,null,null,null,null,null,null,null,null,null,null,null,null,null,null,null,null,null,null,null,null,null,null,null,null,null,null,null,524.5]
[null,null,null,null,null,null,null,null,null,null,null,null,null,null,null,null,null,null,null,null,null,null,null,null,null,null,null,null,null,523.16666666666663]
[null,null,null,null,null,null,null,null,null,null,null,null,null,null,null,null,null,null,null,null,null,null,null,null,null,null,null,null,null,518.83333333333337]
[null,null,null,null,null,null,null,null,null,null,null,null,null,null,null,null,null,null,null,null,null,null,null,null,null,null,null,null,null,526.5]
[null,null,null,null,null,null,null,null,null,null,null,null,null,null,null,null,null,null,null,null,null,null,null,null,null,null,null,null,null,520.66666666666663]
[null,null,null,null,null,null,null,null,null,null,null,null,null,null,null,null,null,null,null,null,null,null,null,null,null,null,null,null,null,512.33333333333337]
[null,null,null,null,null,null,null,null,null,null,null,null,null,null,null,null,null,null,null,null,null,null,null,null,null,null,null,null,null,512.66666666666663]
[null,null,null,null,null,null,null,null,null,null,null,null,null,null,null,null,null,null,null,null,null,null,null,null,null,null,null,null,null,518.16666666666663]
[null,null,null,null,null,null,null,null,null,null,null,null,null,null,null,null,null,null,null,null,null,null,null,null,null,null,null,null,null,521]
[null,null,null,null,null,null,null,null,null,null,null,null,null,null,null,null,null,null,null,null,null,null,null,null,null,null,null,null,null,518.20000000000005]
[null,null,null,null,null,null,null,null,null,null,null,null,null,null,null,null,null,null,null,null,null,null,null,null,null,null,null,null,null,521.4]
[null,null,null,null,null,null,null,null,null,null,null,null,null,null,null,null,null,null,null,null,null,null,null,null,null,null,null,null,null,526.79999999999995]
[null,null,null,null,null,null,null,null,null,null,null,null,null,null,null,null,null,null,null,null,null,null,null,null,null,null,null,null,null,522.20000000000005]
[null,null,null,null,null,null,null,null,null,null,null,null,null,null,null,null,null,null,null,null,null,null,null,null,null,null,null,null,null,522.4]
[null,null,null,null,null,null,null,null,null,null,null,null,null,null,null,null,null,null,null,null,null,null,null,null,null,null,null,null,null,526.83333333333337]
[null,null,null,null,null,null,null,null,null,null,null,null,null,null,null,null,null,null,null,null,null,null,null,null,null,null,null,null,null,532.33333333333337]
[null,null,null,null,null,null,null,null,null,null,null,null,null,null,null,null,null,null,null,null,null,null,null,null,null,null,null,null,null,532.33333333333337]
[null,null,null,null,null,null,null,null,null,null,null,null,null,null,null,null,null,null,null,null,null,null,null,null,null,null,null,null,null,529.5]
[null,null,null,null,null,null,null,null,null,null,null,null,null,null,null,null,null,null,null,null,null,null,null,null,null,null,null,null,null,536.16666666666663]
[null,null,null,null,null,null,null,null,null,null,null,null,null,null,null,null,null,null,null,null,null,null,null,null,null,null,null,null,null,531.16666666666663]
[null,null,null,null,null,null,null,null,null,null,null,null,null,null,null,null,null,null,null,null,null,null,null,null,null,null,null,null,null,526.33333333333337]
[null,null,null,null,null,null,null,null,null,null,null,null,null,null,null,null,null,null,null,null,null,null,null,null,null,null,null,null,null,525.16666666666663]
[null,null,null,null,null,null,null,null,null,null,null,null,null,null,null,null,null,null,null,null,null,null,null,null,null,null,null,null,null,523.16666666666663]
[null,null,null,null,null,null,null,null,null,null,null,null,null,null,null,null,null,null,null,null,null,null,null,null,null,null,null,null,null,526.83333333333337]
[null,null,null,null,null,null,null,null,null,null,null,null,null,null,null,null,null,null,null,null,null,null,null,null,null,null,null,null,null,522.83333333333337]
[null,null,null,null,null,null,null,null,null,null,null,null,null,null,null,null,null,null,null,null,null,null,null,null,null,null,null,null,null,528]
[null,null,null,null,null,null,null,null,null,null,null,null,null,null,null,null,null,null,null,null,null,null,null,null,null,null,null,null,null,520.33333333333337]
[null,null,null,null,null,null,null,null,null,null,null,null,null,null,null,null,null,null,null,null,null,null,null,null,null,null,null,null,null,518.66666666666663]
[null,null,null,null,null,null,null,null,null,null,null,null,null,null,null,null,null,null,null,null,null,null,null,null,null,null,null,null,null,521]
[null,null,null,null,null,null,null,null,null,null,null,null,null,null,null,null,null,null,null,null,null,null,null,null,null,null,null,null,null,519.5]
[null,null,null,null,null,null,null,null,null,null,null,null,null,null,null,null,null,null,null,null,null,null,null,null,null,null,null,null,null,516.33333333333337]
[null,null,null,null,null,null,null,null,null,null,null,null,null,null,null,null,null,null,null,null,null,null,null,null,null,null,null,null,null,507]
[null,null,null,null,null,null,null,null,null,null,null,null,null,null,null,null,null,null,null,null,null,null,null,null,null,null,null,null,null,507]
[null,null,null,null,null,null,null,null,null,null,null,null,null,null,null,null,null,null,null,null,null,null,null,null,null,null,null,null,null,507]
[null,null,null,null,null,null,null,null,null,null,null,null,null,null,null,null,null,null,null,null,null,null,null,null,null,null,null,null,null,507]
[null,null,null,null,null,null,null,null,null,null,null,null,null,null,null,null,null,null,null,null,null,null,null,null,null,null,null,null,null,488]
[null,null,null,null,null,null,null,null,null,null,null,null,null,null,null,null,null,null,null,null,null,null,null,null,null,null,null,null,null,495]
[null,null,null,null,null,null,null,null,null,null,null,null,null,null,null,null,null,null,null,null,null,null,null,null,null,null,null,null,null,503.75]
[null,null,null,null,null,null,null,null,null,null,null,null,null,null,null,null,null,null,null,null,null,null,null,null,null,null,null,null,null,495.6]
[null,null,null,null,null,null,null,null,null,null,null,null,null,null,null,null,null,null,null,null,null,null,null,null,null,null,null,null,null,502.5]
[null,null,null,null,null,null,null,null,null,null,null,null,null,null,null,null,null,null,null,null,null,null,null,null,null,null,null,null,null,504.4]
[null,null,null,null,null,null,null,null,null,null,null,null,null,null,null,null,null,null,null,null,null,null,null,null,null,null,null,null,null,509.75]
[null,null,null,null,null,null,null,null,null,null,null,null,null,null,null,null,null,null,null,null,null,null,null,null,null,null,null,null,null,513.75]
[null,null,null,null,null,null,null,null,null,null,null,null,null,null,null,null,null,null,null,null,null,null,null,null,null,null,null,null,null,508.33333333333331]
[null,null,null,null,null,null,null,null,null,null,null,null,null,null,null,null,null,null,null,null,null,null,null,null,null,null,null,null,null,538]
[null,null,null,null,null,null,null,null,null,null,null,null,null,null,null,null,null,null,null,null,null,null,null,null,null,null,null,null,null,554.25]
[null,null,null,null,null,null,null,null,null,null,null,null,null,null,null,null,null,null,null,null,null,null,null,null,null,null,null,null,null,553.79999999999995]
[null,null,null,null,null,null,null,null,null,null,null,null,null,null,null,null,null,null,null,null,null,null,null,null,null,null,null,null,null,549.5]
[null,null,null,null,null,null,null,null,null,null,null,null,null,null,null,null,null,null,null,null,null,null,null,null,null,null,null,null,null,556]
[null,null,null,null,null,null,null,null,null,null,null,null,null,null,null,null,null,null,null,null,null,null,null,null,null,null,null,null,null,556.16666666666663]
[null,null,null,null,null,null,null,null,null,null,null,null,null,null,null,null,null,null,null,null,null,null,null,null,null,null,null,null,null,558.16666666666663]
[null,null,null,null,null,null,null,null,null,null,null,null,null,null,null,null,null,null,null,null,null,null,null,null,null,null,null,null,null,556]
[null,null,null,null,null,null,null,null,null,null,null,null,null,null,null,null,null,null,null,null,null,null,null,null,null,null,null,null,null,556.79999999999995]
[null,null,null,null,null,null,null,null,null,null,null,null,null,null,null,null,null,null,null,null,null,null,null,null,null,null,null,null,null,564]
[null,null,null,null,null,null,null,null,null,null,null,null,null,null,null,null,null,null,null,null,null,null,null,null,null,null,null,null,null,564]
[null,null,null,null,null,null,null,null,null,null,null,null,null,null,null,null,null,null,null,null,null,null,null,null,null,null,null,null,null,560.5]
[null,null,null,null,null,null,null,null,null,null,null,null,null,null,null,null,null,null,null,null,null,null,null,null,null,null,null,null,null,543.5]
[null,null,null,null,null,null,null,null,null,null,null,null,null,null,null,null,null,null,null,null,null,null,null,null,null,null,null,null,null,559]
[null,null,null,null,null,null,null,null,null,null,null,null,null,null,null,null,null,null,null,null,null,null,null,null,null,null,null,null,null,563.66666666666663]
[null,null,null,null,null,null,null,null,null,null,null,null,null,null,null,null,null,null,null,null,null,null,null,null,null,null,null,null,null,567.75]
[null,null,null,null,null,null,null,null,null,null,null,null,null,null,null,null,null,null,null,null,null,null,null,null,null,null,null,null,null,570]
[null,null,null,null,null,null,null,null,null,null,null,null,null,null,null,null,null,null,null,null,null,null,null,null,null,null,null,null,null,562.66666666666663]
[null,null,null,null,null,null,null,null,null,null,null,null,null,null,null,null,null,null,null,null,null,null,null,null,null,null,null,null,null,569.5]
[null,null,null,null,null,null,null,null,null,null,null,null,null,null,null,null,null,null,null,null,null,null,null,null,null,null,null,null,null,569]
[null,null,null,null,null,null,null,null,null,null,null,null,null,null,null,null,null,null,null,null,null,null,null,null,null,null,null,null,null,571.66666666666663]
[null,null,null,null,null,null,null,null,null,null,null,null,null,null,null,null,null,null,null,null,null,null,null,null,null,null,null,null,null,571.5]
[null,null,null,null,null,null,null,null,null,null,null,null,null,null,null,null,null,null,null,null,null,null,null,null,null,null,null,null,null,577.16666666666663]
[null,null,null,null,null,null,null,null,null,null,null,null,null,null,null,null,null,null,null,null,null,null,null,null,null,null,null,null,null,581.16666666666663]
[null,null,null,null,null,null,null,null,null,null,null,null,null,null,null,null,null,null,null,null,null,null,null,null,null,null,null,null,null,588.66666666666663]
[null,null,null,null,null,null,null,null,null,null,null,null,null,null,null,null,null,null,null,null,null,null,null,null,null,null,null,null,null,590.33333333333337]
[null,null,null,null,null,null,null,null,null,null,null,null,null,null,null,null,null,null,null,null,null,null,null,null,null,null,null,null,null,590.16666666666663]
[null,null,null,null,null,null,null,null,null,null,null,null,null,null,null,null,null,null,null,null,null,null,null,null,null,null,null,null,null,592.5]
[null,null,null,null,null,null,null,null,null,null,null,null,null,null,null,null,null,null,null,null,null,null,null,null,null,null,null,null,null,597.66666666666663]
[null,null,null,null,null,null,null,null,null,null,null,null,null,null,null,null,null,null,null,null,null,null,null,null,null,null,null,null,null,598.20000000000005]
[null,null,null,null,null,null,null,null,null,null,null,null,null,null,null,null,null,null,null,null,null,null,null,null,null,null,null,null,null,593.75]
[null,null,null,null,null,null,null,null,null,null,null,null,null,null,null,null,null,null,null,null,null,null,null,null,null,null,null,null,null,593.33333333333337]
[null,null,null,null,null,null,null,null,null,null,null,null,null,null,null,null,null,null,null,null,null,null,null,null,null,null,null,null,null,596]
[null,null,null,null,null,null,null,null,null,null,null,null,null,null,null,null,null,null,null,null,null,null,null,null,null,null,null,null,null,596]
[null,null,null,null,null,null,null,null,null,null,null,null,null,null,null,null,null,null,null,null,null,null,null,null,null,null,null,null,null,596]
[null,null,null,null,null,null,null,null,null,null,null,null,null,null,null,null,null,null,null,null,null,null,null,null,null,null,null,null,null,596]
[null,null,null,null,null,null,null,null,null,null,null,null,null,null,null,null,null,null,null,null,null,null,null,null,null,null,null,null,null,632.5]
[null,null,null,null,null,null,null,null,null,null,null,null,null,null,null,null,null,null,null,null,null,null,null,null,null,null,null,null,null,649.83333333333337]
[null,null,null,null,null,null,null,null,null,null,null,null,null,null,null,null,null,null,null,null,null,null,null,null,null,null,null,null,null,651.5]
[null,null,null,null,null,null,null,null,null,null,null,null,null,null,null,null,null,null,null,null,null,null,null,null,null,null,null,null,null,646.5]
[null,null,null,null,null,null,null,null,null,null,null,null,null,null,null,null,null,null,null,null,null,null,null,null,null,null,null,null,null,648.6]
[null,null,null,null,null,null,null,null,null,null,null,null,null,null,null,null,null,null,null,null,null,null,null,null,null,null,null,null,null,648.5]
[null,null,null,null,null,null,null,null,null,null,null,null,null,null,null,null,null,null,null,null,null,null,null,null,null,null,null,null,null,655]
[null,null,null,null,null,null,null,null,null,null,null,null,null,null,null,null,null,null,null,null,null,null,null,null,null,null,null,null,null,644]
[null,null,null,null,null,null,null,null,null,null,null,null,null,null,null,null,null,null,null,null,null,null,null,null,null,null,null,null,null,644]
[null,null,null,null,null,null,null,null,null,null,null,null,null,null,null,null,null,null,null,null,null,null,null,null,null,null,null,null,null,644]
[null,null,null,null,null,null,null,null,null,null,null,null,null,null,null,null,null,null,null,null,null,null,null,null,null,null,null,null,null,644]
[null,null,null,null,null,null,null,null,null,null,null,null,null,null,null,null,null,null,null,null,null,null,null,null,null,null,null,null,null,644]
[null,null,null,null,null,null,null,null,null,null,null,null,null,null,null,null,null,null,null,null,null,null,null,null,null,null,null,null,null,647.5]
[null,null,null,null,null,null,null,null,null,null,null,null,null,null,null,null,null,null,null,null,null,null,null,null,null,null,null,null,null,656]
[null,null,null,null,null,null,null,null,null,null,null,null,null,null,null,null,null,null,null,null,null,null,null,null,null,null,null,null,null,657.5]
[null,null,null,null,null,null,null,null,null,null,null,null,null,null,null,null,null,null,null,null,null,null,null,null,null,null,null,null,null,666.2]
[null,null,null,null,null,null,null,null,null,null,null,null,null,null,null,null,null,null,null,null,null,null,null,null,null,null,null,null,null,670.33333333333337]
[null,null,null,null,null,null,null,null,null,null,null,null,null,null,null,null,null,null,null,null,null,null,null,null,null,null,null,null,null,675.5]
[null,null,null,null,null,null,null,null,null,null,null,null,null,null,null,null,null,null,null,null,null,null,null,null,null,null,null,null,null,684]
[null,null,null,null,null,null,null,null,null,null,null,null,null,null,null,null,null,null,null,null,null,null,null,null,null,null,null,null,null,695.4]
[null,null,null,null,null,null,null,null,null,null,null,null,null,null,null,null,null,null,null,null,null,null,null,null,null,null,null,null,null,704.83333333333337]
[null,null,null,null,null,null,null,null,null,null,null,null,null,null,null,null,null,null,null,null,null,null,null,null,null,null,null,null,null,704.16666666666663]
[null,null,null,null,null,null,null,null,null,null,null,null,null,null,null,null,null,null,null,null,null,null,null,null,null,null,null,null,null,693.83333333333337]
[null,null,null,null,null,null,null,null,null,null,null,null,null,null,null,null,null,null,null,null,null,null,null,null,null,null,null,null,null,685.5]
[null,null,null,null,null,null,null,null,null,null,null,null,null,null,null,null,null,null,null,null,null,null,null,null,null,null,null,null,null,666.6]
[null,null,null,null,null,null,null,null,null,null,null,null,null,null,null,null,null,null,null,null,null,null,null,null,null,null,null,null,null,664]
[null,null,null,null,null,null,null,null,null,null,null,null,null,null,null,null,null,null,null,null,null,null,null,null,null,null,null,null,null,666.83333333333337]
[null,null,null,null,null,null,null,null,null,null,null,null,null,null,null,null,null,null,null,null,null,null,null,null,null,null,null,null,null,664.16666666666663]
[null,null,null,null,null,null,null,null,null,null,null,null,null,null,null,null,null,null,null,null,null,null,null,null,null,null,null,null,null,669.33333333333337]
[null,null,null,null,null,null,null,null,null,null,null,null,null,null,null,null,null,null,null,null,null,null,null,null,null,null,null,null,null,680]
[null,null,null,null,null,null,null,null,null,null,null,null,null,null,null,null,null,null,null,null,null,null,null,null,null,null,null,null,null,674]
[null,null,null,null,null,null,null,null,null,null,null,null,null,null,null,null,null,null,null,null,null,null,null,null,null,null,null,null,null,679.83333333333337]
[null,null,null,null,null,null,null,null,null,null,null,null,null,null,null,null,null,null,null,null,null,null,null,null,null,null,null,null,null,681.5]
[null,null,null,null,null,null,null,null,null,null,null,null,null,null,null,null,null,null,null,null,null,null,null,null,null,null,null,null,null,684.16666666666663]
[null,null,null,null,null,null,null,null,null,null,null,null,null,null,null,null,null,null,null,null,null,null,null,null,null,null,null,null,null,694.33333333333337]
[null,null,null,null,null,null,null,null,null,null,null,null,null,null,null,null,null,null,null,null,null,null,null,null,null,null,null,null,null,683.83333333333337]
[null,null,null,null,null,null,null,null,null,null,null,null,null,null,null,null,null,null,null,null,null,null,null,null,null,null,null,null,null,693.83333333333337]
[null,null,null,null,null,null,null,null,null,null,null,null,null,null,null,null,null,null,null,null,null,null,null,null,null,null,null,null,null,695.4]
[null,null,null,null,null,null,null,null,null,null,null,null,null,null,null,null,null,null,null,null,null,null,null,null,null,null,null,null,null,694.5]
[null,null,null,null,null,null,null,null,null,null,null,null,null,null,null,null,null,null,null,null,null,null,null,null,null,null,null,null,null,693.66666666666663]
[null,null,null,null,null,null,null,null,null,null,null,null,null,null,null,null,null,null,null,null,null,null,null,null,null,null,null,null,null,680]
[null,null,null,null,null,null,null,null,null,null,null,null,null,null,null,null,null,null,null,null,null,null,null,null,null,null,null,null,null,680]
[null,null,null,null,null,null,null,null,null,null,null,null,null,null,null,null,null,null,null,null,null,null,null,null,null,null,null,null,null,680]
[null,null,null,null,null,null,null,null,null,null,null,null,null,null,null,null,null,null,null,null,null,null,null,null,null,null,null,null,null,680]
[null,null,null,null,null,null,null,null,null,null,null,null,null,null,null,null,null,null,null,null,null,null,null,null,null,null,null,null,null,680]
[null,null,null,null,null,null,null,null,null,null,null,null,null,null,null,null,null,null,null,null,null,null,null,null,null,null,null,null,null,680]
[null,null,null,null,null,null,null,null,null,null,null,null,null,null,null,null,null,null,null,null,null,null,null,null,null,null,null,null,null,680]
[null,null,null,null,null,null,null,null,null,null,null,null,null,null,null,null,null,null,null,null,null,null,null,null,null,null,null,null,null,680]
[null,null,null,null,null,null,null,null,null,null,null,null,null,null,null,null,null,null,null,null,null,null,null,null,null,null,null,null,null,680]
[null,null,null,null,null,null,null,null,null,null,null,null,null,null,null,null,null,null,null,null,null,null,null,null,null,null,null,null,null,680]
[null,null,null,null,null,null,null,null,null,null,null,null,null,null,null,null,null,null,null,null,null,null,null,null,null,null,null,null,null,680]
[null,null,null,null,null,null,null,null,null,null,null,null,null,null,null,null,null,null,null,null,null,null,null,null,null,null,null,null,null,680]
[null,null,null,null,null,null,null,null,null,null,null,null,null,null,null,null,null,null,null,null,null,null,null,null,null,null,null,null,null,680]
[null,null,null,null,null,null,null,null,null,null,null,null,null,null,null,null,null,null,null,null,null,null,null,null,null,null,null,null,null,680]
[null,null,null,null,null,null,null,null,null,null,null,null,null,null,null,null,null,null,null,null,null,null,null,null,null,null,null,null,null,680]
[null,null,null,null,null,null,null,null,null,null,null,null,null,null,null,null,null,null,null,null,null,null,null,null,null,null,null,null,null,680]
[null,null,null,null,null,null,null,null,null,null,null,null,null,null,null,null,null,null,null,null,null,null,null,null,null,null,null,null,null,680]
[null,null,null,null,null,null,null,null,null,null,null,null,null,null,null,null,null,null,null,null,null,null,null,null,null,null,null,null,null,680]
[null,null,null,null,null,null,null,null,null,null,null,null,null,null,null,null,null,null,null,null,null,null,null,null,null,null,null,null,null,607]
[null,null,null,null,null,null,null,null,null,null,null,null,null,null,null,null,null,null,null,null,null,null,null,null,null,null,null,null,null,613.66666666666663]
[null,null,null,null,null,null,null,null,null,null,null,null,null,null,null,null,null,null,null,null,null,null,null,null,null,null,null,null,null,613.66666666666663]
[null,null,null,null,null,null,null,null,null,null,null,null,null,null,null,null,null,null,null,null,null,null,null,null,null,null,null,null,null,613.66666666666663]
[null,null,null,null,null,null,null,null,null,null,null,null,null,null,null,null,null,null,null,null,null,null,null,null,null,null,null,null,null,613.66666666666663]
[null,null,null,null,null,null,null,null,null,null,null,null,null,null,null,null,null,null,null,null,null,null,null,null,null,null,null,null,null,619]
[null,null,null,null,null,null,null,null,null,null,null,null,null,null,null,null,null,null,null,null,null,null,null,null,null,null,null,null,null,626]
[null,null,null,null,null,null,null,null,null,null,null,null,null,null,null,null,null,null,null,null,null,null,null,null,null,null,null,null,null,617]
[null,null,null,null,null,null,null,null,null,null,null,null,null,null,null,null,null,null,null,null,null,null,null,null,null,null,null,null,null,625.75]
[null,null,null,null,null,null,null,null,null,null,null,null,null,null,null,null,null,null,null,null,null,null,null,null,null,null,null,null,null,625.75]
[null,null,null,null,null,null,null,null,null,null,null,null,null,null,null,null,null,null,null,null,null,null,null,null,null,null,null,null,null,629.6]
[null,null,null,null,null,null,null,null,null,null,null,null,null,null,null,null,null,null,null,null,null,null,null,null,null,null,null,null,null,634]
[null,null,null,null,null,null,null,null,null,null,null,null,null,null,null,null,null,null,null,null,null,null,null,null,null,null,null,null,null,631.20000000000005]
[null,null,null,null,null,null,null,null,null,null,null,null,null,null,null,null,null,null,null,null,null,null,null,null,null,null,null,null,null,641]
[null,null,null,null,null,null,null,null,null,null,null,null,null,null,null,null,null,null,null,null,null,null,null,null,null,null,null,null,null,636.4]
[null,null,null,null,null,null,null,null,null,null,null,null,null,null,null,null,null,null,null,null,null,null,null,null,null,null,null,null,null,631]
[null,null,null,null,null,null,null,null,null,null,null,null,null,null,null,null,null,null,null,null,null,null,null,null,null,null,null,null,null,636.5]
[null,null,null,null,null,null,null,null,null,null,null,null,null,null,null,null,null,null,null,null,null,null,null,null,null,null,null,null,null,631]
[null,null,null,null,null,null,null,null,null,null,null,null,null,null,null,null,null,null,null,null,null,null,null,null,null,null,null,null,null,640]
[null,null,null,null,null,null,null,null,null,null,null,null,null,null,null,null,null,null,null,null,null,null,null,null,null,null,null,null,null,637]
[null,null,null,null,null,null,null,null,null,null,null,null,null,null,null,null,null,null,null,null,null,null,null,null,null,null,null,null,null,641]
[null,null,null,null,null,null,null,null,null,null,null,null,null,null,null,null,null,null,null,null,null,null,null,null,null,null,null,null,null,641]
[null,null,null,null,null,null,null,null,null,null,null,null,null,null,null,null,null,null,null,null,null,null,null,null,null,null,null,null,null,641]
[null,null,null,null,null,null,null,null,null,null,null,null,null,null,null,null,null,null,null,null,null,null,null,null,null,null,null,null,null,641]
[null,null,null,null,null,null,null,null,null,null,null,null,null,null,null,null,null,null,null,null,null,null,null,null,null,null,null,null,null,641]
[null,null,null,null,null,null,null,null,null,null,null,null,null,null,null,null,null,null,null,null,null,null,null,null,null,null,null,null,null,641]
[null,null,null,null,null,null,null,null,null,null,null,null,null,null,null,null,null,null,null,null,null,null,null,null,null,null,null,null,null,582]
[null,null,null,null,null,null,null,null,null,null,null,null,null,null,null,null,null,null,null,null,null,null,null,null,null,null,null,null,null,582]
[null,null,null,null,null,null,null,null,null,null,null,null,null,null,null,null,null,null,null,null,null,null,null,null,null,null,null,null,null,582]
[null,null,null,null,null,null,null,null,null,null,null,null,null,null,null,null,null,null,null,null,null,null,null,null,null,null,null,null,null,582]
[null,null,null,null,null,null,null,null,null,null,null,null,null,null,null,null,null,null,null,null,null,null,null,null,null,null,null,null,null,582]
[null,null,null,null,null,null,null,null,null,null,null,null,null,null,null,null,null,null,null,null,null,null,null,null,null,null,null,null,null,582]
[null,null,null,null,null,null,null,null,null,null,null,null,null,null,null,null,null,null,null,null,null,null,null,null,null,null,null,null,null,582]
[null,null,null,null,null,null,null,null,null,null,null,null,null,null,null,null,null,null,null,null,null,null,null,null,null,null,null,null,null,582]
[null,null,null,null,null,null,null,null,null,null,null,null,null,null,null,null,null,null,null,null,null,null,null,null,null,null,null,null,null,582]
[null,null,null,null,null,null,null,null,null,null,null,null,null,null,null,null,null,null,null,null,null,null,null,null,null,null,null,null,null,569]
[null,null,null,null,null,null,null,null,null,null,null,null,null,null,null,null,null,null,null,null,null,null,null,null,null,null,null,null,null,569]
[null,null,null,null,null,null,null,null,null,null,null,null,null,null,null,null,null,null,null,null,null,null,null,null,null,null,null,null,null,569]
[null,null,null,null,null,null,null,null,null,null,null,null,null,null,null,null,null,null,null,null,null,null,null,null,null,null,null,null,null,569]
[null,null,null,null,null,null,null,null,null,null,null,null,null,null,null,null,null,null,null,null,null,null,null,null,null,null,null,null,null,569]
[null,null,null,null,null,null,null,null,null,null,null,null,null,null,null,null,null,null,null,null,null,null,null,null,null,null,null,null,null,569]
[null,null,null,null,null,null,null,null,null,null,null,null,null,null,null,null,null,null,null,null,null,null,null,null,null,null,null,null,null,569]
[null,null,null,null,null,null,null,null,null,null,null,null,null,null,null,null,null,null,null,null,null,null,null,null,null,null,null,null,null,569]
[null,null,null,null,null,null,null,null,null,null,null,null,null,null,null,null,null,null,null,null,null,null,null,null,null,null,null,null,null,548.5]
[null,null,null,null,null,null,null,null,null,null,null,null,null,null,null,null,null,null,null,null,null,null,null,null,null,null,null,null,null,554.33333333333337]
[null,null,null,null,null,null,null,null,null,null,null,null,null,null,null,null,null,null,null,null,null,null,null,null,null,null,null,null,null,554.33333333333337]
[null,null,null,null,null,null,null,null,null,null,null,null,null,null,null,null,null,null,null,null,null,null,null,null,null,null,null,null,null,554.33333333333337]
[null,null,null,null,null,null,null,null,null,null,null,null,null,null,null,null,null,null,null,null,null,null,null,null,null,null,null,null,null,554.33333333333337]
[null,null,null,null,null,null,null,null,null,null,null,null,null,null,null,null,null,null,null,null,null,null,null,null,null,null,null,null,null,565]
[null,null,null,null,null,null,null,null,null,null,null,null,null,null,null,null,null,null,null,null,null,null,null,null,null,null,null,null,null,565]
[null,null,null,null,null,null,null,null,null,null,null,null,null,null,null,null,null,null,null,null,null,null,null,null,null,null,null,null,null,565]
[null,null,null,null,null,null,null,null,null,null,null,null,null,null,null,null,null,null,null,null,null,null,null,null,null,null,null,null,null,565]
[null,null,null,null,null,null,null,null,null,null,null,null,null,null,null,null,null,null,null,null,null,null,null,null,null,null,null,null,null,565]
[null,null,null,null,null,null,null,null,null,null,null,null,null,null,null,null,null,null,null,null,null,null,null,null,null,null,null,null,null,565]
[null,null,null,null,null,null,null,null,null,null,null,null,null,null,null,null,null,null,null,null,null,null,null,null,null,null,null,null,null,596]
[null,null,null,null,null,null,null,null,null,null,null,null,null,null,null,null,null,null,null,null,null,null,null,null,null,null,null,null,null,605]
[null,null,null,null,null,null,null,null,null,null,null,null,null,null,null,null,null,null,null,null,null,null,null,null,null,null,null,null,null,603.75]
[null,null,null,null,null,null,null,null,null,null,null,null,null,null,null,null,null,null,null,null,null,null,null,null,null,null,null,null,null,587.79999999999995]
[null,null,null,null,null,null,null,null,null,null,null,null,null,null,null,null,null,null,null,null,null,null,null,null,null,null,null,null,null,573.66666666666663]
[null,null,null,null,null,null,null,null,null,null,null,null,null,null,null,null,null,null,null,null,null,null,null,null,null,null,null,null,null,544.4]
[null,null,null,null,null,null,null,null,null,null,null,null,null,null,null,null,null,null,null,null,null,null,null,null,null,null,null,null,null,514.75]
[null,null,null,null,null,null,null,null,null,null,null,null,null,null,null,null,null,null,null,null,null,null,null,null,null,null,null,null,null,517.20000000000005]
[null,null,null,null,null,null,null,null,null,null,null,null,null,null,null,null,null,null,null,null,null,null,null,null,null,null,null,null,null,515.83333333333337]
[null,null,null,null,null,null,null,null,null,null,null,null,null,null,null,null,null,null,null,null,null,null,null,null,null,null,null,null,null,513.83333333333337]
[null,null,null,null,null,null,null,null,null,null,null,null,null,null,null,null,null,null,null,null,null,null,null,null,null,null,null,null,null,517.33333333333337]
[null,null,null,null,null,null,null,null,null,null,null,null,null,null,null,null,null,null,null,null,null,null,null,null,null,null,null,null,null,523]
[null,null,null,null,null,null,null,null,null,null,null,null,null,null,null,null,null,null,null,null,null,null,null,null,null,null,null,null,null,526.83333333333337]
[null,null,null,null,null,null,null,null,null,null,null,null,null,null,null,null,null,null,null,null,null,null,null,null,null,null,null,null,null,526.79999999999995]
[null,null,null,null,null,null,null,null,null,null,null,null,null,null,null,null,null,null,null,null,null,null,null,null,null,null,null,null,null,531.25]
[null,null,null,null,null,null,null,null,null,null,null,null,null,null,null,null,null,null,null,null,null,null,null,null,null,null,null,null,null,546.75]
[null,null,null,null,null,null,null,null,null,null,null,null,null,null,null,null,null,null,null,null,null,null,null,null,null,null,null,null,null,554.33333333333337]
[null,null,null,null,null,null,null,null,null,null,null,null,null,null,null,null,null,null,null,null,null,null,null,null,null,null,null,null,null,562.5]
[null,null,null,null,null,null,null,null,null,null,null,null,null,null,null,null,null,null,null,null,null,null,null,null,null,null,null,null,null,562.5]
[null,null,null,null,null,null,null,null,null,null,null,null,null,null,null,null,null,null,null,null,null,null,null,null,null,null,null,null,null,562.5]
[null,null,null,null,null,null,null,null,null,null,null,null,null,null,null,null,null,null,null,null,null,null,null,null,null,null,null,null,null,562.5]
[null,null,null,null,null,null,null,null,null,null,null,null,null,null,null,null,null,null,null,null,null,null,null,null,null,null,null,null,null,562.5]
[null,null,null,null,null,null,null,null,null,null,null,null,null,null,null,null,null,null,null,null,null,null,null,null,null,null,null,null,null,562.5]
[null,null,null,null,null,null,null,null,null,null,null,null,null,null,null,null,null,null,null,null,null,null,null,null,null,null,null,null,null,503]
[null,null,null,null,null,null,null,null,null,null,null,null,null,null,null,null,null,null,null,null,null,null,null,null,null,null,null,null,null,492.33333333333331]
[null,null,null,null,null,null,null,null,null,null,null,null,null,null,null,null,null,null,null,null,null,null,null,null,null,null,null,null,null,491]
[null,null,null,null,null,null,null,null,null,null,null,null,null,null,null,null,null,null,null,null,null,null,null,null,null,null,null,null,null,489.4]
[null,null,null,null,null,null,null,null,null,null,null,null,null,null,null,null,null,null,null,null,null,null,null,null,null,null,null,null,null,491.33333333333331]
[null,null,null,null,null,null,null,null,null,null,null,null,null,null,null,null,null,null,null,null,null,null,null,null,null,null,null,null,null,491.33333333333331]
[null,null,null,null,null,null,null,null,null,null,null,null,null,null,null,null,null,null,null,null,null,null,null,null,null,null,null,null,null,492.33333333333331]
[null,null,null,null,null,null,null,null,null,null,null,null,null,null,null,null,null,null,null,null,null,null,null,null,null,null,null,null,null,500]
[null,null,null,null,null,null,null,null,null,null,null,null,null,null,null,null,null,null,null,null,null,null,null,null,null,null,null,null,null,499.66666666666669]
[null,null,null,null,null,null,null,null,null,null,null,null,null,null,null,null,null,null,null,null,null,null,null,null,null,null,null,null,null,507.83333333333331]
[null,null,null,null,null,null,null,null,null,null,null,null,null,null,null,null,null,null,null,null,null,null,null,null,null,null,null,null,null,510]
[null,null,null,null,null,null,null,null,null,null,null,null,null,null,null,null,null,null,null,null,null,null,null,null,null,null,null,null,null,517.16666666666663]
[null,null,null,null,null,null,null,null,null,null,null,null,null,null,null,null,null,null,null,null,null,null,null,null,null,null,null,null,null,519.33333333333337]
[null,null,null,null,null,null,null,null,null,null,null,null,null,null,null,null,null,null,null,null,null,null,null,null,null,null,null,null,null,519.79999999999995]
[null,null,null,null,null,null,null,null,null,null,null,null,null,null,null,null,null,null,null,null,null,null,null,null,null,null,null,null,null,535.6]
[null,null,null,null,null,null,null,null,null,null,null,null,null,null,null,null,null,null,null,null,null,null,null,null,null,null,null,null,null,543]
[null,null,null,null,null,null,null,null,null,null,null,null,null,null,null,null,null,null,null,null,null,null,null,null,null,null,null,null,null,553.20000000000005]
[null,null,null,null,null,null,null,null,null,null,null,null,null,null,null,null,null,null,null,null,null,null,null,null,null,null,null,null,null,554]
[null,null,null,null,null,null,null,null,null,null,null,null,null,null,null,null,null,null,null,null,null,null,null,null,null,null,null,null,null,558.66666666666663]
[null,null,null,null,null,null,null,null,null,null,null,null,null,null,null,null,null,null,null,null,null,null,null,null,null,null,null,null,null,549.33333333333337]
[null,null,null,null,null,null,null,null,null,null,null,null,null,null,null,null,null,null,null,null,null,null,null,null,null,null,null,null,null,529]
[null,null,null,null,null,null,null,null,null,null,null,null,null,null,null,null,null,null,null,null,null,null,null,null,null,null,null,null,null,528]
[null,null,null,null,null,null,null,null,null,null,null,null,null,null,null,null,null,null,null,null,null,null,null,null,null,null,null,null,null,519.66666666666663]
[null,null,null,null,null,null,null,null,null,null,null,null,null,null,null,null,null,null,null,null,null,null,null,null,null,null,null,null,null,519.16666666666663]
[null,null,null,null,null,null,null,null,null,null,null,null,null,null,null,null,null,null,null,null,null,null,null,null,null,null,null,null,null,522.33333333333337]
[null,null,null,null,null,null,null,null,null,null,null,null,null,null,null,null,null,null,null,null,null,null,null,null,null,null,null,null,null,524.20000000000005]
[null,null,null,null,null,null,null,null,null,null,null,null,null,null,null,null,null,null,null,null,null,null,null,null,null,null,null,null,null,526.75]
[null,null,null,null,null,null,null,null,null,null,null,null,null,null,null,null,null,null,null,null,null,null,null,null,null,null,null,null,null,533.75]
[null,null,null,null,null,null,null,null,null,null,null,null,null,null,null,null,null,null,null,null,null,null,null,null,null,null,null,null,null,545.66666666666663]
[null,null,null,null,null,null,null,null,null,null,null,null,null,null,null,null,null,null,null,null,null,null,null,null,null,null,null,null,null,541]
[null,null,null,null,null,null,null,null,null,null,null,null,null,null,null,null,null,null,null,null,null,null,null,null,null,null,null,null,null,549.33333333333337]
[null,null,null,null,null,null,null,null,null,null,null,null,null,null,null,null,null,null,null,null,null,null,null,null,null,null,null,null,null,540.83333333333337]
[null,null,null,null,null,null,null,null,null,null,null,null,null,null,null,null,null,null,null,null,null,null,null,null,null,null,null,null,null,533.16666666666663]
[null,null,null,null,null,null,null,null,null,null,null,null,null,null,null,null,null,null,null,null,null,null,null,null,null,null,null,null,null,532]
[null,null,null,null,null,null,null,null,null,null,null,null,null,null,null,null,null,null,null,null,null,null,null,null,null,null,null,null,null,541.5]
[null,null,null,null,null,null,null,null,null,null,null,null,null,null,null,null,null,null,null,null,null,null,null,null,null,null,null,null,null,539.66666666666663]
[null,null,null,null,null,null,null,null,null,null,null,null,null,null,null,null,null,null,null,null,null,null,null,null,null,null,null,null,null,536.5]
[null,null,null,null,null,null,null,null,null,null,null,null,null,null,null,null,null,null,null,null,null,null,null,null,null,null,null,null,null,539]
[null,null,null,null,null,null,null,null,null,null,null,null,null,null,null,null,null,null,null,null,null,null,null,null,null,null,null,null,null,540.75]
[null,null,null,null,null,null,null,null,null,null,null,null,null,null,null,null,null,null,null,null,null,null,null,null,null,null,null,null,null,539.66666666666663]
[null,null,null,null,null,null,null,null,null,null,null,null,null,null,null,null,null,null,null,null,null,null,null,null,null,null,null,null,null,530.5]
[null,null,null,null,null,null,null,null,null,null,null,null,null,null,null,null,null,null,null,null,null,null,null,null,null,null,null,null,null,538.5]
[null,null,null,null,null,null,null,null,null,null,null,null,null,null,null,null,null,null,null,null,null,null,null,null,null,null,null,null,null,539.5]
[null,null,null,null,null,null,null,null,null,null,null,null,null,null,null,null,null,null,null,null,null,null,null,null,null,null,null,null,null,533.33333333333337]
[null,null,null,null,null,null,null,null,null,null,null,null,null,null,null,null,null,null,null,null,null,null,null,null,null,null,null,null,null,527.25]
[null,null,null,null,null,null,null,null,null,null,null,null,null,null,null,null,null,null,null,null,null,null,null,null,null,null,null,null,null,526]
[null,null,null,null,null,null,null,null,null,null,null,null,null,null,null,null,null,null,null,null,null,null,null,null,null,null,null,null,null,532.16666666666663]
[null,null,null,null,null,null,null,null,null,null,null,null,null,null,null,null,null,null,null,null,null,null,null,null,null,null,null,null,null,537.66666666666663]
[null,null,null,null,null,null,null,null,null,null,null,null,null,null,null,null,null,null,null,null,null,null,null,null,null,null,null,null,null,534.33333333333337]
[null,null,null,null,null,null,null,null,null,null,null,null,null,null,null,null,null,null,null,null,null,null,null,null,null,null,null,null,null,535.83333333333337]
[null,null,null,null,null,null,null,null,null,null,null,null,null,null,null,null,null,null,null,null,null,null,null,null,null,null,null,null,null,538.66666666666663]
[null,null,null,null,null,null,null,null,null,null,null,null,null,null,null,null,null,null,null,null,null,null,null,null,null,null,null,null,null,535.83333333333337]
[null,null,null,null,null,null,null,null,null,null,null,null,null,null,null,null,null,null,null,null,null,null,null,null,null,null,null,null,null,529.83333333333337]
[null,null,null,null,null,null,null,null,null,null,null,null,null,null,null,null,null,null,null,null,null,null,null,null,null,null,null,null,null,516.66666666666663]
[null,null,null,null,null,null,null,null,null,null,null,null,null,null,null,null,null,null,null,null,null,null,null,null,null,null,null,null,null,513.16666666666663]
[null,null,null,null,null,null,null,null,null,null,null,null,null,null,null,null,null,null,null,null,null,null,null,null,null,null,null,null,null,505.16666666666669]
[null,null,null,null,null,null,null,null,null,null,null,null,null,null,null,null,null,null,null,null,null,null,null,null,null,null,null,null,null,501.16666666666669]
[null,null,null,null,null,null,null,null,null,null,null,null,null,null,null,null,null,null,null,null,null,null,null,null,null,null,null,null,null,496]
[null,null,null,null,null,null,null,null,null,null,null,null,null,null,null,null,null,null,null,null,null,null,null,null,null,null,null,null,null,487]
[null,null,null,null,null,null,null,null,null,null,null,null,null,null,null,null,null,null,null,null,null,null,null,null,null,null,null,null,null,493.33333333333331]
[null,null,null,null,null,null,null,null,null,null,null,null,null,null,null,null,null,null,null,null,null,null,null,null,null,null,null,null,null,489.66666666666669]
[null,null,null,null,null,null,null,null,null,null,null,null,null,null,null,null,null,null,null,null,null,null,null,null,null,null,null,null,null,482]
[null,null,null,null,null,null,null,null,null,null,null,null,null,null,null,null,null,null,null,null,null,null,null,null,null,null,null,null,null,478]
[null,null,null,null,null,null,null,null,null,null,null,null,null,null,null,null,null,null,null,null,null,null,null,null,null,null,null,null,null,485.6]
[null,null,null,null,null,null,null,null,null,null,null,null,null,null,null,null,null,null,null,null,null,null,null,null,null,null,null,null,null,483.4]
[null,null,null,null,null,null,null,null,null,null,null,null,null,null,null,null,null,null,null,null,null,null,null,null,null,null,null,null,null,483.4]
[null,null,null,null,null,null,null,null,null,null,null,null,null,null,null,null,null,null,null,null,null,null,null,null,null,null,null,null,null,480.25]
[null,null,null,null,null,null,null,null,null,null,null,null,null,null,null,null,null,null,null,null,null,null,null,null,null,null,null,null,null,495]
[null,null,null,null,null,null,null,null,null,null,null,null,null,null,null,null,null,null,null,null,null,null,null,null,null,null,null,null,null,503.75]
[null,null,null,null,null,null,null,null,null,null,null,null,null,null,null,null,null,null,null,null,null,null,null,null,null,null,null,null,null,516.16666666666663]
[null,null,null,null,null,null,null,null,null,null,null,null,null,null,null,null,null,null,null,null,null,null,null,null,null,null,null,null,null,526.66666666666663]
[null,null,null,null,null,null,null,null,null,null,null,null,null,null,null,null,null,null,null,null,null,null,null,null,null,null,null,null,null,518.16666666666663]
[null,null,null,null,null,null,null,null,null,null,null,null,null,null,null,null,null,null,null,null,null,null,null,null,null,null,null,null,null,505.83333333333331]
[null,null,null,null,null,null,null,null,null,null,null,null,null,null,null,null,null,null,null,null,null,null,null,null,null,null,null,null,null,499.33333333333331]
[null,null,null,null,null,null,null,null,null,null,null,null,null,null,null,null,null,null,null,null,null,null,null,null,null,null,null,null,null,495.5]
[null,null,null,null,null,null,null,null,null,null,null,null,null,null,null,null,null,null,null,null,null,null,null,null,null,null,null,null,null,495.83333333333331]
[null,null,null,null,null,null,null,null,null,null,null,null,null,null,null,null,null,null,null,null,null,null,null,null,null,null,null,null,null,492]
[null,null,null,null,null,null,null,null,null,null,null,null,null,null,null,null,null,null,null,null,null,null,null,null,null,null,null,null,null,502.33333333333331]
[null,null,null,null,null,null,null,null,null,null,null,null,null,null,null,null,null,null,null,null,null,null,null,null,null,null,null,null,null,508.33333333333331]
[null,null,null,null,null,null,null,null,null,null,null,null,null,null,null,null,null,null,null,null,null,null,null,null,null,null,null,null,null,508.4]
[null,null,null,null,null,null,null,null,null,null,null,null,null,null,null,null,null,null,null,null,null,null,null,null,null,null,null,null,null,511.8]
[null,null,null,null,null,null,null,null,null,null,null,null,null,null,null,null,null,null,null,null,null,null,null,null,null,null,null,null,null,513]
[null,null,null,null,null,null,null,null,null,null,null,null,null,null,null,null,null,null,null,null,null,null,null,null,null,null,null,null,null,518]
[null,null,null,null,null,null,null,null,null,null,null,null,null,null,null,null,null,null,null,null,null,null,null,null,null,null,null,null,null,521]
[null,null,null,null,null,null,null,null,null,null,null,null,null,null,null,null,null,null,null,null,null,null,null,null,null,null,null,null,null,536]
[null,null,null,null,null,null,null,null,null,null,null,null,null,null,null,null,null,null,null,null,null,null,null,null,null,null,null,null,null,537]
[null,null,null,null,null,null,null,null,null,null,null,null,null,null,null,null,null,null,null,null,null,null,null,null,null,null,null,null,null,535.66666666666663]
[null,null,null,null,null,null,null,null,null,null,null,null,null,null,null,null,null,null,null,null,null,null,null,null,null,null,null,null,null,520.16666666666663]
[null,null,null,null,null,null,null,null,null,null,null,null,null,null,null,null,null,null,null,null,null,null,null,null,null,null,null,null,null,515.33333333333337]
[null,null,null,null,null,null,null,null,null,null,null,null,null,null,null,null,null,null,null,null,null,null,null,null,null,null,null,null,null,504.8]
[null,null,null,null,null,null,null,null,null,null,null,null,null,null,null,null,null,null,null,null,null,null,null,null,null,null,null,null,null,504.8]
[null,null,null,null,null,null,null,null,null,null,null,null,null,null,null,null,null,null,null,null,null,null,null,null,null,null,null,null,null,504.8]
[null,null,null,null,null,null,null,null,null,null,null,null,null,null,null,null,null,null,null,null,null,null,null,null,null,null,null,null,null,502]
[null,null,null,null,null,null,null,null,null,null,null,null,null,null,null,null,null,null,null,null,null,null,null,null,null,null,null,null,null,507.66666666666669]
[null,null,null,null,null,null,null,null,null,null,null,null,null,null,null,null,null,null,null,null,null,null,null,null,null,null,null,null,null,515]
[null,null,null,null,null,null,null,null,null,null,null,null,null,null,null,null,null,null,null,null,null,null,null,null,null,null,null,null,null,529.5]
[null,null,null,null,null,null,null,null,null,null,null,null,null,null,null,null,null,null,null,null,null,null,null,null,null,null,null,null,null,527]
[null,null,null,null,null,null,null,null,null,null,null,null,null,null,null,null,null,null,null,null,null,null,null,null,null,null,null,null,null,546.5]
[null,null,null,null,null,null,null,null,null,null,null,null,null,null,null,null,null,null,null,null,null,null,null,null,null,null,null,null,null,534.66666666666663]
[null,null,null,null,null,null,null,null,null,null,null,null,null,null,null,null,null,null,null,null,null,null,null,null,null,null,null,null,null,528.5]
[null,null,null,null,null,null,null,null,null,null,null,null,null,null,null,null,null,null,null,null,null,null,null,null,null,null,null,null,null,527.4]
[null,null,null,null,null,null,null,null,null,null,null,null,null,null,null,null,null,null,null,null,null,null,null,null,null,null,null,null,null,524.83333333333337]
[null,null,null,null,null,null,null,null,null,null,null,null,null,null,null,null,null,null,null,null,null,null,null,null,null,null,null,null,null,525.16666666666663]
[null,null,null,null,null,null,null,null,null,null,null,null,null,null,null,null,null,null,null,null,null,null,null,null,null,null,null,null,null,522.16666666666663]
[null,null,null,null,null,null,null,null,null,null,null,null,null,null,null,null,null,null,null,null,null,null,null,null,null,null,null,null,null,519.33333333333337]
[null,null,null,null,null,null,null,null,null,null,null,null,null,null,null,null,null,null,null,null,null,null,null,null,null,null,null,null,null,520.33333333333337]
[null,null,null,null,null,null,null,null,null,null,null,null,null,null,null,null,null,null,null,null,null,null,null,null,null,null,null,null,null,514.16666666666663]
[null,null,null,null,null,null,null,null,null,null,null,null,null,null,null,null,null,null,null,null,null,null,null,null,null,null,null,null,null,517.66666666666663]
[null,null,null,null,null,null,null,null,null,null,null,null,null,null,null,null,null,null,null,null,null,null,null,null,null,null,null,null,null,506.5]
[null,null,null,null,null,null,null,null,null,null,null,null,null,null,null,null,null,null,null,null,null,null,null,null,null,null,null,null,null,511]
[null,null,null,null,null,null,null,null,null,null,null,null,null,null,null,null,null,null,null,null,null,null,null,null,null,null,null,null,null,514.4]
[null,null,null,null,null,null,null,null,null,null,null,null,null,null,null,null,null,null,null,null,null,null,null,null,null,null,null,null,null,514]
[null,null,null,null,null,null,null,null,null,null,null,null,null,null,null,null,null,null,null,null,null,null,null,null,null,null,null,null,null,523.33333333333337]
[null,null,null,null,null,null,null,null,null,null,null,null,null,null,null,null,null,null,null,null,null,null,null,null,null,null,null,null,null,518.5]
[null,null,null,null,null,null,null,null,null,null,null,null,null,null,null,null,null,null,null,null,null,null,null,null,null,null,null,null,null,518.5]
[null,null,null,null,null,null,null,null,null,null,null,null,null,null,null,null,null,null,null,null,null,null,null,null,null,null,null,null,null,518.5]
[null,null,null,null,null,null,null,null,null,null,null,null,null,null,null,null,null,null,null,null,null,null,null,null,null,null,null,null,null,518.5]
[null,null,null,null,null,null,null,null,null,null,null,null,null,null,null,null,null,null,null,null,null,null,null,null,null,null,null,null,null,518.5]
[null,null,null,null,null,null,null,null,null,null,null,null,null,null,null,null,null,null,null,null,null,null,null,null,null,null,null,null,null,485.5]
[null,null,null,null,null,null,null,null,null,null,null,null,null,null,null,null,null,null,null,null,null,null,null,null,null,null,null,null,null,485.5]
[null,null,null,null,null,null,null,null,null,null,null,null,null,null,null,null,null,null,null,null,null,null,null,null,null,null,null,null,null,485.66666666666669]
[null,null,null,null,null,null,null,null,null,null,null,null,null,null,null,null,null,null,null,null,null,null,null,null,null,null,null,null,null,491.75]
[null,null,null,null,null,null,null,null,null,null,null,null,null,null,null,null,null,null,null,null,null,null,null,null,null,null,null,null,null,494]
[null,null,null,null,null,null,null,null,null,null,null,null,null,null,null,null,null,null,null,null,null,null,null,null,null,null,null,null,null,503.33333333333331]
[null,null,null,null,null,null,null,null,null,null,null,null,null,null,null,null,null,null,null,null,null,null,null,null,null,null,null,null,null,503]
[null,null,null,null,null,null,null,null,null,null,null,null,null,null,null,null,null,null,null,null,null,null,null,null,null,null,null,null,null,497.6]
[null,null,null,null,null,null,null,null,null,null,null,null,null,null,null,null,null,null,null,null,null,null,null,null,null,null,null,null,null,500.5]
[null,null,null,null,null,null,null,null,null,null,null,null,null,null,null,null,null,null,null,null,null,null,null,null,null,null,null,null,null,504.75]
[null,null,null,null,null,null,null,null,null,null,null,null,null,null,null,null,null,null,null,null,null,null,null,null,null,null,null,null,null,519.5]
[null,null,null,null,null,null,null,null,null,null,null,null,null,null,null,null,null,null,null,null,null,null,null,null,null,null,null,null,null,531.66666666666663]
[null,null,null,null,null,null,null,null,null,null,null,null,null,null,null,null,null,null,null,null,null,null,null,null,null,null,null,null,null,535.33333333333337]
[null,null,null,null,null,null,null,null,null,null,null,null,null,null,null,null,null,null,null,null,null,null,null,null,null,null,null,null,null,534.16666666666663]
[null,null,null,null,null,null,null,null,null,null,null,null,null,null,null,null,null,null,null,null,null,null,null,null,null,null,null,null,null,528.5]
[null,null,null,null,null,null,null,null,null,null,null,null,null,null,null,null,null,null,null,null,null,null,null,null,null,null,null,null,null,527]
[null,null,null,null,null,null,null,null,null,null,null,null,null,null,null,null,null,null,null,null,null,null,null,null,null,null,null,null,null,524.33333333333337]
[null,null,null,null,null,null,null,null,null,null,null,null,null,null,null,null,null,null,null,null,null,null,null,null,null,null,null,null,null,521.33333333333337]
[null,null,null,null,null,null,null,null,null,null,null,null,null,null,null,null,null,null,null,null,null,null,null,null,null,null,null,null,null,520]
[null,null,null,null,null,null,null,null,null,null,null,null,null,null,null,null,null,null,null,null,null,null,null,null,null,null,null,null,null,516.16666666666663]
[null,null,null,null,null,null,null,null,null,null,null,null,null,null,null,null,null,null,null,null,null,null,null,null,null,null,null,null,null,518.5]
[null,null,null,null,null,null,null,null,null,null,null,null,null,null,null,null,null,null,null,null,null,null,null,null,null,null,null,null,null,517.33333333333337]
[null,null,null,null,null,null,null,null,null,null,null,null,null,null,null,null,null,null,null,null,null,null,null,null,null,null,null,null,null,519.16666666666663]
[null,null,null,null,null,null,null,null,null,null,null,null,null,null,null,null,null,null,null,null,null,null,null,null,null,null,null,null,null,525]
[null,null,null,null,null,null,null,null,null,null,null,null,null,null,null,null,null,null,null,null,null,null,null,null,null,null,null,null,null,524.5]
[null,null,null,null,null,null,null,null,null,null,null,null,null,null,null,null,null,null,null,null,null,null,null,null,null,null,null,null,null,524]
[null,null,null,null,null,null,null,null,null,null,null,null,null,null,null,null,null,null,null,null,null,null,null,null,null,null,null,null,null,516]
[null,null,null,null,null,null,null,null,null,null,null,null,null,null,null,null,null,null,null,null,null,null,null,null,null,null,null,null,null,516]
[null,null,null,null,null,null,null,null,null,null,null,null,null,null,null,null,null,null,null,null,null,null,null,null,null,null,null,null,null,516]
[null,null,null,null,null,null,null,null,null,null,null,null,null,null,null,null,null,null,null,null,null,null,null,null,null,null,null,null,null,516]
[null,null,null,null,null,null,null,null,null,null,null,null,null,null,null,null,null,null,null,null,null,null,null,null,null,null,null,null,null,526]
[null,null,null,null,null,null,null,null,null,null,null,null,null,null,null,null,null,null,null,null,null,null,null,null,null,null,null,null,null,529]
[null,null,null,null,null,null,null,null,null,null,null,null,null,null,null,null,null,null,null,null,null,null,null,null,null,null,null,null,null,530.6]
[null,null,null,null,null,null,null,null,null,null,null,null,null,null,null,null,null,null,null,null,null,null,null,null,null,null,null,null,null,535.83333333333337]
[null,null,null,null,null,null,null,null,null,null,null,null,null,null,null,null,null,null,null,null,null,null,null,null,null,null,null,null,null,538.5]
[null,null,null,null,null,null,null,null,null,null,null,null,null,null,null,null,null,null,null,null,null,null,null,null,null,null,null,null,null,532.16666666666663]
[null,null,null,null,null,null,null,null,null,null,null,null,null,null,null,null,null,null,null,null,null,null,null,null,null,null,null,null,null,527.83333333333337]
[null,null,null,null,null,null,null,null,null,null,null,null,null,null,null,null,null,null,null,null,null,null,null,null,null,null,null,null,null,527.5]
[null,null,null,null,null,null,null,null,null,null,null,null,null,null,null,null,null,null,null,null,null,null,null,null,null,null,null,null,null,514.33333333333337]
[null,null,null,null,null,null,null,null,null,null,null,null,null,null,null,null,null,null,null,null,null,null,null,null,null,null,null,null,null,509.66666666666669]
[null,null,null,null,null,null,null,null,null,null,null,null,null,null,null,null,null,null,null,null,null,null,null,null,null,null,null,null,null,500.83333333333331]
[null,null,null,null,null,null,null,null,null,null,null,null,null,null,null,null,null,null,null,null,null,null,null,null,null,null,null,null,null,502.5]
[null,null,null,null,null,null,null,null,null,null,null,null,null,null,null,null,null,null,null,null,null,null,null,null,null,null,null,null,null,504]
[null,null,null,null,null,null,null,null,null,null,null,null,null,null,null,null,null,null,null,null,null,null,null,null,null,null,null,null,null,508]
[null,null,null,null,null,null,null,null,null,null,null,null,null,null,null,null,null,null,null,null,null,null,null,null,null,null,null,null,null,517.16666666666663]
[null,null,null,null,null,null,null,null,null,null,null,null,null,null,null,null,null,null,null,null,null,null,null,null,null,null,null,null,null,515.5]
[null,null,null,null,null,null,null,null,null,null,null,null,null,null,null,null,null,null,null,null,null,null,null,null,null,null,null,null,null,517.66666666666663]
[null,null,null,null,null,null,null,null,null,null,null,null,null,null,null,null,null,null,null,null,null,null,null,null,null,null,null,null,null,515.5]
[null,null,null,null,null,null,null,null,null,null,null,null,null,null,null,null,null,null,null,null,null,null,null,null,null,null,null,null,null,516.4]
[null,null,null,null,null,null,null,null,null,null,null,null,null,null,null,null,null,null,null,null,null,null,null,null,null,null,null,null,null,518]
[null,null,null,null,null,null,null,null,null,null,null,null,null,null,null,null,null,null,null,null,null,null,null,null,null,null,null,null,null,517.83333333333337]
[null,null,null,null,null,null,null,null,null,null,null,null,null,null,null,null,null,null,null,null,null,null,null,null,null,null,null,null,null,515.5]
[null,null,null,null,null,null,null,null,null,null,null,null,null,null,null,null,null,null,null,null,null,null,null,null,null,null,null,null,null,509]
[null,null,null,null,null,null,null,null,null,null,null,null,null,null,null,null,null,null,null,null,null,null,null,null,null,null,null,null,null,503.8]
[null,null,null,null,null,null,null,null,null,null,null,null,null,null,null,null,null,null,null,null,null,null,null,null,null,null,null,null,null,504.66666666666669]
[null,null,null,null,null,null,null,null,null,null,null,null,null,null,null,null,null,null,null,null,null,null,null,null,null,null,null,null,null,505]
[null,null,null,null,null,null,null,null,null,null,null,null,null,null,null,null,null,null,null,null,null,null,null,null,null,null,null,null,null,506.66666666666669]
[null,null,null,null,null,null,null,null,null,null,null,null,null,null,null,null,null,null,null,null,null,null,null,null,null,null,null,null,null,508.5]
[null,null,null,null,null,null,null,null,null,null,null,null,null,null,null,null,null,null,null,null,null,null,null,null,null,null,null,null,null,507.6]
[null,null,null,null,null,null,null,null,null,null,null,null,null,null,null,null,null,null,null,null,null,null,null,null,null,null,null,null,null,517.79999999999995]
[null,null,null,null,null,null,null,null,null,null,null,null,null,null,null,null,null,null,null,null,null,null,null,null,null,null,null,null,null,530.33333333333337]
[null,null,null,null,null,null,null,null,null,null,null,null,null,null,null,null,null,null,null,null,null,null,null,null,null,null,null,null,null,545]
[null,null,null,null,null,null,null,null,null,null,null,null,null,null,null,null,null,null,null,null,null,null,null,null,null,null,null,null,null,542]
[null,null,null,null,null,null,null,null,null,null,null,null,null,null,null,null,null,null,null,null,null,null,null,null,null,null,null,null,null,540.33333333333337]
[null,null,null,null,null,null,null,null,null,null,null,null,null,null,null,null,null,null,null,null,null,null,null,null,null,null,null,null,null,524]
[null,null,null,null,null,null,null,null,null,null,null,null,null,null,null,null,null,null,null,null,null,null,null,null,null,null,null,null,null,503.4]
[null,null,null,null,null,null,null,null,null,null,null,null,null,null,null,null,null,null,null,null,null,null,null,null,null,null,null,null,null,496]
[null,null,null,null,null,null,null,null,null,null,null,null,null,null,null,null,null,null,null,null,null,null,null,null,null,null,null,null,null,491.66666666666669]
[null,null,null,null,null,null,null,null,null,null,null,null,null,null,null,null,null,null,null,null,null,null,null,null,null,null,null,null,null,484.16666666666669]
[null,null,null,null,null,null,null,null,null,null,null,null,null,null,null,null,null,null,null,null,null,null,null,null,null,null,null,null,null,485.83333333333331]
[null,null,null,null,null,null,null,null,null,null,null,null,null,null,null,null,null,null,null,null,null,null,null,null,null,null,null,null,null,492]
[null,null,null,null,null,null,null,null,null,null,null,null,null,null,null,null,null,null,null,null,null,null,null,null,null,null,null,null,null,492.5]
[null,null,null,null,null,null,null,null,null,null,null,null,null,null,null,null,null,null,null,null,null,null,null,null,null,null,null,null,null,494.83333333333331]
[null,null,null,null,null,null,null,null,null,null,null,null,null,null,null,null,null,null,null,null,null,null,null,null,null,null,null,null,null,499.8]
[null,null,null,null,null,null,null,null,null,null,null,null,null,null,null,null,null,null,null,null,null,null,null,null,null,null,null,null,null,516.66666666666663]
[null,null,null,null,null,null,null,null,null,null,null,null,null,null,null,null,null,null,null,null,null,null,null,null,null,null,null,null,null,513.33333333333337]
[null,null,null,null,null,null,null,null,null,null,null,null,null,null,null,null,null,null,null,null,null,null,null,null,null,null,null,null,null,507.16666666666669]
[null,null,null,null,null,null,null,null,null,null,null,null,null,null,null,null,null,null,null,null,null,null,null,null,null,null,null,null,null,508.33333333333331]
[null,null,null,null,null,null,null,null,null,null,null,null,null,null,null,null,null,null,null,null,null,null,null,null,null,null,null,null,null,509.16666666666669]
[null,null,null,null,null,null,null,null,null,null,null,null,null,null,null,null,null,null,null,null,null,null,null,null,null,null,null,null,null,504.83333333333331]
[null,null,null,null,null,null,null,null,null,null,null,null,null,null,null,null,null,null,null,null,null,null,null,null,null,null,null,null,null,501.33333333333331]
[null,null,null,null,null,null,null,null,null,null,null,null,null,null,null,null,null,null,null,null,null,null,null,null,null,null,null,null,null,497.5]
[null,null,null,null,null,null,null,null,null,null,null,null,null,null,null,null,null,null,null,null,null,null,null,null,null,null,null,null,null,503.16666666666669]
[null,null,null,null,null,null,null,null,null,null,null,null,null,null,null,null,null,null,null,null,null,null,null,null,null,null,null,null,null,505.83333333333331]
[null,null,null,null,null,null,null,null,null,null,null,null,null,null,null,null,null,null,null,null,null,null,null,null,null,null,null,null,null,503.66666666666669]
[null,null,null,null,null,null,null,null,null,null,null,null,null,null,null,null,null,null,null,null,null,null,null,null,null,null,null,null,null,494.5]
[null,null,null,null,null,null,null,null,null,null,null,null,null,null,null,null,null,null,null,null,null,null,null,null,null,null,null,null,null,495.5]
[null,null,null,null,null,null,null,null,null,null,null,null,null,null,null,null,null,null,null,null,null,null,null,null,null,null,null,null,null,495.66666666666669]
[null,null,null,null,null,null,null,null,null,null,null,null,null,null,null,null,null,null,null,null,null,null,null,null,null,null,null,null,null,493]
[null,null,null,null,null,null,null,null,null,null,null,null,null,null,null,null,null,null,null,null,null,null,null,null,null,null,null,null,null,492.33333333333331]
[null,null,null,null,null,null,null,null,null,null,null,null,null,null,null,null,null,null,null,null,null,null,null,null,null,null,null,null,null,489]
[null,null,null,null,null,null,null,null,null,null,null,null,null,null,null,null,null,null,null,null,null,null,null,null,null,null,null,null,null,496.5]
[null,null,null,null,null,null,null,null,null,null,null,null,null,null,null,null,null,null,null,null,null,null,null,null,null,null,null,null,null,493.66666666666669]
[null,null,null,null,null,null,null,null,null,null,null,null,null,null,null,null,null,null,null,null,null,null,null,null,null,null,null,null,null,510.66666666666669]
[null,null,null,null,null,null,null,null,null,null,null,null,null,null,null,null,null,null,null,null,null,null,null,null,null,null,null,null,null,525.25]
[null,null,null,null,null,null,null,null,null,null,null,null,null,null,null,null,null,null,null,null,null,null,null,null,null,null,null,null,null,512]
[null,null,null,null,null,null,null,null,null,null,null,null,null,null,null,null,null,null,null,null,null,null,null,null,null,null,null,null,null,493.75]
[null,null,null,null,null,null,null,null,null,null,null,null,null,null,null,null,null,null,null,null,null,null,null,null,null,null,null,null,null,485.4]
[null,null,null,null,null,null,null,null,null,null,null,null,null,null,null,null,null,null,null,null,null,null,null,null,null,null,null,null,null,475.2]
[null,null,null,null,null,null,null,null,null,null,null,null,null,null,null,null,null,null,null,null,null,null,null,null,null,null,null,null,null,467.83333333333331]
[null,null,null,null,null,null,null,null,null,null,null,null,null,null,null,null,null,null,null,null,null,null,null,null,null,null,null,null,null,463.66666666666669]
[null,null,null,null,null,null,null,null,null,null,null,null,null,null,null,null,null,null,null,null,null,null,null,null,null,null,null,null,null,463]
[null,null,null,null,null,null,null,null,null,null,null,null,null,null,null,null,null,null,null,null,null,null,null,null,null,null,null,null,null,467.8]
[null,null,null,null,null,null,null,null,null,null,null,null,null,null,null,null,null,null,null,null,null,null,null,null,null,null,null,null,null,481]
[null,null,null,null,null,null,null,null,null,null,null,null,null,null,null,null,null,null,null,null,null,null,null,null,null,null,null,null,null,484.83333333333331]
[null,null,null,null,null,null,null,null,null,null,null,null,null,null,null,null,null,null,null,null,null,null,null,null,null,null,null,null,null,496.66666666666669]
[null,null,null,null,null,null,null,null,null,null,null,null,null,null,null,null,null,null,null,null,null,null,null,null,null,null,null,null,null,492.66666666666669]
[null,null,null,null,null,null,null,null,null,null,null,null,null,null,null,null,null,null,null,null,null,null,null,null,null,null,null,null,null,489.33333333333331]
[null,null,null,null,null,null,null,null,null,null,null,null,null,null,null,null,null,null,null,null,null,null,null,null,null,null,null,null,null,485.83333333333331]
[null,null,null,null,null,null,null,null,null,null,null,null,null,null,null,null,null,null,null,null,null,null,null,null,null,null,null,null,null,488.16666666666669]
[null,null,null,null,null,null,null,null,null,null,null,null,null,null,null,null,null,null,null,null,null,null,null,null,null,null,null,null,null,483]
[null,null,null,null,null,null,null,null,null,null,null,null,null,null,null,null,null,null,null,null,null,null,null,null,null,null,null,null,null,475]
[null,null,null,null,null,null,null,null,null,null,null,null,null,null,null,null,null,null,null,null,null,null,null,null,null,null,null,null,null,474.5]
[null,null,null,null,null,null,null,null,null,null,null,null,null,null,null,null,null,null,null,null,null,null,null,null,null,null,null,null,null,469.5]
[null,null,null,null,null,null,null,null,null,null,null,null,null,null,null,null,null,null,null,null,null,null,null,null,null,null,null,null,null,473]
[null,null,null,null,null,null,null,null,null,null,null,null,null,null,null,null,null,null,null,null,null,null,null,null,null,null,null,null,null,468.33333333333331]
[null,null,null,null,null,null,null,null,null,null,null,null,null,null,null,null,null,null,null,null,null,null,null,null,null,null,null,null,null,468]
[null,null,null,null,null,null,null,null,null,null,null,null,null,null,null,null,null,null,null,null,null,null,null,null,null,null,null,null,null,475]
[null,null,null,null,null,null,null,null,null,null,null,null,null,null,null,null,null,null,null,null,null,null,null,null,null,null,null,null,null,479.66666666666669]
[null,null,null,null,null,null,null,null,null,null,null,null,null,null,null,null,null,null,null,null,null,null,null,null,null,null,null,null,null,477.5]
[null,null,null,null,null,null,null,null,null,null,null,null,null,null,null,null,null,null,null,null,null,null,null,null,null,null,null,null,null,478.16666666666669]
[null,null,null,null,null,null,null,null,null,null,null,null,null,null,null,null,null,null,null,null,null,null,null,null,null,null,null,null,null,480.33333333333331]
[null,null,null,null,null,null,null,null,null,null,null,null,null,null,null,null,null,null,null,null,null,null,null,null,null,null,null,null,null,483.5]
[null,null,null,null,null,null,null,null,null,null,null,null,null,null,null,null,null,null,null,null,null,null,null,null,null,null,null,null,null,480.83333333333331]
[null,null,null,null,null,null,null,null,null,null,null,null,null,null,null,null,null,null,null,null,null,null,null,null,null,null,null,null,null,478]
[null,null,null,null,null,null,null,null,null,null,null,null,null,null,null,null,null,null,null,null,null,null,null,null,null,null,null,null,null,477.66666666666669]
[null,null,null,null,null,null,null,null,null,null,null,null,null,null,null,null,null,null,null,null,null,null,null,null,null,null,null,null,null,472.16666666666669]
[null,null,null,null,null,null,null,null,null,null,null,null,null,null,null,null,null,null,null,null,null,null,null,null,null,null,null,null,null,467]
[null,null,null,null,null,null,null,null,null,null,null,null,null,null,null,null,null,null,null,null,null,null,null,null,null,null,null,null,null,464]
[null,null,null,null,null,null,null,null,null,null,null,null,null,null,null,null,null,null,null,null,null,null,null,null,null,null,null,null,null,464.83333333333331]
[null,null,null,null,null,null,null,null,null,null,null,null,null,null,null,null,null,null,null,null,null,null,null,null,null,null,null,null,null,462.33333333333331]
[null,null,null,null,null,null,null,null,null,null,null,null,null,null,null,null,null,null,null,null,null,null,null,null,null,null,null,null,null,471.83333333333331]
[null,null,null,null,null,null,null,null,null,null,null,null,null,null,null,null,null,null,null,null,null,null,null,null,null,null,null,null,null,471.66666666666669]
[null,null,null,null,null,null,null,null,null,null,null,null,null,null,null,null,null,null,null,null,null,null,null,null,null,null,null,null,null,472.83333333333331]
[null,null,null,null,null,null,null,null,null,null,null,null,null,null,null,null,null,null,null,null,null,null,null,null,null,null,null,null,null,474.33333333333331]
[null,null,null,null,null,null,null,null,null,null,null,null,null,null,null,null,null,null,null,null,null,null,null,null,null,null,null,null,null,475.83333333333331]
[null,null,null,null,null,null,null,null,null,null,null,null,null,null,null,null,null,null,null,null,null,null,null,null,null,null,null,null,null,481]
[null,null,null,null,null,null,null,null,null,null,null,null,null,null,null,null,null,null,null,null,null,null,null,null,null,null,null,null,null,479.16666666666669]
[null,null,null,null,null,null,null,null,null,null,null,null,null,null,null,null,null,null,null,null,null,null,null,null,null,null,null,null,null,475.5]
[null,null,null,null,null,null,null,null,null,null,null,null,null,null,null,null,null,null,null,null,null,null,null,null,null,null,null,null,null,484.16666666666669]
[null,null,null,null,null,null,null,null,null,null,null,null,null,null,null,null,null,null,null,null,null,null,null,null,null,null,null,null,null,486.33333333333331]
[null,null,null,null,null,null,null,null,null,null,null,null,null,null,null,null,null,null,null,null,null,null,null,null,null,null,null,null,null,483]
[null,null,null,null,null,null,null,null,null,null,null,null,null,null,null,null,null,null,null,null,null,null,null,null,null,null,null,null,null,487.5]
[null,null,null,null,null,null,null,null,null,null,null,null,null,null,null,null,null,null,null,null,null,null,null,null,null,null,null,null,null,487.5]
[null,null,null,null,null,null,null,null,null,null,null,null,null,null,null,null,null,null,null,null,null,null,null,null,null,null,null,null,null,496.6]
[null,null,null,null,null,null,null,null,null,null,null,null,null,null,null,null,null,null,null,null,null,null,null,null,null,null,null,null,null,492]
[null,null,null,null,null,null,null,null,null,null,null,null,null,null,null,null,null,null,null,null,null,null,null,null,null,null,null,null,null,492]
[null,null,null,null,null,null,null,null,null,null,null,null,null,null,null,null,null,null,null,null,null,null,null,null,null,null,null,null,null,501]
[null,null,null,null,null,null,null,null,null,null,null,null,null,null,null,null,null,null,null,null,null,null,null,null,null,null,null,null,null,501]
[null,null,null,null,null,null,null,null,null,null,null,null,null,null,null,null,null,null,null,null,null,null,null,null,null,null,null,null,null,501]
[null,null,null,null,null,null,null,null,null,null,null,null,null,null,null,null,null,null,null,null,null,null,null,null,null,null,null,null,null,501]
[null,null,null,null,null,null,null,null,null,null,null,null,null,null,null,null,null,null,null,null,null,null,null,null,null,null,null,null,null,508.5]
[null,null,null,null,null,null,null,null,null,null,null,null,null,null,null,null,null,null,null,null,null,null,null,null,null,null,null,null,null,513]
[null,null,null,null,null,null,null,null,null,null,null,null,null,null,null,null,null,null,null,null,null,null,null,null,null,null,null,null,null,494.5]
[null,null,null,null,null,null,null,null,null,null,null,null,null,null,null,null,null,null,null,null,null,null,null,null,null,null,null,null,null,491]
[null,null,null,null,null,null,null,null,null,null,null,null,null,null,null,null,null,null,null,null,null,null,null,null,null,null,null,null,null,485.2]
[null,null,null,null,null,null,null,null,null,null,null,null,null,null,null,null,null,null,null,null,null,null,null,null,null,null,null,null,null,482.5]
[null,null,null,null,null,null,null,null,null,null,null,null,null,null,null,null,null,null,null,null,null,null,null,null,null,null,null,null,null,485.5]
[null,null,null,null,null,null,null,null,null,null,null,null,null,null,null,null,null,null,null,null,null,null,null,null,null,null,null,null,null,475.5]
[null,null,null,null,null,null,null,null,null,null,null,null,null,null,null,null,null,null,null,null,null,null,null,null,null,null,null,null,null,478.4]
[null,null,null,null,null,null,null,null,null,null,null,null,null,null,null,null,null,null,null,null,null,null,null,null,null,null,null,null,null,476.16666666666669]
[null,null,null,null,null,null,null,null,null,null,null,null,null,null,null,null,null,null,null,null,null,null,null,null,null,null,null,null,null,480.33333333333331]
[null,null,null,null,null,null,null,null,null,null,null,null,null,null,null,null,null,null,null,null,null,null,null,null,null,null,null,null,null,487.16666666666669]
[null,null,null,null,null,null,null,null,null,null,null,null,null,null,null,null,null,null,null,null,null,null,null,null,null,null,null,null,null,489.16666666666669]
[null,null,null,null,null,null,null,null,null,null,null,null,null,null,null,null,null,null,null,null,null,null,null,null,null,null,null,null,null,494.6]
[null,null,null,null,null,null,null,null,null,null,null,null,null,null,null,null,null,null,null,null,null,null,null,null,null,null,null,null,null,492.5]
[null,null,null,null,null,null,null,null,null,null,null,null,null,null,null,null,null,null,null,null,null,null,null,null,null,null,null,null,null,501.66666666666669]
[null,null,null,null,null,null,null,null,null,null,null,null,null,null,null,null,null,null,null,null,null,null,null,null,null,null,null,null,null,509]
[null,null,null,null,null,null,null,null,null,null,null,null,null,null,null,null,null,null,null,null,null,null,null,null,null,null,null,null,null,509]
[null,null,null,null,null,null,null,null,null,null,null,null,null,null,null,null,null,null,null,null,null,null,null,null,null,null,null,null,null,509]
[null,null,null,null,null,null,null,null,null,null,null,null,null,null,null,null,null,null,null,null,null,null,null,null,null,null,null,null,null,509]
[null,null,null,null,null,null,null,null,null,null,null,null,null,null,null,null,null,null,null,null,null,null,null,null,null,null,null,null,null,509]
[null,null,null,null,null,null,null,null,null,null,null,null,null,null,null,null,null,null,null,null,null,null,null,null,null,null,null,null,null,499.5]
[null,null,null,null,null,null,null,null,null,null,null,null,null,null,null,null,null,null,null,null,null,null,null,null,null,null,null,null,null,481]
[null,null,null,null,null,null,null,null,null,null,null,null,null,null,null,null,null,null,null,null,null,null,null,null,null,null,null,null,null,462.5]
[null,null,null,null,null,null,null,null,null,null,null,null,null,null,null,null,null,null,null,null,null,null,null,null,null,null,null,null,null,451]
[null,null,null,null,null,null,null,null,null,null,null,null,null,null,null,null,null,null,null,null,null,null,null,null,null,null,null,null,null,452]
[null,null,null,null,null,null,null,null,null,null,null,null,null,null,null,null,null,null,null,null,null,null,null,null,null,null,null,null,null,450]
[null,null,null,null,null,null,null,null,null,null,null,null,null,null,null,null,null,null,null,null,null,null,null,null,null,null,null,null,null,448.16666666666669]
[null,null,null,null,null,null,null,null,null,null,null,null,null,null,null,null,null,null,null,null,null,null,null,null,null,null,null,null,null,447.16666666666669]
[null,null,null,null,null,null,null,null,null,null,null,null,null,null,null,null,null,null,null,null,null,null,null,null,null,null,null,null,null,448]
[null,null,null,null,null,null,null,null,null,null,null,null,null,null,null,null,null,null,null,null,null,null,null,null,null,null,null,null,null,446.83333333333331]
[null,null,null,null,null,null,null,null,null,null,null,null,null,null,null,null,null,null,null,null,null,null,null,null,null,null,null,null,null,448.5]
[null,null,null,null,null,null,null,null,null,null,null,null,null,null,null,null,null,null,null,null,null,null,null,null,null,null,null,null,null,454.66666666666669]
[null,null,null,null,null,null,null,null,null,null,null,null,null,null,null,null,null,null,null,null,null,null,null,null,null,null,null,null,null,454.83333333333331]
[null,null,null,null,null,null,null,null,null,null,null,null,null,null,null,null,null,null,null,null,null,null,null,null,null,null,null,null,null,459.83333333333331]
[null,null,null,null,null,null,null,null,null,null,null,null,null,null,null,null,null,null,null,null,null,null,null,null,null,null,null,null,null,461.16666666666669]
[null,null,null,null,null,null,null,null,null,null,null,null,null,null,null,null,null,null,null,null,null,null,null,null,null,null,null,null,null,460.5]
[null,null,null,null,null,null,null,null,null,null,null,null,null,null,null,null,null,null,null,null,null,null,null,null,null,null,null,null,null,464.33333333333331]
[null,null,null,null,null,null,null,null,null,null,null,null,null,null,null,null,null,null,null,null,null,null,null,null,null,null,null,null,null,465.16666666666669]
[null,null,null,null,null,null,null,null,null,null,null,null,null,null,null,null,null,null,null,null,null,null,null,null,null,null,null,null,null,467.16666666666669]
[null,null,null,null,null,null,null,null,null,null,null,null,null,null,null,null,null,null,null,null,null,null,null,null,null,null,null,null,null,466]
[null,null,null,null,null,null,null,null,null,null,null,null,null,null,null,null,null,null,null,null,null,null,null,null,null,null,null,null,null,474.33333333333331]
[null,null,null,null,null,null,null,null,null,null,null,null,null,null,null,null,null,null,null,null,null,null,null,null,null,null,null,null,null,476.33333333333331]
[null,null,null,null,null,null,null,null,null,null,null,null,null,null,null,null,null,null,null,null,null,null,null,null,null,null,null,null,null,471.66666666666669]
[null,null,null,null,null,null,null,null,null,null,null,null,null,null,null,null,null,null,null,null,null,null,null,null,null,null,null,null,null,468.66666666666669]
[null,null,null,null,null,null,null,null,null,null,null,null,null,null,null,null,null,null,null,null,null,null,null,null,null,null,null,null,null,469.33333333333331]
[null,null,null,null,null,null,null,null,null,null,null,null,null,null,null,null,null,null,null,null,null,null,null,null,null,null,null,null,null,472.33333333333331]
[null,null,null,null,null,null,null,null,null,null,null,null,null,null,null,null,null,null,null,null,null,null,null,null,null,null,null,null,null,473.16666666666669]
[null,null,null,null,null,null,null,null,null,null,null,null,null,null,null,null,null,null,null,null,null,null,null,null,null,null,null,null,null,476.66666666666669]
[null,null,null,null,null,null,null,null,null,null,null,null,null,null,null,null,null,null,null,null,null,null,null,null,null,null,null,null,null,472.33333333333331]
[null,null,null,null,null,null,null,null,null,null,null,null,null,null,null,null,null,null,null,null,null,null,null,null,null,null,null,null,null,473.33333333333331]
[null,null,null,null,null,null,null,null,null,null,null,null,null,null,null,null,null,null,null,null,null,null,null,null,null,null,null,null,null,469.66666666666669]
[null,null,null,null,null,null,null,null,null,null,null,null,null,null,null,null,null,null,null,null,null,null,null,null,null,null,null,null,null,469.16666666666669]
[null,null,null,null,null,null,null,null,null,null,null,null,null,null,null,null,null,null,null,null,null,null,null,null,null,null,null,null,null,465.33333333333331]
[null,null,null,null,null,null,null,null,null,null,null,null,null,null,null,null,null,null,null,null,null,null,null,null,null,null,null,null,null,461.5]
[null,null,null,null,null,null,null,null,null,null,null,null,null,null,null,null,null,null,null,null,null,null,null,null,null,null,null,null,null,470.5]
[null,null,null,null,null,null,null,null,null,null,null,null,null,null,null,null,null,null,null,null,null,null,null,null,null,null,null,null,null,472]
[null,null,null,null,null,null,null,null,null,null,null,null,null,null,null,null,null,null,null,null,null,null,null,null,null,null,null,null,null,472.6]
[null,null,null,null,null,null,null,null,null,null,null,null,null,null,null,null,null,null,null,null,null,null,null,null,null,null,null,null,null,471.75]
[null,null,null,null,null,null,null,null,null,null,null,null,null,null,null,null,null,null,null,null,null,null,null,null,null,null,null,null,null,478.33333333333331]
[null,null,null,null,null,null,null,null,null,null,null,null,null,null,null,null,null,null,null,null,null,null,null,null,null,null,null,null,null,484]
[null,null,null,null,null,null,null,null,null,null,null,null,null,null,null,null,null,null,null,null,null,null,null,null,null,null,null,null,null,503.25]
[null,null,null,null,null,null,null,null,null,null,null,null,null,null,null,null,null,null,null,null,null,null,null,null,null,null,null,null,null,497.75]
[null,null,null,null,null,null,null,null,null,null,null,null,null,null,null,null,null,null,null,null,null,null,null,null,null,null,null,null,null,478.5]
[null,null,null,null,null,null,null,null,null,null,null,null,null,null,null,null,null,null,null,null,null,null,null,null,null,null,null,null,null,461.25]
[null,null,null,null,null,null,null,null,null,null,null,null,null,null,null,null,null,null,null,null,null,null,null,null,null,null,null,null,null,455.6]
[null,null,null,null,null,null,null,null,null,null,null,null,null,null,null,null,null,null,null,null,null,null,null,null,null,null,null,null,null,457.16666666666669]
[null,null,null,null,null,null,null,null,null,null,null,null,null,null,null,null,null,null,null,null,null,null,null,null,null,null,null,null,null,452.66666666666669]
[null,null,null,null,null,null,null,null,null,null,null,null,null,null,null,null,null,null,null,null,null,null,null,null,null,null,null,null,null,449.16666666666669]
[null,null,null,null,null,null,null,null,null,null,null,null,null,null,null,null,null,null,null,null,null,null,null,null,null,null,null,null,null,449.66666666666669]
[null,null,null,null,null,null,null,null,null,null,null,null,null,null,null,null,null,null,null,null,null,null,null,null,null,null,null,null,null,448]
[null,null,null,null,null,null,null,null,null,null,null,null,null,null,null,null,null,null,null,null,null,null,null,null,null,null,null,null,null,457]
[null,null,null,null,null,null,null,null,null,null,null,null,null,null,null,null,null,null,null,null,null,null,null,null,null,null,null,null,null,455.8]
[null,null,null,null,null,null,null,null,null,null,null,null,null,null,null,null,null,null,null,null,null,null,null,null,null,null,null,null,null,458]
[null,null,null,null,null,null,null,null,null,null,null,null,null,null,null,null,null,null,null,null,null,null,null,null,null,null,null,null,null,454.2]
[null,null,null,null,null,null,null,null,null,null,null,null,null,null,null,null,null,null,null,null,null,null,null,null,null,null,null,null,null,448]
[null,null,null,null,null,null,null,null,null,null,null,null,null,null,null,null,null,null,null,null,null,null,null,null,null,null,null,null,null,448]
[null,null,null,null,null,null,null,null,null,null,null,null,null,null,null,null,null,null,null,null,null,null,null,null,null,null,null,null,null,440.4]
[null,null,null,null,null,null,null,null,null,null,null,null,null,null,null,null,null,null,null,null,null,null,null,null,null,null,null,null,null,442.4]
[null,null,null,null,null,null,null,null,null,null,null,null,null,null,null,null,null,null,null,null,null,null,null,null,null,null,null,null,null,439.2]
[null,null,null,null,null,null,null,null,null,null,null,null,null,null,null,null,null,null,null,null,null,null,null,null,null,null,null,null,null,444.75]
[null,null,null,null,null,null,null,null,null,null,null,null,null,null,null,null,null,null,null,null,null,null,null,null,null,null,null,null,null,452.66666666666669]
[null,null,null,null,null,null,null,null,null,null,null,null,null,null,null,null,null,null,null,null,null,null,null,null,null,null,null,null,null,452.66666666666669]
[null,null,null,null,null,null,null,null,null,null,null,null,null,null,null,null,null,null,null,null,null,null,null,null,null,null,null,null,null,459]
[null,null,null,null,null,null,null,null,null,null,null,null,null,null,null,null,null,null,null,null,null,null,null,null,null,null,null,null,null,469.33333333333331]
[null,null,null,null,null,null,null,null,null,null,null,null,null,null,null,null,null,null,null,null,null,null,null,null,null,null,null,null,null,467]
[null,null,null,null,null,null,null,null,null,null,null,null,null,null,null,null,null,null,null,null,null,null,null,null,null,null,null,null,null,449.25]
[null,null,null,null,null,null,null,null,null,null,null,null,null,null,null,null,null,null,null,null,null,null,null,null,null,null,null,null,null,427.5]
[null,null,null,null,null,null,null,null,null,null,null,null,null,null,null,null,null,null,null,null,null,null,null,null,null,null,null,null,null,423.8]
[null,null,null,null,null,null,null,null,null,null,null,null,null,null,null,null,null,null,null,null,null,null,null,null,null,null,null,null,null,426]
[null,null,null,null,null,null,null,null,null,null,null,null,null,null,null,null,null,null,null,null,null,null,null,null,null,null,null,null,null,423.66666666666669]
[null,null,null,null,null,null,null,null,null,null,null,null,null,null,null,null,null,null,null,null,null,null,null,null,null,null,null,null,null,428.4]
[null,null,null,null,null,null,null,null,null,null,null,null,null,null,null,null,null,null,null,null,null,null,null,null,null,null,null,null,null,426]
[null,null,null,null,null,null,null,null,null,null,null,null,null,null,null,null,null,null,null,null,null,null,null,null,null,null,null,null,null,431]
[null,null,null,null,null,null,null,null,null,null,null,null,null,null,null,null,null,null,null,null,null,null,null,null,null,null,null,null,null,452]
[null,null,null,null,null,null,null,null,null,null,null,null,null,null,null,null,null,null,null,null,null,null,null,null,null,null,null,null,null,469]
[null,null,null,null,null,null,null,null,null,null,null,null,null,null,null,null,null,null,null,null,null,null,null,null,null,null,null,null,null,480]
[null,null,null,null,null,null,null,null,null,null,null,null,null,null,null,null,null,null,null,null,null,null,null,null,null,null,null,null,null,503]
[null,null,null,null,null,null,null,null,null,null,null,null,null,null,null,null,null,null,null,null,null,null,null,null,null,null,null,null,null,514.66666666666663]
[null,null,null,null,null,null,null,null,null,null,null,null,null,null,null,null,null,null,null,null,null,null,null,null,null,null,null,null,null,486.33333333333331]
[null,null,null,null,null,null,null,null,null,null,null,null,null,null,null,null,null,null,null,null,null,null,null,null,null,null,null,null,null,483]
[null,null,null,null,null,null,null,null,null,null,null,null,null,null,null,null,null,null,null,null,null,null,null,null,null,null,null,null,null,472]
[null,null,null,null,null,null,null,null,null,null,null,null,null,null,null,null,null,null,null,null,null,null,null,null,null,null,null,null,null,457.4]
[null,null,null,null,null,null,null,null,null,null,null,null,null,null,null,null,null,null,null,null,null,null,null,null,null,null,null,null,null,449.33333333333331]
[null,null,null,null,null,null,null,null,null,null,null,null,null,null,null,null,null,null,null,null,null,null,null,null,null,null,null,null,null,437.33333333333331]
[null,null,null,null,null,null,null,null,null,null,null,null,null,null,null,null,null,null,null,null,null,null,null,null,null,null,null,null,null,433.16666666666669]
[null,null,null,null,null,null,null,null,null,null,null,null,null,null,null,null,null,null,null,null,null,null,null,null,null,null,null,null,null,430.83333333333331]
[null,null,null,null,null,null,null,null,null,null,null,null,null,null,null,null,null,null,null,null,null,null,null,null,null,null,null,null,null,437.16666666666669]
[null,null,null,null,null,null,null,null,null,null,null,null,null,null,null,null,null,null,null,null,null,null,null,null,null,null,null,null,null,435.83333333333331]
[null,null,null,null,null,null,null,null,null,null,null,null,null,null,null,null,null,null,null,null,null,null,null,null,null,null,null,null,null,438.16666666666669]
[null,null,null,null,null,null,null,null,null,null,null,null,null,null,null,null,null,null,null,null,null,null,null,null,null,null,null,null,null,436.16666666666669]
[null,null,null,null,null,null,null,null,null,null,null,null,null,null,null,null,null,null,null,null,null,null,null,null,null,null,null,null,null,441.5]
[null,null,null,null,null,null,null,null,null,null,null,null,null,null,null,null,null,null,null,null,null,null,null,null,null,null,null,null,null,433.83333333333331]
[null,null,null,null,null,null,null,null,null,null,null,null,null,null,null,null,null,null,null,null,null,null,null,null,null,null,null,null,null,424.33333333333331]
[null,null,null,null,null,null,null,null,null,null,null,null,null,null,null,null,null,null,null,null,null,null,null,null,null,null,null,null,null,428.83333333333331]
[null,null,null,null,null,null,null,null,null,null,null,null,null,null,null,null,null,null,null,null,null,null,null,null,null,null,null,null,null,434.66666666666669]
[null,null,null,null,null,null,null,null,null,null,null,null,null,null,null,null,null,null,null,null,null,null,null,null,null,null,null,null,null,438]
[null,null,null,null,null,null,null,null,null,null,null,null,null,null,null,null,null,null,null,null,null,null,null,null,null,null,null,null,null,437.66666666666669]
[null,null,null,null,null,null,null,null,null,null,null,null,null,null,null,null,null,null,null,null,null,null,null,null,null,null,null,null,null,445.66666666666669]
[null,null,null,null,null,null,null,null,null,null,null,null,null,null,null,null,null,null,null,null,null,null,null,null,null,null,null,null,null,454.16666666666669]
[null,null,null,null,null,null,null,null,null,null,null,null,null,null,null,null,null,null,null,null,null,null,null,null,null,null,null,null,null,445.66666666666669]
[null,null,null,null,null,null,null,null,null,null,null,null,null,null,null,null,null,null,null,null,null,null,null,null,null,null,null,null,null,441.33333333333331]
[null,null,null,null,null,null,null,null,null,null,null,null,null,null,null,null,null,null,null,null,null,null,null,null,null,null,null,null,null,446.83333333333331]
[null,null,null,null,null,null,null,null,null,null,null,null,null,null,null,null,null,null,null,null,null,null,null,null,null,null,null,null,null,440.33333333333331]
[null,null,null,null,null,null,null,null,null,null,null,null,null,null,null,null,null,null,null,null,null,null,null,null,null,null,null,null,null,437]
[null,null,null,null,null,null,null,null,null,null,null,null,null,null,null,null,null,null,null,null,null,null,null,null,null,null,null,null,null,426.83333333333331]
[null,null,null,null,null,null,null,null,null,null,null,null,null,null,null,null,null,null,null,null,null,null,null,null,null,null,null,null,null,430.5]
[null,null,null,null,null,null,null,null,null,null,null,null,null,null,null,null,null,null,null,null,null,null,null,null,null,null,null,null,null,430.2]
[null,null,null,null,null,null,null,null,null,null,null,null,null,null,null,null,null,null,null,null,null,null,null,null,null,null,null,null,null,421.25]
[null,null,null,null,null,null,null,null,null,null,null,null,null,null,null,null,null,null,null,null,null,null,null,null,null,null,null,null,null,425]
[null,null,null,null,null,null,null,null,null,null,null,null,null,null,null,null,null,null,null,null,null,null,null,null,null,null,null,null,null,417]
[null,null,null,null,null,null,null,null,null,null,null,null,null,null,null,null,null,null,null,null,null,null,null,null,null,null,null,null,null,417]
[null,null,null,null,null,null,null,null,null,null,null,null,null,null,null,null,null,null,null,null,null,null,null,null,null,null,null,null,null,417]
[null,null,null,null,null,null,null,null,null,null,null,null,null,null,null,null,null,null,null,null,null,null,null,null,null,null,null,null,null,417]
[null,null,null,null,null,null,null,null,null,null,null,null,null,null,null,null,null,null,null,null,null,null,null,null,null,null,null,null,null,417]
[null,null,null,null,null,null,null,null,null,null,null,null,null,null,null,null,null,null,null,null,null,null,null,null,null,null,null,null,null,428.5]
[null,null,null,null,null,null,null,null,null,null,null,null,null,null,null,null,null,null,null,null,null,null,null,null,null,null,null,null,null,440]
[null,null,null,null,null,null,null,null,null,null,null,null,null,null,null,null,null,null,null,null,null,null,null,null,null,null,null,null,null,433.25]
[null,null,null,null,null,null,null,null,null,null,null,null,null,null,null,null,null,null,null,null,null,null,null,null,null,null,null,null,null,430.4]
[null,null,null,null,null,null,null,null,null,null,null,null,null,null,null,null,null,null,null,null,null,null,null,null,null,null,null,null,null,429.33333333333331]
[null,null,null,null,null,null,null,null,null,null,null,null,null,null,null,null,null,null,null,null,null,null,null,null,null,null,null,null,null,430.16666666666669]
[null,null,null,null,null,null,null,null,null,null,null,null,null,null,null,null,null,null,null,null,null,null,null,null,null,null,null,null,null,431.33333333333331]
[null,null,null,null,null,null,null,null,null,null,null,null,null,null,null,null,null,null,null,null,null,null,null,null,null,null,null,null,null,426.16666666666669]
[null,null,null,null,null,null,null,null,null,null,null,null,null,null,null,null,null,null,null,null,null,null,null,null,null,null,null,null,null,425.66666666666669]
[null,null,null,null,null,null,null,null,null,null,null,null,null,null,null,null,null,null,null,null,null,null,null,null,null,null,null,null,null,425.5]
[null,null,null,null,null,null,null,null,null,null,null,null,null,null,null,null,null,null,null,null,null,null,null,null,null,null,null,null,null,423.66666666666669]
[null,null,null,null,null,null,null,null,null,null,null,null,null,null,null,null,null,null,null,null,null,null,null,null,null,null,null,null,null,422.5]
[null,null,null,null,null,null,null,null,null,null,null,null,null,null,null,null,null,null,null,null,null,null,null,null,null,null,null,null,null,424.66666666666669]
[null,null,null,null,null,null,null,null,null,null,null,null,null,null,null,null,null,null,null,null,null,null,null,null,null,null,null,null,null,420.83333333333331]
[null,null,null,null,null,null,null,null,null,null,null,null,null,null,null,null,null,null,null,null,null,null,null,null,null,null,null,null,null,426.33333333333331]
[null,null,null,null,null,null,null,null,null,null,null,null,null,null,null,null,null,null,null,null,null,null,null,null,null,null,null,null,null,423.83333333333331]
[null,null,null,null,null,null,null,null,null,null,null,null,null,null,null,null,null,null,null,null,null,null,null,null,null,null,null,null,null,426.33333333333331]
[null,null,null,null,null,null,null,null,null,null,null,null,null,null,null,null,null,null,null,null,null,null,null,null,null,null,null,null,null,423.83333333333331]
[null,null,null,null,null,null,null,null,null,null,null,null,null,null,null,null,null,null,null,null,null,null,null,null,null,null,null,null,null,416.33333333333331]
[null,null,null,null,null,null,null,null,null,null,null,null,null,null,null,null,null,null,null,null,null,null,null,null,null,null,null,null,null,419.5]
[null,null,null,null,null,null,null,null,null,null,null,null,null,null,null,null,null,null,null,null,null,null,null,null,null,null,null,null,null,414]
[null,null,null,null,null,null,null,null,null,null,null,null,null,null,null,null,null,null,null,null,null,null,null,null,null,null,null,null,null,406]
[null,null,null,null,null,null,null,null,null,null,null,null,null,null,null,null,null,null,null,null,null,null,null,null,null,null,null,null,null,407.5]
[null,null,null,null,null,null,null,null,null,null,null,null,null,null,null,null,null,null,null,null,null,null,null,null,null,null,null,null,null,409.83333333333331]
[null,null,null,null,null,null,null,null,null,null,null,null,null,null,null,null,null,null,null,null,null,null,null,null,null,null,null,null,null,407.16666666666669]
[null,null,null,null,null,null,null,null,null,null,null,null,null,null,null,null,null,null,null,null,null,null,null,null,null,null,null,null,null,402.83333333333331]
[null,null,null,null,null,null,null,null,null,null,null,null,null,null,null,null,null,null,null,null,null,null,null,null,null,null,null,null,null,404.33333333333331]
[null,null,null,null,null,null,null,null,null,null,null,null,null,null,null,null,null,null,null,null,null,null,null,null,null,null,null,null,null,418.5]
[null,null,null,null,null,null,null,null,null,null,null,null,null,null,null,null,null,null,null,null,null,null,null,null,null,null,null,null,null,414.5]
[null,null,null,null,null,null,null,null,null,null,null,null,null,null,null,null,null,null,null,null,null,null,null,null,null,null,null,null,null,411.66666666666669]
[null,null,null,null,null,null,null,null,null,null,null,null,null,null,null,null,null,null,null,null,null,null,null,null,null,null,null,null,null,414.8]
[null,null,null,null,null,null,null,null,null,null,null,null,null,null,null,null,null,null,null,null,null,null,null,null,null,null,null,null,null,423.66666666666669]
[null,null,null,null,null,null,null,null,null,null,null,null,null,null,null,null,null,null,null,null,null,null,null,null,null,null,null,null,null,423.66666666666669]
[null,null,null,null,null,null,null,null,null,null,null,null,null,null,null,null,null,null,null,null,null,null,null,null,null,null,null,null,null,422.16666666666669]
[null,null,null,null,null,null,null,null,null,null,null,null,null,null,null,null,null,null,null,null,null,null,null,null,null,null,null,null,null,417]
[null,null,null,null,null,null,null,null,null,null,null,null,null,null,null,null,null,null,null,null,null,null,null,null,null,null,null,null,null,426]
[null,null,null,null,null,null,null,null,null,null,null,null,null,null,null,null,null,null,null,null,null,null,null,null,null,null,null,null,null,419.16666666666669]
[null,null,null,null,null,null,null,null,null,null,null,null,null,null,null,null,null,null,null,null,null,null,null,null,null,null,null,null,null,418.5]
[null,null,null,null,null,null,null,null,null,null,null,null,null,null,null,null,null,null,null,null,null,null,null,null,null,null,null,null,null,417]
[null,null,null,null,null,null,null,null,null,null,null,null,null,null,null,null,null,null,null,null,null,null,null,null,null,null,null,null,null,417.5]
[null,null,null,null,null,null,null,null,null,null,null,null,null,null,null,null,null,null,null,null,null,null,null,null,null,null,null,null,null,424.66666666666669]
[null,null,null,null,null,null,null,null,null,null,null,null,null,null,null,null,null,null,null,null,null,null,null,null,null,null,null,null,null,422.5]
[null,null,null,null,null,null,null,null,null,null,null,null,null,null,null,null,null,null,null,null,null,null,null,null,null,null,null,null,null,420]
[null,null,null,null,null,null,null,null,null,null,null,null,null,null,null,null,null,null,null,null,null,null,null,null,null,null,null,null,null,409.5]
[null,null,null,null,null,null,null,null,null,null,null,null,null,null,null,null,null,null,null,null,null,null,null,null,null,null,null,null,null,400.66666666666669]
[null,null,null,null,null,null,null,null,null,null,null,null,null,null,null,null,null,null,null,null,null,null,null,null,null,null,null,null,null,383.2]
[null,null,null,null,null,null,null,null,null,null,null,null,null,null,null,null,null,null,null,null,null,null,null,null,null,null,null,null,null,371.8]
[null,null,null,null,null,null,null,null,null,null,null,null,null,null,null,null,null,null,null,null,null,null,null,null,null,null,null,null,null,377.66666666666669]
[null,null,null,null,null,null,null,null,null,null,null,null,null,null,null,null,null,null,null,null,null,null,null,null,null,null,null,null,null,373.8]
[null,null,null,null,null,null,null,null,null,null,null,null,null,null,null,null,null,null,null,null,null,null,null,null,null,null,null,null,null,379.75]
[null,null,null,null,null,null,null,null,null,null,null,null,null,null,null,null,null,null,null,null,null,null,null,null,null,null,null,null,null,387.33333333333331]
[null,null,null,null,null,null,null,null,null,null,null,null,null,null,null,null,null,null,null,null,null,null,null,null,null,null,null,null,null,399.33333333333331]
[null,null,null,null,null,null,null,null,null,null,null,null,null,null,null,null,null,null,null,null,null,null,null,null,null,null,null,null,null,415]
[null,null,null,null,null,null,null,null,null,null,null,null,null,null,null,null,null,null,null,null,null,null,null,null,null,null,null,null,null,435]
[null,null,null,null,null,null,null,null,null,null,null,null,null,null,null,null,null,null,null,null,null,null,null,null,null,null,null,null,null,431.83333333333331]
[null,null,null,null,null,null,null,null,null,null,null,null,null,null,null,null,null,null,null,null,null,null,null,null,null,null,null,null,null,435.83333333333331]
[null,null,null,null,null,null,null,null,null,null,null,null,null,null,null,null,null,null,null,null,null,null,null,null,null,null,null,null,null,432.4]
[null,null,null,null,null,null,null,null,null,null,null,null,null,null,null,null,null,null,null,null,null,null,null,null,null,null,null,null,null,429]
[null,null,null,null,null,null,null,null,null,null,null,null,null,null,null,null,null,null,null,null,null,null,null,null,null,null,null,null,null,424.33333333333331]
[null,null,null,null,null,null,null,null,null,null,null,null,null,null,null,null,null,null,null,null,null,null,null,null,null,null,null,null,null,424.33333333333331]
[null,null,null,null,null,null,null,null,null,null,null,null,null,null,null,null,null,null,null,null,null,null,null,null,null,null,null,null,null,424.33333333333331]
[null,null,null,null,null,null,null,null,null,null,null,null,null,null,null,null,null,null,null,null,null,null,null,null,null,null,null,null,null,424.33333333333331]
[null,null,null,null,null,null,null,null,null,null,null,null,null,null,null,null,null,null,null,null,null,null,null,null,null,null,null,null,null,424.33333333333331]
[null,null,null,null,null,null,null,null,null,null,null,null,null,null,null,null,null,null,null,null,null,null,null,null,null,null,null,null,null,424.33333333333331]
[null,null,null,null,null,null,null,null,null,null,null,null,null,null,null,null,null,null,null,null,null,null,null,null,null,null,null,null,null,448]
[null,null,null,null,null,null,null,null,null,null,null,null,null,null,null,null,null,null,null,null,null,null,null,null,null,null,null,null,null,460.66666666666669]
[null,null,null,null,null,null,null,null,null,null,null,null,null,null,null,null,null,null,null,null,null,null,null,null,null,null,null,null,null,460.66666666666669]
[null,null,null,null,null,null,null,null,null,null,null,null,null,null,null,null,null,null,null,null,null,null,null,null,null,null,null,null,null,460.66666666666669]
[null,null,null,null,null,null,null,null,null,null,null,null,null,null,null,null,null,null,null,null,null,null,null,null,null,null,null,null,null,460.66666666666669]
[null,null,null,null,null,null,null,null,null,null,null,null,null,null,null,null,null,null,null,null,null,null,null,null,null,null,null,null,null,466]
[null,null,null,null,null,null,null,null,null,null,null,null,null,null,null,null,null,null,null,null,null,null,null,null,null,null,null,null,null,466]
[null,null,null,null,null,null,null,null,null,null,null,null,null,null,null,null,null,null,null,null,null,null,null,null,null,null,null,null,null,466]
[null,null,null,null,null,null,null,null,null,null,null,null,null,null,null,null,null,null,null,null,null,null,null,null,null,null,null,null,null,466]
[null,null,null,null,null,null,null,null,null,null,null,null,null,null,null,null,null,null,null,null,null,null,null,null,null,null,null,null,null,466]
[null,null,null,null,null,null,null,null,null,null,null,null,null,null,null,null,null,null,null,null,null,null,null,null,null,null,null,null,null,414]
[null,null,null,null,null,null,null,null,null,null,null,null,null,null,null,null,null,null,null,null,null,null,null,null,null,null,null,null,null,394.66666666666669]
[null,null,null,null,null,null,null,null,null,null,null,null,null,null,null,null,null,null,null,null,null,null,null,null,null,null,null,null,null,397]
[null,null,null,null,null,null,null,null,null,null,null,null,null,null,null,null,null,null,null,null,null,null,null,null,null,null,null,null,null,395.8]
[null,null,null,null,null,null,null,null,null,null,null,null,null,null,null,null,null,null,null,null,null,null,null,null,null,null,null,null,null,397.66666666666669]
[null,null,null,null,null,null,null,null,null,null,null,null,null,null,null,null,null,null,null,null,null,null,null,null,null,null,null,null,null,390.83333333333331]
[null,null,null,null,null,null,null,null,null,null,null,null,null,null,null,null,null,null,null,null,null,null,null,null,null,null,null,null,null,386]
[null,null,null,null,null,null,null,null,null,null,null,null,null,null,null,null,null,null,null,null,null,null,null,null,null,null,null,null,null,389.66666666666669]
[null,null,null,null,null,null,null,null,null,null,null,null,null,null,null,null,null,null,null,null,null,null,null,null,null,null,null,null,null,389.5]
[null,null,null,null,null,null,null,null,null,null,null,null,null,null,null,null,null,null,null,null,null,null,null,null,null,null,null,null,null,389.5]
[null,null,null,null,null,null,null,null,null,null,null,null,null,null,null,null,null,null,null,null,null,null,null,null,null,null,null,null,null,386.5]
[null,null,null,null,null,null,null,null,null,null,null,null,null,null,null,null,null,null,null,null,null,null,null,null,null,null,null,null,null,388.83333333333331]
[null,null,null,null,null,null,null,null,null,null,null,null,null,null,null,null,null,null,null,null,null,null,null,null,null,null,null,null,null,392.5]
[null,null,null,null,null,null,null,null,null,null,null,null,null,null,null,null,null,null,null,null,null,null,null,null,null,null,null,null,null,391.16666666666669]
[null,null,null,null,null,null,null,null,null,null,null,null,null,null,null,null,null,null,null,null,null,null,null,null,null,null,null,null,null,385.16666666666669]
[null,null,null,null,null,null,null,null,null,null,null,null,null,null,null,null,null,null,null,null,null,null,null,null,null,null,null,null,null,380.5]
[null,null,null,null,null,null,null,null,null,null,null,null,null,null,null,null,null,null,null,null,null,null,null,null,null,null,null,null,null,374.83333333333331]
[null,null,null,null,null,null,null,null,null,null,null,null,null,null,null,null,null,null,null,null,null,null,null,null,null,null,null,null,null,365.5]
[null,null,null,null,null,null,null,null,null,null,null,null,null,null,null,null,null,null,null,null,null,null,null,null,null,null,null,null,null,366.5]
[null,null,null,null,null,null,null,null,null,null,null,null,null,null,null,null,null,null,null,null,null,null,null,null,null,null,null,null,null,365.5]
[null,null,null,null,null,null,null,null,null,null,null,null,null,null,null,null,null,null,null,null,null,null,null,null,null,null,null,null,null,369.16666666666669]
[null,null,null,null,null,null,null,null,null,null,null,null,null,null,null,null,null,null,null,null,null,null,null,null,null,null,null,null,null,366.5]
[null,null,null,null,null,null,null,null,null,null,null,null,null,null,null,null,null,null,null,null,null,null,null,null,null,null,null,null,null,368.66666666666669]
[null,null,null,null,null,null,null,null,null,null,null,null,null,null,null,null,null,null,null,null,null,null,null,null,null,null,null,null,null,369]
[null,null,null,null,null,null,null,null,null,null,null,null,null,null,null,null,null,null,null,null,null,null,null,null,null,null,null,null,null,360.16666666666669]
[null,null,null,null,null,null,null,null,null,null,null,null,null,null,null,null,null,null,null,null,null,null,null,null,null,null,null,null,null,359.66666666666669]
[null,null,null,null,null,null,null,null,null,null,null,null,null,null,null,null,null,null,null,null,null,null,null,null,null,null,null,null,null,354.66666666666669]
[null,null,null,null,null,null,null,null,null,null,null,null,null,null,null,null,null,null,null,null,null,null,null,null,null,null,null,null,null,356.83333333333331]
[null,null,null,null,null,null,null,null,null,null,null,null,null,null,null,null,null,null,null,null,null,null,null,null,null,null,null,null,null,354.66666666666669]
[null,null,null,null,null,null,null,null,null,null,null,null,null,null,null,null,null,null,null,null,null,null,null,null,null,null,null,null,null,360.5]
[null,null,null,null,null,null,null,null,null,null,null,null,null,null,null,null,null,null,null,null,null,null,null,null,null,null,null,null,null,364.66666666666669]
[null,null,null,null,null,null,null,null,null,null,null,null,null,null,null,null,null,null,null,null,null,null,null,null,null,null,null,null,null,365.4]
[null,null,null,null,null,null,null,null,null,null,null,null,null,null,null,null,null,null,null,null,null,null,null,null,null,null,null,null,null,371.8]
[null,null,null,null,null,null,null,null,null,null,null,null,null,null,null,null,null,null,null,null,null,null,null,null,null,null,null,null,null,371.4]
[null,null,null,null,null,null,null,null,null,null,null,null,null,null,null,null,null,null,null,null,null,null,null,null,null,null,null,null,null,374.6]
[null,null,null,null,null,null,null,null,null,null,null,null,null,null,null,null,null,null,null,null,null,null,null,null,null,null,null,null,null,376.5]
[null,null,null,null,null,null,null,null,null,null,null,null,null,null,null,null,null,null,null,null,null,null,null,null,null,null,null,null,null,379]
[null,null,null,null,null,null,null,null,null,null,null,null,null,null,null,null,null,null,null,null,null,null,null,null,null,null,null,null,null,373.83333333333331]
[null,null,null,null,null,null,null,null,null,null,null,null,null,null,null,null,null,null,null,null,null,null,null,null,null,null,null,null,null,370.83333333333331]
[null,null,null,null,null,null,null,null,null,null,null,null,null,null,null,null,null,null,null,null,null,null,null,null,null,null,null,null,null,368.66666666666669]
[null,null,null,null,null,null,null,null,null,null,null,null,null,null,null,null,null,null,null,null,null,null,null,null,null,null,null,null,null,364.83333333333331]
[null,null,null,null,null,null,null,null,null,null,null,null,null,null,null,null,null,null,null,null,null,null,null,null,null,null,null,null,null,363]
[null,null,null,null,null,null,null,null,null,null,null,null,null,null,null,null,null,null,null,null,null,null,null,null,null,null,null,null,null,358]
[null,null,null,null,null,null,null,null,null,null,null,null,null,null,null,null,null,null,null,null,null,null,null,null,null,null,null,null,null,359.5]
[null,null,null,null,null,null,null,null,null,null,null,null,null,null,null,null,null,null,null,null,null,null,null,null,null,null,null,null,null,360.33333333333331]
[null,null,null,null,null,null,null,null,null,null,null,null,null,null,null,null,null,null,null,null,null,null,null,null,null,null,null,null,null,361.83333333333331]
[null,null,null,null,null,null,null,null,null,null,null,null,null,null,null,null,null,null,null,null,null,null,null,null,null,null,null,null,null,366.33333333333331]
[null,null,null,null,null,null,null,null,null,null,null,null,null,null,null,null,null,null,null,null,null,null,null,null,null,null,null,null,null,367.5]
[null,null,null,null,null,null,null,null,null,null,null,null,null,null,null,null,null,null,null,null,null,null,null,null,null,null,null,null,null,364.66666666666669]
[null,null,null,null,null,null,null,null,null,null,null,null,null,null,null,null,null,null,null,null,null,null,null,null,null,null,null,null,null,363]
[null,null,null,null,null,null,null,null,null,null,null,null,null,null,null,null,null,null,null,null,null,null,null,null,null,null,null,null,null,363.33333333333331]
[null,null,null,null,null,null,null,null,null,null,null,null,null,null,null,null,null,null,null,null,null,null,null,null,null,null,null,null,null,368.83333333333331]
[null,null,null,null,null,null,null,null,null,null,null,null,null,null,null,null,null,null,null,null,null,null,null,null,null,null,null,null,null,364.66666666666669]
[null,null,null,null,null,null,null,null,null,null,null,null,null,null,null,null,null,null,null,null,null,null,null,null,null,null,null,null,null,370.66666666666669]
[null,null,null,null,null,null,null,null,null,null,null,null,null,null,null,null,null,null,null,null,null,null,null,null,null,null,null,null,null,376.8]
[null,null,null,null,null,null,null,null,null,null,null,null,null,null,null,null,null,null,null,null,null,null,null,null,null,null,null,null,null,376.25]
[null,null,null,null,null,null,null,null,null,null,null,null,null,null,null,null,null,null,null,null,null,null,null,null,null,null,null,null,null,375]
[null,null,null,null,null,null,null,null,null,null,null,null,null,null,null,null,null,null,null,null,null,null,null,null,null,null,null,null,null,369]
[null,null,null,null,null,null,null,null,null,null,null,null,null,null,null,null,null,null,null,null,null,null,null,null,null,null,null,null,null,369]
[null,null,null,null,null,null,null,null,null,null,null,null,null,null,null,null,null,null,null,null,null,null,null,null,null,null,null,null,null,369]
[null,null,null,null,null,null,null,null,null,null,null,null,null,null,null,null,null,null,null,null,null,null,null,null,null,null,null,null,null,369]
[null,null,null,null,null,null,null,null,null,null,null,null,null,null,null,null,null,null,null,null,null,null,null,null,null,null,null,null,null,369]
[null,null,null,null,null,null,null,null,null,null,null,null,null,null,null,null,null,null,null,null,null,null,null,null,null,null,null,null,null,360.5]
[null,null,null,null,null,null,null,null,null,null,null,null,null,null,null,null,null,null,null,null,null,null,null,null,null,null,null,null,null,357.66666666666669]
[null,null,null,null,null,null,null,null,null,null,null,null,null,null,null,null,null,null,null,null,null,null,null,null,null,null,null,null,null,364]
[null,null,null,null,null,null,null,null,null,null,null,null,null,null,null,null,null,null,null,null,null,null,null,null,null,null,null,null,null,358.2]
[null,null,null,null,null,null,null,null,null,null,null,null,null,null,null,null,null,null,null,null,null,null,null,null,null,null,null,null,null,354.5]
[null,null,null,null,null,null,null,null,null,null,null,null,null,null,null,null,null,null,null,null,null,null,null,null,null,null,null,null,null,357.16666666666669]
[null,null,null,null,null,null,null,null,null,null,null,null,null,null,null,null,null,null,null,null,null,null,null,null,null,null,null,null,null,352]
[null,null,null,null,null,null,null,null,null,null,null,null,null,null,null,null,null,null,null,null,null,null,null,null,null,null,null,null,null,350.5]
[null,null,null,null,null,null,null,null,null,null,null,null,null,null,null,null,null,null,null,null,null,null,null,null,null,null,null,null,null,342.83333333333331]
[null,null,null,null,null,null,null,null,null,null,null,null,null,null,null,null,null,null,null,null,null,null,null,null,null,null,null,null,null,343]
[null,null,null,null,null,null,null,null,null,null,null,null,null,null,null,null,null,null,null,null,null,null,null,null,null,null,null,null,null,348.33333333333331]
[null,null,null,null,null,null,null,null,null,null,null,null,null,null,null,null,null,null,null,null,null,null,null,null,null,null,null,null,null,351.16666666666669]
[null,null,null,null,null,null,null,null,null,null,null,null,null,null,null,null,null,null,null,null,null,null,null,null,null,null,null,null,null,350.4]
[null,null,null,null,null,null,null,null,null,null,null,null,null,null,null,null,null,null,null,null,null,null,null,null,null,null,null,null,null,348]
[null,null,null,null,null,null,null,null,null,null,null,null,null,null,null,null,null,null,null,null,null,null,null,null,null,null,null,null,null,353.2]
[null,null,null,null,null,null,null,null,null,null,null,null,null,null,null,null,null,null,null,null,null,null,null,null,null,null,null,null,null,362]
[null,null,null,null,null,null,null,null,null,null,null,null,null,null,null,null,null,null,null,null,null,null,null,null,null,null,null,null,null,356.83333333333331]
[null,null,null,null,null,null,null,null,null,null,null,null,null,null,null,null,null,null,null,null,null,null,null,null,null,null,null,null,null,353.5]
[null,null,null,null,null,null,null,null,null,null,null,null,null,null,null,null,null,null,null,null,null,null,null,null,null,null,null,null,null,343.5]
[null,null,null,null,null,null,null,null,null,null,null,null,null,null,null,null,null,null,null,null,null,null,null,null,null,null,null,null,null,344.66666666666669]
[null,null,null,null,null,null,null,null,null,null,null,null,null,null,null,null,null,null,null,null,null,null,null,null,null,null,null,null,null,346.5]
[null,null,null,null,null,null,null,null,null,null,null,null,null,null,null,null,null,null,null,null,null,null,null,null,null,null,null,null,null,343.5]
[null,null,null,null,null,null,null,null,null,null,null,null,null,null,null,null,null,null,null,null,null,null,null,null,null,null,null,null,null,340]
[null,null,null,null,null,null,null,null,null,null,null,null,null,null,null,null,null,null,null,null,null,null,null,null,null,null,null,null,null,337.66666666666669]
[null,null,null,null,null,null,null,null,null,null,null,null,null,null,null,null,null,null,null,null,null,null,null,null,null,null,null,null,null,344.5]
[null,null,null,null,null,null,null,null,null,null,null,null,null,null,null,null,null,null,null,null,null,null,null,null,null,null,null,null,null,347.5]
[null,null,null,null,null,null,null,null,null,null,null,null,null,null,null,null,null,null,null,null,null,null,null,null,null,null,null,null,null,342.2]
[null,null,null,null,null,null,null,null,null,null,null,null,null,null,null,null,null,null,null,null,null,null,null,null,null,null,null,null,null,344.25]
[null,null,null,null,null,null,null,null,null,null,null,null,null,null,null,null,null,null,null,null,null,null,null,null,null,null,null,null,null,353.66666666666669]
[null,null,null,null,null,null,null,null,null,null,null,null,null,null,null,null,null,null,null,null,null,null,null,null,null,null,null,null,null,371.66666666666669]
[null,null,null,null,null,null,null,null,null,null,null,null,null,null,null,null,null,null,null,null,null,null,null,null,null,null,null,null,null,372]
[null,null,null,null,null,null,null,null,null,null,null,null,null,null,null,null,null,null,null,null,null,null,null,null,null,null,null,null,null,372]
[null,null,null,null,null,null,null,null,null,null,null,null,null,null,null,null,null,null,null,null,null,null,null,null,null,null,null,null,null,372]
[null,null,null,null,null,null,null,null,null,null,null,null,null,null,null,null,null,null,null,null,null,null,null,null,null,null,null,null,null,365.5]
[null,null,null,null,null,null,null,null,null,null,null,null,null,null,null,null,null,null,null,null,null,null,null,null,null,null,null,null,null,362.33333333333331]
[null,null,null,null,null,null,null,null,null,null,null,null,null,null,null,null,null,null,null,null,null,null,null,null,null,null,null,null,null,363.25]
[null,null,null,null,null,null,null,null,null,null,null,null,null,null,null,null,null,null,null,null,null,null,null,null,null,null,null,null,null,348.6]
[null,null,null,null,null,null,null,null,null,null,null,null,null,null,null,null,null,null,null,null,null,null,null,null,null,null,null,null,null,347.5]
[null,null,null,null,null,null,null,null,null,null,null,null,null,null,null,null,null,null,null,null,null,null,null,null,null,null,null,null,null,337.66666666666669]
[null,null,null,null,null,null,null,null,null,null,null,null,null,null,null,null,null,null,null,null,null,null,null,null,null,null,null,null,null,337.16666666666669]
[null,null,null,null,null,null,null,null,null,null,null,null,null,null,null,null,null,null,null,null,null,null,null,null,null,null,null,null,null,331.83333333333331]
[null,null,null,null,null,null,null,null,null,null,null,null,null,null,null,null,null,null,null,null,null,null,null,null,null,null,null,null,null,325]
[null,null,null,null,null,null,null,null,null,null,null,null,null,null,null,null,null,null,null,null,null,null,null,null,null,null,null,null,null,331.8]
[null,null,null,null,null,null,null,null,null,null,null,null,null,null,null,null,null,null,null,null,null,null,null,null,null,null,null,null,null,333]
[null,null,null,null,null,null,null,null,null,null,null,null,null,null,null,null,null,null,null,null,null,null,null,null,null,null,null,null,null,339.4]
[null,null,null,null,null,null,null,null,null,null,null,null,null,null,null,null,null,null,null,null,null,null,null,null,null,null,null,null,null,347.83333333333331]
[null,null,null,null,null,null,null,null,null,null,null,null,null,null,null,null,null,null,null,null,null,null,null,null,null,null,null,null,null,352.5]
[null,null,null,null,null,null,null,null,null,null,null,null,null,null,null,null,null,null,null,null,null,null,null,null,null,null,null,null,null,347]
[null,null,null,null,null,null,null,null,null,null,null,null,null,null,null,null,null,null,null,null,null,null,null,null,null,null,null,null,null,349.83333333333331]
[null,null,null,null,null,null,null,null,null,null,null,null,null,null,null,null,null,null,null,null,null,null,null,null,null,null,null,null,null,351.83333333333331]
[null,null,null,null,null,null,null,null,null,null,null,null,null,null,null,null,null,null,null,null,null,null,null,null,null,null,null,null,null,350.33333333333331]
[null,null,null,null,null,null,null,null,null,null,null,null,null,null,null,null,null,null,null,null,null,null,null,null,null,null,null,null,null,348.2]
[null,null,null,null,null,null,null,null,null,null,null,null,null,null,null,null,null,null,null,null,null,null,null,null,null,null,null,null,null,347.25]
[null,null,null,null,null,null,null,null,null,null,null,null,null,null,null,null,null,null,null,null,null,null,null,null,null,null,null,null,null,349.66666666666669]
[null,null,null,null,null,null,null,null,null,null,null,null,null,null,null,null,null,null,null,null,null,null,null,null,null,null,null,null,null,354]
[null,null,null,null,null,null,null,null,null,null,null,null,null,null,null,null,null,null,null,null,null,null,null,null,null,null,null,null,null,364]
[null,null,null,null,null,null,null,null,null,null,null,null,null,null,null,null,null,null,null,null,null,null,null,null,null,null,null,null,null,381.6]
[null,null,null,null,null,null,null,null,null,null,null,null,null,null,null,null,null,null,null,null,null,null,null,null,null,null,null,null,null,382.33333333333331]
[null,null,null,null,null,null,null,null,null,null,null,null,null,null,null,null,null,null,null,null,null,null,null,null,null,null,null,null,null,372.5]
[null,null,null,null,null,null,null,null,null,null,null,null,null,null,null,null,null,null,null,null,null,null,null,null,null,null,null,null,null,362.33333333333331]
[null,null,null,null,null,null,null,null,null,null,null,null,null,null,null,null,null,null,null,null,null,null,null,null,null,null,null,null,null,354.16666666666669]
[null,null,null,null,null,null,null,null,null,null,null,null,null,null,null,null,null,null,null,null,null,null,null,null,null,null,null,null,null,341.83333333333331]
[null,null,null,null,null,null,null,null,null,null,null,null,null,null,null,null,null,null,null,null,null,null,null,null,null,null,null,null,null,341.5]
[null,null,null,null,null,null,null,null,null,null,null,null,null,null,null,null,null,null,null,null,null,null,null,null,null,null,null,null,null,335.66666666666669]
[null,null,null,null,null,null,null,null,null,null,null,null,null,null,null,null,null,null,null,null,null,null,null,null,null,null,null,null,null,330.16666666666669]
[null,null,null,null,null,null,null,null,null,null,null,null,null,null,null,null,null,null,null,null,null,null,null,null,null,null,null,null,null,326.66666666666669]
[null,null,null,null,null,null,null,null,null,null,null,null,null,null,null,null,null,null,null,null,null,null,null,null,null,null,null,null,null,323]
[null,null,null,null,null,null,null,null,null,null,null,null,null,null,null,null,null,null,null,null,null,null,null,null,null,null,null,null,null,324]
[null,null,null,null,null,null,null,null,null,null,null,null,null,null,null,null,null,null,null,null,null,null,null,null,null,null,null,null,null,320]
[null,null,null,null,null,null,null,null,null,null,null,null,null,null,null,null,null,null,null,null,null,null,null,null,null,null,null,null,null,320.16666666666669]
[null,null,null,null,null,null,null,null,null,null,null,null,null,null,null,null,null,null,null,null,null,null,null,null,null,null,null,null,null,319.33333333333331]
[null,null,null,null,null,null,null,null,null,null,null,null,null,null,null,null,null,null,null,null,null,null,null,null,null,null,null,null,null,316.83333333333331]
[null,null,null,null,null,null,null,null,null,null,null,null,null,null,null,null,null,null,null,null,null,null,null,null,null,null,null,null,null,316.66666666666669]
[null,null,null,null,null,null,null,null,null,null,null,null,null,null,null,null,null,null,null,null,null,null,null,null,null,null,null,null,null,320.16666666666669]
[null,null,null,null,null,null,null,null,null,null,null,null,null,null,null,null,null,null,null,null,null,null,null,null,null,null,null,null,null,325]
[null,null,null,null,null,null,null,null,null,null,null,null,null,null,null,null,null,null,null,null,null,null,null,null,null,null,null,null,null,325.83333333333331]
[null,null,null,null,null,null,null,null,null,null,null,null,null,null,null,null,null,null,null,null,null,null,null,null,null,null,null,null,null,326.16666666666669]
[null,null,null,null,null,null,null,null,null,null,null,null,null,null,null,null,null,null,null,null,null,null,null,null,null,null,null,null,null,332.16666666666669]
[null,null,null,null,null,null,null,null,null,null,null,null,null,null,null,null,null,null,null,null,null,null,null,null,null,null,null,null,null,332.16666666666669]
[null,null,null,null,null,null,null,null,null,null,null,null,null,null,null,null,null,null,null,null,null,null,null,null,null,null,null,null,null,330.66666666666669]
[null,null,null,null,null,null,null,null,null,null,null,null,null,null,null,null,null,null,null,null,null,null,null,null,null,null,null,null,null,325.16666666666669]
[null,null,null,null,null,null,null,null,null,null,null,null,null,null,null,null,null,null,null,null,null,null,null,null,null,null,null,null,null,326.16666666666669]
[null,null,null,null,null,null,null,null,null,null,null,null,null,null,null,null,null,null,null,null,null,null,null,null,null,null,null,null,null,322.5]
[null,null,null,null,null,null,null,null,null,null,null,null,null,null,null,null,null,null,null,null,null,null,null,null,null,null,null,null,null,322.66666666666669]
[null,null,null,null,null,null,null,null,null,null,null,null,null,null,null,null,null,null,null,null,null,null,null,null,null,null,null,null,null,325.83333333333331]
[null,null,null,null,null,null,null,null,null,null,null,null,null,null,null,null,null,null,null,null,null,null,null,null,null,null,null,null,null,328.5]
[null,null,null,null,null,null,null,null,null,null,null,null,null,null,null,null,null,null,null,null,null,null,null,null,null,null,null,null,null,332.83333333333331]
[null,null,null,null,null,null,null,null,null,null,null,null,null,null,null,null,null,null,null,null,null,null,null,null,null,null,null,null,null,328.83333333333331]
[null,null,null,null,null,null,null,null,null,null,null,null,null,null,null,null,null,null,null,null,null,null,null,null,null,null,null,null,null,331.16666666666669]
[null,null,null,null,null,null,null,null,null,null,null,null,null,null,null,null,null,null,null,null,null,null,null,null,null,null,null,null,null,333.5]
[null,null,null,null,null,null,null,null,null,null,null,null,null,null,null,null,null,null,null,null,null,null,null,null,null,null,null,null,null,328.66666666666669]
[null,null,null,null,null,null,null,null,null,null,null,null,null,null,null,null,null,null,null,null,null,null,null,null,null,null,null,null,null,323.66666666666669]
[null,null,null,null,null,null,null,null,null,null,null,null,null,null,null,null,null,null,null,null,null,null,null,null,null,null,null,null,null,321.33333333333331]
[null,null,null,null,null,null,null,null,null,null,null,null,null,null,null,null,null,null,null,null,null,null,null,null,null,null,null,null,null,322.33333333333331]
[null,null,null,null,null,null,null,null,null,null,null,null,null,null,null,null,null,null,null,null,null,null,null,null,null,null,null,null,null,322]
[null,null,null,null,null,null,null,null,null,null,null,null,null,null,null,null,null,null,null,null,null,null,null,null,null,null,null,null,null,316.33333333333331]
[null,null,null,null,null,null,null,null,null,null,null,null,null,null,null,null,null,null,null,null,null,null,null,null,null,null,null,null,null,314.16666666666669]
[null,null,null,null,null,null,null,null,null,null,null,null,null,null,null,null,null,null,null,null,null,null,null,null,null,null,null,null,null,319]
[null,null,null,null,null,null,null,null,null,null,null,null,null,null,null,null,null,null,null,null,null,null,null,null,null,null,null,null,null,319.16666666666669]
[null,null,null,null,null,null,null,null,null,null,null,null,null,null,null,null,null,null,null,null,null,null,null,null,null,null,null,null,null,321]
[null,null,null,null,null,null,null,null,null,null,null,null,null,null,null,null,null,null,null,null,null,null,null,null,null,null,null,null,null,318]
[null,null,null,null,null,null,null,null,null,null,null,null,null,null,null,null,null,null,null,null,null,null,null,null,null,null,null,null,null,319.83333333333331]
[null,null,null,null,null,null,null,null,null,null,null,null,null,null,null,null,null,null,null,null,null,null,null,null,null,null,null,null,null,320.66666666666669]
[null,null,null,null,null,null,null,null,null,null,null,null,null,null,null,null,null,null,null,null,null,null,null,null,null,null,null,null,null,311]
[null,null,null,null,null,null,null,null,null,null,null,null,null,null,null,null,null,null,null,null,null,null,null,null,null,null,null,null,null,310]
[null,null,null,null,null,null,null,null,null,null,null,null,null,null,null,null,null,null,null,null,null,null,null,null,null,null,null,null,null,320.2]
[null,null,null,null,null,null,null,null,null,null,null,null,null,null,null,null,null,null,null,null,null,null,null,null,null,null,null,null,null,338.33333333333331]
[null,null,null,null,null,null,null,null,null,null,null,null,null,null,null,null,null,null,null,null,null,null,null,null,null,null,null,null,null,299.75]
[null,null,null,null,null,null,null,null,null,null,null,null,null,null,null,null,null,null,null,null,null,null,null,null,null,null,null,null,null,315.66666666666669]
[null,null,null,null,null,null,null,null,null,null,null,null,null,null,null,null,null,null,null,null,null,null,null,null,null,null,null,null,null,342.25]
[null,null,null,null,null,null,null,null,null,null,null,null,null,null,null,null,null,null,null,null,null,null,null,null,null,null,null,null,null,304.83333333333331]
[null,null,null,null,null,null,null,null,null,null,null,null,null,null,null,null,null,null,null,null,null,null,null,null,null,null,null,null,null,301.66666666666669]
[null,null,null,null,null,null,null,null,null,null,null,null,null,null,null,null,null,null,null,null,null,null,null,null,null,null,null,null,null,288.8]
[null,null,null,null,null,null,null,null,null,null,null,null,null,null,null,null,null,null,null,null,null,null,null,null,null,null,null,null,null,312]
[null,null,null,null,null,null,null,null,null,null,null,null,null,null,null,null,null,null,null,null,null,null,null,null,null,null,null,null,null,308]
[null,null,null,null,null,null,null,null,null,null,null,null,null,null,null,null,null,null,null,null,null,null,null,null,null,null,null,null,null,293.5]
[null,null,null,null,null,null,null,null,null,null,null,null,null,null,null,null,null,null,null,null,null,null,null,null,null,null,null,null,null,288.83333333333331]
[null,null,null,null,null,null,null,null,null,null,null,null,null,null,null,null,null,null,null,null,null,null,null,null,null,null,null,null,null,292.33333333333331]
[null,null,null,null,null,null,null,null,null,null,null,null,null,null,null,null,null,null,null,null,null,null,null,null,null,null,null,null,null,305.5]
[null,null,null,null,null,null,null,null,null,null,null,null,null,null,null,null,null,null,null,null,null,null,null,null,null,null,null,null,null,287.83333333333331]
[null,null,null,null,null,null,null,null,null,null,null,null,null,null,null,null,null,null,null,null,null,null,null,null,null,null,null,null,null,282.5]
[null,null,null,null,null,null,null,null,null,null,null,null,null,null,null,null,null,null,null,null,null,null,null,null,null,null,null,null,null,291.5]
[null,null,null,null,null,null,null,null,null,null,null,null,null,null,null,null,null,null,null,null,null,null,null,null,null,null,null,null,null,288.2]
[null,null,null,null,null,null,null,null,null,null,null,null,null,null,null,null,null,null,null,null,null,null,null,null,null,null,null,null,null,296.2]
[null,null,null,null,null,null,null,null,null,null,null,null,null,null,null,null,null,null,null,null,null,null,null,null,null,null,null,null,null,288.16666666666669]
[null,null,null,null,null,null,null,null,null,null,null,null,null,null,null,null,null,null,null,null,null,null,null,null,null,null,null,null,null,293.33333333333331]
[null,null,null,null,null,null,null,null,null,null,null,null,null,null,null,null,null,null,null,null,null,null,null,null,null,null,null,null,null,273.75]
[null,null,null,null,null,null,null,null,null,null,null,null,null,null,null,null,null,null,null,null,null,null,null,null,null,null,null,null,null,290.5]
[null,null,null,null,null,null,null,null,null,null,null,null,null,null,null,null,null,null,null,null,null,null,null,null,null,null,null,null,null,291.33333333333331]
[null,null,null,null,null,null,null,null,null,null,null,null,null,null,null,null,null,null,null,null,null,null,null,null,null,null,null,null,null,274]
[null,null,null,null,null,null,null,null,null,null,null,null,null,null,null,null,null,null,null,null,null,null,null,null,null,null,null,null,null,311]
[null,null,null,null,null,null,null,null,null,null,null,null,null,null,null,null,null,null,null,null,null,null,null,null,null,null,null,null,null,291.33333333333331]
[null,null,null,null,null,null,null,null,null,null,null,null,null,null,null,null,null,null,null,null,null,null,null,null,null,null,null,null,null,255.5]
[null,null,null,null,null,null,null,null,null,null,null,null,null,null,null,null,null,null,null,null,null,null,null,null,null,null,null,null,null,263]
[null,null,null,null,null,null,null,null,null,null,null,null,null,null,null,null,null,null,null,null,null,null,null,null,null,null,null,null,null,263]
[null,null,null,null,null,null,null,null,null,null,null,null,null,null,null,null,null,null,null,null,null,null,null,null,null,null,null,null,null,260.66666666666669]
[null,null,null,null,null,null,null,null,null,null,null,null,null,null,null,null,null,null,null,null,null,null,null,null,null,null,null,null,null,237]
[null,null,null,null,null,null,null,null,null,null,null,null,null,null,null,null,null,null,null,null,null,null,null,null,null,null,null,null,null,242.33333333333334]
[null,null,null,null,null,null,null,null,null,null,null,null,null,null,null,null,null,null,null,null,null,null,null,null,null,null,null,null,null,240]
[null,null,null,null,null,null,null,null,null,null,null,null,null,null,null,null,null,null,null,null,null,null,null,null,null,null,null,null,null,247.5]
[null,null,null,null,null,null,null,null,null,null,null,null,null,null,null,null,null,null,null,null,null,null,null,null,null,null,null,null,null,239.66666666666666]
[null,null,null,null,null,null,null,null,null,null,null,null,null,null,null,null,null,null,null,null,null,null,null,null,null,null,null,null,null,243.66666666666666]
[null,null,null,null,null,null,null,null,null,null,null,null,null,null,null,null,null,null,null,null,null,null,null,null,null,null,null,null,null,230.2]
[null,null,null,null,null,null,null,null,null,null,null,null,null,null,null,null,null,null,null,null,null,null,null,null,null,null,null,null,null,227.4]
[null,null,null,null,null,null,null,null,null,null,null,null,null,null,null,null,null,null,null,null,null,null,null,null,null,null,null,null,null,250.5]
[null,null,null,null,null,null,null,null,null,null,null,null,null,null,null,null,null,null,null,null,null,null,null,null,null,null,null,null,null,226.4]
[null,null,null,null,null,null,null,null,null,null,null,null,null,null,null,null,null,null,null,null,null,null,null,null,null,null,null,null,null,235.2]
[null,null,null,null,null,null,null,null,null,null,null,null,null,null,null,null,null,null,null,null,null,null,null,null,null,null,null,null,null,251]
[null,null,null,null,null,null,null,null,null,null,null,null,null,null,null,null,null,null,null,null,null,null,null,null,null,null,null,null,null,264]
[null,null,null,null,null,null,null,null,null,null,null,null,null,null,null,null,null,null,null,null,null,null,null,null,null,null,null,null,null,234]
[null,null,null,null,null,null,null,null,null,null,null,null,null,null,null,null,null,null,null,null,null,null,null,null,null,null,null,null,null,221.6]
[null,null,null,null,null,null,null,null,null,null,null,null,null,null,null,null,null,null,null,null,null,null,null,null,null,null,null,null,null,233.16666666666666]
[null,null,null,null,null,null,null,null,null,null,null,null,null,null,null,null,null,null,null,null,null,null,null,null,null,null,null,null,null,233.66666666666666]
[null,null,null,null,null,null,null,null,null,null,null,null,null,null,null,null,null,null,null,null,null,null,null,null,null,null,null,null,null,236.16666666666666]
[null,null,null,null,null,null,null,null,null,null,null,null,null,null,null,null,null,null,null,null,null,null,null,null,null,null,null,null,null,227.16666666666666]
[null,null,null,null,null,null,null,null,null,null,null,null,null,null,null,null,null,null,null,null,null,null,null,null,null,null,null,null,null,221]
[null,null,null,null,null,null,null,null,null,null,null,null,null,null,null,null,null,null,null,null,null,null,null,null,null,null,null,null,null,224.5]
[null,null,null,null,null,null,null,null,null,null,null,null,null,null,null,null,null,null,null,null,null,null,null,null,null,null,null,null,null,220]
[null,null,null,null,null,null,null,null,null,null,null,null,null,null,null,null,null,null,null,null,null,null,null,null,null,null,null,null,null,217.4]
[null,null,null,null,null,null,null,null,null,null,null,null,null,null,null,null,null,null,null,null,null,null,null,null,null,null,null,null,null,222.16666666666666]
[null,null,null,null,null,null,null,null,null,null,null,null,null,null,null,null,null,null,null,null,null,null,null,null,null,null,null,null,null,227.8]
[null,null,null,null,null,null,null,null,null,null,null,null,null,null,null,null,null,null,null,null,null,null,null,null,null,null,null,null,null,201.16666666666666]
[null,null,null,null,null,null,null,null,null,null,null,null,null,null,null,null,null,null,null,null,null,null,null,null,null,null,null,null,null,207]
[null,null,null,null,null,null,null,null,null,null,null,null,null,null,null,null,null,null,null,null,null,null,null,null,null,null,null,null,null,207.33333333333334]
[null,null,null,null,null,null,null,null,null,null,null,null,null,null,null,null,null,null,null,null,null,null,null,null,null,null,null,null,null,202]
[null,null,null,null,null,null,null,null,null,null,null,null,null,null,null,null,null,null,null,null,null,null,null,null,null,null,null,null,null,214]
[null,null,null,null,null,null,null,null,null,null,null,null,null,null,null,null,null,null,null,null,null,null,null,null,null,null,null,null,null,206.2]
[null,null,null,null,null,null,null,null,null,null,null,null,null,null,null,null,null,null,null,null,null,null,null,null,null,null,null,null,null,202.5]
[null,null,null,null,null,null,null,null,null,null,null,null,null,null,null,null,null,null,null,null,null,null,null,null,null,null,null,null,null,203.5]
[null,null,null,null,null,null,null,null,null,null,null,null,null,null,null,null,null,null,null,null,null,null,null,null,null,null,null,null,null,204]
[null,null,null,null,null,null,null,null,null,null,null,null,null,null,null,null,null,null,null,null,null,null,null,null,null,null,null,null,null,182.5]
[null,null,null,null,null,null,null,null,null,null,null,null,null,null,null,null,null,null,null,null,null,null,null,null,null,null,null,null,null,197]
[null,null,null,null,null,null,null,null,null,null,null,null,null,null,null,null,null,null,null,null,null,null,null,null,null,null,null,null,null,201.33333333333334]
[null,null,null,null,null,null,null,null,null,null,null,null,null,null,null,null,null,null,null,null,null,null,null,null,null,null,null,null,null,195]
[null,null,null,null,null,null,null,null,null,null,null,null,null,null,null,null,null,null,null,null,null,null,null,null,null,null,null,null,null,193.5]
[null,null,null,null,null,null,null,null,null,null,null,null,null,null,null,null,null,null,null,null,null,null,null,null,null,null,null,null,null,191.66666666666666]
[null,null,null,null,null,null,null,null,null,null,null,null,null,null,null,null,null,null,null,null,null,null,null,null,null,null,null,null,null,198.66666666666666]
[null,null,null,null,null,null,null,null,null,null,null,null,null,null,null,null,null,null,null,null,null,null,null,null,null,null,null,null,null,197.16666666666666]
[null,null,null,null,null,null,null,null,null,null,null,null,null,null,null,null,null,null,null,null,null,null,null,null,null,null,null,null,null,194.16666666666666]
[null,null,null,null,null,null,null,null,null,null,null,null,null,null,null,null,null,null,null,null,null,null,null,null,null,null,null,null,null,192.33333333333334]
[null,null,null,null,null,null,null,null,null,null,null,null,null,null,null,null,null,null,null,null,null,null,null,null,null,null,null,null,null,195.66666666666666]
[null,null,null,null,null,null,null,null,null,null,null,null,null,null,null,null,null,null,null,null,null,null,null,null,null,null,null,null,null,187.5]
[null,null,null,null,null,null,null,null,null,null,null,null,null,null,null,null,null,null,null,null,null,null,null,null,null,null,null,null,null,188.83333333333334]
[null,null,null,null,null,null,null,null,null,null,null,null,null,null,null,null,null,null,null,null,null,null,null,null,null,null,null,null,null,180]
[null,null,null,null,null,null,null,null,null,null,null,null,null,null,null,null,null,null,null,null,null,null,null,null,null,null,null,null,null,180]
[null,null,null,null,null,null,null,null,null,null,null,null,null,null,null,null,null,null,null,null,null,null,null,null,null,null,null,null,null,176]
[null,null,null,null,null,null,null,null,null,null,null,null,null,null,null,null,null,null,null,null,null,null,null,null,null,null,null,null,null,173.6]
[null,null,null,null,null,null,null,null,null,null,null,null,null,null,null,null,null,null,null,null,null,null,null,null,null,null,null,null,null,186.5]
[null,null,null,null,null,null,null,null,null,null,null,null,null,null,null,null,null,null,null,null,null,null,null,null,null,null,null,null,null,193.2]
[null,null,null,null,null,null,null,null,null,null,null,null,null,null,null,null,null,null,null,null,null,null,null,null,null,null,null,null,null,165.2]
[null,null,null,null,null,null,null,null,null,null,null,null,null,null,null,null,null,null,null,null,null,null,null,null,null,null,null,null,null,179.33333333333334]
[null,null,null,null,null,null,null,null,null,null,null,null,null,null,null,null,null,null,null,null,null,null,null,null,null,null,null,null,null,165]
[null,null,null,null,null,null,null,null,null,null,null,null,null,null,null,null,null,null,null,null,null,null,null,null,null,null,null,null,null,173.83333333333334]
[null,null,null,null,null,null,null,null,null,null,null,null,null,null,null,null,null,null,null,null,null,null,null,null,null,null,null,null,null,170.2]
[null,null,null,null,null,null,null,null,null,null,null,null,null,null,null,null,null,null,null,null,null,null,null,null,null,null,null,null,null,178.66666666666666]
[null,null,null,null,null,null,null,null,null,null,null,null,null,null,null,null,null,null,null,null,null,null,null,null,null,null,null,null,null,180.5]
[null,null,null,null,null,null,null,null,null,null,null,null,null,null,null,null,null,null,null,null,null,null,null,null,null,null,null,null,null,175.8]
[null,null,null,null,null,null,null,null,null,null,null,null,null,null,null,null,null,null,null,null,null,null,null,null,null,null,null,null,null,167.83333333333334]
[null,null,null,null,null,null,null,null,null,null,null,null,null,null,null,null,null,null,null,null,null,null,null,null,null,null,null,null,null,177.4]
[null,null,null,null,null,null,null,null,null,null,null,null,null,null,null,null,null,null,null,null,null,null,null,null,null,null,null,null,null,185.4]
[null,null,null,null,null,null,null,null,null,null,null,null,null,null,null,null,null,null,null,null,null,null,null,null,null,null,null,null,null,166.83333333333334]
[null,null,null,null,null,null,null,null,null,null,null,null,null,null,null,null,null,null,null,null,null,null,null,null,null,null,null,null,null,174.66666666666666]
[null,null,null,null,null,null,null,null,null,null,null,null,null,null,null,null,null,null,null,null,null,null,null,null,null,null,null,null,null,178.83333333333334]
[null,null,null,null,null,null,null,null,null,null,null,null,null,null,null,null,null,null,null,null,null,null,null,null,null,null,null,null,null,167.16666666666666]
[null,null,null,null,null,null,null,null,null,null,null,null,null,null,null,null,null,null,null,null,null,null,null,null,null,null,null,null,null,157.16666666666666]
[null,null,null,null,null,null,null,null,null,null,null,null,null,null,null,null,null,null,null,null,null,null,null,null,null,null,null,null,null,166]
[null,null,null,null,null,null,null,null,null,null,null,null,null,null,null,null,null,null,null,null,null,null,null,null,null,null,null,null,null,163.5]
[null,null,null,null,null,null,null,null,null,null,null,null,null,null,null,null,null,null,null,null,null,null,null,null,null,null,null,null,null,167.33333333333334]
[null,null,null,null,null,null,null,null,null,null,null,null,null,null,null,null,null,null,null,null,null,null,null,null,null,null,null,null,null,167.33333333333334]
[null,null,null,null,null,null,null,null,null,null,null,null,null,null,null,null,null,null,null,null,null,null,null,null,null,null,null,null,null,163.16666666666666]
[null,null,null,null,null,null,null,null,null,null,null,null,null,null,null,null,null,null,null,null,null,null,null,null,null,null,null,null,null,180]
[null,null,null,null,null,null,null,null,null,null,null,null,null,null,null,null,null,null,null,null,null,null,null,null,null,null,null,null,null,201.5]
[null,null,null,null,null,null,null,null,null,null,null,null,null,null,null,null,null,null,null,null,null,null,null,null,null,null,null,null,null,201.5]
[null,null,null,null,null,null,null,null,null,null,null,null,null,null,null,null,null,null,null,null,null,null,null,null,null,null,null,null,null,178.8]
[null,null,null,null,null,null,null,null,null,null,null,null,null,null,null,null,null,null,null,null,null,null,null,null,null,null,null,null,null,170.5]
[null,null,null,null,null,null,null,null,null,null,null,null,null,null,null,null,null,null,null,null,null,null,null,null,null,null,null,null,null,153.16666666666666]
[null,null,null,null,null,null,null,null,null,null,null,null,null,null,null,null,null,null,null,null,null,null,null,null,null,null,null,null,null,153.16666666666666]
[null,null,null,null,null,null,null,null,null,null,null,null,null,null,null,null,null,null,null,null,null,null,null,null,null,null,null,null,null,155.6]
[null,null,null,null,null,null,null,null,null,null,null,null,null,null,null,null,null,null,null,null,null,null,null,null,null,null,null,null,null,149.16666666666666]
[null,null,null,null,null,null,null,null,null,null,null,null,null,null,null,null,null,null,null,null,null,null,null,null,null,null,null,null,null,157]
[null,null,null,null,null,null,null,null,null,null,null,null,null,null,null,null,null,null,null,null,null,null,null,null,null,null,null,null,null,149.16666666666666]
[null,null,null,null,null,null,null,null,null,null,null,null,null,null,null,null,null,null,null,null,null,null,null,null,null,null,null,null,null,153.33333333333334]
[null,null,null,null,null,null,null,null,null,null,null,null,null,null,null,null,null,null,null,null,null,null,null,null,null,null,null,null,null,152.16666666666666]
[null,null,null,null,null,null,null,null,null,null,null,null,null,null,null,null,null,null,null,null,null,null,null,null,null,null,null,null,null,147.66666666666666]
[null,null,null,null,null,null,null,null,null,null,null,null,null,null,null,null,null,null,null,null,null,null,null,null,null,null,null,null,null,156]
[null,null,null,null,null,null,null,null,null,null,null,null,null,null,null,null,null,null,null,null,null,null,null,null,null,null,null,null,null,151.75]
[null,null,null,null,null,null,null,null,null,null,null,null,null,null,null,null,null,null,null,null,null,null,null,null,null,null,null,null,null,164.5]
[null,null,null,null,null,null,null,null,null,null,null,null,null,null,null,null,null,null,null,null,null,null,null,null,null,null,null,null,null,147]
[null,null,null,null,null,null,null,null,null,null,null,null,null,null,null,null,null,null,null,null,null,null,null,null,null,null,null,null,null,142.33333333333334]
[null,null,null,null,null,null,null,null,null,null,null,null,null,null,null,null,null,null,null,null,null,null,null,null,null,null,null,null,null,148.66666666666666]
[null,null,null,null,null,null,null,null,null,null,null,null,null,null,null,null,null,null,null,null,null,null,null,null,null,null,null,null,null,149.83333333333334]
[null,null,null,null,null,null,null,null,null,null,null,null,null,null,null,null,null,null,null,null,null,null,null,null,null,null,null,null,null,150]
[null,null,null,null,null,null,null,null,null,null,null,null,null,null,null,null,null,null,null,null,null,null,null,null,null,null,null,null,null,150.5]
[null,null,null,null,null,null,null,null,null,null,null,null,null,null,null,null,null,null,null,null,null,null,null,null,null,null,null,null,null,150.33333333333334]
[null,null,null,null,null,null,null,null,null,null,null,null,null,null,null,null,null,null,null,null,null,null,null,null,null,null,null,null,null,155]
[null,null,null,null,null,null,null,null,null,null,null,null,null,null,null,null,null,null,null,null,null,null,null,null,null,null,null,null,null,148.33333333333334]
[null,null,null,null,null,null,null,null,null,null,null,null,null,null,null,null,null,null,null,null,null,null,null,null,null,null,null,null,null,159.66666666666666]
[null,null,null,null,null,null,null,null,null,null,null,null,null,null,null,null,null,null,null,null,null,null,null,null,null,null,null,null,null,150.5]
[null,null,null,null,null,null,null,null,null,null,null,null,null,null,null,null,null,null,null,null,null,null,null,null,null,null,null,null,null,154.5]
[null,null,null,null,null,null,null,null,null,null,null,null,null,null,null,null,null,null,null,null,null,null,null,null,null,null,null,null,null,156]
[null,null,null,null,null,null,null,null,null,null,null,null,null,null,null,null,null,null,null,null,null,null,null,null,null,null,null,null,null,167.83333333333334]
[null,null,null,null,null,null,null,null,null,null,null,null,null,null,null,null,null,null,null,null,null,null,null,null,null,null,null,null,null,148.66666666666666]
[null,null,null,null,null,null,null,null,null,null,null,null,null,null,null,null,null,null,null,null,null,null,null,null,null,null,null,null,null,155.5]
[null,null,null,null,null,null,null,null,null,null,null,null,null,null,null,null,null,null,null,null,null,null,null,null,null,null,null,null,null,154.16666666666666]
[null,null,null,null,null,null,null,null,null,null,null,null,null,null,null,null,null,null,null,null,null,null,null,null,null,null,null,null,null,156.33333333333334]
[null,null,null,null,null,null,null,null,null,null,null,null,null,null,null,null,null,null,null,null,null,null,null,null,null,null,null,null,null,147.5]
[null,null,null,null,null,null,null,null,null,null,null,null,null,null,null,null,null,null,null,null,null,null,null,null,null,null,null,null,null,159.5]
[null,null,null,null,null,null,null,null,null,null,null,null,null,null,null,null,null,null,null,null,null,null,null,null,null,null,null,null,null,143.33333333333334]
[null,null,null,null,null,null,null,null,null,null,null,null,null,null,null,null,null,null,null,null,null,null,null,null,null,null,null,null,null,139]
[null,null,null,null,null,null,null,null,null,null,null,null,null,null,null,null,null,null,null,null,null,null,null,null,null,null,null,null,null,137.83333333333334]
[null,null,null,null,null,null,null,null,null,null,null,null,null,null,null,null,null,null,null,null,null,null,null,null,null,null,null,null,null,139.66666666666666]
[null,null,null,null,null,null,null,null,null,null,null,null,null,null,null,null,null,null,null,null,null,null,null,null,null,null,null,null,null,137.16666666666666]
[null,null,null,null,null,null,null,null,null,null,null,null,null,null,null,null,null,null,null,null,null,null,null,null,null,null,null,null,null,129.4]
[null,null,null,null,null,null,null,null,null,null,null,null,null,null,null,null,null,null,null,null,null,null,null,null,null,null,null,null,null,150.5]
[null,null,null,null,null,null,null,null,null,null,null,null,null,null,null,null,null,null,null,null,null,null,null,null,null,null,null,null,null,160]
[null,null,null,null,null,null,null,null,null,null,null,null,null,null,null,null,null,null,null,null,null,null,null,null,null,null,null,null,null,158.5]
[null,null,null,null,null,null,null,null,null,null,null,null,null,null,null,null,null,null,null,null,null,null,null,null,null,null,null,null,null,149.83333333333334]
[null,null,null,null,null,null,null,null,null,null,null,null,null,null,null,null,null,null,null,null,null,null,null,null,null,null,null,null,null,147.33333333333334]
[null,null,null,null,null,null,null,null,null,null,null,null,null,null,null,null,null,null,null,null,null,null,null,null,null,null,null,null,null,148.6]
[null,null,null,null,null,null,null,null,null,null,null,null,null,null,null,null,null,null,null,null,null,null,null,null,null,null,null,null,null,171]
[null,null,null,null,null,null,null,null,null,null,null,null,null,null,null,null,null,null,null,null,null,null,null,null,null,null,null,null,null,162.75]
[null,null,null,null,null,null,null,null,null,null,null,null,null,null,null,null,null,null,null,null,null,null,null,null,null,null,null,null,null,143.33333333333334]
[null,null,null,null,null,null,null,null,null,null,null,null,null,null,null,null,null,null,null,null,null,null,null,null,null,null,null,null,null,138.66666666666666]
[null,null,null,null,null,null,null,null,null,null,null,null,null,null,null,null,null,null,null,null,null,null,null,null,null,null,null,null,null,137.6]
[null,null,null,null,null,null,null,null,null,null,null,null,null,null,null,null,null,null,null,null,null,null,null,null,null,null,null,null,null,139.75]
[null,null,null,null,null,null,null,null,null,null,null,null,null,null,null,null,null,null,null,null,null,null,null,null,null,null,null,null,null,127.16666666666667]
[null,null,null,null,null,null,null,null,null,null,null,null,null,null,null,null,null,null,null,null,null,null,null,null,null,null,null,null,null,129]
[null,null,null,null,null,null,null,null,null,null,null,null,null,null,null,null,null,null,null,null,null,null,null,null,null,null,null,null,null,134.5]
[null,null,null,null,null,null,null,null,null,null,null,null,null,null,null,null,null,null,null,null,null,null,null,null,null,null,null,null,null,132.83333333333334]
[null,null,null,null,null,null,null,null,null,null,null,null,null,null,null,null,null,null,null,null,null,null,null,null,null,null,null,null,null,127.83333333333333]
[null,null,null,null,null,null,null,null,null,null,null,null,null,null,null,null,null,null,null,null,null,null,null,null,null,null,null,null,null,131]
[null,null,null,null,null,null,null,null,null,null,null,null,null,null,null,null,null,null,null,null,null,null,null,null,null,null,null,null,null,127.8]
[null,null,null,null,null,null,null,null,null,null,null,null,null,null,null,null,null,null,null,null,null,null,null,null,null,null,null,null,null,125]
[null,null,null,null,null,null,null,null,null,null,null,null,null,null,null,null,null,null,null,null,null,null,null,null,null,null,null,null,null,135.16666666666666]
[null,null,null,null,null,null,null,null,null,null,null,null,null,null,null,null,null,null,null,null,null,null,null,null,null,null,null,null,null,125.5]
[null,null,null,null,null,null,null,null,null,null,null,null,null,null,null,null,null,null,null,null,null,null,null,null,null,null,null,null,null,126]
[null,null,null,null,null,null,null,null,null,null,null,null,null,null,null,null,null,null,null,null,null,null,null,null,null,null,null,null,null,124.66666666666667]
[null,null,null,null,null,null,null,null,null,null,null,null,null,null,null,null,null,null,null,null,null,null,null,null,null,null,null,null,null,120.5]
[null,null,null,null,null,null,null,null,null,null,null,null,null,null,null,null,null,null,null,null,null,null,null,null,null,null,null,null,null,126.66666666666667]
[null,null,null,null,null,null,null,null,null,null,null,null,null,null,null,null,null,null,null,null,null,null,null,null,null,null,null,null,null,127.5]
[null,null,null,null,null,null,null,null,null,null,null,null,null,null,null,null,null,null,null,null,null,null,null,null,null,null,null,null,null,117.4]
[null,null,null,null,null,null,null,null,null,null,null,null,null,null,null,null,null,null,null,null,null,null,null,null,null,null,null,null,null,128.16666666666666]
[null,null,null,null,null,null,null,null,null,null,null,null,null,null,null,null,null,null,null,null,null,null,null,null,null,null,null,null,null,124.6]
[null,null,null,null,null,null,null,null,null,null,null,null,null,null,null,null,null,null,null,null,null,null,null,null,null,null,null,null,null,119.2]
[null,null,null,null,null,null,null,null,null,null,null,null,null,null,null,null,null,null,null,null,null,null,null,null,null,null,null,null,null,144]
[null,null,null,null,null,null,null,null,null,null,null,null,null,null,null,null,null,null,null,null,null,null,null,null,null,null,null,null,null,127.83333333333333]
[null,null,null,null,null,null,null,null,null,null,null,null,null,null,null,null,null,null,null,null,null,null,null,null,null,null,null,null,null,139.6]
[null,null,null,null,null,null,null,null,null,null,null,null,null,null,null,null,null,null,null,null,null,null,null,null,null,null,null,null,null,121.2]
[null,null,null,null,null,null,null,null,null,null,null,null,null,null,null,null,null,null,null,null,null,null,null,null,null,null,null,null,null,120.5]
[null,null,null,null,null,null,null,null,null,null,null,null,null,null,null,null,null,null,null,null,null,null,null,null,null,null,null,null,null,132]
[null,null,null,null,null,null,null,null,null,null,null,null,null,null,null,null,null,null,null,null,null,null,null,null,null,null,null,null,null,113.66666666666667]
[null,null,null,null,null,null,null,null,null,null,null,null,null,null,null,null,null,null,null,null,null,null,null,null,null,null,null,null,null,118.8]
[null,null,null,null,null,null,null,null,null,null,null,null,null,null,null,null,null,null,null,null,null,null,null,null,null,null,null,null,null,125.33333333333333]
[null,null,null,null,null,null,null,null,null,null,null,null,null,null,null,null,null,null,null,null,null,null,null,null,null,null,null,null,null,118.83333333333333]
[null,null,null,null,null,null,null,null,null,null,null,null,null,null,null,null,null,null,null,null,null,null,null,null,null,null,null,null,null,122.5]
[null,null,null,null,null,null,null,null,null,null,null,null,null,null,null,null,null,null,null,null,null,null,null,null,null,null,null,null,null,124.83333333333333]
[null,null,null,null,null,null,null,null,null,null,null,null,null,null,null,null,null,null,null,null,null,null,null,null,null,null,null,null,null,117.16666666666667]
[null,null,null,null,null,null,null,null,null,null,null,null,null,null,null,null,null,null,null,null,null,null,null,null,null,null,null,null,null,129.83333333333334]
[null,null,null,null,null,null,null,null,null,null,null,null,null,null,null,null,null,null,null,null,null,null,null,null,null,null,null,null,null,120]
[null,null,null,null,null,null,null,null,null,null,null,null,null,null,null,null,null,null,null,null,null,null,null,null,null,null,null,null,null,110.4]
[null,null,null,null,null,null,null,null,null,null,null,null,null,null,null,null,null,null,null,null,null,null,null,null,null,null,null,null,null,135.16666666666666]
[null,null,null,null,null,null,null,null,null,null,null,null,null,null,null,null,null,null,null,null,null,null,null,null,null,null,null,null,null,123.16666666666667]
[null,null,null,null,null,null,null,null,null,null,null,null,null,null,null,null,null,null,null,null,null,null,null,null,null,null,null,null,null,130.66666666666666]
[null,null,null,null,null,null,null,null,null,null,null,null,null,null,null,null,null,null,null,null,null,null,null,null,null,null,null,null,null,146.5]
[null,null,null,null,null,null,null,null,null,null,null,null,null,null,null,null,null,null,null,null,null,null,null,null,null,null,null,null,null,149]
[null,null,null,null,null,null,null,null,null,null,null,null,null,null,null,null,null,null,null,null,null,null,null,null,null,null,null,null,null,129]
[null,null,null,null,null,null,null,null,null,null,null,null,null,null,null,null,null,null,null,null,null,null,null,null,null,null,null,null,null,130.16666666666666]
[null,null,null,null,null,null,null,null,null,null,null,null,null,null,null,null,null,null,null,null,null,null,null,null,null,null,null,null,null,117.8]
[null,null,null,null,null,null,null,null,null,null,null,null,null,null,null,null,null,null,null,null,null,null,null,null,null,null,null,null,null,124.33333333333333]
[null,null,null,null,null,null,null,null,null,null,null,null,null,null,null,null,null,null,null,null,null,null,null,null,null,null,null,null,null,118.6]
[null,null,null,null,null,null,null,null,null,null,null,null,null,null,null,null,null,null,null,null,null,null,null,null,null,null,null,null,null,120.16666666666667]
[null,null,null,null,null,null,null,null,null,null,null,null,null,null,null,null,null,null,null,null,null,null,null,null,null,null,null,null,null,114.5]
[null,null,null,null,null,null,null,null,null,null,null,null,null,null,null,null,null,null,null,null,null,null,null,null,null,null,null,null,null,113.83333333333333]
[null,null,null,null,null,null,null,null,null,null,null,null,null,null,null,null,null,null,null,null,null,null,null,null,null,null,null,null,null,112.66666666666667]
[null,null,null,null,null,null,null,null,null,null,null,null,null,null,null,null,null,null,null,null,null,null,null,null,null,null,null,null,null,112.2]
[null,null,null,null,null,null,null,null,null,null,null,null,null,null,null,null,null,null,null,null,null,null,null,null,null,null,null,null,null,120.6]
[null,null,null,null,null,null,null,null,null,null,null,null,null,null,null,null,null,null,null,null,null,null,null,null,null,null,null,null,null,124]
[null,null,null,null,null,null,null,null,null,null,null,null,null,null,null,null,null,null,null,null,null,null,null,null,null,null,null,null,null,119]
[null,null,null,null,null,null,null,null,null,null,null,null,null,null,null,null,null,null,null,null,null,null,null,null,null,null,null,null,null,106.16666666666667]
[null,null,null,null,null,null,null,null,null,null,null,null,null,null,null,null,null,null,null,null,null,null,null,null,null,null,null,null,null,106.16666666666667]
[null,null,null,null,null,null,null,null,null,null,null,null,null,null,null,null,null,null,null,null,null,null,null,null,null,null,null,null,null,105.4]
[null,null,null,null,null,null,null,null,null,null,null,null,null,null,null,null,null,null,null,null,null,null,null,null,null,null,null,null,null,106.6]
[null,null,null,null,null,null,null,null,null,null,null,null,null,null,null,null,null,null,null,null,null,null,null,null,null,null,null,null,null,108]
[null,null,null,null,null,null,null,null,null,null,null,null,null,null,null,null,null,null,null,null,null,null,null,null,null,null,null,null,null,106]
[null,null,null,null,null,null,null,null,null,null,null,null,null,null,null,null,null,null,null,null,null,null,null,null,null,null,null,null,null,105]
[null,null,null,null,null,null,null,null,null,null,null,null,null,null,null,null,null,null,null,null,null,null,null,null,null,null,null,null,null,107.8]
[null,null,null,null,null,null,null,null,null,null,null,null,null,null,null,null,null,null,null,null,null,null,null,null,null,null,null,null,null,107.16666666666667]
[null,null,null,null,null,null,null,null,null,null,null,null,null,null,null,null,null,null,null,null,null,null,null,null,null,null,null,null,null,106.33333333333333]
[null,null,null,null,null,null,null,null,null,null,null,null,null,null,null,null,null,null,null,null,null,null,null,null,null,null,null,null,null,108.83333333333333]
[null,null,null,null,null,null,null,null,null,null,null,null,null,null,null,null,null,null,null,null,null,null,null,null,null,null,null,null,null,116]
[null,null,null,null,null,null,null,null,null,null,null,null,null,null,null,null,null,null,null,null,null,null,null,null,null,null,null,null,null,113.5]
[null,null,null,null,null,null,null,null,null,null,null,null,null,null,null,null,null,null,null,null,null,null,null,null,null,null,null,null,null,111.66666666666667]
[null,null,null,null,null,null,null,null,null,null,null,null,null,null,null,null,null,null,null,null,null,null,null,null,null,null,null,null,null,107.83333333333333]
[null,null,null,null,null,null,null,null,null,null,null,null,null,null,null,null,null,null,null,null,null,null,null,null,null,null,null,null,null,106]
[null,null,null,null,null,null,null,null,null,null,null,null,null,null,null,null,null,null,null,null,null,null,null,null,null,null,null,null,null,107.33333333333333]
[null,null,null,null,null,null,null,null,null,null,null,null,null,null,null,null,null,null,null,null,null,null,null,null,null,null,null,null,null,125.83333333333333]
[null,null,null,null,null,null,null,null,null,null,null,null,null,null,null,null,null,null,null,null,null,null,null,null,null,null,null,null,null,132]
[null,null,null,null,null,null,null,null,null,null,null,null,null,null,null,null,null,null,null,null,null,null,null,null,null,null,null,null,null,112.33333333333333]
[null,null,null,null,null,null,null,null,null,null,null,null,null,null,null,null,null,null,null,null,null,null,null,null,null,null,null,null,null,117.5]
[null,null,null,null,null,null,null,null,null,null,null,null,null,null,null,null,null,null,null,null,null,null,null,null,null,null,null,null,null,99.333333333333329]
[null,null,null,null,null,null,null,null,null,null,null,null,null,null,null,null,null,null,null,null,null,null,null,null,null,null,null,null,null,103.16666666666667]
[null,null,null,null,null,null,null,null,null,null,null,null,null,null,null,null,null,null,null,null,null,null,null,null,null,null,null,null,null,101.6]
[null,null,null,null,null,null,null,null,null,null,null,null,null,null,null,null,null,null,null,null,null,null,null,null,null,null,null,null,null,104]
[null,null,null,null,null,null,null,null,null,null,null,null,null,null,null,null,null,null,null,null,null,null,null,null,null,null,null,null,null,104.16666666666667]
[null,null,null,null,null,null,null,null,null,null,null,null,null,null,null,null,null,null,null,null,null,null,null,null,null,null,null,null,null,94.8]
[null,null,null,null,null,null,null,null,null,null,null,null,null,null,null,null,null,null,null,null,null,null,null,null,null,null,null,null,null,122.5]
[null,null,null,null,null,null,null,null,null,null,null,null,null,null,null,null,null,null,null,null,null,null,null,null,null,null,null,null,null,97]
[null,null,null,null,null,null,null,null,null,null,null,null,null,null,null,null,null,null,null,null,null,null,null,null,null,null,null,null,null,98.4]
[null,null,null,null,null,null,null,null,null,null,null,null,null,null,null,null,null,null,null,null,null,null,null,null,null,null,null,null,null,99.5]
[null,null,null,null,null,null,null,null,null,null,null,null,null,null,null,null,null,null,null,null,null,null,null,null,null,null,null,null,null,110]
[null,null,null,null,null,null,null,null,null,null,null,null,null,null,null,null,null,null,null,null,null,null,null,null,null,null,null,null,null,113.33333333333333]
[null,null,null,null,null,null,null,null,null,null,null,null,null,null,null,null,null,null,null,null,null,null,null,null,null,null,null,null,null,94.166666666666671]
[null,null,null,null,null,null,null,null,null,null,null,null,null,null,null,null,null,null,null,null,null,null,null,null,null,null,null,null,null,99.666666666666671]
[null,null,null,null,null,null,null,null,null,null,null,null,null,null,null,null,null,null,null,null,null,null,null,null,null,null,null,null,null,105.5]
[null,null,null,null,null,null,null,null,null,null,null,null,null,null,null,null,null,null,null,null,null,null,null,null,null,null,null,null,null,103.5]
[null,null,null,null,null,null,null,null,null,null,null,null,null,null,null,null,null,null,null,null,null,null,null,null,null,null,null,null,null,109]
[null,null,null,null,null,null,null,null,null,null,null,null,null,null,null,null,null,null,null,null,null,null,null,null,null,null,null,null,null,99.166666666666671]
[null,null,null,null,null,null,null,null,null,null,null,null,null,null,null,null,null,null,null,null,null,null,null,null,null,null,null,null,null,94]
[null,null,null,null,null,null,null,null,null,null,null,null,null,null,null,null,null,null,null,null,null,null,null,null,null,null,null,null,null,96.5]
[null,null,null,null,null,null,null,null,null,null,null,null,null,null,null,null,null,null,null,null,null,null,null,null,null,null,null,null,null,99.166666666666671]
[null,null,null,null,null,null,null,null,null,null,null,null,null,null,null,null,null,null,null,null,null,null,null,null,null,null,null,null,null,98.166666666666671]
[null,null,null,null,null,null,null,null,null,null,null,null,null,null,null,null,null,null,null,null,null,null,null,null,null,null,null,null,null,94.5]
[null,null,null,null,null,null,null,null,null,null,null,null,null,null,null,null,null,null,null,null,null,null,null,null,null,null,null,null,null,94.5]
[null,null,null,null,null,null,null,null,null,null,null,null,null,null,null,null,null,null,null,null,null,null,null,null,null,null,null,null,null,94]
[null,null,null,null,null,null,null,null,null,null,null,null,null,null,null,null,null,null,null,null,null,null,null,null,null,null,null,null,null,99.166666666666671]
[null,null,null,null,null,null,null,null,null,null,null,null,null,null,null,null,null,null,null,null,null,null,null,null,null,null,null,null,null,90]
[null,null,null,null,null,null,null,null,null,null,null,null,null,null,null,null,null,null,null,null,null,null,null,null,null,null,null,null,null,90.666666666666671]
[null,null,null,null,null,null,null,null,null,null,null,null,null,null,null,null,null,null,null,null,null,null,null,null,null,null,null,null,null,82]
[null,null,null,null,null,null,null,null,null,null,null,null,null,null,null,null,null,null,null,null,null,null,null,null,null,null,null,null,null,78.5]
[null,null,null,null,null,null,null,null,null,null,null,null,null,null,null,null,null,null,null,null,null,null,null,null,null,null,null,null,null,78.5]
[null,null,null,null,null,null,null,null,null,null,null,null,null,null,null,null,null,null,null,null,null,null,null,null,null,null,null,null,null,97.5]
[null,null,null,null,null,null,null,null,null,null,null,null,null,null,null,null,null,null,null,null,null,null,null,null,null,null,null,null,null,106.66666666666667]
[null,null,null,null,null,null,null,null,null,null,null,null,null,null,null,null,null,null,null,null,null,null,null,null,null,null,null,null,null,104.16666666666667]
[null,null,null,null,null,null,null,null,null,null,null,null,null,null,null,null,null,null,null,null,null,null,null,null,null,null,null,null,null,90.833333333333329]
[null,null,null,null,null,null,null,null,null,null,null,null,null,null,null,null,null,null,null,null,null,null,null,null,null,null,null,null,null,97.5]
[null,null,null,null,null,null,null,null,null,null,null,null,null,null,null,null,null,null,null,null,null,null,null,null,null,null,null,null,null,87.8]
[null,null,null,null,null,null,null,null,null,null,null,null,null,null,null,null,null,null,null,null,null,null,null,null,null,null,null,null,null,92.666666666666671]
[null,null,null,null,null,null,null,null,null,null,null,null,null,null,null,null,null,null,null,null,null,null,null,null,null,null,null,null,null,91]
[null,null,null,null,null,null,null,null,null,null,null,null,null,null,null,null,null,null,null,null,null,null,null,null,null,null,null,null,null,97.333333333333329]
[null,null,null,null,null,null,null,null,null,null,null,null,null,null,null,null,null,null,null,null,null,null,null,null,null,null,null,null,null,97.5]
[null,null,null,null,null,null,null,null,null,null,null,null,null,null,null,null,null,null,null,null,null,null,null,null,null,null,null,null,null,96.833333333333329]
[null,null,null,null,null,null,null,null,null,null,null,null,null,null,null,null,null,null,null,null,null,null,null,null,null,null,null,null,null,117]
[null,null,null,null,null,null,null,null,null,null,null,null,null,null,null,null,null,null,null,null,null,null,null,null,null,null,null,null,null,92]
[null,null,null,null,null,null,null,null,null,null,null,null,null,null,null,null,null,null,null,null,null,null,null,null,null,null,null,null,null,91.166666666666671]
[null,null,null,null,null,null,null,null,null,null,null,null,null,null,null,null,null,null,null,null,null,null,null,null,null,null,null,null,null,89.166666666666671]
[null,null,null,null,null,null,null,null,null,null,null,null,null,null,null,null,null,null,null,null,null,null,null,null,null,null,null,null,null,97]
[null,null,null,null,null,null,null,null,null,null,null,null,null,null,null,null,null,null,null,null,null,null,null,null,null,null,null,null,null,98.5]
[null,null,null,null,null,null,null,null,null,null,null,null,null,null,null,null,null,null,null,null,null,null,null,null,null,null,null,null,null,89.333333333333329]
[null,null,null,null,null,null,null,null,null,null,null,null,null,null,null,null,null,null,null,null,null,null,null,null,null,null,null,null,null,86.8]
[null,null,null,null,null,null,null,null,null,null,null,null,null,null,null,null,null,null,null,null,null,null,null,null,null,null,null,null,null,91.833333333333329]
[null,null,null,null,null,null,null,null,null,null,null,null,null,null,null,null,null,null,null,null,null,null,null,null,null,null,null,null,null,82.333333333333329]
[null,null,null,null,null,null,null,null,null,null,null,null,null,null,null,null,null,null,null,null,null,null,null,null,null,null,null,null,null,82.25]
[null,null,null,null,null,null,null,null,null,null,null,null,null,null,null,null,null,null,null,null,null,null,null,null,null,null,null,null,null,87.333333333333329]
[null,null,null,null,null,null,null,null,null,null,null,null,null,null,null,null,null,null,null,null,null,null,null,null,null,null,null,null,null,88.666666666666671]
[null,null,null,null,null,null,null,null,null,null,null,null,null,null,null,null,null,null,null,null,null,null,null,null,null,null,null,null,null,81]
[null,null,null,null,null,null,null,null,null,null,null,null,null,null,null,null,null,null,null,null,null,null,null,null,null,null,null,null,null,91.666666666666671]
[null,null,null,null,null,null,null,null,null,null,null,null,null,null,null,null,null,null,null,null,null,null,null,null,null,null,null,null,null,86.5]
[null,null,null,null,null,null,null,null,null,null,null,null,null,null,null,null,null,null,null,null,null,null,null,null,null,null,null,null,null,91.4]
[null,null,null,null,null,null,null,null,null,null,null,null,null,null,null,null,null,null,null,null,null,null,null,null,null,null,null,null,null,87.166666666666671]
[null,null,null,null,null,null,null,null,null,null,null,null,null,null,null,null,null,null,null,null,null,null,null,null,null,null,null,null,null,93.6]
[null,null,null,null,null,null,null,null,null,null,null,null,null,null,null,null,null,null,null,null,null,null,null,null,null,null,null,null,null,111]
[null,null,null,null,null,null,null,null,null,null,null,null,null,null,null,null,null,null,null,null,null,null,null,null,null,null,null,null,null,123]
[null,null,null,null,null,null,null,null,null,null,null,null,null,null,null,null,null,null,null,null,null,null,null,null,null,null,null,null,null,86]
[null,null,null,null,null,null,null,null,null,null,null,null,null,null,null,null,null,null,null,null,null,null,null,null,null,null,null,null,null,91.5]
[null,null,null,null,null,null,null,null,null,null,null,null,null,null,null,null,null,null,null,null,null,null,null,null,null,null,null,null,null,81.833333333333329]
[null,null,null,null,null,null,null,null,null,null,null,null,null,null,null,null,null,null,null,null,null,null,null,null,null,null,null,null,null,90]
[null,null,null,null,null,null,null,null,null,null,null,null,null,null,null,null,null,null,null,null,null,null,null,null,null,null,null,null,null,90.5]
[null,null,null,null,null,null,null,null,null,null,null,null,null,null,null,null,null,null,null,null,null,null,null,null,null,null,null,null,null,91]
[null,null,null,null,null,null,null,null,null,null,null,null,null,null,null,null,null,null,null,null,null,null,null,null,null,null,null,null,null,83]
[null,null,null,null,null,null,null,null,null,null,null,null,null,null,null,null,null,null,null,null,null,null,null,null,null,null,null,null,null,83.833333333333329]
[null,null,null,null,null,null,null,null,null,null,null,null,null,null,null,null,null,null,null,null,null,null,null,null,null,null,null,null,null,80.333333333333329]
[null,null,null,null,null,null,null,null,null,null,null,null,null,null,null,null,null,null,null,null,null,null,null,null,null,null,null,null,null,83.666666666666671]
[null,null,null,null,null,null,null,null,null,null,null,null,null,null,null,null,null,null,null,null,null,null,null,null,null,null,null,null,null,80.333333333333329]
[null,null,null,null,null,null,null,null,null,null,null,null,null,null,null,null,null,null,null,null,null,null,null,null,null,null,null,null,null,81.166666666666671]
[null,null,null,null,null,null,null,null,null,null,null,null,null,null,null,null,null,null,null,null,null,null,null,null,null,null,null,null,null,74.833333333333329]
[null,null,null,null,null,null,null,null,null,null,null,null,null,null,null,null,null,null,null,null,null,null,null,null,null,null,null,null,null,87.833333333333329]
[null,null,null,null,null,null,null,null,null,null,null,null,null,null,null,null,null,null,null,null,null,null,null,null,null,null,null,null,null,90.333333333333329]
[null,null,null,null,null,null,null,null,null,null,null,null,null,null,null,null,null,null,null,null,null,null,null,null,null,null,null,null,null,84.8]
[null,null,null,null,null,null,null,null,null,null,null,null,null,null,null,null,null,null,null,null,null,null,null,null,null,null,null,null,null,80]
[null,null,null,null,null,null,null,null,null,null,null,null,null,null,null,null,null,null,null,null,null,null,null,null,null,null,null,null,null,72.5]
[null,null,null,null,null,null,null,null,null,null,null,null,null,null,null,null,null,null,null,null,null,null,null,null,null,null,null,null,null,72.5]
[null,null,null,null,null,null,null,null,null,null,null,null,null,null,null,null,null,null,null,null,null,null,null,null,null,null,null,null,null,81]
[null,null,null,null,null,null,null,null,null,null,null,null,null,null,null,null,null,null,null,null,null,null,null,null,null,null,null,null,null,88]
[null,null,null,null,null,null,null,null,null,null,null,null,null,null,null,null,null,null,null,null,null,null,null,null,null,null,null,null,null,79.333333333333329]
[null,null,null,null,null,null,null,null,null,null,null,null,null,null,null,null,null,null,null,null,null,null,null,null,null,null,null,null,null,87]
[null,null,null,null,null,null,null,null,null,null,null,null,null,null,null,null,null,null,null,null,null,null,null,null,null,null,null,null,null,83]
[null,null,null,null,null,null,null,null,null,null,null,null,null,null,null,null,null,null,null,null,null,null,null,null,null,null,null,null,null,82.333333333333329]
[null,null,null,null,null,null,null,null,null,null,null,null,null,null,null,null,null,null,null,null,null,null,null,null,null,null,null,null,null,74.833333333333329]
[null,null,null,null,null,null,null,null,null,null,null,null,null,null,null,null,null,null,null,null,null,null,null,null,null,null,null,null,null,81]
[null,null,null,null,null,null,null,null,null,null,null,null,null,null,null,null,null,null,null,null,null,null,null,null,null,null,null,null,null,82.5]
[null,null,null,null,null,null,null,null,null,null,null,null,null,null,null,null,null,null,null,null,null,null,null,null,null,null,null,null,null,85.833333333333329]
[null,null,null,null,null,null,null,null,null,null,null,null,null,null,null,null,null,null,null,null,null,null,null,null,null,null,null,null,null,76]
[null,null,null,null,null,null,null,null,null,null,null,null,null,null,null,null,null,null,null,null,null,null,null,null,null,null,null,null,null,86.8]
[null,null,null,null,null,null,null,null,null,null,null,null,null,null,null,null,null,null,null,null,null,null,null,null,null,null,null,null,null,87]
[null,null,null,null,null,null,null,null,null,null,null,null,null,null,null,null,null,null,null,null,null,null,null,null,null,null,null,null,null,91.5]
[null,null,null,null,null,null,null,null,null,null,null,null,null,null,null,null,null,null,null,null,null,null,null,null,null,null,null,null,null,76.166666666666671]
[null,null,null,null,null,null,null,null,null,null,null,null,null,null,null,null,null,null,null,null,null,null,null,null,null,null,null,null,null,77.8]
[null,null,null,null,null,null,null,null,null,null,null,null,null,null,null,null,null,null,null,null,null,null,null,null,null,null,null,null,null,76.333333333333329]
[null,null,null,null,null,null,null,null,null,null,null,null,null,null,null,null,null,null,null,null,null,null,null,null,null,null,null,null,null,78.8]
[null,null,null,null,null,null,null,null,null,null,null,null,null,null,null,null,null,null,null,null,null,null,null,null,null,null,null,null,null,82]
[null,null,null,null,null,null,null,null,null,null,null,null,null,null,null,null,null,null,null,null,null,null,null,null,null,null,null,null,null,74.5]
[null,null,null,null,null,null,null,null,null,null,null,null,null,null,null,null,null,null,null,null,null,null,null,null,null,null,null,null,null,71.166666666666671]
[null,null,null,null,null,null,null,null,null,null,null,null,null,null,null,null,null,null,null,null,null,null,null,null,null,null,null,null,null,73.166666666666671]
[null,null,null,null,null,null,null,null,null,null,null,null,null,null,null,null,null,null,null,null,null,null,null,null,null,null,null,null,null,76.333333333333329]
[null,null,null,null,null,null,null,null,null,null,null,null,null,null,null,null,null,null,null,null,null,null,null,null,null,null,null,null,null,76.166666666666671]
[null,null,null,null,null,null,null,null,null,null,null,null,null,null,null,null,null,null,null,null,null,null,null,null,null,null,null,null,null,65.599999999999994]
[null,null,null,null,null,null,null,null,null,null,null,null,null,null,null,null,null,null,null,null,null,null,null,null,null,null,null,null,null,75.333333333333329]
[null,null,null,null,null,null,null,null,null,null,null,null,null,null,null,null,null,null,null,null,null,null,null,null,null,null,null,null,null,77.666666666666671]
[null,null,null,null,null,null,null,null,null,null,null,null,null,null,null,null,null,null,null,null,null,null,null,null,null,null,null,null,null,76.833333333333329]
[null,null,null,null,null,null,null,null,null,null,null,null,null,null,null,null,null,null,null,null,null,null,null,null,null,null,null,null,null,78]
[null,null,null,null,null,null,null,null,null,null,null,null,null,null,null,null,null,null,null,null,null,null,null,null,null,null,null,null,null,87.75]
[null,null,null,null,null,null,null,null,null,null,null,null,null,null,null,null,null,null,null,null,null,null,null,null,null,null,null,null,null,68.666666666666671]
[null,null,null,null,null,null,null,null,null,null,null,null,null,null,null,null,null,null,null,null,null,null,null,null,null,null,null,null,null,75]
[null,null,null,null,null,null,null,null,null,null,null,null,null,null,null,null,null,null,null,null,null,null,null,null,null,null,null,null,null,80.166666666666671]
[null,null,null,null,null,null,null,null,null,null,null,null,null,null,null,null,null,null,null,null,null,null,null,null,null,null,null,null,null,73.5]
[null,null,null,null,null,null,null,null,null,null,null,null,null,null,null,null,null,null,null,null,null,null,null,null,null,null,null,null,null,70.166666666666671]
[null,null,null,null,null,null,null,null,null,null,null,null,null,null,null,null,null,null,null,null,null,null,null,null,null,null,null,null,null,72.833333333333329]
[null,null,null,null,null,null,null,null,null,null,null,null,null,null,null,null,null,null,null,null,null,null,null,null,null,null,null,null,null,72.333333333333329]
[null,null,null,null,null,null,null,null,null,null,null,null,null,null,null,null,null,null,null,null,null,null,null,null,null,null,null,null,null,79]
[null,null,null,null,null,null,null,null,null,null,null,null,null,null,null,null,null,null,null,null,null,null,null,null,null,null,null,null,null,73.5]
[null,null,null,null,null,null,null,null,null,null,null,null,null,null,null,null,null,null,null,null,null,null,null,null,null,null,null,null,null,73.666666666666671]
[null,null,null,null,null,null,null,null,null,null,null,null,null,null,null,null,null,null,null,null,null,null,null,null,null,null,null,null,null,70.2]
[null,null,null,null,null,null,null,null,null,null,null,null,null,null,null,null,null,null,null,null,null,null,null,null,null,null,null,null,null,73.5]
[null,null,null,null,null,null,null,null,null,null,null,null,null,null,null,null,null,null,null,null,null,null,null,null,null,null,null,null,null,72.400000000000006]
[null,null,null,null,null,null,null,null,null,null,null,null,null,null,null,null,null,null,null,null,null,null,null,null,null,null,null,null,null,66.8]
[null,null,null,null,null,null,null,null,null,null,null,null,null,null,null,null,null,null,null,null,null,null,null,null,null,null,null,null,null,67.833333333333329]
[null,null,null,null,null,null,null,null,null,null,null,null,null,null,null,null,null,null,null,null,null,null,null,null,null,null,null,null,null,66.2]
[null,null,null,null,null,null,null,null,null,null,null,null,null,null,null,null,null,null,null,null,null,null,null,null,null,null,null,null,null,65.400000000000006]
[null,null,null,null,null,null,null,null,null,null,null,null,null,null,null,null,null,null,null,null,null,null,null,null,null,null,null,null,null,70]
[null,null,null,null,null,null,null,null,null,null,null,null,null,null,null,null,null,null,null,null,null,null,null,null,null,null,null,null,null,72.5]
[null,null,null,null,null,null,null,null,null,null,null,null,null,null,null,null,null,null,null,null,null,null,null,null,null,null,null,null,null,73.833333333333329]
[null,null,null,null,null,null,null,null,null,null,null,null,null,null,null,null,null,null,null,null,null,null,null,null,null,null,null,null,null,72.333333333333329]
[null,null,null,null,null,null,null,null,null,null,null,null,null,null,null,null,null,null,null,null,null,null,null,null,null,null,null,null,null,67]
[null,null,null,null,null,null,null,null,null,null,null,null,null,null,null,null,null,null,null,null,null,null,null,null,null,null,null,null,null,75.5]
[null,null,null,null,null,null,null,null,null,null,null,null,null,null,null,null,null,null,null,null,null,null,null,null,null,null,null,null,null,74.666666666666671]
[null,null,null,null,null,null,null,null,null,null,null,null,null,null,null,null,null,null,null,null,null,null,null,null,null,null,null,null,null,68.333333333333329]
[null,null,null,null,null,null,null,null,null,null,null,null,null,null,null,null,null,null,null,null,null,null,null,null,null,null,null,null,null,72.833333333333329]
[null,null,null,null,null,null,null,null,null,null,null,null,null,null,null,null,null,null,null,null,null,null,null,null,null,null,null,null,null,66.166666666666671]
[null,null,null,null,null,null,null,null,null,null,null,null,null,null,null,null,null,null,null,null,null,null,null,null,null,null,null,null,null,69.166666666666671]
[null,null,null,null,null,null,null,null,null,null,null,null,null,null,null,null,null,null,null,null,null,null,null,null,null,null,null,null,null,78.5]
[null,null,null,null,null,null,null,null,null,null,null,null,null,null,null,null,null,null,null,null,null,null,null,null,null,null,null,null,null,75.666666666666671]
[null,null,null,null,null,null,null,null,null,null,null,null,null,null,null,null,null,null,null,null,null,null,null,null,null,null,null,null,null,69.833333333333329]
[null,null,null,null,null,null,null,null,null,null,null,null,null,null,null,null,null,null,null,null,null,null,null,null,null,null,null,null,null,76]
[null,null,null,null,null,null,null,null,null,null,null,null,null,null,null,null,null,null,null,null,null,null,null,null,null,null,null,null,null,81.5]
[null,null,null,null,null,null,null,null,null,null,null,null,null,null,null,null,null,null,null,null,null,null,null,null,null,null,null,null,null,73.833333333333329]
[null,null,null,null,null,null,null,null,null,null,null,null,null,null,null,null,null,null,null,null,null,null,null,null,null,null,null,null,null,66.166666666666671]
[null,null,null,null,null,null,null,null,null,null,null,null,null,null,null,null,null,null,null,null,null,null,null,null,null,null,null,null,null,69.5]
[null,null,null,null,null,null,null,null,null,null,null,null,null,null,null,null,null,null,null,null,null,null,null,null,null,null,null,null,null,70]
[null,null,null,null,null,null,null,null,null,null,null,null,null,null,null,null,null,null,null,null,null,null,null,null,null,null,null,null,null,62.4]
[null,null,null,null,null,null,null,null,null,null,null,null,null,null,null,null,null,null,null,null,null,null,null,null,null,null,null,null,null,63.5]
[null,null,null,null,null,null,null,null,null,null,null,null,null,null,null,null,null,null,null,null,null,null,null,null,null,null,null,null,null,66.833333333333329]
[null,null,null,null,null,null,null,null,null,null,null,null,null,null,null,null,null,null,null,null,null,null,null,null,null,null,null,null,null,67.666666666666671]
[null,null,null,null,null,null,null,null,null,null,null,null,null,null,null,null,null,null,null,null,null,null,null,null,null,null,null,null,null,67.166666666666671]
[null,null,null,null,null,null,null,null,null,null,null,null,null,null,null,null,null,null,null,null,null,null,null,null,null,null,null,null,null,65.5]
[null,null,null,null,null,null,null,null,null,null,null,null,null,null,null,null,null,null,null,null,null,null,null,null,null,null,null,null,null,66.166666666666671]
[null,null,null,null,null,null,null,null,null,null,null,null,null,null,null,null,null,null,null,null,null,null,null,null,null,null,null,null,null,70]
[null,null,null,null,null,null,null,null,null,null,null,null,null,null,null,null,null,null,null,null,null,null,null,null,null,null,null,null,null,64.5]
[null,null,null,null,null,null,null,null,null,null,null,null,null,null,null,null,null,null,null,null,null,null,null,null,null,null,null,null,null,76]
[null,null,null,null,null,null,null,null,null,null,null,null,null,null,null,null,null,null,null,null,null,null,null,null,null,null,null,null,null,76]
[null,null,null,null,null,null,null,null,null,null,null,null,null,null,null,null,null,null,null,null,null,null,null,null,null,null,null,null,null,64.75]
[null,null,null,null,null,null,null,null,null,null,null,null,null,null,null,null,null,null,null,null,null,null,null,null,null,null,null,null,null,67.333333333333329]
[null,null,null,null,null,null,null,null,null,null,null,null,null,null,null,null,null,null,null,null,null,null,null,null,null,null,null,null,null,62.8]
[null,null,null,null,null,null,null,null,null,null,null,null,null,null,null,null,null,null,null,null,null,null,null,null,null,null,null,null,null,66.666666666666671]
[null,null,null,null,null,null,null,null,null,null,null,null,null,null,null,null,null,null,null,null,null,null,null,null,null,null,null,null,null,68]
[null,null,null,null,null,null,null,null,null,null,null,null,null,null,null,null,null,null,null,null,null,null,null,null,null,null,null,null,null,69.5]
[null,null,null,null,null,null,null,null,null,null,null,null,null,null,null,null,null,null,null,null,null,null,null,null,null,null,null,null,null,68.333333333333329]
[null,null,null,null,null,null,null,null,null,null,null,null,null,null,null,null,null,null,null,null,null,null,null,null,null,null,null,null,null,66.5]
[null,null,null,null,null,null,null,null,null,null,null,null,null,null,null,null,null,null,null,null,null,null,null,null,null,null,null,null,null,68]
[null,null,null,null,null,null,null,null,null,null,null,null,null,null,null,null,null,null,null,null,null,null,null,null,null,null,null,null,null,64]
[null,null,null,null,null,null,null,null,null,null,null,null,null,null,null,null,null,null,null,null,null,null,null,null,null,null,null,null,null,59.666666666666664]
[null,null,null,null,null,null,null,null,null,null,null,null,null,null,null,null,null,null,null,null,null,null,null,null,null,null,null,null,null,59.333333333333336]
[null,null,null,null,null,null,null,null,null,null,null,null,null,null,null,null,null,null,null,null,null,null,null,null,null,null,null,null,null,65.166666666666671]
[null,null,null,null,null,null,null,null,null,null,null,null,null,null,null,null,null,null,null,null,null,null,null,null,null,null,null,null,null,61]
[null,null,null,null,null,null,null,null,null,null,null,null,null,null,null,null,null,null,null,null,null,null,null,null,null,null,null,null,null,60.166666666666664]
[null,null,null,null,null,null,null,null,null,null,null,null,null,null,null,null,null,null,null,null,null,null,null,null,null,null,null,null,null,65.666666666666671]
[null,null,null,null,null,null,null,null,null,null,null,null,null,null,null,null,null,null,null,null,null,null,null,null,null,null,null,null,null,66.833333333333329]
[null,null,null,null,null,null,null,null,null,null,null,null,null,null,null,null,null,null,null,null,null,null,null,null,null,null,null,null,null,67.166666666666671]
[null,null,null,null,null,null,null,null,null,null,null,null,null,null,null,null,null,null,null,null,null,null,null,null,null,null,null,null,null,84]
[null,null,null,null,null,null,null,null,null,null,null,null,null,null,null,null,null,null,null,null,null,null,null,null,null,null,null,null,null,60.666666666666664]
[null,null,null,null,null,null,null,null,null,null,null,null,null,null,null,null,null,null,null,null,null,null,null,null,null,null,null,null,null,63.166666666666664]
[null,null,null,null,null,null,null,null,null,null,null,null,null,null,null,null,null,null,null,null,null,null,null,null,null,null,null,null,null,65.166666666666671]
[null,null,null,null,null,null,null,null,null,null,null,null,null,null,null,null,null,null,null,null,null,null,null,null,null,null,null,null,null,55.833333333333336]
[null,null,null,null,null,null,null,null,null,null,null,null,null,null,null,null,null,null,null,null,null,null,null,null,null,null,null,null,null,64]
[null,null,null,null,null,null,null,null,null,null,null,null,null,null,null,null,null,null,null,null,null,null,null,null,null,null,null,null,null,62.666666666666664]
[null,null,null,null,null,null,null,null,null,null,null,null,null,null,null,null,null,null,null,null,null,null,null,null,null,null,null,null,null,61.5]
[null,null,null,null,null,null,null,null,null,null,null,null,null,null,null,null,null,null,null,null,null,null,null,null,null,null,null,null,null,58.833333333333336]
[null,null,null,null,null,null,null,null,null,null,null,null,null,null,null,null,null,null,null,null,null,null,null,null,null,null,null,null,null,59.166666666666664]
[null,null,null,null,null,null,null,null,null,null,null,null,null,null,null,null,null,null,null,null,null,null,null,null,null,null,null,null,null,58]
[null,null,null,null,null,null,null,null,null,null,null,null,null,null,null,null,null,null,null,null,null,null,null,null,null,null,null,null,null,57.666666666666664]
[null,null,null,null,null,null,null,null,null,null,null,null,null,null,null,null,null,null,null,null,null,null,null,null,null,null,null,null,null,62.833333333333336]
[null,null,null,null,null,null,null,null,null,null,null,null,null,null,null,null,null,null,null,null,null,null,null,null,null,null,null,null,null,58.166666666666664]
[null,null,null,null,null,null,null,null,null,null,null,null,null,null,null,null,null,null,null,null,null,null,null,null,null,null,null,null,null,62.166666666666664]
[null,null,null,null,null,null,null,null,null,null,null,null,null,null,null,null,null,null,null,null,null,null,null,null,null,null,null,null,null,63.833333333333336]
[null,null,null,null,null,null,null,null,null,null,null,null,null,null,null,null,null,null,null,null,null,null,null,null,null,null,null,null,null,69.2]
[null,null,null,null,null,null,null,null,null,null,null,null,null,null,null,null,null,null,null,null,null,null,null,null,null,null,null,null,null,61.333333333333336]
[null,null,null,null,null,null,null,null,null,null,null,null,null,null,null,null,null,null,null,null,null,null,null,null,null,null,null,null,null,60.166666666666664]
[null,null,null,null,null,null,null,null,null,null,null,null,null,null,null,null,null,null,null,null,null,null,null,null,null,null,null,null,null,63.5]
[null,null,null,null,null,null,null,null,null,null,null,null,null,null,null,null,null,null,null,null,null,null,null,null,null,null,null,null,null,63.5]
[null,null,null,null,null,null,null,null,null,null,null,null,null,null,null,null,null,null,null,null,null,null,null,null,null,null,null,null,null,62.5]
[null,null,null,null,null,null,null,null,null,null,null,null,null,null,null,null,null,null,null,null,null,null,null,null,null,null,null,null,null,60.8]
[null,null,null,null,null,null,null,null,null,null,null,null,null,null,null,null,null,null,null,null,null,null,null,null,null,null,null,null,null,53.666666666666664]
[null,null,null,null,null,null,null,null,null,null,null,null,null,null,null,null,null,null,null,null,null,null,null,null,null,null,null,null,null,61.666666666666664]
[null,null,null,null,null,null,null,null,null,null,null,null,null,null,null,null,null,null,null,null,null,null,null,null,null,null,null,null,null,62.2]
[null,null,null,null,null,null,null,null,null,null,null,null,null,null,null,null,null,null,null,null,null,null,null,null,null,null,null,null,null,69.333333333333329]
[null,null,null,null,null,null,null,null,null,null,null,null,null,null,null,null,null,null,null,null,null,null,null,null,null,null,null,null,null,60.166666666666664]
[null,null,null,null,null,null,null,null,null,null,null,null,null,null,null,null,null,null,null,null,null,null,null,null,null,null,null,null,null,50.833333333333336]
[null,null,null,null,null,null,null,null,null,null,null,null,null,null,null,null,null,null,null,null,null,null,null,null,null,null,null,null,null,60.666666666666664]
[null,null,null,null,null,null,null,null,null,null,null,null,null,null,null,null,null,null,null,null,null,null,null,null,null,null,null,null,null,53.833333333333336]
[null,null,null,null,null,null,null,null,null,null,null,null,null,null,null,null,null,null,null,null,null,null,null,null,null,null,null,null,null,50.2]
[null,null,null,null,null,null,null,null,null,null,null,null,null,null,null,null,null,null,null,null,null,null,null,null,null,null,null,null,null,56.166666666666664]
[null,null,null,null,null,null,null,null,null,null,null,null,null,null,null,null,null,null,null,null,null,null,null,null,null,null,null,null,null,65]
[null,null,null,null,null,null,null,null,null,null,null,null,null,null,null,null,null,null,null,null,null,null,null,null,null,null,null,null,null,60.666666666666664]
[null,null,null,null,null,null,null,null,null,null,null,null,null,null,null,null,null,null,null,null,null,null,null,null,null,null,null,null,null,59.166666666666664]
[null,null,null,null,null,null,null,null,null,null,null,null,null,null,null,null,null,null,null,null,null,null,null,null,null,null,null,null,null,54.333333333333336]
[null,null,null,null,null,null,null,null,null,null,null,null,null,null,null,null,null,null,null,null,null,null,null,null,null,null,null,null,null,56]
[null,null,null,null,null,null,null,null,null,null,null,null,null,null,null,null,null,null,null,null,null,null,null,null,null,null,null,null,null,64.75]
[null,null,null,null,null,null,null,null,null,null,null,null,null,null,null,null,null,null,null,null,null,null,null,null,null,null,null,null,null,68]
[null,null,null,null,null,null,null,null,null,null,null,null,null,null,null,null,null,null,null,null,null,null,null,null,null,null,null,null,null,68]
[null,null,null,null,null,null,null,null,null,null,null,null,null,null,null,null,null,null,null,null,null,null,null,null,null,null,null,null,null,59.5]
[null,null,null,null,null,null,null,null,null,null,null,null,null,null,null,null,null,null,null,null,null,null,null,null,null,null,null,null,null,65.833333333333329]
[null,null,null,null,null,null,null,null,null,null,null,null,null,null,null,null,null,null,null,null,null,null,null,null,null,null,null,null,null,64]
[null,null,null,null,null,null,null,null,null,null,null,null,null,null,null,null,null,null,null,null,null,null,null,null,null,null,null,null,null,55.833333333333336]
[null,null,null,null,null,null,null,null,null,null,null,null,null,null,null,null,null,null,null,null,null,null,null,null,null,null,null,null,null,54.5]
[null,null,null,null,null,null,null,null,null,null,null,null,null,null,null,null,null,null,null,null,null,null,null,null,null,null,null,null,null,54.333333333333336]
[null,null,null,null,null,null,null,null,null,null,null,null,null,null,null,null,null,null,null,null,null,null,null,null,null,null,null,null,null,70.5]
[null,null,null,null,null,null,null,null,null,null,null,null,null,null,null,null,null,null,null,null,null,null,null,null,null,null,null,null,null,62.2]
[null,null,null,null,null,null,null,null,null,null,null,null,null,null,null,null,null,null,null,null,null,null,null,null,null,null,null,null,null,59.166666666666664]
[null,null,null,null,null,null,null,null,null,null,null,null,null,null,null,null,null,null,null,null,null,null,null,null,null,null,null,null,null,53.166666666666664]
[null,null,null,null,null,null,null,null,null,null,null,null,null,null,null,null,null,null,null,null,null,null,null,null,null,null,null,null,null,59.833333333333336]
[null,null,null,null,null,null,null,null,null,null,null,null,null,null,null,null,null,null,null,null,null,null,null,null,null,null,null,null,null,58.166666666666664]
[null,null,null,null,null,null,null,null,null,null,null,null,null,null,null,null,null,null,null,null,null,null,null,null,null,null,null,null,null,53.4]
[null,null,null,null,null,null,null,null,null,null,null,null,null,null,null,null,null,null,null,null,null,null,null,null,null,null,null,null,null,61.166666666666664]
[null,null,null,null,null,null,null,null,null,null,null,null,null,null,null,null,null,null,null,null,null,null,null,null,null,null,null,null,null,62.166666666666664]
[null,null,null,null,null,null,null,null,null,null,null,null,null,null,null,null,null,null,null,null,null,null,null,null,null,null,null,null,null,52.333333333333336]
[null,null,null,null,null,null,null,null,null,null,null,null,null,null,null,null,null,null,null,null,null,null,null,null,null,null,null,null,null,55]
[null,null,null,null,null,null,null,null,null,null,null,null,null,null,null,null,null,null,null,null,null,null,null,null,null,null,null,null,null,59.5]
[null,null,null,null,null,null,null,null,null,null,null,null,null,null,null,null,null,null,null,null,null,null,null,null,null,null,null,null,null,59.5]
[null,null,null,null,null,null,null,null,null,null,null,null,null,null,null,null,null,null,null,null,null,null,null,null,null,null,null,null,null,48.4]
[null,null,null,null,null,null,null,null,null,null,null,null,null,null,null,null,null,null,null,null,null,null,null,null,null,null,null,null,null,50.833333333333336]
[null,null,null,null,null,null,null,null,null,null,null,null,null,null,null,null,null,null,null,null,null,null,null,null,null,null,null,null,null,48.166666666666664]
[null,null,null,null,null,null,null,null,null,null,null,null,null,null,null,null,null,null,null,null,null,null,null,null,null,null,null,null,null,54.666666666666664]
[null,null,null,null,null,null,null,null,null,null,null,null,null,null,null,null,null,null,null,null,null,null,null,null,null,null,null,null,null,49.833333333333336]
[null,null,null,null,null,null,null,null,null,null,null,null,null,null,null,null,null,null,null,null,null,null,null,null,null,null,null,null,null,52.166666666666664]
[null,null,null,null,null,null,null,null,null,null,null,null,null,null,null,null,null,null,null,null,null,null,null,null,null,null,null,null,null,52.166666666666664]
[null,null,null,null,null,null,null,null,null,null,null,null,null,null,null,null,null,null,null,null,null,null,null,null,null,null,null,null,null,49.5]
[null,null,null,null,null,null,null,null,null,null,null,null,null,null,null,null,null,null,null,null,null,null,null,null,null,null,null,null,null,52.5]
[null,null,null,null,null,null,null,null,null,null,null,null,null,null,null,null,null,null,null,null,null,null,null,null,null,null,null,null,null,52]
[null,null,null,null,null,null,null,null,null,null,null,null,null,null,null,null,null,null,null,null,null,null,null,null,null,null,null,null,null,44.333333333333336]
[null,null,null,null,null,null,null,null,null,null,null,null,null,null,null,null,null,null,null,null,null,null,null,null,null,null,null,null,null,49]
[null,null,null,null,null,null,null,null,null,null,null,null,null,null,null,null,null,null,null,null,null,null,null,null,null,null,null,null,null,47.5]
[null,null,null,null,null,null,null,null,null,null,null,null,null,null,null,null,null,null,null,null,null,null,null,null,null,null,null,null,null,46.833333333333336]
[null,null,null,null,null,null,null,null,null,null,null,null,null,null,null,null,null,null,null,null,null,null,null,null,null,null,null,null,null,53.5]
[null,null,null,null,null,null,null,null,null,null,null,null,null,null,null,null,null,null,null,null,null,null,null,null,null,null,null,null,null,51]
[null,null,null,null,null,null,null,null,null,null,null,null,null,null,null,null,null,null,null,null,null,null,null,null,null,null,null,null,null,44.666666666666664]
[null,null,null,null,null,null,null,null,null,null,null,null,null,null,null,null,null,null,null,null,null,null,null,null,null,null,null,null,null,42.5]
[null,null,null,null,null,null,null,null,null,null,null,null,null,null,null,null,null,null,null,null,null,null,null,null,null,null,null,null,null,42.5]
[null,null,null,null,null,null,null,null,null,null,null,null,null,null,null,null,null,null,null,null,null,null,null,null,null,null,null,null,null,43.333333333333336]
[null,null,null,null,null,null,null,null,null,null,null,null,null,null,null,null,null,null,null,null,null,null,null,null,null,null,null,null,null,48.666666666666664]
[null,null,null,null,null,null,null,null,null,null,null,null,null,null,null,null,null,null,null,null,null,null,null,null,null,null,null,null,null,47.666666666666664]
[null,null,null,null,null,null,null,null,null,null,null,null,null,null,null,null,null,null,null,null,null,null,null,null,null,null,null,null,null,44]
[null,null,null,null,null,null,null,null,null,null,null,null,null,null,null,null,null,null,null,null,null,null,null,null,null,null,null,null,null,43]
[null,null,null,null,null,null,null,null,null,null,null,null,null,null,null,null,null,null,null,null,null,null,null,null,null,null,null,null,null,46.5]
[null,null,null,null,null,null,null,null,null,null,null,null,null,null,null,null,null,null,null,null,null,null,null,null,null,null,null,null,null,44.25]
[null,null,null,null,null,null,null,null,null,null,null,null,null,null,null,null,null,null,null,null,null,null,null,null,null,null,null,null,null,46.5]
[null,null,null,null,null,null,null,null,null,null,null,null,null,null,null,null,null,null,null,null,null,null,null,null,null,null,null,null,null,45.166666666666664]
[null,null,null,null,null,null,null,null,null,null,null,null,null,null,null,null,null,null,null,null,null,null,null,null,null,null,null,null,null,43.333333333333336]
[null,null,null,null,null,null,null,null,null,null,null,null,null,null,null,null,null,null,null,null,null,null,null,null,null,null,null,null,null,42.166666666666664]
[null,null,null,null,null,null,null,null,null,null,null,null,null,null,null,null,null,null,null,null,null,null,null,null,null,null,null,null,null,44]
[null,null,null,null,null,null,null,null,null,null,null,null,null,null,null,null,null,null,null,null,null,null,null,null,null,null,null,null,null,46.166666666666664]
[null,null,null,null,null,null,null,null,null,null,null,null,null,null,null,null,null,null,null,null,null,null,null,null,null,null,null,null,null,47.833333333333336]
[null,null,null,null,null,null,null,null,null,null,null,null,null,null,null,null,null,null,null,null,null,null,null,null,null,null,null,null,null,47.166666666666664]
[null,null,null,null,null,null,null,null,null,null,null,null,null,null,null,null,null,null,null,null,null,null,null,null,null,null,null,null,null,46.833333333333336]
[null,null,null,null,null,null,null,null,null,null,null,null,null,null,null,null,null,null,null,null,null,null,null,null,null,null,null,null,null,42.666666666666664]
[null,null,null,null,null,null,null,null,null,null,null,null,null,null,null,null,null,null,null,null,null,null,null,null,null,null,null,null,null,49]
[null,null,null,null,null,null,null,null,null,null,null,null,null,null,null,null,null,null,null,null,null,null,null,null,null,null,null,null,null,49.5]
[null,null,null,null,null,null,null,null,null,null,null,null,null,null,null,null,null,null,null,null,null,null,null,null,null,null,null,null,null,49.833333333333336]
[null,null,null,null,null,null,null,null,null,null,null,null,null,null,null,null,null,null,null,null,null,null,null,null,null,null,null,null,null,41.2]
[null,null,null,null,null,null,null,null,null,null,null,null,null,null,null,null,null,null,null,null,null,null,null,null,null,null,null,null,null,38.5]
[null,null,null,null,null,null,null,null,null,null,null,null,null,null,null,null,null,null,null,null,null,null,null,null,null,null,null,null,null,39.799999999999997]
[null,null,null,null,null,null,null,null,null,null,null,null,null,null,null,null,null,null,null,null,null,null,null,null,null,null,null,null,null,40.5]
[null,null,null,null,null,null,null,null,null,null,null,null,null,null,null,null,null,null,null,null,null,null,null,null,null,null,null,null,null,42.833333333333336]
[null,null,null,null,null,null,null,null,null,null,null,null,null,null,null,null,null,null,null,null,null,null,null,null,null,null,null,null,null,39]
[null,null,null,null,null,null,null,null,null,null,null,null,null,null,null,null,null,null,null,null,null,null,null,null,null,null,null,null,null,42.666666666666664]
[null,null,null,null,null,null,null,null,null,null,null,null,null,null,null,null,null,null,null,null,null,null,null,null,null,null,null,null,null,42.5]
[null,null,null,null,null,null,null,null,null,null,null,null,null,null,null,null,null,null,null,null,null,null,null,null,null,null,null,null,null,42.666666666666664]
[null,null,null,null,null,null,null,null,null,null,null,null,null,null,null,null,null,null,null,null,null,null,null,null,null,null,null,null,null,44]
[null,null,null,null,null,null,null,null,null,null,null,null,null,null,null,null,null,null,null,null,null,null,null,null,null,null,null,null,null,47.166666666666664]
[null,null,null,null,null,null,null,null,null,null,null,null,null,null,null,null,null,null,null,null,null,null,null,null,null,null,null,null,null,38.5]
[null,null,null,null,null,null,null,null,null,null,null,null,null,null,null,null,null,null,null,null,null,null,null,null,null,null,null,null,null,44.833333333333336]
[null,null,null,null,null,null,null,null,null,null,null,null,null,null,null,null,null,null,null,null,null,null,null,null,null,null,null,null,null,44.166666666666664]
[null,null,null,null,null,null,null,null,null,null,null,null,null,null,null,null,null,null,null,null,null,null,null,null,null,null,null,null,null,36.833333333333336]
[null,null,null,null,null,null,null,null,null,null,null,null,null,null,null,null,null,null,null,null,null,null,null,null,null,null,null,null,null,44.833333333333336]
[null,null,null,null,null,null,null,null,null,null,null,null,null,null,null,null,null,null,null,null,null,null,null,null,null,null,null,null,null,44]
[null,null,null,null,null,null,null,null,null,null,null,null,null,null,null,null,null,null,null,null,null,null,null,null,null,null,null,null,null,44]
[null,null,null,null,null,null,null,null,null,null,null,null,null,null,null,null,null,null,null,null,null,null,null,null,null,null,null,null,null,39]
[null,null,null,null,null,null,null,null,null,null,null,null,null,null,null,null,null,null,null,null,null,null,null,null,null,null,null,null,null,33.333333333333336]
[null,null,null,null,null,null,null,null,null,null,null,null,null,null,null,null,null,null,null,null,null,null,null,null,null,null,null,null,null,45.333333333333336]
[null,null,null,null,null,null,null,null,null,null,null,null,null,null,null,null,null,null,null,null,null,null,null,null,null,null,null,null,null,40.5]
[null,null,null,null,null,null,null,null,null,null,null,null,null,null,null,null,null,null,null,null,null,null,null,null,null,null,null,null,null,49]
[null,null,null,null,null,null,null,null,null,null,null,null,null,null,null,null,null,null,null,null,null,null,null,null,null,null,null,null,null,49]
[null,null,null,null,null,null,null,null,null,null,null,null,null,null,null,null,null,null,null,null,null,null,null,null,null,null,null,null,null,42.333333333333336]
[null,null,null,null,null,null,null,null,null,null,null,null,null,null,null,null,null,null,null,null,null,null,null,null,null,null,null,null,null,35.833333333333336]
[null,null,null,null,null,null,null,null,null,null,null,null,null,null,null,null,null,null,null,null,null,null,null,null,null,null,null,null,null,39.333333333333336]
[null,null,null,null,null,null,null,null,null,null,null,null,null,null,null,null,null,null,null,null,null,null,null,null,null,null,null,null,null,39]
[null,null,null,null,null,null,null,null,null,null,null,null,null,null,null,null,null,null,null,null,null,null,null,null,null,null,null,null,null,45.2]
[null,null,null,null,null,null,null,null,null,null,null,null,null,null,null,null,null,null,null,null,null,null,null,null,null,null,null,null,null,42.666666666666664]
[null,null,null,null,null,null,null,null,null,null,null,null,null,null,null,null,null,null,null,null,null,null,null,null,null,null,null,null,null,36.666666666666664]
[null,null,null,null,null,null,null,null,null,null,null,null,null,null,null,null,null,null,null,null,null,null,null,null,null,null,null,null,null,50.666666666666664]
[null,null,null,null,null,null,null,null,null,null,null,null,null,null,null,null,null,null,null,null,null,null,null,null,null,null,null,null,null,57.833333333333336]
[null,null,null,null,null,null,null,null,null,null,null,null,null,null,null,null,null,null,null,null,null,null,null,null,null,null,null,null,null,40.5]
[null,null,null,null,null,null,null,null,null,null,null,null,null,null,null,null,null,null,null,null,null,null,null,null,null,null,null,null,null,40.666666666666664]
[null,null,null,null,null,null,null,null,null,null,null,null,null,null,null,null,null,null,null,null,null,null,null,null,null,null,null,null,null,41]
[null,null,null,null,null,null,null,null,null,null,null,null,null,null,null,null,null,null,null,null,null,null,null,null,null,null,null,null,null,38.333333333333336]
[null,null,null,null,null,null,null,null,null,null,null,null,null,null,null,null,null,null,null,null,null,null,null,null,null,null,null,null,null,46]
[null,null,null,null,null,null,null,null,null,null,null,null,null,null,null,null,null,null,null,null,null,null,null,null,null,null,null,null,null,51.5]
[null,null,null,null,null,null,null,null,null,null,null,null,null,null,null,null,null,null,null,null,null,null,null,null,null,null,null,null,null,31.5]
[null,null,null,null,null,null,null,null,null,null,null,null,null,null,null,null,null,null,null,null,null,null,null,null,null,null,null,null,null,36]
[null,null,null,null,null,null,null,null,null,null,null,null,null,null,null,null,null,null,null,null,null,null,null,null,null,null,null,null,null,37.666666666666664]
[null,null,null,null,null,null,null,null,null,null,null,null,null,null,null,null,null,null,null,null,null,null,null,null,null,null,null,null,null,38.833333333333336]
[null,null,null,null,null,null,null,null,null,null,null,null,null,null,null,null,null,null,null,null,null,null,null,null,null,null,null,null,null,37]
[null,null,null,null,null,null,null,null,null,null,null,null,null,null,null,null,null,null,null,null,null,null,null,null,null,null,null,null,null,38.833333333333336]
[null,null,null,null,null,null,null,null,null,null,null,null,null,null,null,null,null,null,null,null,null,null,null,null,null,null,null,null,null,36.4]
[null,null,null,null,null,null,null,null,null,null,null,null,null,null,null,null,null,null,null,null,null,null,null,null,null,null,null,null,null,36.799999999999997]
[null,null,null,null,null,null,null,null,null,null,null,null,null,null,null,null,null,null,null,null,null,null,null,null,null,null,null,null,null,38]
[null,null,null,null,null,null,null,null,null,null,null,null,null,null,null,null,null,null,null,null,null,null,null,null,null,null,null,null,null,39.666666666666664]
[null,null,null,null,null,null,null,null,null,null,null,null,null,null,null,null,null,null,null,null,null,null,null,null,null,null,null,null,null,39.666666666666664]
[null,null,null,null,null,null,null,null,null,null,null,null,null,null,null,null,null,null,null,null,null,null,null,null,null,null,null,null,null,40.333333333333336]
[null,null,null,null,null,null,null,null,null,null,null,null,null,null,null,null,null,null,null,null,null,null,null,null,null,null,null,null,null,33.166666666666664]
[null,null,null,null,null,null,null,null,null,null,null,null,null,null,null,null,null,null,null,null,null,null,null,null,null,null,null,null,null,40.333333333333336]
[null,null,null,null,null,null,null,null,null,null,null,null,null,null,null,null,null,null,null,null,null,null,null,null,null,null,null,null,null,36.666666666666664]
[null,null,null,null,null,null,null,null,null,null,null,null,null,null,null,null,null,null,null,null,null,null,null,null,null,null,null,null,null,34.25]
[null,null,null,null,null,null,null,null,null,null,null,null,null,null,null,null,null,null,null,null,null,null,null,null,null,null,null,null,null,37.833333333333336]
[null,null,null,null,null,null,null,null,null,null,null,null,null,null,null,null,null,null,null,null,null,null,null,null,null,null,null,null,null,37.5]
[null,null,null,null,null,null,null,null,null,null,null,null,null,null,null,null,null,null,null,null,null,null,null,null,null,null,null,null,null,37.5]
[null,null,null,null,null,null,null,null,null,null,null,null,null,null,null,null,null,null,null,null,null,null,null,null,null,null,null,null,null,34]
[null,null,null,null,null,null,null,null,null,null,null,null,null,null,null,null,null,null,null,null,null,null,null,null,null,null,null,null,null,28.6]
[null,null,null,null,null,null,null,null,null,null,null,null,null,null,null,null,null,null,null,null,null,null,null,null,null,null,null,null,null,34.333333333333336]
[null,null,null,null,null,null,null,null,null,null,null,null,null,null,null,null,null,null,null,null,null,null,null,null,null,null,null,null,null,29.666666666666668]
[null,null,null,null,null,null,null,null,null,null,null,null,null,null,null,null,null,null,null,null,null,null,null,null,null,null,null,null,null,30.833333333333332]
[null,null,null,null,null,null,null,null,null,null,null,null,null,null,null,null,null,null,null,null,null,null,null,null,null,null,null,null,null,27.5]
[null,null,null,null,null,null,null,null,null,null,null,null,null,null,null,null,null,null,null,null,null,null,null,null,null,null,null,null,null,31]
[null,null,null,null,null,null,null,null,null,null,null,null,null,null,null,null,null,null,null,null,null,null,null,null,null,null,null,null,null,31.666666666666668]
[null,null,null,null,null,null,null,null,null,null,null,null,null,null,null,null,null,null,null,null,null,null,null,null,null,null,null,null,null,37.5]
[null,null,null,null,null,null,null,null,null,null,null,null,null,null,null,null,null,null,null,null,null,null,null,null,null,null,null,null,null,30]
[null,null,null,null,null,null,null,null,null,null,null,null,null,null,null,null,null,null,null,null,null,null,null,null,null,null,null,null,null,23.25]
[null,null,null,null,null,null,null,null,null,null,null,null,null,null,null,null,null,null,null,null,null,null,null,null,null,null,null,null,null,26.666666666666668]
[null,null,null,null,null,null,null,null,null,null,null,null,null,null,null,null,null,null,null,null,null,null,null,null,null,null,null,null,null,27.333333333333332]
[null,null,null,null,null,null,null,null,null,null,null,null,null,null,null,null,null,null,null,null,null,null,null,null,null,null,null,null,null,32.166666666666664]
[null,null,null,null,null,null,null,null,null,null,null,null,null,null,null,null,null,null,null,null,null,null,null,null,null,null,null,null,null,27.5]
[null,null,null,null,null,null,null,null,null,null,null,null,null,null,null,null,null,null,null,null,null,null,null,null,null,null,null,null,null,27.666666666666668]
[null,null,null,null,null,null,null,null,null,null,null,null,null,null,null,null,null,null,null,null,null,null,null,null,null,null,null,null,null,37.5]
[null,null,null,null,null,null,null,null,null,null,null,null,null,null,null,null,null,null,null,null,null,null,null,null,null,null,null,null,null,40]
[null,null,null,null,null,null,null,null,null,null,null,null,null,null,null,null,null,null,null,null,null,null,null,null,null,null,null,null,null,42.5]
[null,null,null,null,null,null,null,null,null,null,null,null,null,null,null,null,null,null,null,null,null,null,null,null,null,null,null,null,null,42.5]
[null,null,null,null,null,null,null,null,null,null,null,null,null,null,null,null,null,null,null,null,null,null,null,null,null,null,null,null,null,26.833333333333332]
[null,null,null,null,null,null,null,null,null,null,null,null,null,null,null,null,null,null,null,null,null,null,null,null,null,null,null,null,null,27.166666666666668]
[null,null,null,null,null,null,null,null,null,null,null,null,null,null,null,null,null,null,null,null,null,null,null,null,null,null,null,null,null,31.75]
[null,null,null,null,null,null,null,null,null,null,null,null,null,null,null,null,null,null,null,null,null,null,null,null,null,null,null,null,null,33.166666666666664]
[null,null,null,null,null,null,null,null,null,null,null,null,null,null,null,null,null,null,null,null,null,null,null,null,null,null,null,null,null,30.666666666666668]
[null,null,null,null,null,null,null,null,null,null,null,null,null,null,null,null,null,null,null,null,null,null,null,null,null,null,null,null,null,25.2]
[null,null,null,null,null,null,null,null,null,null,null,null,null,null,null,null,null,null,null,null,null,null,null,null,null,null,null,null,null,30.166666666666668]
[null,null,null,null,null,null,null,null,null,null,null,null,null,null,null,null,null,null,null,null,null,null,null,null,null,null,null,null,null,30.5]
[null,null,null,null,null,null,null,null,null,null,null,null,null,null,null,null,null,null,null,null,null,null,null,null,null,null,null,null,null,25.333333333333332]
[null,null,null,null,null,null,null,null,null,null,null,null,null,null,null,null,null,null,null,null,null,null,null,null,null,null,null,null,null,18.5]
[null,null,null,null,null,null,null,null,null,null,null,null,null,null,null,null,null,null,null,null,null,null,null,null,null,null,null,null,null,23]
[null,null,null,null,null,null,null,null,null,null,null,null,null,null,null,null,null,null,null,null,null,null,null,null,null,null,null,null,null,30]
[null,null,null,null,null,null,null,null,null,null,null,null,null,null,null,null,null,null,null,null,null,null,null,null,null,null,null,null,null,26.166666666666668]
[null,null,null,null,null,null,null,null,null,null,null,null,null,null,null,null,null,null,null,null,null,null,null,null,null,null,null,null,null,27.333333333333332]
[null,null,null,null,null,null,null,null,null,null,null,null,null,null,null,null,null,null,null,null,null,null,null,null,null,null,null,null,null,26.166666666666668]
[null,null,null,null,null,null,null,null,null,null,null,null,null,null,null,null,null,null,null,null,null,null,null,null,null,null,null,null,null,27]
[null,null,null,null,null,null,null,null,null,null,null,null,null,null,null,null,null,null,null,null,null,null,null,null,null,null,null,null,null,27.666666666666668]
[null,null,null,null,null,null,null,null,null,null,null,null,null,null,null,null,null,null,null,null,null,null,null,null,null,null,null,null,null,26]
[null,null,null,null,null,null,null,null,null,null,null,null,null,null,null,null,null,null,null,null,null,null,null,null,null,null,null,null,null,32]
[null,null,null,null,null,null,null,null,null,null,null,null,null,null,null,null,null,null,null,null,null,null,null,null,null,null,null,null,null,32.666666666666664]
[null,null,null,null,null,null,null,null,null,null,null,null,null,null,null,null,null,null,null,null,null,null,null,null,null,null,null,null,null,23.8]
[null,null,null,null,null,null,null,null,null,null,null,null,null,null,null,null,null,null,null,null,null,null,null,null,null,null,null,null,null,27.333333333333332]
[null,null,null,null,null,null,null,null,null,null,null,null,null,null,null,null,null,null,null,null,null,null,null,null,null,null,null,null,null,22.666666666666668]
[null,null,null,null,null,null,null,null,null,null,null,null,null,null,null,null,null,null,null,null,null,null,null,null,null,null,null,null,null,20.666666666666668]
[null,null,null,null,null,null,null,null,null,null,null,null,null,null,null,null,null,null,null,null,null,null,null,null,null,null,null,null,null,23.5]
[null,null,null,null,null,null,null,null,null,null,null,null,null,null,null,null,null,null,null,null,null,null,null,null,null,null,null,null,null,22.833333333333332]
[null,null,null,null,null,null,null,null,null,null,null,null,null,null,null,null,null,null,null,null,null,null,null,null,null,null,null,null,null,26.833333333333332]
[null,null,null,null,null,null,null,null,null,null,null,null,null,null,null,null,null,null,null,null,null,null,null,null,null,null,null,null,null,26]
[null,null,null,null,null,null,null,null,null,null,null,null,null,null,null,null,null,null,null,null,null,null,null,null,null,null,null,null,null,21.4]
[null,null,null,null,null,null,null,null,null,null,null,null,null,null,null,null,null,null,null,null,null,null,null,null,null,null,null,null,null,25.166666666666668]
[null,null,null,null,null,null,null,null,null,null,null,null,null,null,null,null,null,null,null,null,null,null,null,null,null,null,null,null,null,26.166666666666668]
[null,null,null,null,null,null,null,null,null,null,null,null,null,null,null,null,null,null,null,null,null,null,null,null,null,null,null,null,null,21]
[null,null,null,null,null,null,null,null,null,null,null,null,null,null,null,null,null,null,null,null,null,null,null,null,null,null,null,null,null,26.2]
[null,null,null,null,null,null,null,null,null,null,null,null,null,null,null,null,null,null,null,null,null,null,null,null,null,null,null,null,null,25.5]
[null,null,null,null,null,null,null,null,null,null,null,null,null,null,null,null,null,null,null,null,null,null,null,null,null,null,null,null,null,24.333333333333332]
[null,null,null,null,null,null,null,null,null,null,null,null,null,null,null,null,null,null,null,null,null,null,null,null,null,null,null,null,null,25.5]
[null,null,null,null,null,null,null,null,null,null,null,null,null,null,null,null,null,null,null,null,null,null,null,null,null,null,null,null,null,33.5]
[null,null,null,null,null,null,null,null,null,null,null,null,null,null,null,null,null,null,null,null,null,null,null,null,null,null,null,null,null,33.5]
[null,null,null,null,null,null,null,null,null,null,null,null,null,null,null,null,null,null,null,null,null,null,null,null,null,null,null,null,null,35.75]
[null,null,null,null,null,null,null,null,null,null,null,null,null,null,null,null,null,null,null,null,null,null,null,null,null,null,null,null,null,23.8]
[null,null,null,null,null,null,null,null,null,null,null,null,null,null,null,null,null,null,null,null,null,null,null,null,null,null,null,null,null,25]
[null,null,null,null,null,null,null,null,null,null,null,null,null,null,null,null,null,null,null,null,null,null,null,null,null,null,null,null,null,24.5]
[null,null,null,null,null,null,null,null,null,null,null,null,null,null,null,null,null,null,null,null,null,null,null,null,null,null,null,null,null,24.25]
[null,null,null,null,null,null,null,null,null,null,null,null,null,null,null,null,null,null,null,null,null,null,null,null,null,null,null,null,null,25.5]
[null,null,null,null,null,null,null,null,null,null,null,null,null,null,null,null,null,null,null,null,null,null,null,null,null,null,null,null,null,23.6]
[null,null,null,null,null,null,null,null,null,null,null,null,null,null,null,null,null,null,null,null,null,null,null,null,null,null,null,null,null,25.5]
[null,null,null,null,null,null,null,null,null,null,null,null,null,null,null,null,null,null,null,null,null,null,null,null,null,null,null,null,null,26.5]
[null,null,null,null,null,null,null,null,null,null,null,null,null,null,null,null,null,null,null,null,null,null,null,null,null,null,null,null,null,25.833333333333332]
[null,null,null,null,null,null,null,null,null,null,null,null,null,null,null,null,null,null,null,null,null,null,null,null,null,null,null,null,null,26.833333333333332]
[null,null,null,null,null,null,null,null,null,null,null,null,null,null,null,null,null,null,null,null,null,null,null,null,null,null,null,null,null,23.333333333333332]
[null,null,null,null,null,null,null,null,null,null,null,null,null,null,null,null,null,null,null,null,null,null,null,null,null,null,null,null,null,28]
[null,null,null,null,null,null,null,null,null,null,null,null,null,null,null,null,null,null,null,null,null,null,null,null,null,null,null,null,null,26]
[null,null,null,null,null,null,null,null,null,null,null,null,null,null,null,null,null,null,null,null,null,null,null,null,null,null,null,null,null,24.333333333333332]
[null,null,null,null,null,null,null,null,null,null,null,null,null,null,null,null,null,null,null,null,null,null,null,null,null,null,null,null,null,26.166666666666668]
[null,null,null,null,null,null,null,null,null,null,null,null,null,null,null,null,null,null,null,null,null,null,null,null,null,null,null,null,null,23.166666666666668]
[null,null,null,null,null,null,null,null,null,null,null,null,null,null,null,null,null,null,null,null,null,null,null,null,null,null,null,null,null,22]
[null,null,null,null,null,null,null,null,null,null,null,null,null,null,null,null,null,null,null,null,null,null,null,null,null,null,null,null,null,36.5]
[null,null,null,null,null,null,null,null,null,null,null,null,null,null,null,null,null,null,null,null,null,null,null,null,null,null,null,null,null,37]
[null,null,null,null,null,null,null,null,null,null,null,null,null,null,null,null,null,null,null,null,null,null,null,null,null,null,null,null,null,30.5]
[null,null,null,null,null,null,null,null,null,null,null,null,null,null,null,null,null,null,null,null,null,null,null,null,null,null,null,null,null,30.5]
[null,null,null,null,null,null,null,null,null,null,null,null,null,null,null,null,null,null,null,null,null,null,null,null,null,null,null,null,null,19.5]
[null,null,null,null,null,null,null,null,null,null,null,null,null,null,null,null,null,null,null,null,null,null,null,null,null,null,null,null,null,35]
[null,null,null,null,null,null,null,null,null,null,null,null,null,null,null,null,null,null,null,null,null,null,null,null,null,null,null,null,null,19.333333333333332]
[null,null,null,null,null,null,null,null,null,null,null,null,null,null,null,null,null,null,null,null,null,null,null,null,null,null,null,null,null,19.5]
[null,null,null,null,null,null,null,null,null,null,null,null,null,null,null,null,null,null,null,null,null,null,null,null,null,null,null,null,null,23.5]
[null,null,null,null,null,null,null,null,null,null,null,null,null,null,null,null,null,null,null,null,null,null,null,null,null,null,null,null,null,25.833333333333332]
[null,null,null,null,null,null,null,null,null,null,null,null,null,null,null,null,null,null,null,null,null,null,null,null,null,null,null,null,null,25.333333333333332]
[null,null,null,null,null,null,null,null,null,null,null,null,null,null,null,null,null,null,null,null,null,null,null,null,null,null,null,null,null,20]
[null,null,null,null,null,null,null,null,null,null,null,null,null,null,null,null,null,null,null,null,null,null,null,null,null,null,null,null,null,18.833333333333332]
[null,null,null,null,null,null,null,null,null,null,null,null,null,null,null,null,null,null,null,null,null,null,null,null,null,null,null,null,null,21.333333333333332]
[null,null,null,null,null,null,null,null,null,null,null,null,null,null,null,null,null,null,null,null,null,null,null,null,null,null,null,null,null,18.8]
[null,null,null,null,null,null,null,null,null,null,null,null,null,null,null,null,null,null,null,null,null,null,null,null,null,null,null,null,null,20]
[null,null,null,null,null,null,null,null,null,null,null,null,null,null,null,null,null,null,null,null,null,null,null,null,null,null,null,null,null,20.166666666666668]
[null,null,null,null,null,null,null,null,null,null,null,null,null,null,null,null,null,null,null,null,null,null,null,null,null,null,null,null,null,18.2]
[null,null,null,null,null,null,null,null,null,null,null,null,null,null,null,null,null,null,null,null,null,null,null,null,null,null,null,null,null,21]
[null,null,null,null,null,null,null,null,null,null,null,null,null,null,null,null,null,null,null,null,null,null,null,null,null,null,null,null,null,31.5]
[null,null,null,null,null,null,null,null,null,null,null,null,null,null,null,null,null,null,null,null,null,null,null,null,null,null,null,null,null,31.5]
[null,null,null,null,null,null,null,null,null,null,null,null,null,null,null,null,null,null,null,null,null,null,null,null,null,null,null,null,null,25.8]
[null,null,null,null,null,null,null,null,null,null,null,null,null,null,null,null,null,null,null,null,null,null,null,null,null,null,null,null,null,19.5]
[null,null,null,null,null,null,null,null,null,null,null,null,null,null,null,null,null,null,null,null,null,null,null,null,null,null,null,null,null,21.5]
[null,null,null,null,null,null,null,null,null,null,null,null,null,null,null,null,null,null,null,null,null,null,null,null,null,null,null,null,null,14.6]
[null,null,null,null,null,null,null,null,null,null,null,null,null,null,null,null,null,null,null,null,null,null,null,null,null,null,null,null,null,20.333333333333332]
[null,null,null,null,null,null,null,null,null,null,null,null,null,null,null,null,null,null,null,null,null,null,null,null,null,null,null,null,null,20.5]
[null,null,null,null,null,null,null,null,null,null,null,null,null,null,null,null,null,null,null,null,null,null,null,null,null,null,null,null,null,20.5]
[null,null,null,null,null,null,null,null,null,null,null,null,null,null,null,null,null,null,null,null,null,null,null,null,null,null,null,null,null,18.5]
[null,null,null,null,null,null,null,null,null,null,null,null,null,null,null,null,null,null,null,null,null,null,null,null,null,null,null,null,null,22.5]
[null,null,null,null,null,null,null,null,null,null,null,null,null,null,null,null,null,null,null,null,null,null,null,null,null,null,null,null,null,16.166666666666668]
[null,null,null,null,null,null,null,null,null,null,null,null,null,null,null,null,null,null,null,null,null,null,null,null,null,null,null,null,null,20.5]
[null,null,null,null,null,null,null,null,null,null,null,null,null,null,null,null,null,null,null,null,null,null,null,null,null,null,null,null,null,25]
[null,null,null,null,null,null,null,null,null,null,null,null,null,null,null,null,null,null,null,null,null,null,null,null,null,null,null,null,null,20.333333333333332]
[null,null,null,null,null,null,null,null,null,null,null,null,null,null,null,null,null,null,null,null,null,null,null,null,null,null,null,null,null,20.666666666666668]
[null,null,null,null,null,null,null,null,null,null,null,null,null,null,null,null,null,null,null,null,null,null,null,null,null,null,null,null,null,23.666666666666668]
[null,null,null,null,null,null,null,null,null,null,null,null,null,null,null,null,null,null,null,null,null,null,null,null,null,null,null,null,null,22]
[null,null,null,null,null,null,null,null,null,null,null,null,null,null,null,null,null,null,null,null,null,null,null,null,null,null,null,null,null,19]
[null,null,null,null,null,null,null,null,null,null,null,null,null,null,null,null,null,null,null,null,null,null,null,null,null,null,null,null,null,18.333333333333332]
[null,null,null,null,null,null,null,null,null,null,null,null,null,null,null,null,null,null,null,null,null,null,null,null,null,null,null,null,null,32]
[null,null,null,null,null,null,null,null,null,null,null,null,null,null,null,null,null,null,null,null,null,null,null,null,null,null,null,null,null,18.25]
[null,null,null,null,null,null,null,null,null,null,null,null,null,null,null,null,null,null,null,null,null,null,null,null,null,null,null,null,null,19]
[null,null,null,null,null,null,null,null,null,null,null,null,null,null,null,null,null,null,null,null,null,null,null,null,null,null,null,null,null,18.5]
[null,null,null,null,null,null,null,null,null,null,null,null,null,null,null,null,null,null,null,null,null,null,null,null,null,null,null,null,null,18.2]
[null,null,null,null,null,null,null,null,null,null,null,null,null,null,null,null,null,null,null,null,null,null,null,null,null,null,null,null,null,19.166666666666668]
[null,null,null,null,null,null,null,null,null,null,null,null,null,null,null,null,null,null,null,null,null,null,null,null,null,null,null,null,null,19.5]
[null,null,null,null,null,null,null,null,null,null,null,null,null,null,null,null,null,null,null,null,null,null,null,null,null,null,null,null,null,15]
[null,null,null,null,null,null,null,null,null,null,null,null,null,null,null,null,null,null,null,null,null,null,null,null,null,null,null,null,null,15.6]
[null,null,null,null,null,null,null,null,null,null,null,null,null,null,null,null,null,null,null,null,null,null,null,null,null,null,null,null,null,17]
[null,null,null,null,null,null,null,null,null,null,null,null,null,null,null,null,null,null,null,null,null,null,null,null,null,null,null,null,null,19.333333333333332]
[null,null,null,null,null,null,null,null,null,null,null,null,null,null,null,null,null,null,null,null,null,null,null,null,null,null,null,null,null,15.2]
[null,null,null,null,null,null,null,null,null,null,null,null,null,null,null,null,null,null,null,null,null,null,null,null,null,null,null,null,null,15]
[null,null,null,null,null,null,null,null,null,null,null,null,null,null,null,null,null,null,null,null,null,null,null,null,null,null,null,null,null,22.166666666666668]
[null,null,null,null,null,null,null,null,null,null,null,null,null,null,null,null,null,null,null,null,null,null,null,null,null,null,null,null,null,22]
[null,null,null,null,null,null,null,null,null,null,null,null,null,null,null,null,null,null,null,null,null,null,null,null,null,null,null,null,null,22]
[null,null,null,null,null,null,null,null,null,null,null,null,null,null,null,null,null,null,null,null,null,null,null,null,null,null,null,null,null,18.166666666666668]
[null,null,null,null,null,null,null,null,null,null,null,null,null,null,null,null,null,null,null,null,null,null,null,null,null,null,null,null,null,18.833333333333332]
[null,null,null,null,null,null,null,null,null,null,null,null,null,null,null,null,null,null,null,null,null,null,null,null,null,null,null,null,null,22.833333333333332]
[null,null,null,null,null,null,null,null,null,null,null,null,null,null,null,null,null,null,null,null,null,null,null,null,null,null,null,null,null,30]
[null,null,null,null,null,null,null,null,null,null,null,null,null,null,null,null,null,null,null,null,null,null,null,null,null,null,null,null,null,23.4]
[null,null,null,null,null,null,null,null,null,null,null,null,null,null,null,null,null,null,null,null,null,null,null,null,null,null,null,null,null,17.166666666666668]
[null,null,null,null,null,null,null,null,null,null,null,null,null,null,null,null,null,null,null,null,null,null,null,null,null,null,null,null,null,19.166666666666668]
[null,null,null,null,null,null,null,null,null,null,null,null,null,null,null,null,null,null,null,null,null,null,null,null,null,null,null,null,null,15.4]
[null,null,null,null,null,null,null,null,null,null,null,null,null,null,null,null,null,null,null,null,null,null,null,null,null,null,null,null,null,19.333333333333332]
[null,null,null,null,null,null,null,null,null,null,null,null,null,null,null,null,null,null,null,null,null,null,null,null,null,null,null,null,null,17.5]
[null,null,null,null,null,null,null,null,null,null,null,null,null,null,null,null,null,null,null,null,null,null,null,null,null,null,null,null,null,16.5]
[null,null,null,null,null,null,null,null,null,null,null,null,null,null,null,null,null,null,null,null,null,null,null,null,null,null,null,null,null,19.166666666666668]
[null,null,null,null,null,null,null,null,null,null,null,null,null,null,null,null,null,null,null,null,null,null,null,null,null,null,null,null,null,16.600000000000001]
[null,null,null,null,null,null,null,null,null,null,null,null,null,null,null,null,null,null,null,null,null,null,null,null,null,null,null,null,null,21.166666666666668]
[null,null,null,null,null,null,null,null,null,null,null,null,null,null,null,null,null,null,null,null,null,null,null,null,null,null,null,null,null,15]
[null,null,null,null,null,null,null,null,null,null,null,null,null,null,null,null,null,null,null,null,null,null,null,null,null,null,null,null,null,16]
[null,null,null,null,null,null,null,null,null,null,null,null,null,null,null,null,null,null,null,null,null,null,null,null,null,null,null,null,null,16]
[null,null,null,null,null,null,null,null,null,null,null,null,null,null,null,null,null,null,null,null,null,null,null,null,null,null,null,null,null,18.333333333333332]
[null,null,null,null,null,null,null,null,null,null,null,null,null,null,null,null,null,null,null,null,null,null,null,null,null,null,null,null,null,14.4]
[null,null,null,null,null,null,null,null,null,null,null,null,null,null,null,null,null,null,null,null,null,null,null,null,null,null,null,null,null,15.333333333333334]
[null,null,null,null,null,null,null,null,null,null,null,null,null,null,null,null,null,null,null,null,null,null,null,null,null,null,null,null,null,14.4]
[null,null,null,null,null,null,null,null,null,null,null,null,null,null,null,null,null,null,null,null,null,null,null,null,null,null,null,null,null,14.2]
[null,null,null,null,null,null,null,null,null,null,null,null,null,null,null,null,null,null,null,null,null,null,null,null,null,null,null,null,null,12]
[null,null,null,null,null,null,null,null,null,null,null,null,null,null,null,null,null,null,null,null,null,null,null,null,null,null,null,null,null,12]
[null,null,null,null,null,null,null,null,null,null,null,null,null,null,null,null,null,null,null,null,null,null,null,null,null,null,null,null,null,12]
[null,null,null,null,null,null,null,null,null,null,null,null,null,null,null,null,null,null,null,null,null,null,null,null,null,null,null,null,null,13.75]
[null,null,null,null,null,null,null,null,null,null,null,null,null,null,null,null,null,null,null,null,null,null,null,null,null,null,null,null,null,17.600000000000001]
[null,null,null,null,null,null,null,null,null,null,null,null,null,null,null,null,null,null,null,null,null,null,null,null,null,null,null,null,null,16.333333333333332]
[null,null,null,null,null,null,null,null,null,null,null,null,null,null,null,null,null,null,null,null,null,null,null,null,null,null,null,null,null,13.666666666666666]
[null,null,null,null,null,null,null,null,null,null,null,null,null,null,null,null,null,null,null,null,null,null,null,null,null,null,null,null,null,16.2]
[null,null,null,null,null,null,null,null,null,null,null,null,null,null,null,null,null,null,null,null,null,null,null,null,null,null,null,null,null,14.833333333333334]
[null,null,null,null,null,null,null,null,null,null,null,null,null,null,null,null,null,null,null,null,null,null,null,null,null,null,null,null,null,16]
[null,null,null,null,null,null,null,null,null,null,null,null,null,null,null,null,null,null,null,null,null,null,null,null,null,null,null,null,null,12.8]
[null,null,null,null,null,null,null,null,null,null,null,null,null,null,null,null,null,null,null,null,null,null,null,null,null,null,null,null,null,17]
[null,null,null,null,null,null,null,null,null,null,null,null,null,null,null,null,null,null,null,null,null,null,null,null,null,null,null,null,null,15]
[null,null,null,null,null,null,null,null,null,null,null,null,null,null,null,null,null,null,null,null,null,null,null,null,null,null,null,null,null,16.5]
[null,null,null,null,null,null,null,null,null,null,null,null,null,null,null,null,null,null,null,null,null,null,null,null,null,null,null,null,null,19.166666666666668]
[null,null,null,null,null,null,null,null,null,null,null,null,null,null,null,null,null,null,null,null,null,null,null,null,null,null,null,null,null,20.666666666666668]
[null,null,null,null,null,null,null,null,null,null,null,null,null,null,null,null,null,null,null,null,null,null,null,null,null,null,null,null,null,15.5]
[null,null,null,null,null,null,null,null,null,null,null,null,null,null,null,null,null,null,null,null,null,null,null,null,null,null,null,null,null,12.5]
[null,null,null,null,null,null,null,null,null,null,null,null,null,null,null,null,null,null,null,null,null,null,null,null,null,null,null,null,null,12.333333333333334]
[null,null,null,null,null,null,null,null,null,null,null,null,null,null,null,null,null,null,null,null,null,null,null,null,null,null,null,null,null,16]
[null,null,null,null,null,null,null,null,null,null,null,null,null,null,null,null,null,null,null,null,null,null,null,null,null,null,null,null,null,16]
[null,null,null,null,null,null,null,null,null,null,null,null,null,null,null,null,null,null,null,null,null,null,null,null,null,null,null,null,null,16]
[null,null,null,null,null,null,null,null,null,null,null,null,null,null,null,null,null,null,null,null,null,null,null,null,null,null,null,null,null,13.833333333333334]
[null,null,null,null,null,null,null,null,null,null,null,null,null,null,null,null,null,null,null,null,null,null,null,null,null,null,null,null,null,14]
[null,null,null,null,null,null,null,null,null,null,null,null,null,null,null,null,null,null,null,null,null,null,null,null,null,null,null,null,null,15.2]
[null,null,null,null,null,null,null,null,null,null,null,null,null,null,null,null,null,null,null,null,null,null,null,null,null,null,null,null,null,16.333333333333332]
[null,null,null,null,null,null,null,null,null,null,null,null,null,null,null,null,null,null,null,null,null,null,null,null,null,null,null,null,null,17.666666666666668]
[null,null,null,null,null,null,null,null,null,null,null,null,null,null,null,null,null,null,null,null,null,null,null,null,null,null,null,null,null,14.666666666666666]
[null,null,null,null,null,null,null,null,null,null,null,null,null,null,null,null,null,null,null,null,null,null,null,null,null,null,null,null,null,18.333333333333332]
[null,null,null,null,null,null,null,null,null,null,null,null,null,null,null,null,null,null,null,null,null,null,null,null,null,null,null,null,null,20.166666666666668]
[null,null,null,null,null,null,null,null,null,null,null,null,null,null,null,null,null,null,null,null,null,null,null,null,null,null,null,null,null,18.666666666666668]
[null,null,null,null,null,null,null,null,null,null,null,null,null,null,null,null,null,null,null,null,null,null,null,null,null,null,null,null,null,20.666666666666668]
[null,null,null,null,null,null,null,null,null,null,null,null,null,null,null,null,null,null,null,null,null,null,null,null,null,null,null,null,null,16.600000000000001]
[null,null,null,null,null,null,null,null,null,null,null,null,null,null,null,null,null,null,null,null,null,null,null,null,null,null,null,null,null,18]
[null,null,null,null,null,null,null,null,null,null,null,null,null,null,null,null,null,null,null,null,null,null,null,null,null,null,null,null,null,17]
[null,null,null,null,null,null,null,null,null,null,null,null,null,null,null,null,null,null,null,null,null,null,null,null,null,null,null,null,null,15.833333333333334]
[null,null,null,null,null,null,null,null,null,null,null,null,null,null,null,null,null,null,null,null,null,null,null,null,null,null,null,null,null,18.333333333333332]
[null,null,null,null,null,null,null,null,null,null,null,null,null,null,null,null,null,null,null,null,null,null,null,null,null,null,null,null,null,14.4]
[null,null,null,null,null,null,null,null,null,null,null,null,null,null,null,null,null,null,null,null,null,null,null,null,null,null,null,null,null,15.8]
[null,null,null,null,null,null,null,null,null,null,null,null,null,null,null,null,null,null,null,null,null,null,null,null,null,null,null,null,null,14.5]
[null,null,null,null,null,null,null,null,null,null,null,null,null,null,null,null,null,null,null,null,null,null,null,null,null,null,null,null,null,14.5]
[null,null,null,null,null,null,null,null,null,null,null,null,null,null,null,null,null,null,null,null,null,null,null,null,null,null,null,null,null,18]
[null,null,null,null,null,null,null,null,null,null,null,null,null,null,null,null,null,null,null,null,null,null,null,null,null,null,null,null,null,13.6]
[null,null,null,null,null,null,null,null,null,null,null,null,null,null,null,null,null,null,null,null,null,null,null,null,null,null,null,null,null,13.166666666666666]
[null,null,null,null,null,null,null,null,null,null,null,null,null,null,null,null,null,null,null,null,null,null,null,null,null,null,null,null,null,13.666666666666666]
[null,null,null,null,null,null,null,null,null,null,null,null,null,null,null,null,null,null,null,null,null,null,null,null,null,null,null,null,null,15.166666666666666]
[null,null,null,null,null,null,null,null,null,null,null,null,null,null,null,null,null,null,null,null,null,null,null,null,null,null,null,null,null,20]
[null,null,null,null,null,null,null,null,null,null,null,null,null,null,null,null,null,null,null,null,null,null,null,null,null,null,null,null,null,14]
[null,null,null,null,null,null,null,null,null,null,null,null,null,null,null,null,null,null,null,null,null,null,null,null,null,null,null,null,null,15]
[null,null,null,null,null,null,null,null,null,null,null,null,null,null,null,null,null,null,null,null,null,null,null,null,null,null,null,null,null,13.166666666666666]
[null,null,null,null,null,null,null,null,null,null,null,null,null,null,null,null,null,null,null,null,null,null,null,null,null,null,null,null,null,11.666666666666666]
[null,null,null,null,null,null,null,null,null,null,null,null,null,null,null,null,null,null,null,null,null,null,null,null,null,null,null,null,null,12.833333333333334]
[null,null,null,null,null,null,null,null,null,null,null,null,null,null,null,null,null,null,null,null,null,null,null,null,null,null,null,null,null,11.5]
[null,null,null,null,null,null,null,null,null,null,null,null,null,null,null,null,null,null,null,null,null,null,null,null,null,null,null,null,null,13.4]
[null,null,null,null,null,null,null,null,null,null,null,null,null,null,null,null,null,null,null,null,null,null,null,null,null,null,null,null,null,15]
[null,null,null,null,null,null,null,null,null,null,null,null,null,null,null,null,null,null,null,null,null,null,null,null,null,null,null,null,null,13.2]
[null,null,null,null,null,null,null,null,null,null,null,null,null,null,null,null,null,null,null,null,null,null,null,null,null,null,null,null,null,14.166666666666666]
[null,null,null,null,null,null,null,null,null,null,null,null,null,null,null,null,null,null,null,null,null,null,null,null,null,null,null,null,null,14]
[null,null,null,null,null,null,null,null,null,null,null,null,null,null,null,null,null,null,null,null,null,null,null,null,null,null,null,null,null,14.333333333333334]
[null,null,null,null,null,null,null,null,null,null,null,null,null,null,null,null,null,null,null,null,null,null,null,null,null,null,null,null,null,15.5]
[null,null,null,null,null,null,null,null,null,null,null,null,null,null,null,null,null,null,null,null,null,null,null,null,null,null,null,null,null,15.5]
[null,null,null,null,null,null,null,null,null,null,null,null,null,null,null,null,null,null,null,null,null,null,null,null,null,null,null,null,null,15.5]
[null,null,null,null,null,null,null,null,null,null,null,null,null,null,null,null,null,null,null,null,null,null,null,null,null,null,null,null,null,15.5]
[null,null,null,null,null,null,null,null,null,null,null,null,null,null,null,null,null,null,null,null,null,null,null,null,null,null,null,null,null,14.2]
[null,null,null,null,null,null,null,null,null,null,null,null,null,null,null,null,null,null,null,null,null,null,null,null,null,null,null,null,null,15.666666666666666]
[null,null,null,null,null,null,null,null,null,null,null,null,null,null,null,null,null,null,null,null,null,null,null,null,null,null,null,null,null,16.666666666666668]
[null,null,null,null,null,null,null,null,null,null,null,null,null,null,null,null,null,null,null,null,null,null,null,null,null,null,null,null,null,14.666666666666666]
[null,null,null,null,null,null,null,null,null,null,null,null,null,null,null,null,null,null,null,null,null,null,null,null,null,null,null,null,null,14.666666666666666]
[null,null,null,null,null,null,null,null,null,null,null,null,null,null,null,null,null,null,null,null,null,null,null,null,null,null,null,null,null,15.666666666666666]
[null,null,null,null,null,null,null,null,null,null,null,null,null,null,null,null,null,null,null,null,null,null,null,null,null,null,null,null,null,13.6]
[null,null,null,null,null,null,null,null,null,null,null,null,null,null,null,null,null,null,null,null,null,null,null,null,null,null,null,null,null,12]
[null,null,null,null,null,null,null,null,null,null,null,null,null,null,null,null,null,null,null,null,null,null,null,null,null,null,null,null,null,12.666666666666666]
[null,null,null,null,null,null,null,null,null,null,null,null,null,null,null,null,null,null,null,null,null,null,null,null,null,null,null,null,null,13]
[null,null,null,null,null,null,null,null,null,null,null,null,null,null,null,null,null,null,null,null,null,null,null,null,null,null,null,null,null,14.5]
[null,null,null,null,null,null,null,null,null,null,null,null,null,null,null,null,null,null,null,null,null,null,null,null,null,null,null,null,null,12.2]
[null,null,null,null,null,null,null,null,null,null,null,null,null,null,null,null,null,null,null,null,null,null,null,null,null,null,null,null,null,15.833333333333334]
[null,null,null,null,null,null,null,null,null,null,null,null,null,null,null,null,null,null,null,null,null,null,null,null,null,null,null,null,null,13.5]
[null,null,null,null,null,null,null,null,null,null,null,null,null,null,null,null,null,null,null,null,null,null,null,null,null,null,null,null,null,17]
[null,null,null,null,null,null,null,null,null,null,null,null,null,null,null,null,null,null,null,null,null,null,null,null,null,null,null,null,null,22.5]
[null,null,null,null,null,null,null,null,null,null,null,null,null,null,null,null,null,null,null,null,null,null,null,null,null,null,null,null,null,25]
[null,null,null,null,null,null,null,null,null,null,null,null,null,null,null,null,null,null,null,null,null,null,null,null,null,null,null,null,null,16.166666666666668]
[null,null,null,null,null,null,null,null,null,null,null,null,null,null,null,null,null,null,null,null,null,null,null,null,null,null,null,null,null,11.2]
[null,null,null,null,null,null,null,null,null,null,null,null,null,null,null,null,null,null,null,null,null,null,null,null,null,null,null,null,null,15.5]
[null,null,null,null,null,null,null,null,null,null,null,null,null,null,null,null,null,null,null,null,null,null,null,null,null,null,null,null,null,16.666666666666668]
[null,null,null,null,null,null,null,null,null,null,null,null,null,null,null,null,null,null,null,null,null,null,null,null,null,null,null,null,null,15.833333333333334]
[null,null,null,null,null,null,null,null,null,null,null,null,null,null,null,null,null,null,null,null,null,null,null,null,null,null,null,null,null,14.166666666666666]
[null,null,null,null,null,null,null,null,null,null,null,null,null,null,null,null,null,null,null,null,null,null,null,null,null,null,null,null,null,12]
[null,null,null,null,null,null,null,null,null,null,null,null,null,null,null,null,null,null,null,null,null,null,null,null,null,null,null,null,null,10.666666666666666]
[null,null,null,null,null,null,null,null,null,null,null,null,null,null,null,null,null,null,null,null,null,null,null,null,null,null,null,null,null,14.5]
[null,null,null,null,null,null,null,null,null,null,null,null,null,null,null,null,null,null,null,null,null,null,null,null,null,null,null,null,null,13]
[null,null,null,null,null,null,null,null,null,null,null,null,null,null,null,null,null,null,null,null,null,null,null,null,null,null,null,null,null,17]
[null,null,null,null,null,null,null,null,null,null,null,null,null,null,null,null,null,null,null,null,null,null,null,null,null,null,null,null,null,15.166666666666666]
[null,null,null,null,null,null,null,null,null,null,null,null,null,null,null,null,null,null,null,null,null,null,null,null,null,null,null,null,null,14.333333333333334]
[null,null,null,null,null,null,null,null,null,null,null,null,null,null,null,null,null,null,null,null,null,null,null,null,null,null,null,null,null,15]
[null,null,null,null,null,null,null,null,null,null,null,null,null,null,null,null,null,null,null,null,null,null,null,null,null,null,null,null,null,14.5]
[null,null,null,null,null,null,null,null,null,null,null,null,null,null,null,null,null,null,null,null,null,null,null,null,null,null,null,null,null,12.333333333333334]
[null,null,null,null,null,null,null,null,null,null,null,null,null,null,null,null,null,null,null,null,null,null,null,null,null,null,null,null,null,13.5]
[null,null,null,null,null,null,null,null,null,null,null,null,null,null,null,null,null,null,null,null,null,null,null,null,null,null,null,null,null,15]
[null,null,null,null,null,null,null,null,null,null,null,null,null,null,null,null,null,null,null,null,null,null,null,null,null,null,null,null,null,18]
[null,null,null,null,null,null,null,null,null,null,null,null,null,null,null,null,null,null,null,null,null,null,null,null,null,null,null,null,null,20.5]
[null,null,null,null,null,null,null,null,null,null,null,null,null,null,null,null,null,null,null,null,null,null,null,null,null,null,null,null,null,10]
[null,null,null,null,null,null,null,null,null,null,null,null,null,null,null,null,null,null,null,null,null,null,null,null,null,null,null,null,null,15.5]
[null,null,null,null,null,null,null,null,null,null,null,null,null,null,null,null,null,null,null,null,null,null,null,null,null,null,null,null,null,12]
[null,null,null,null,null,null,null,null,null,null,null,null,null,null,null,null,null,null,null,null,null,null,null,null,null,null,null,null,null,12.166666666666666]
[null,null,null,null,null,null,null,null,null,null,null,null,null,null,null,null,null,null,null,null,null,null,null,null,null,null,null,null,null,11.666666666666666]
[null,null,null,null,null,null,null,null,null,null,null,null,null,null,null,null,null,null,null,null,null,null,null,null,null,null,null,null,null,15.2]
[null,null,null,null,null,null,null,null,null,null,null,null,null,null,null,null,null,null,null,null,null,null,null,null,null,null,null,null,null,13.166666666666666]
[null,null,null,null,null,null,null,null,null,null,null,null,null,null,null,null,null,null,null,null,null,null,null,null,null,null,null,null,null,14.166666666666666]
[null,null,null,null,null,null,null,null,null,null,null,null,null,null,null,null,null,null,null,null,null,null,null,null,null,null,null,null,null,13.5]
[null,null,null,null,null,null,null,null,null,null,null,null,null,null,null,null,null,null,null,null,null,null,null,null,null,null,null,null,null,12.166666666666666]
[null,null,null,null,null,null,null,null,null,null,null,null,null,null,null,null,null,null,null,null,null,null,null,null,null,null,null,null,null,11.833333333333334]
[null,null,null,null,null,null,null,null,null,null,null,null,null,null,null,null,null,null,null,null,null,null,null,null,null,null,null,null,null,12.833333333333334]
[null,null,null,null,null,null,null,null,null,null,null,null,null,null,null,null,null,null,null,null,null,null,null,null,null,null,null,null,null,12.5]
[null,null,null,null,null,null,null,null,null,null,null,null,null,null,null,null,null,null,null,null,null,null,null,null,null,null,null,null,null,12]
[null,null,null,null,null,null,null,null,null,null,null,null,null,null,null,null,null,null,null,null,null,null,null,null,null,null,null,null,null,13.5]
[null,null,null,null,null,null,null,null,null,null,null,null,null,null,null,null,null,null,null,null,null,null,null,null,null,null,null,null,null,13.166666666666666]
[null,null,null,null,null,null,null,null,null,null,null,null,null,null,null,null,null,null,null,null,null,null,null,null,null,null,null,null,null,14.4]
[null,null,null,null,null,null,null,null,null,null,null,null,null,null,null,null,null,null,null,null,null,null,null,null,null,null,null,null,null,17.5]
[null,null,null,null,null,null,null,null,null,null,null,null,null,null,null,null,null,null,null,null,null,null,null,null,null,null,null,null,null,17.5]
[null,null,null,null,null,null,null,null,null,null,null,null,null,null,null,null,null,null,null,null,null,null,null,null,null,null,null,null,null,12.666666666666666]
[null,null,null,null,null,null,null,null,null,null,null,null,null,null,null,null,null,null,null,null,null,null,null,null,null,null,null,null,null,11]
[null,null,null,null,null,null,null,null,null,null,null,null,null,null,null,null,null,null,null,null,null,null,null,null,null,null,null,null,null,8.25]
[null,null,null,null,null,null,null,null,null,null,null,null,null,null,null,null,null,null,null,null,null,null,null,null,null,null,null,null,null,12.166666666666666]
[null,null,null,null,null,null,null,null,null,null,null,null,null,null,null,null,null,null,null,null,null,null,null,null,null,null,null,null,null,13.5]
[null,null,null,null,null,null,null,null,null,null,null,null,null,null,null,null,null,null,null,null,null,null,null,null,null,null,null,null,null,12.5]
[null,null,null,null,null,null,null,null,null,null,null,null,null,null,null,null,null,null,null,null,null,null,null,null,null,null,null,null,null,14.166666666666666]
[null,null,null,null,null,null,null,null,null,null,null,null,null,null,null,null,null,null,null,null,null,null,null,null,null,null,null,null,null,13]
[null,null,null,null,null,null,null,null,null,null,null,null,null,null,null,null,null,null,null,null,null,null,null,null,null,null,null,null,null,13]
[null,null,null,null,null,null,null,null,null,null,null,null,null,null,null,null,null,null,null,null,null,null,null,null,null,null,null,null,null,14.333333333333334]
[null,null,null,null,null,null,null,null,null,null,null,null,null,null,null,null,null,null,null,null,null,null,null,null,null,null,null,null,null,13.833333333333334]
[null,null,null,null,null,null,null,null,null,null,null,null,null,null,null,null,null,null,null,null,null,null,null,null,null,null,null,null,null,13.2]
[null,null,null,null,null,null,null,null,null,null,null,null,null,null,null,null,null,null,null,null,null,null,null,null,null,null,null,null,null,12.166666666666666]
[null,null,null,null,null,null,null,null,null,null,null,null,null,null,null,null,null,null,null,null,null,null,null,null,null,null,null,null,null,13.6]
[null,null,null,null,null,null,null,null,null,null,null,null,null,null,null,null,null,null,null,null,null,null,null,null,null,null,null,null,null,10.833333333333334]
[null,null,null,null,null,null,null,null,null,null,null,null,null,null,null,null,null,null,null,null,null,null,null,null,null,null,null,null,null,14.333333333333334]
[null,null,null,null,null,null,null,null,null,null,null,null,null,null,null,null,null,null,null,null,null,null,null,null,null,null,null,null,null,12.2]
[null,null,null,null,null,null,null,null,null,null,null,null,null,null,null,null,null,null,null,null,null,null,null,null,null,null,null,null,null,13]
[null,null,null,null,null,null,null,null,null,null,null,null,null,null,null,null,null,null,null,null,null,null,null,null,null,null,null,null,null,13]
[null,null,null,null,null,null,null,null,null,null,null,null,null,null,null,null,null,null,null,null,null,null,null,null,null,null,null,null,null,13]
[null,null,null,null,null,null,null,null,null,null,null,null,null,null,null,null,null,null,null,null,null,null,null,null,null,null,null,null,null,13.333333333333334]
[null,null,null,null,null,null,null,null,null,null,null,null,null,null,null,null,null,null,null,null,null,null,null,null,null,null,null,null,null,12.5]
[null,null,null,null,null,null,null,null,null,null,null,null,null,null,null,null,null,null,null,null,null,null,null,null,null,null,null,null,null,13.666666666666666]
[null,null,null,null,null,null,null,null,null,null,null,null,null,null,null,null,null,null,null,null,null,null,null,null,null,null,null,null,null,13]
[null,null,null,null,null,null,null,null,null,null,null,null,null,null,null,null,null,null,null,null,null,null,null,null,null,null,null,null,null,10.6]
[null,null,null,null,null,null,null,null,null,null,null,null,null,null,null,null,null,null,null,null,null,null,null,null,null,null,null,null,null,15.833333333333334]
[null,null,null,null,null,null,null,null,null,null,null,null,null,null,null,null,null,null,null,null,null,null,null,null,null,null,null,null,null,11.833333333333334]
[null,null,null,null,null,null,null,null,null,null,null,null,null,null,null,null,null,null,null,null,null,null,null,null,null,null,null,null,null,10.166666666666666]
[null,null,null,null,null,null,null,null,null,null,null,null,null,null,null,null,null,null,null,null,null,null,null,null,null,null,null,null,null,10.666666666666666]
[null,null,null,null,null,null,null,null,null,null,null,null,null,null,null,null,null,null,null,null,null,null,null,null,null,null,null,null,null,9.6]
[null,null,null,null,null,null,null,null,null,null,null,null,null,null,null,null,null,null,null,null,null,null,null,null,null,null,null,null,null,10.6]
[null,null,null,null,null,null,null,null,null,null,null,null,null,null,null,null,null,null,null,null,null,null,null,null,null,null,null,null,null,11.8]
[null,null,null,null,null,null,null,null,null,null,null,null,null,null,null,null,null,null,null,null,null,null,null,null,null,null,null,null,null,11.166666666666666]
[null,null,null,null,null,null,null,null,null,null,null,null,null,null,null,null,null,null,null,null,null,null,null,null,null,null,null,null,null,10]
[null,null,null,null,null,null,null,null,null,null,null,null,null,null,null,null,null,null,null,null,null,null,null,null,null,null,null,null,null,13.4]
[null,null,null,null,null,null,null,null,null,null,null,null,null,null,null,null,null,null,null,null,null,null,null,null,null,null,null,null,null,12.333333333333334]
[null,null,null,null,null,null,null,null,null,null,null,null,null,null,null,null,null,null,null,null,null,null,null,null,null,null,null,null,null,11.166666666666666]
[null,null,null,null,null,null,null,null,null,null,null,null,null,null,null,null,null,null,null,null,null,null,null,null,null,null,null,null,null,11]
[null,null,null,null,null,null,null,null,null,null,null,null,null,null,null,null,null,null,null,null,null,null,null,null,null,null,null,null,null,12.833333333333334]
[null,null,null,null,null,null,null,null,null,null,null,null,null,null,null,null,null,null,null,null,null,null,null,null,null,null,null,null,null,15]
[null,null,null,null,null,null,null,null,null,null,null,null,null,null,null,null,null,null,null,null,null,null,null,null,null,null,null,null,null,15]
[null,null,null,null,null,null,null,null,null,null,null,null,null,null,null,null,null,null,null,null,null,null,null,null,null,null,null,null,null,13.666666666666666]
[null,null,null,null,null,null,null,null,null,null,null,null,null,null,null,null,null,null,null,null,null,null,null,null,null,null,null,null,null,12.2]
[null,null,null,null,null,null,null,null,null,null,null,null,null,null,null,null,null,null,null,null,null,null,null,null,null,null,null,null,null,10.8]
[null,null,null,null,null,null,null,null,null,null,null,null,null,null,null,null,null,null,null,null,null,null,null,null,null,null,null,null,null,10.833333333333334]
[null,null,null,null,null,null,null,null,null,null,null,null,null,null,null,null,null,null,null,null,null,null,null,null,null,null,null,null,null,11.2]
[null,null,null,null,null,null,null,null,null,null,null,null,null,null,null,null,null,null,null,null,null,null,null,null,null,null,null,null,null,12.2]
[null,null,null,null,null,null,null,null,null,null,null,null,null,null,null,null,null,null,null,null,null,null,null,null,null,null,null,null,null,14]
[null,null,null,null,null,null,null,null,null,null,null,null,null,null,null,null,null,null,null,null,null,null,null,null,null,null,null,null,null,11]
[null,null,null,null,null,null,null,null,null,null,null,null,null,null,null,null,null,null,null,null,null,null,null,null,null,null,null,null,null,11]
[null,null,null,null,null,null,null,null,null,null,null,null,null,null,null,null,null,null,null,null,null,null,null,null,null,null,null,null,null,12]
[null,null,null,null,null,null,null,null,null,null,null,null,null,null,null,null,null,null,null,null,null,null,null,null,null,null,null,null,null,13.833333333333334]
[null,null,null,null,null,null,null,null,null,null,null,null,null,null,null,null,null,null,null,null,null,null,null,null,null,null,null,null,null,11.333333333333334]
[null,null,null,null,null,null,null,null,null,null,null,null,null,null,null,null,null,null,null,null,null,null,null,null,null,null,null,null,null,12.5]
[null,null,null,null,null,null,null,null,null,null,null,null,null,null,null,null,null,null,null,null,null,null,null,null,null,null,null,null,null,12.2]
[null,null,null,null,null,null,null,null,null,null,null,null,null,null,null,null,null,null,null,null,null,null,null,null,null,null,null,null,null,13.666666666666666]
[null,null,null,null,null,null,null,null,null,null,null,null,null,null,null,null,null,null,null,null,null,null,null,null,null,null,null,null,null,13.166666666666666]
[null,null,null,null,null,null,null,null,null,null,null,null,null,null,null,null,null,null,null,null,null,null,null,null,null,null,null,null,null,15.5]
[null,null,null,null,null,null,null,null,null,null,null,null,null,null,null,null,null,null,null,null,null,null,null,null,null,null,null,null,null,10.199999999999999]
[null,null,null,null,null,null,null,null,null,null,null,null,null,null,null,null,null,null,null,null,null,null,null,null,null,null,null,null,null,9.1666666666666661]
[null,null,null,null,null,null,null,null,null,null,null,null,null,null,null,null,null,null,null,null,null,null,null,null,null,null,null,null,null,9]
[null,null,null,null,null,null,null,null,null,null,null,null,null,null,null,null,null,null,null,null,null,null,null,null,null,null,null,null,null,10.8]
[null,null,null,null,null,null,null,null,null,null,null,null,null,null,null,null,null,null,null,null,null,null,null,null,null,null,null,null,null,13.5]
[null,null,null,null,null,null,null,null,null,null,null,null,null,null,null,null,null,null,null,null,null,null,null,null,null,null,null,null,null,12.666666666666666]
[null,null,null,null,null,null,null,null,null,null,null,null,null,null,null,null,null,null,null,null,null,null,null,null,null,null,null,null,null,12.5]
[null,null,null,null,null,null,null,null,null,null,null,null,null,null,null,null,null,null,null,null,null,null,null,null,null,null,null,null,null,11.333333333333334]
[null,null,null,null,null,null,null,null,null,null,null,null,null,null,null,null,null,null,null,null,null,null,null,null,null,null,null,null,null,10.833333333333334]
[null,null,null,null,null,null,null,null,null,null,null,null,null,null,null,null,null,null,null,null,null,null,null,null,null,null,null,null,null,11.25]
[null,null,null,null,null,null,null,null,null,null,null,null,null,null,null,null,null,null,null,null,null,null,null,null,null,null,null,null,null,11]
[null,null,null,null,null,null,null,null,null,null,null,null,null,null,null,null,null,null,null,null,null,null,null,null,null,null,null,null,null,13.5]
[null,null,null,null,null,null,null,null,null,null,null,null,null,null,null,null,null,null,null,null,null,null,null,null,null,null,null,null,null,11.5]
[null,null,null,null,null,null,null,null,null,null,null,null,null,null,null,null,null,null,null,null,null,null,null,null,null,null,null,null,null,11.666666666666666]
[null,null,null,null,null,null,null,null,null,null,null,null,null,null,null,null,null,null,null,null,null,null,null,null,null,null,null,null,null,10.8]
[null,null,null,null,null,null,null,null,null,null,null,null,null,null,null,null,null,null,null,null,null,null,null,null,null,null,null,null,null,10.666666666666666]
[null,null,null,null,null,null,null,null,null,null,null,null,null,null,null,null,null,null,null,null,null,null,null,null,null,null,null,null,null,12.666666666666666]
[null,null,null,null,null,null,null,null,null,null,null,null,null,null,null,null,null,null,null,null,null,null,null,null,null,null,null,null,null,11.333333333333334]
[null,null,null,null,null,null,null,null,null,null,null,null,null,null,null,null,null,null,null,null,null,null,null,null,null,null,null,null,null,11.833333333333334]
[null,null,null,null,null,null,null,null,null,null,null,null,null,null,null,null,null,null,null,null,null,null,null,null,null,null,null,null,null,11.666666666666666]
[null,null,null,null,null,null,null,null,null,null,null,null,null,null,null,null,null,null,null,null,null,null,null,null,null,null,null,null,null,11.5]
[null,null,null,null,null,null,null,null,null,null,null,null,null,null,null,null,null,null,null,null,null,null,null,null,null,null,null,null,null,12]
[null,null,null,null,null,null,null,null,null,null,null,null,null,null,null,null,null,null,null,null,null,null,null,null,null,null,null,null,null,12.333333333333334]
[null,null,null,null,null,null,null,null,null,null,null,null,null,null,null,null,null,null,null,null,null,null,null,null,null,null,null,null,null,12.833333333333334]
[null,null,null,null,null,null,null,null,null,null,null,null,null,null,null,null,null,null,null,null,null,null,null,null,null,null,null,null,null,12.5]
[null,null,null,null,null,null,null,null,null,null,null,null,null,null,null,null,null,null,null,null,null,null,null,null,null,null,null,null,null,9.3333333333333339]
[null,null,null,null,null,null,null,null,null,null,null,null,null,null,null,null,null,null,null,null,null,null,null,null,null,null,null,null,null,9.8000000000000007]
[null,null,null,null,null,null,null,null,null,null,null,null,null,null,null,null,null,null,null,null,null,null,null,null,null,null,null,null,null,11.833333333333334]
[null,null,null,null,null,null,null,null,null,null,null,null,null,null,null,null,null,null,null,null,null,null,null,null,null,null,null,null,null,8.8000000000000007]
[null,null,null,null,null,null,null,null,null,null,null,null,null,null,null,null,null,null,null,null,null,null,null,null,null,null,null,null,null,8.5]
[null,null,null,null,null,null,null,null,null,null,null,null,null,null,null,null,null,null,null,null,null,null,null,null,null,null,null,null,null,9]
[null,null,null,null,null,null,null,null,null,null,null,null,null,null,null,null,null,null,null,null,null,null,null,null,null,null,null,null,null,12.666666666666666]
[null,null,null,null,null,null,null,null,null,null,null,null,null,null,null,null,null,null,null,null,null,null,null,null,null,null,null,null,null,12.5]
[null,null,null,null,null,null,null,null,null,null,null,null,null,null,null,null,null,null,null,null,null,null,null,null,null,null,null,null,null,12]
[null,null,null,null,null,null,null,null,null,null,null,null,null,null,null,null,null,null,null,null,null,null,null,null,null,null,null,null,null,11.5]
[null,null,null,null,null,null,null,null,null,null,null,null,null,null,null,null,null,null,null,null,null,null,null,null,null,null,null,null,null,12]
[null,null,null,null,null,null,null,null,null,null,null,null,null,null,null,null,null,null,null,null,null,null,null,null,null,null,null,null,null,8.1666666666666661]
[null,null,null,null,null,null,null,null,null,null,null,null,null,null,null,null,null,null,null,null,null,null,null,null,null,null,null,null,null,9]
[null,null,null,null,null,null,null,null,null,null,null,null,null,null,null,null,null,null,null,null,null,null,null,null,null,null,null,null,null,8.1666666666666661]
[null,null,null,null,null,null,null,null,null,null,null,null,null,null,null,null,null,null,null,null,null,null,null,null,null,null,null,null,null,11.333333333333334]
[null,null,null,null,null,null,null,null,null,null,null,null,null,null,null,null,null,null,null,null,null,null,null,null,null,null,null,null,null,9.8000000000000007]
[null,null,null,null,null,null,null,null,null,null,null,null,null,null,null,null,null,null,null,null,null,null,null,null,null,null,null,null,null,11.833333333333334]
[null,null,null,null,null,null,null,null,null,null,null,null,null,null,null,null,null,null,null,null,null,null,null,null,null,null,null,null,null,9.5]
[null,null,null,null,null,null,null,null,null,null,null,null,null,null,null,null,null,null,null,null,null,null,null,null,null,null,null,null,null,8.4]
[null,null,null,null,null,null,null,null,null,null,null,null,null,null,null,null,null,null,null,null,null,null,null,null,null,null,null,null,null,10]
[null,null,null,null,null,null,null,null,null,null,null,null,null,null,null,null,null,null,null,null,null,null,null,null,null,null,null,null,null,12]
[null,null,null,null,null,null,null,null,null,null,null,null,null,null,null,null,null,null,null,null,null,null,null,null,null,null,null,null,null,10]
[null,null,null,null,null,null,null,null,null,null,null,null,null,null,null,null,null,null,null,null,null,null,null,null,null,null,null,null,null,10.8]
[null,null,null,null,null,null,null,null,null,null,null,null,null,null,null,null,null,null,null,null,null,null,null,null,null,null,null,null,null,11.333333333333334]
[null,null,null,null,null,null,null,null,null,null,null,null,null,null,null,null,null,null,null,null,null,null,null,null,null,null,null,null,null,13.333333333333334]
[null,null,null,null,null,null,null,null,null,null,null,null,null,null,null,null,null,null,null,null,null,null,null,null,null,null,null,null,null,11]
[null,null,null,null,null,null,null,null,null,null,null,null,null,null,null,null,null,null,null,null,null,null,null,null,null,null,null,null,null,11.6]
[null,null,null,null,null,null,null,null,null,null,null,null,null,null,null,null,null,null,null,null,null,null,null,null,null,null,null,null,null,11.833333333333334]
[null,null,null,null,null,null,null,null,null,null,null,null,null,null,null,null,null,null,null,null,null,null,null,null,null,null,null,null,null,10.666666666666666]
[null,null,null,null,null,null,null,null,null,null,null,null,null,null,null,null,null,null,null,null,null,null,null,null,null,null,null,null,null,11.333333333333334]
[null,null,null,null,null,null,null,null,null,null,null,null,null,null,null,null,null,null,null,null,null,null,null,null,null,null,null,null,null,11.5]
[null,null,null,null,null,null,null,null,null,null,null,null,null,null,null,null,null,null,null,null,null,null,null,null,null,null,null,null,null,9.3333333333333339]
[null,null,null,null,null,null,null,null,null,null,null,null,null,null,null,null,null,null,null,null,null,null,null,null,null,null,null,null,null,13.833333333333334]
[null,null,null,null,null,null,null,null,null,null,null,null,null,null,null,null,null,null,null,null,null,null,null,null,null,null,null,null,null,11]
[null,null,null,null,null,null,null,null,null,null,null,null,null,null,null,null,null,null,null,null,null,null,null,null,null,null,null,null,null,12]
[null,null,null,null,null,null,null,null,null,null,null,null,null,null,null,null,null,null,null,null,null,null,null,null,null,null,null,null,null,12.666666666666666]
[null,null,null,null,null,null,null,null,null,null,null,null,null,null,null,null,null,null,null,null,null,null,null,null,null,null,null,null,null,11]
[null,null,null,null,null,null,null,null,null,null,null,null,null,null,null,null,null,null,null,null,null,null,null,null,null,null,null,null,null,9]
[null,null,null,null,null,null,null,null,null,null,null,null,null,null,null,null,null,null,null,null,null,null,null,null,null,null,null,null,null,10.5]
[null,null,null,null,null,null,null,null,null,null,null,null,null,null,null,null,null,null,null,null,null,null,null,null,null,null,null,null,null,10.5]
[null,null,null,null,null,null,null,null,null,null,null,null,null,null,null,null,null,null,null,null,null,null,null,null,null,null,null,null,null,12.5]
[null,null,null,null,null,null,null,null,null,null,null,null,null,null,null,null,null,null,null,null,null,null,null,null,null,null,null,null,null,11.166666666666666]
[null,null,null,null,null,null,null,null,null,null,null,null,null,null,null,null,null,null,null,null,null,null,null,null,null,null,null,null,null,11.666666666666666]
[null,null,null,null,null,null,null,null,null,null,null,null,null,null,null,null,null,null,null,null,null,null,null,null,null,null,null,null,null,12.166666666666666]
[null,null,null,null,null,null,null,null,null,null,null,null,null,null,null,null,null,null,null,null,null,null,null,null,null,null,null,null,null,9.8000000000000007]
[null,null,null,null,null,null,null,null,null,null,null,null,null,null,null,null,null,null,null,null,null,null,null,null,null,null,null,null,null,9.1999999999999993]
[null,null,null,null,null,null,null,null,null,null,null,null,null,null,null,null,null,null,null,null,null,null,null,null,null,null,null,null,null,12.5]
[null,null,null,null,null,null,null,null,null,null,null,null,null,null,null,null,null,null,null,null,null,null,null,null,null,null,null,null,null,11.833333333333334]
[null,null,null,null,null,null,null,null,null,null,null,null,null,null,null,null,null,null,null,null,null,null,null,null,null,null,null,null,null,12.6]
[null,null,null,null,null,null,null,null,null,null,null,null,null,null,null,null,null,null,null,null,null,null,null,null,null,null,null,null,null,17.333333333333332]
[null,null,null,null,null,null,null,null,null,null,null,null,null,null,null,null,null,null,null,null,null,null,null,null,null,null,null,null,null,10.833333333333334]
[null,null,null,null,null,null,null,null,null,null,null,null,null,null,null,null,null,null,null,null,null,null,null,null,null,null,null,null,null,10.666666666666666]
[null,null,null,null,null,null,null,null,null,null,null,null,null,null,null,null,null,null,null,null,null,null,null,null,null,null,null,null,null,13.5]
[null,null,null,null,null,null,null,null,null,null,null,null,null,null,null,null,null,null,null,null,null,null,null,null,null,null,null,null,null,10.666666666666666]
[null,null,null,null,null,null,null,null,null,null,null,null,null,null,null,null,null,null,null,null,null,null,null,null,null,null,null,null,null,10.833333333333334]
[null,null,null,null,null,null,null,null,null,null,null,null,null,null,null,null,null,null,null,null,null,null,null,null,null,null,null,null,null,11.5]
[null,null,null,null,null,null,null,null,null,null,null,null,null,null,null,null,null,null,null,null,null,null,null,null,null,null,null,null,null,14.166666666666666]
[null,null,null,null,null,null,null,null,null,null,null,null,null,null,null,null,null,null,null,null,null,null,null,null,null,null,null,null,null,14]
[null,null,null,null,null,null,null,null,null,null,null,null,null,null,null,null,null,null,null,null,null,null,null,null,null,null,null,null,null,13.5]
[null,null,null,null,null,null,null,null,null,null,null,null,null,null,null,null,null,null,null,null,null,null,null,null,null,null,null,null,null,11.166666666666666]
[null,null,null,null,null,null,null,null,null,null,null,null,null,null,null,null,null,null,null,null,null,null,null,null,null,null,null,null,null,11.166666666666666]
[null,null,null,null,null,null,null,null,null,null,null,null,null,null,null,null,null,null,null,null,null,null,null,null,null,null,null,null,null,10.833333333333334]
[null,null,null,null,null,null,null,null,null,null,null,null,null,null,null,null,null,null,null,null,null,null,null,null,null,null,null,null,null,11.333333333333334]
[null,null,null,null,null,null,null,null,null,null,null,null,null,null,null,null,null,null,null,null,null,null,null,null,null,null,null,null,null,10.5]
[null,null,null,null,null,null,null,null,null,null,null,null,null,null,null,null,null,null,null,null,null,null,null,null,null,null,null,null,null,11.5]
[null,null,null,null,null,null,null,null,null,null,null,null,null,null,null,null,null,null,null,null,null,null,null,null,null,null,null,null,null,13]
[null,null,null,null,null,null,null,null,null,null,null,null,null,null,null,null,null,null,null,null,null,null,null,null,null,null,null,null,null,12.833333333333334]
[null,null,null,null,null,null,null,null,null,null,null,null,null,null,null,null,null,null,null,null,null,null,null,null,null,null,null,null,null,12.166666666666666]
[null,null,null,null,null,null,null,null,null,null,null,null,null,null,null,null,null,null,null,null,null,null,null,null,null,null,null,null,null,9]
[null,null,null,null,null,null,null,null,null,null,null,null,null,null,null,null,null,null,null,null,null,null,null,null,null,null,null,null,null,6.8]
[null,null,null,null,null,null,null,null,null,null,null,null,null,null,null,null,null,null,null,null,null,null,null,null,null,null,null,null,null,13.666666666666666]
[null,null,null,null,null,null,null,null,null,null,null,null,null,null,null,null,null,null,null,null,null,null,null,null,null,null,null,null,null,8.8333333333333339]
[null,null,null,null,null,null,null,null,null,null,null,null,null,null,null,null,null,null,null,null,null,null,null,null,null,null,null,null,null,13.5]
[null,null,null,null,null,null,null,null,null,null,null,null,null,null,null,null,null,null,null,null,null,null,null,null,null,null,null,null,null,13.666666666666666]
[null,null,null,null,null,null,null,null,null,null,null,null,null,null,null,null,null,null,null,null,null,null,null,null,null,null,null,null,null,11.666666666666666]
[null,null,null,null,null,null,null,null,null,null,null,null,null,null,null,null,null,null,null,null,null,null,null,null,null,null,null,null,null,10.5]
[null,null,null,null,null,null,null,null,null,null,null,null,null,null,null,null,null,null,null,null,null,null,null,null,null,null,null,null,null,10.166666666666666]
[null,null,null,null,null,null,null,null,null,null,null,null,null,null,null,null,null,null,null,null,null,null,null,null,null,null,null,null,null,9.8000000000000007]
[null,null,null,null,null,null,null,null,null,null,null,null,null,null,null,null,null,null,null,null,null,null,null,null,null,null,null,null,null,9.8000000000000007]
[null,null,null,null,null,null,null,null,null,null,null,null,null,null,null,null,null,null,null,null,null,null,null,null,null,null,null,null,null,10.6]
[null,null,null,null,null,null,null,null,null,null,null,null,null,null,null,null,null,null,null,null,null,null,null,null,null,null,null,null,null,12.6]
[null,null,null,null,null,null,null,null,null,null,null,null,null,null,null,null,null,null,null,null,null,null,null,null,null,null,null,null,null,14]
[null,null,null,null,null,null,null,null,null,null,null,null,null,null,null,null,null,null,null,null,null,null,null,null,null,null,null,null,null,14.333333333333334]
[null,null,null,null,null,null,null,null,null,null,null,null,null,null,null,null,null,null,null,null,null,null,null,null,null,null,null,null,null,13.333333333333334]
[null,null,null,null,null,null,null,null,null,null,null,null,null,null,null,null,null,null,null,null,null,null,null,null,null,null,null,null,null,12.5]
[null,null,null,null,null,null,null,null,null,null,null,null,null,null,null,null,null,null,null,null,null,null,null,null,null,null,null,null,null,11.833333333333334]
[null,null,null,null,null,null,null,null,null,null,null,null,null,null,null,null,null,null,null,null,null,null,null,null,null,null,null,null,null,11.333333333333334]
[null,null,null,null,null,null,null,null,null,null,null,null,null,null,null,null,null,null,null,null,null,null,null,null,null,null,null,null,null,11.166666666666666]
[null,null,null,null,null,null,null,null,null,null,null,null,null,null,null,null,null,null,null,null,null,null,null,null,null,null,null,null,null,11]
[null,null,null,null,null,null,null,null,null,null,null,null,null,null,null,null,null,null,null,null,null,null,null,null,null,null,null,null,null,10.4]
[null,null,null,null,null,null,null,null,null,null,null,null,null,null,null,null,null,null,null,null,null,null,null,null,null,null,null,null,null,10]
[null,null,null,null,null,null,null,null,null,null,null,null,null,null,null,null,null,null,null,null,null,null,null,null,null,null,null,null,null,9.6]
[null,null,null,null,null,null,null,null,null,null,null,null,null,null,null,null,null,null,null,null,null,null,null,null,null,null,null,null,null,8.75]
[null,null,null,null,null,null,null,null,null,null,null,null,null,null,null,null,null,null,null,null,null,null,null,null,null,null,null,null,null,9.75]
[null,null,null,null,null,null,null,null,null,null,null,null,null,null,null,null,null,null,null,null,null,null,null,null,null,null,null,null,null,9.8000000000000007]
[null,null,null,null,null,null,null,null,null,null,null,null,null,null,null,null,null,null,null,null,null,null,null,null,null,null,null,null,null,11]
[null,null,null,null,null,null,null,null,null,null,null,null,null,null,null,null,null,null,null,null,null,null,null,null,null,null,null,null,null,11.8]
[null,null,null,null,null,null,null,null,null,null,null,null,null,null,null,null,null,null,null,null,null,null,null,null,null,null,null,null,null,13.6]
[null,null,null,null,null,null,null,null,null,null,null,null,null,null,null,null,null,null,null,null,null,null,null,null,null,null,null,null,null,13.166666666666666]
[null,null,null,null,null,null,null,null,null,null,null,null,null,null,null,null,null,null,null,null,null,null,null,null,null,null,null,null,null,12.333333333333334]
[null,null,null,null,null,null,null,null,null,null,null,null,null,null,null,null,null,null,null,null,null,null,null,null,null,null,null,null,null,12]
[null,null,null,null,null,null,null,null,null,null,null,null,null,null,null,null,null,null,null,null,null,null,null,null,null,null,null,null,null,10.666666666666666]
[null,null,null,null,null,null,null,null,null,null,null,null,null,null,null,null,null,null,null,null,null,null,null,null,null,null,null,null,null,9.6]
[null,null,null,null,null,null,null,null,null,null,null,null,null,null,null,null,null,null,null,null,null,null,null,null,null,null,null,null,null,9.1666666666666661]
[null,null,null,null,null,null,null,null,null,null,null,null,null,null,null,null,null,null,null,null,null,null,null,null,null,null,null,null,null,9.8333333333333339]
[null,null,null,null,null,null,null,null,null,null,null,null,null,null,null,null,null,null,null,null,null,null,null,null,null,null,null,null,null,9.5]
[null,null,null,null,null,null,null,null,null,null,null,null,null,null,null,null,null,null,null,null,null,null,null,null,null,null,null,null,null,10.5]
[null,null,null,null,null,null,null,null,null,null,null,null,null,null,null,null,null,null,null,null,null,null,null,null,null,null,null,null,null,10.4]
[null,null,null,null,null,null,null,null,null,null,null,null,null,null,null,null,null,null,null,null,null,null,null,null,null,null,null,null,null,10]
[null,null,null,null,null,null,null,null,null,null,null,null,null,null,null,null,null,null,null,null,null,null,null,null,null,null,null,null,null,9.75]
[null,null,null,null,null,null,null,null,null,null,null,null,null,null,null,null,null,null,null,null,null,null,null,null,null,null,null,null,null,10.25]
[null,null,null,null,null,null,null,null,null,null,null,null,null,null,null,null,null,null,null,null,null,null,null,null,null,null,null,null,null,11.333333333333334]
[null,null,null,null,null,null,null,null,null,null,null,null,null,null,null,null,null,null,null,null,null,null,null,null,null,null,null,null,null,14.833333333333334]
[null,null,null,null,null,null,null,null,null,null,null,null,null,null,null,null,null,null,null,null,null,null,null,null,null,null,null,null,null,14.333333333333334]
[null,null,null,null,null,null,null,null,null,null,null,null,null,null,null,null,null,null,null,null,null,null,null,null,null,null,null,null,null,13.333333333333334]
[null,null,null,null,null,null,null,null,null,null,null,null,null,null,null,null,null,null,null,null,null,null,null,null,null,null,null,null,null,14.8]
[null,null,null,null,null,null,null,null,null,null,null,null,null,null,null,null,null,null,null,null,null,null,null,null,null,null,null,null,null,16.399999999999999]
[null,null,null,null,null,null,null,null,null,null,null,null,null,null,null,null,null,null,null,null,null,null,null,null,null,null,null,null,null,17.333333333333332]
[null,null,null,null,null,null,null,null,null,null,null,null,null,null,null,null,null,null,null,null,null,null,null,null,null,null,null,null,null,17.166666666666668]
[null,null,null,null,null,null,null,null,null,null,null,null,null,null,null,null,null,null,null,null,null,null,null,null,null,null,null,null,null,16.5]
[null,null,null,null,null,null,null,null,null,null,null,null,null,null,null,null,null,null,null,null,null,null,null,null,null,null,null,null,null,16.5]
[null,null,null,null,null,null,null,null,null,null,null,null,null,null,null,null,null,null,null,null,null,null,null,null,null,null,null,null,null,14.166666666666666]
[null,null,null,null,null,null,null,null,null,null,null,null,null,null,null,null,null,null,null,null,null,null,null,null,null,null,null,null,null,12]
[null,null,null,null,null,null,null,null,null,null,null,null,null,null,null,null,null,null,null,null,null,null,null,null,null,null,null,null,null,11.5]
[null,null,null,null,null,null,null,null,null,null,null,null,null,null,null,null,null,null,null,null,null,null,null,null,null,null,null,null,null,11.666666666666666]
[null,null,null,null,null,null,null,null,null,null,null,null,null,null,null,null,null,null,null,null,null,null,null,null,null,null,null,null,null,11.166666666666666]
[null,null,null,null,null,null,null,null,null,null,null,null,null,null,null,null,null,null,null,null,null,null,null,null,null,null,null,null,null,10.833333333333334]
[null,null,null,null,null,null,null,null,null,null,null,null,null,null,null,null,null,null,null,null,null,null,null,null,null,null,null,null,null,11.166666666666666]
[null,null,null,null,null,null,null,null,null,null,null,null,null,null,null,null,null,null,null,null,null,null,null,null,null,null,null,null,null,11.333333333333334]
[null,null,null,null,null,null,null,null,null,null,null,null,null,null,null,null,null,null,null,null,null,null,null,null,null,null,null,null,null,10.666666666666666]
[null,null,null,null,null,null,null,null,null,null,null,null,null,null,null,null,null,null,null,null,null,null,null,null,null,null,null,null,null,9.1666666666666661]
[null,null,null,null,null,null,null,null,null,null,null,null,null,null,null,null,null,null,null,null,null,null,null,null,null,null,null,null,null,10.166666666666666]
[null,null,null,null,null,null,null,null,null,null,null,null,null,null,null,null,null,null,null,null,null,null,null,null,null,null,null,null,null,10]
[null,null,null,null,null,null,null,null,null,null,null,null,null,null,null,null,null,null,null,null,null,null,null,null,null,null,null,null,null,9.3333333333333339]
[null,null,null,null,null,null,null,null,null,null,null,null,null,null,null,null,null,null,null,null,null,null,null,null,null,null,null,null,null,9.3333333333333339]
[null,null,null,null,null,null,null,null,null,null,null,null,null,null,null,null,null,null,null,null,null,null,null,null,null,null,null,null,null,10]
[null,null,null,null,null,null,null,null,null,null,null,null,null,null,null,null,null,null,null,null,null,null,null,null,null,null,null,null,null,10.272727272727273]
[null,null,null,null,null,null,null,null,null,null,null,null,null,null,null,null,null,null,null,null,null,null,null,null,null,null,null,null,null,10.454545454545455]
[null,null,null,null,null,null,null,null,null,null,null,null,null,null,null,null,null,null,null,null,null,null,null,null,null,null,null,null,null,10.272727272727273]
[null,null,null,null,null,null,null,null,null,null,null,null,null,null,null,null,null,null,null,null,null,null,null,null,null,null,null,null,null,10.090909090909092]
[null,null,null,null,null,null,null,null,null,null,null,null,null,null,null,null,null,null,null,null,null,null,null,null,null,null,null,null,null,10.181818181818182]
[null,null,null,null,null,null,null,null,null,null,null,null,null,null,null,null,null,null,null,null,null,null,null,null,null,null,null,null,null,10.636363636363637]
[null,null,null,null,null,null,null,null,null,null,null,null,null,null,null,null,null,null,null,null,null,null,null,null,null,null,null,null,null,10.181818181818182]
[null,null,null,null,null,null,null,null,null,null,null,null,null,null,null,null,null,null,null,null,null,null,null,null,null,null,null,null,null,9.9090909090909083]
[null,null,null,null,null,null,null,null,null,null,null,null,null,null,null,null,null,null,null,null,null,null,null,null,null,null,null,null,null,10.454545454545455]
[null,null,null,null,null,null,null,null,null,null,null,null,null,null,null,null,null,null,null,null,null,null,null,null,null,null,null,null,null,9.7142857142857135]
[null,null,null,null,null,null,null,null,null,null,null,null,null,null,null,null,null,null,null,null,null,null,null,null,null,null,null,null,null,9.6666666666666661]
[null,null,null,null,null,null,null,null,null,null,null,null,null,null,null,null,null,null,null,null,null,null,null,null,null,null,null,null,null,10]
[null,null,null,null,null,null,null,null,null,null,null,null,null,null,null,null,null,null,null,null,null,null,null,null,null,null,null,null,null,10.25]
[null,null,null,null,null,null,null,null,null,null,null,null,null,null,null,null,null,null,null,null,null,null,null,null,null,null,null,null,null,9.3333333333333339]
[null,null,null,null,null,null,null,null,null,null,null,null,null,null,null,null,null,null,null,null,null,null,null,null,null,null,null,null,null,10]
[null,null,null,null,null,null,null,null,null,null,null,null,null,null,null,null,null,null,null,null,null,null,null,null,null,null,null,null,null,10]
[null,null,null,null,null,null,null,null,null,null,null,null,null,null,null,null,null,null,null,null,null,null,null,null,null,null,null,null,null,10]
[null,null,null,null,null,null,null,null,null,null,null,null,null,null,null,null,null,null,null,null,null,null,null,null,null,null,null,null,null,10]
[null,null,null,null,null,null,null,null,null,null,null,null,null,null,null,null,null,null,null,null,null,null,null,null,null,null,null,null,null,10]
[null,null,null,null,null,null,null,null,null,null,null,null,null,null,null,null,null,null,null,null,null,null,null,null,null,null,null,null,null,10]
[null,null,null,null,null,null,null,null,null,null,null,null,null,null,null,null,null,null,null,null,null,null,null,null,null,null,null,null,null,10]
[null,null,null,null,null,null,null,null,null,null,null,null,null,null,null,null,null,null,null,null,null,null,null,null,null,null,null,null,null,10]
[null,null,null,null,null,null,null,null,null,null,null,null,null,null,null,null,null,null,null,null,null,null,null,null,null,null,null,null,null,10]
[null,null,null,null,null,null,null,null,null,null,null,null,null,null,null,null,null,null,null,null,null,null,null,null,null,null,null,null,null,10]
[null,null,null,null,null,null,null,null,null,null,null,null,null,null,null,null,null,null,null,null,null,null,null,null,null,null,null,null,null,10]
[null,null,null,null,null,null,null,null,null,null,null,null,null,null,null,null,null,null,null,null,null,null,null,null,null,null,null,null,null,10]
[null,null,null,null,null,null,null,null,null,null,null,null,null,null,null,null,null,null,null,null,null,null,null,null,null,null,null,null,null,10]
[null,null,null,null,null,null,null,null,null,null,null,null,null,null,null,null,null,null,null,null,null,null,null,null,null,null,null,null,null,10]
[null,null,null,null,null,null,null,null,null,null,null,null,null,null,null,null,null,null,null,null,null,null,null,null,null,null,null,null,null,10]
[null,null,null,null,null,null,null,null,null,null,null,null,null,null,null,null,null,null,null,null,null,null,null,null,null,null,null,null,null,10]
[null,null,null,null,null,null,null,null,null,null,null,null,null,null,null,null,null,null,null,null,null,null,null,null,null,null,null,null,null,10]
[null,null,null,null,null,null,null,null,null,null,null,null,null,null,null,null,null,null,null,null,null,null,null,null,null,null,null,null,null,10]
[null,null,null,null,null,null,null,null,null,null,null,null,null,null,null,null,null,null,null,null,null,null,null,null,null,null,null,null,null,10]
[null,null,null,null,null,null,null,null,null,null,null,null,null,null,null,null,null,null,null,null,null,null,null,null,null,null,null,null,null,10]
[null,null,null,null,null,null,null,null,null,null,null,null,null,null,null,null,null,null,null,null,null,null,null,null,null,null,null,null,null,10]
[null,null,null,null,null,null,null,null,null,null,null,null,null,null,null,null,null,null,null,null,null,null,null,null,null,null,null,null,null,10]
[null,null,null,null,null,null,null,null,null,null,null,null,null,null,null,null,null,null,null,null,null,null,null,null,null,null,null,null,null,10]
[null,null,null,null,null,null,null,null,null,null,null,null,null,null,null,null,null,null,null,null,null,null,null,null,null,null,null,null,null,10]
[null,null,null,null,null,null,null,null,null,null,null,null,null,null,null,null,null,null,null,null,null,null,null,null,null,null,null,null,null,10]
[null,null,null,null,null,null,null,null,null,null,null,null,null,null,null,null,null,null,null,null,null,null,null,null,null,null,null,null,null,10]
[null,null,null,null,null,null,null,null,null,null,null,null,null,null,null,null,null,null,null,null,null,null,null,null,null,null,null,null,null,10]
[null,null,null,null,null,null,null,null,null,null,null,null,null,null,null,null,null,null,null,null,null,null,null,null,null,null,null,null,null,10]
[null,null,null,null,null,null,null,null,null,null,null,null,null,null,null,null,null,null,null,null,null,null,null,null,null,null,null,null,null,10]
[null,null,null,null,null,null,null,null,null,null,null,null,null,null,null,null,null,null,null,null,null,null,null,null,null,null,null,null,null,10]
[null,null,null,null,null,null,null,null,null,null,null,null,null,null,null,null,null,null,null,null,null,null,null,null,null,null,null,null,null,10]
[null,null,null,null,null,null,null,null,null,null,null,null,null,null,null,null,null,null,null,null,null,null,null,null,null,null,null,null,null,10]
[null,null,null,null,null,null,null,null,null,null,null,null,null,null,null,null,null,null,null,null,null,null,null,null,null,null,null,null,null,10]
[null,null,null,null,null,null,null,null,null,null,null,null,null,null,null,null,null,null,null,null,null,null,null,null,null,null,null,null,null,10]
[null,null,null,null,null,null,null,null,null,null,null,null,null,null,null,null,null,null,null,null,null,null,null,null,null,null,null,null,null,10]
[null,null,null,null,null,null,null,null,null,null,null,null,null,null,null,null,null,null,null,null,null,null,null,null,null,null,null,null,null,10]
[null,null,null,null,null,null,null,null,null,null,null,null,null,null,null,null,null,null,null,null,null,null,null,null,null,null,null,null,null,10]
[null,null,null,null,null,null,null,null,null,null,null,null,null,null,null,null,null,null,null,null,null,null,null,null,null,null,null,null,null,10]
[null,null,null,null,null,null,null,null,null,null,null,null,null,null,null,null,null,null,null,null,null,null,null,null,null,null,null,null,null,10]
[null,null,null,null,null,null,null,null,null,null,null,null,null,null,null,null,null,null,null,null,null,null,null,null,null,null,null,null,null,10]
[null,null,null,null,null,null,null,null,null,null,null,null,null,null,null,null,null,null,null,null,null,null,null,null,null,null,null,null,null,10]
[null,null,null,null,null,null,null,null,null,null,null,null,null,null,null,null,null,null,null,null,null,null,null,null,null,null,null,null,null,10]
[null,null,null,null,null,null,null,null,null,null,null,null,null,null,null,null,null,null,null,null,null,null,null,null,null,null,null,null,null,10]
[null,null,null,null,null,null,null,null,null,null,null,null,null,null,null,null,null,null,null,null,null,null,null,null,null,null,null,null,null,10]
[null,null,null,null,null,null,null,null,null,null,null,null,null,null,null,null,null,null,null,null,null,null,null,null,null,null,null,null,null,10]
[null,null,null,null,null,null,null,null,null,null,null,null,null,null,null,null,null,null,null,null,null,null,null,null,null,null,null,null,null,10]
[null,null,null,null,null,null,null,null,null,null,null,null,null,null,null,null,null,null,null,null,null,null,null,null,null,null,null,null,null,10]
[null,null,null,null,null,null,null,null,null,null,null,null,null,null,null,null,null,null,null,null,null,null,null,null,null,null,null,null,null,10]
[null,null,null,null,null,null,null,null,null,null,null,null,null,null,null,null,null,null,null,null,null,null,null,null,null,null,null,null,null,10]
[null,null,null,null,null,null,null,null,null,null,null,null,null,null,null,null,null,null,null,null,null,null,null,null,null,null,null,null,null,10]
[null,null,null,null,null,null,null,null,null,null,null,null,null,null,null,null,null,null,null,null,null,null,null,null,null,null,null,null,null,10]
[null,null,null,null,null,null,null,null,null,null,null,null,null,null,null,null,null,null,null,null,null,null,null,null,null,null,null,null,null,10]
[null,null,null,null,null,null,null,null,null,null,null,null,null,null,null,null,null,null,null,null,null,null,null,null,null,null,null,null,null,10]
[null,null,null,null,null,null,null,null,null,null,null,null,null,null,null,null,null,null,null,null,null,null,null,null,null,null,null,null,null,10]
[null,null,null,null,null,null,null,null,null,null,null,null,null,null,null,null,null,null,null,null,null,null,null,null,null,null,null,null,null,10]
[null,null,null,null,null,null,null,null,null,null,null,null,null,null,null,null,null,null,null,null,null,null,null,null,null,null,null,null,null,10]
[null,null,null,null,null,null,null,null,null,null,null,null,null,null,null,null,null,null,null,null,null,null,null,null,null,null,null,null,null,10]
[null,null,null,null,null,null,null,null,null,null,null,null,null,null,null,null,null,null,null,null,null,null,null,null,null,null,null,null,null,10]
[null,null,null,null,null,null,null,null,null,null,null,null,null,null,null,null,null,null,null,null,null,null,null,null,null,null,null,null,null,10]
[null,null,null,null,null,null,null,null,null,null,null,null,null,null,null,null,null,null,null,null,null,null,null,null,null,null,null,null,null,10]
[null,null,null,null,null,null,null,null,null,null,null,null,null,null,null,null,null,null,null,null,null,null,null,null,null,null,null,null,null,10]
[null,null,null,null,null,null,null,null,null,null,null,null,null,null,null,null,null,null,null,null,null,null,null,null,null,null,null,null,null,10]
[null,null,null,null,null,null,null,null,null,null,null,null,null,null,null,null,null,null,null,null,null,null,null,null,null,null,null,null,null,10]
[null,null,null,null,null,null,null,null,null,null,null,null,null,null,null,null,null,null,null,null,null,null,null,null,null,null,null,null,null,10]
[null,null,null,null,null,null,null,null,null,null,null,null,null,null,null,null,null,null,null,null,null,null,null,null,null,null,null,null,null,10]
[null,null,null,null,null,null,null,null,null,null,null,null,null,null,null,null,null,null,null,null,null,null,null,null,null,null,null,null,null,10]
[null,null,null,null,null,null,null,null,null,null,null,null,null,null,null,null,null,null,null,null,null,null,null,null,null,null,null,null,null,10]
[null,null,null,null,null,null,null,null,null,null,null,null,null,null,null,null,null,null,null,null,null,null,null,null,null,null,null,null,null,10]
[null,null,null,null,null,null,null,null,null,null,null,null,null,null,null,null,null,null,null,null,null,null,null,null,null,null,null,null,null,10]
[null,null,null,null,null,null,null,null,null,null,null,null,null,null,null,null,null,null,null,null,null,null,null,null,null,null,null,null,null,10]
[null,null,null,null,null,null,null,null,null,null,null,null,null,null,null,null,null,null,null,null,null,null,null,null,null,null,null,null,null,10]
[null,null,null,null,null,null,null,null,null,null,null,null,null,null,null,null,null,null,null,null,null,null,null,null,null,null,null,null,null,10]
[null,null,null,null,null,null,null,null,null,null,null,null,null,null,null,null,null,null,null,null,null,null,null,null,null,null,null,null,null,10]
[null,null,null,null,null,null,null,null,null,null,null,null,null,null,null,null,null,null,null,null,null,null,null,null,null,null,null,null,null,10]
[null,null,null,null,null,null,null,null,null,null,null,null,null,null,null,null,null,null,null,null,null,null,null,null,null,null,null,null,null,10]
[null,null,null,null,null,null,null,null,null,null,null,null,null,null,null,null,null,null,null,null,null,null,null,null,null,null,null,null,null,10]
[null,null,null,null,null,null,null,null,null,null,null,null,null,null,null,null,null,null,null,null,null,null,null,null,null,null,null,null,null,10]
[null,null,null,null,null,null,null,null,null,null,null,null,null,null,null,null,null,null,null,null,null,null,null,null,null,null,null,null,null,10]
[null,null,null,null,null,null,null,null,null,null,null,null,null,null,null,null,null,null,null,null,null,null,null,null,null,null,null,null,null,10]
[null,null,null,null,null,null,null,null,null,null,null,null,null,null,null,null,null,null,null,null,null,null,null,null,null,null,null,null,null,10]
[null,null,null,null,null,null,null,null,null,null,null,null,null,null,null,null,null,null,null,null,null,null,null,null,null,null,null,null,null,10]
[null,null,null,null,null,null,null,null,null,null,null,null,null,null,null,null,null,null,null,null,null,null,null,null,null,null,null,null,null,10]
[null,null,null,null,null,null,null,null,null,null,null,null,null,null,null,null,null,null,null,null,null,null,null,null,null,null,null,null,null,10]
[null,null,null,null,null,null,null,null,null,null,null,null,null,null,null,null,null,null,null,null,null,null,null,null,null,null,null,null,null,14.5]
[null,null,null,null,null,null,null,null,null,null,null,null,null,null,null,null,null,null,null,null,null,null,null,null,null,null,null,null,null,16.666666666666668]
[null,null,null,null,null,null,null,null,null,null,null,null,null,null,null,null,null,null,null,null,null,null,null,null,null,null,null,null,null,16.666666666666668]
[null,null,null,null,null,null,null,null,null,null,null,null,null,null,null,null,null,null,null,null,null,null,null,null,null,null,null,null,null,19]
[null,null,null,null,null,null,null,null,null,null,null,null,null,null,null,null,null,null,null,null,null,null,null,null,null,null,null,null,null,22]
[null,null,null,null,null,null,null,null,null,null,null,null,null,null,null,null,null,null,null,null,null,null,null,null,null,null,null,null,null,23.125]
[null,null,null,null,null,null,null,null,null,null,null,null,null,null,null,null,null,null,null,null,null,null,null,null,null,null,null,null,null,22.125]
[null,null,null,null,null,null,null,null,null,null,null,null,null,null,null,null,null,null,null,null,null,null,null,null,null,null,null,null,null,22.625]
[null,null,null,null,null,null,null,null,null,null,null,null,null,null,null,null,null,null,null,null,null,null,null,null,null,null,null,null,null,23.25]
[null,null,null,null,null,null,null,null,null,null,null,null,null,null,null,null,null,null,null,null,null,null,null,null,null,null,null,null,null,22.125]
[null,null,null,null,null,null,null,null,null,null,null,null,null,null,null,null,null,null,null,null,null,null,null,null,null,null,null,null,null,22]
[null,null,null,null,null,null,null,null,null,null,null,null,null,null,null,null,null,null,null,null,null,null,null,null,null,null,null,null,null,22.25]
[null,null,null,null,null,null,null,null,null,null,null,null,null,null,null,null,null,null,null,null,null,null,null,null,null,null,null,null,null,22.625]
[null,null,null,null,null,null,null,null,null,null,null,null,null,null,null,null,null,null,null,null,null,null,null,null,null,null,null,null,null,22.5]
[null,null,null,null,null,null,null,null,null,null,null,null,null,null,null,null,null,null,null,null,null,null,null,null,null,null,null,null,null,23.75]
[null,null,null,null,null,null,null,null,null,null,null,null,null,null,null,null,null,null,null,null,null,null,null,null,null,null,null,null,null,22.75]
[null,null,null,null,null,null,null,null,null,null,null,null,null,null,null,null,null,null,null,null,null,null,null,null,null,null,null,null,null,23.25]
[null,null,null,null,null,null,null,null,null,null,null,null,null,null,null,null,null,null,null,null,null,null,null,null,null,null,null,null,null,23.25]
[null,null,null,null,null,null,null,null,null,null,null,null,null,null,null,null,null,null,null,null,null,null,null,null,null,null,null,null,null,23.125]
[null,null,null,null,null,null,null,null,null,null,null,null,null,null,null,null,null,null,null,null,null,null,null,null,null,null,null,null,null,22.857142857142858]
[null,null,null,null,null,null,null,null,null,null,null,null,null,null,null,null,null,null,null,null,null,null,null,null,null,null,null,null,null,21.571428571428573]
[null,null,null,null,null,null,null,null,null,null,null,null,null,null,null,null,null,null,null,null,null,null,null,null,null,null,null,null,null,21.714285714285715]
[null,null,null,null,null,null,null,null,null,null,null,null,null,null,null,null,null,null,null,null,null,null,null,null,null,null,null,null,null,20.714285714285715]
[null,null,null,null,null,null,null,null,null,null,null,null,null,null,null,null,null,null,null,null,null,null,null,null,null,null,null,null,null,21.333333333333332]
[null,null,null,null,null,null,null,null,null,null,null,null,null,null,null,null,null,null,null,null,null,null,null,null,null,null,null,null,null,22.333333333333332]
[null,null,null,null,null,null,null,null,null,null,null,null,null,null,null,null,null,null,null,null,null,null,null,null,null,null,null,null,null,22.333333333333332]
[null,null,null,null,null,null,null,null,null,null,null,null,null,null,null,null,null,null,null,null,null,null,null,null,null,null,null,null,null,22.833333333333332]
[null,null,null,null,null,null,null,null,null,null,null,null,null,null,null,null,null,null,null,null,null,null,null,null,null,null,null,null,null,24.142857142857142]
[null,null,null,null,null,null,null,null,null,null,null,null,null,null,null,null,null,null,null,null,null,null,null,null,null,null,null,null,null,25.714285714285715]
[null,null,null,null,null,null,null,null,null,null,null,null,null,null,null,null,null,null,null,null,null,null,null,null,null,null,null,null,null,25.571428571428573]
[null,null,null,null,null,null,null,null,null,null,null,null,null,null,null,null,null,null,null,null,null,null,null,null,null,null,null,null,null,26]
[null,null,null,null,null,null,null,null,null,null,null,null,null,null,null,null,null,null,null,null,null,null,null,null,null,null,null,null,null,24.875]
[null,null,null,null,null,null,null,null,null,null,null,null,null,null,null,null,null,null,null,null,null,null,null,null,null,null,null,null,null,24.75]
[null,null,null,null,null,null,null,null,null,null,null,null,null,null,null,null,null,null,null,null,null,null,null,null,null,null,null,null,null,25]
[null,null,null,null,null,null,null,null,null,null,null,null,null,null,null,null,null,null,null,null,null,null,null,null,null,null,null,null,null,25.375]
[null,null,null,null,null,null,null,null,null,null,null,null,null,null,null,null,null,null,null,null,null,null,null,null,null,null,null,null,null,24.875]
[null,null,null,null,null,null,null,null,null,null,null,null,null,null,null,null,null,null,null,null,null,null,null,null,null,null,null,null,null,24.375]
[null,null,null,null,null,null,null,null,null,null,null,null,null,null,null,null,null,null,null,null,null,null,null,null,null,null,null,null,null,24.375]
[null,null,null,null,null,null,null,null,null,null,null,null,null,null,null,null,null,null,null,null,null,null,null,null,null,null,null,null,null,24.571428571428573]
[null,null,null,null,null,null,null,null,null,null,null,null,null,null,null,null,null,null,null,null,null,null,null,null,null,null,null,null,null,25.714285714285715]
[null,null,null,null,null,null,null,null,null,null,null,null,null,null,null,null,null,null,null,null,null,null,null,null,null,null,null,null,null,26.25]
[null,null,null,null,null,null,null,null,null,null,null,null,null,null,null,null,null,null,null,null,null,null,null,null,null,null,null,null,null,27.125]
[null,null,null,null,null,null,null,null,null,null,null,null,null,null,null,null,null,null,null,null,null,null,null,null,null,null,null,null,null,26.5]
[null,null,null,null,null,null,null,null,null,null,null,null,null,null,null,null,null,null,null,null,null,null,null,null,null,null,null,null,null,26]
[null,null,null,null,null,null,null,null,null,null,null,null,null,null,null,null,null,null,null,null,null,null,null,null,null,null,null,null,null,25.875]
[null,null,null,null,null,null,null,null,null,null,null,null,null,null,null,null,null,null,null,null,null,null,null,null,null,null,null,null,null,26]
[null,null,null,null,null,null,null,null,null,null,null,null,null,null,null,null,null,null,null,null,null,null,null,null,null,null,null,null,null,24.625]
[null,null,null,null,null,null,null,null,null,null,null,null,null,null,null,null,null,null,null,null,null,null,null,null,null,null,null,null,null,24.375]
[null,null,null,null,null,null,null,null,null,null,null,null,null,null,null,null,null,null,null,null,null,null,null,null,null,null,null,null,null,24]
[null,null,null,null,null,null,null,null,null,null,null,null,null,null,null,null,null,null,null,null,null,null,null,null,null,null,null,null,null,23.125]
[null,null,null,null,null,null,null,null,null,null,null,null,null,null,null,null,null,null,null,null,null,null,null,null,null,null,null,null,null,24]
[null,null,null,null,null,null,null,null,null,null,null,null,null,null,null,null,null,null,null,null,null,null,null,null,null,null,null,null,null,24]
[null,null,null,null,null,null,null,null,null,null,null,null,null,null,null,null,null,null,null,null,null,null,null,null,null,null,null,null,null,24.125]
[null,null,null,null,null,null,null,null,null,null,null,null,null,null,null,null,null,null,null,null,null,null,null,null,null,null,null,null,null,25.125]
[null,null,null,null,null,null,null,null,null,null,null,null,null,null,null,null,null,null,null,null,null,null,null,null,null,null,null,null,null,24.25]
[null,null,null,null,null,null,null,null,null,null,null,null,null,null,null,null,null,null,null,null,null,null,null,null,null,null,null,null,null,23.875]
[null,null,null,null,null,null,null,null,null,null,null,null,null,null,null,null,null,null,null,null,null,null,null,null,null,null,null,null,null,24.625]
[null,null,null,null,null,null,null,null,null,null,null,null,null,null,null,null,null,null,null,null,null,null,null,null,null,null,null,null,null,25.75]
[null,null,null,null,null,null,null,null,null,null,null,null,null,null,null,null,null,null,null,null,null,null,null,null,null,null,null,null,null,24.875]
[null,null,null,null,null,null,null,null,null,null,null,null,null,null,null,null,null,null,null,null,null,null,null,null,null,null,null,null,null,24]
[null,null,null,null,null,null,null,null,null,null,null,null,null,null,null,null,null,null,null,null,null,null,null,null,null,null,null,null,null,23]
[null,null,null,null,null,null,null,null,null,null,null,null,null,null,null,null,null,null,null,null,null,null,null,null,null,null,null,null,null,21.25]
[null,null,null,null,null,null,null,null,null,null,null,null,null,null,null,null,null,null,null,null,null,null,null,null,null,null,null,null,null,21.875]
[null,null,null,null,null,null,null,null,null,null,null,null,null,null,null,null,null,null,null,null,null,null,null,null,null,null,null,null,null,22.142857142857142]
[null,null,null,null,null,null,null,null,null,null,null,null,null,null,null,null,null,null,null,null,null,null,null,null,null,null,null,null,null,20.857142857142858]
[null,null,null,null,null,null,null,null,null,null,null,null,null,null,null,null,null,null,null,null,null,null,null,null,null,null,null,null,null,19.428571428571427]
[null,null,null,null,null,null,null,null,null,null,null,null,null,null,null,null,null,null,null,null,null,null,null,null,null,null,null,null,null,18.714285714285715]
[null,null,null,null,null,null,null,null,null,null,null,null,null,null,null,null,null,null,null,null,null,null,null,null,null,null,null,null,null,19.142857142857142]
[null,null,null,null,null,null,null,null,null,null,null,null,null,null,null,null,null,null,null,null,null,null,null,null,null,null,null,null,null,18]
[null,null,null,null,null,null,null,null,null,null,null,null,null,null,null,null,null,null,null,null,null,null,null,null,null,null,null,null,null,18.714285714285715]
[null,null,null,null,null,null,null,null,null,null,null,null,null,null,null,null,null,null,null,null,null,null,null,null,null,null,null,null,null,17.857142857142858]
[null,null,null,null,null,null,null,null,null,null,null,null,null,null,null,null,null,null,null,null,null,null,null,null,null,null,null,null,null,18.875]
[null,null,null,null,null,null,null,null,null,null,null,null,null,null,null,null,null,null,null,null,null,null,null,null,null,null,null,null,null,19.125]
[null,null,null,null,null,null,null,null,null,null,null,null,null,null,null,null,null,null,null,null,null,null,null,null,null,null,null,null,null,19.25]
[null,null,null,null,null,null,null,null,null,null,null,null,null,null,null,null,null,null,null,null,null,null,null,null,null,null,null,null,null,19.125]
[null,null,null,null,null,null,null,null,null,null,null,null,null,null,null,null,null,null,null,null,null,null,null,null,null,null,null,null,null,18.25]
[null,null,null,null,null,null,null,null,null,null,null,null,null,null,null,null,null,null,null,null,null,null,null,null,null,null,null,null,null,19.428571428571427]
[null,null,null,null,null,null,null,null,null,null,null,null,null,null,null,null,null,null,null,null,null,null,null,null,null,null,null,null,null,19.75]
[null,null,null,null,null,null,null,null,null,null,null,null,null,null,null,null,null,null,null,null,null,null,null,null,null,null,null,null,null,20.25]
[null,null,null,null,null,null,null,null,null,null,null,null,null,null,null,null,null,null,null,null,null,null,null,null,null,null,null,null,null,20]
[null,null,null,null,null,null,null,null,null,null,null,null,null,null,null,null,null,null,null,null,null,null,null,null,null,null,null,null,null,20.25]
[null,null,null,null,null,null,null,null,null,null,null,null,null,null,null,null,null,null,null,null,null,null,null,null,null,null,null,null,null,19.75]
[null,null,null,null,null,null,null,null,null,null,null,null,null,null,null,null,null,null,null,null,null,null,null,null,null,null,null,null,null,20.5]
[null,null,null,null,null,null,null,null,null,null,null,null,null,null,null,null,null,null,null,null,null,null,null,null,null,null,null,null,null,20.75]
[null,null,null,null,null,null,null,null,null,null,null,null,null,null,null,null,null,null,null,null,null,null,null,null,null,null,null,null,null,19]
[null,null,null,null,null,null,null,null,null,null,null,null,null,null,null,null,null,null,null,null,null,null,null,null,null,null,null,null,null,18.375]
[null,null,null,null,null,null,null,null,null,null,null,null,null,null,null,null,null,null,null,null,null,null,null,null,null,null,null,null,null,18.375]
[null,null,null,null,null,null,null,null,null,null,null,null,null,null,null,null,null,null,null,null,null,null,null,null,null,null,null,null,null,18]
[null,null,null,null,null,null,null,null,null,null,null,null,null,null,null,null,null,null,null,null,null,null,null,null,null,null,null,null,null,17.714285714285715]
[null,null,null,null,null,null,null,null,null,null,null,null,null,null,null,null,null,null,null,null,null,null,null,null,null,null,null,null,null,18.285714285714285]
[null,null,null,null,null,null,null,null,null,null,null,null,null,null,null,null,null,null,null,null,null,null,null,null,null,null,null,null,null,17.285714285714285]
[null,null,null,null,null,null,null,null,null,null,null,null,null,null,null,null,null,null,null,null,null,null,null,null,null,null,null,null,null,17.857142857142858]
[null,null,null,null,null,null,null,null,null,null,null,null,null,null,null,null,null,null,null,null,null,null,null,null,null,null,null,null,null,18.571428571428573]

{"sheet":"Plot by keV","index":8,"n_rows":0,"n_cols":0,"rows_kept":0,"cut":false,"hidden":false,"merged":[]}

{"sheet":"PeakList","index":9,"n_rows":110,"n_cols":6,"rows_kept":110,"cut":false,"hidden":false,"merged":[[1,5,2,11]]}
["Energy (keV","Pgamma %",{"$f":"COUNT(A:A)","v":109}]
[23.1,70.599999999999994,"22.98 CdKa2 (24.5%)+23.17CdKa1(46.1%)",null,null,"List of  Gamma-Rays most likely to be detected in Background spectra. Entries for U and Th daughters  are not complete."]
[25.19,70.400000000000006,"25.04 SnKa2(24.70%+ 25.27SnKa(45.7%)"]
[26.21,9.67,"26.1CdKb1(7.69%)+26.64KdB2(1.98%)"]
[28.74,10.18,"28.64SnKb1(7.99%+29.11SnKb2(2.19%",null,null,"Entries that are created by prompt gamma or"]
[46.54,4.25,"210Pb in lead shielding",null,null,"other cosmic events cannot be given an emission probability"]
[53.334999999999994,1.06,"214Pb + 53.44 74m7Ge10.34)",null,null,"but are credited with a value of 0.01%, just to fill space"]
[59.54,0.35780000000000001,"125I or 214Am source nearby"]
[63.28,0.48,"234Th",null,null,"Most of the entries are from Appendix D in various variations"]
[68.75,0.01,"73*Ge",null,null,"of Practical Gamma-Ray Spectrometry. However, some entries"]
[72.81,0.27700000000000002,"PbKa2",null,null,"have been added from other sources. They are credited with 1% emission probability"]
[74.91,73.900000000000006,"74.82BiKa2(74.82%)+74.97PbKa1(46.2)"]
[77.11,46.2,"BiKa1",null,null,"Where two, or more, peaks are within 1 keV of each other, they have been replaced"]
[79.290000000000006,46.1,"PoKa1",null,null,"by a single peak of energy based on the individual Pgammas, with an effective Pgamma being the sum."]
[81.23,0.9,"231Th"]
[84.94,10.7,"PbKb1"]
[87.327097878165645,14.61,"10.7 BiKb1 + 3.81 PbKb2"]
[89.937914455198239,32.03,"89.96 ThKa2 +3.93 "]
[92.58,5.58,"234Th"]
[93.35,45.4,"ThKa1"]
[105.6,10.7,"ThKb1"]
[109.16,1.54,"235U"]
[112.81,0.28000000000000003,"234Th"]
[121.994,29.602,"223Ra or 152Eu Contamination"]
[129.06,2.42,"228Ac"]
[139.68,39,"75mGe n,γ  n,2n"]
[143.76,10.96,"235U"]
[159.69999999999999,10.33,"77mGe"]
[163.33000000000001,5.08,"235U"]
[174.95,0.01,"71mGe n,γ"]
[185.7486717142622,60.755000000000003,"226Ra 3.555 or 235U 57.2"]
[198.39,0.01,"71mGe n,γ"]
[205.31,5.01,"235U"]
[209.26,3.89,"228Ac"]
[238.63,43.6,"212Pb"]
[240.89,4.12,"224Ra"]
[242,7.2679999999999998,"214Pb"]
[269.64122377622374,17.16,"228Ac 3.46 or 223Ra 13.7"]
[277.37,2.37,"208Tl or 64*Cu n,γ   n,2n  and prompt γ"]
[295.22000000000003,18.5,"214Pb"]
[300.05325224071703,5.65,"227Th 2.16 or 231Pa 2.47 or 212Pb 3.18"]
[328,2.95,"228Ac"]
[336.24,45.9,"115mCd/115mIn activation"]
[338.31206258890472,14.059999999999999,"228Ac 11.27 or 223Ra 2.79"]
[351.69846629560908,48.510000000000005,"214Pb 35.6 or 211Bi 12.91"]
[409.46,1.92,"228Ac"]
[416.86,27.7,"116m In"]
[447.6,0.01,"7Be cosmic"]
[462,0.21299999999999999,"214Pb"]
[463,4.4000000000000004,"228Ac"]
[477.6,10.44,"7Be cosmic generation"]
[510.7,6.29,"208Tl "]
[511,0.01,"Annihilation"]
[527.9,27.5,"115Cd n,γ activation"]
[558.46,0.01,"114*Cd n,γ and prompt γ"]
[569.70000000000005,97.87,"207m Pb n-n'"]
[570.82000000000005,0.182,"228Ac"]
[579.20000000000005,0.01,"207*Pb n,n' and prompt γ"]
[583.19000000000005,30.6,"208Tl"]
[595.85,0.01,"74*Ge n,n' broad asym peak"]
[609.30999999999995,45.49,"214Bi"]
[661.66,84.99,"137Cs Env. Contam"]
[669.62,0.01,"63*Cu n,n' prompt γ"]
[689.6,0.01,"72*Ge n,n' broad asym peak"]
[727.25696741854631,7.98,"212Bi 6.74 or 228Ac 0.62"]
[755.31,1,"228Ac"]
[768.36,4.891,"214Bi"]
[794.95,4.25,"228Ac"]
[803.06,0.01,"206*Pb n,n' and prompt γ"]
[806.17,1.262,"214Bi"]
[832.01,3.52,"211Pb"]
[835.71,1.61,"228Ac"]
[839.04,0.58699999999999997,"214Pb"]
[843.76,71.8,"27Mg  activation of encapsulation"]
[846.77,0.01,"56*Fe n,n' and prompt γ"]
[860.56,4.4800000000000004,"208Tl"]
[911.2,25.8,"228Ac"]
[934.06,3.0960000000000001,"214Bi"]
[962.06,0.01,"63*Cu n,n' and prompt γ"]
[964.77,4.99,"228Ac"]
[968.97,15.8,"228Ac"]
[1001.03,1.0209999999999999,"234mPa"]
[1014.44,28,"27Mg"]
[1063.6600000000001,88.5,"207mPb"]
[1097.3,56.2,"ll6In activation of In seal"]
[1115.56,0.01,"65*Cu n,n' and prompt γ"]
[1120.29,14.907,"214Bi"]
[1155.19,1.635,"214Bi"]
[1173.23,99.85,"60Co  Activation"]
[1238.1099999999999,5.827,"214Bi"]
[1293.54,84.4,"116In"]
[1332.49,99.98,"60Co activation"]
[1377.67,3.9670000000000001,"214Bi"]
[1407.98,2.3889999999999998,"214Bi"]
[1452.6,1,"234Pa"]
[1459.14,0.83,"228Ac"]
[1460.82,10.66,"40K"]
[1495.8,1,"228Ac"]
[1509.19,1,"214Bi"]
[1588.2,3.22,"228Ac"]
[1620.74,1.51,"212Bi"]
[1630.63,1.51,"228Ac"]
[1661.28,1,"214Bi"]
[1729.6,2.843,"214Bi"]
[1764.49,15.28,"214Bi"]
[1847.42,2.0230000000000001,"214Bi"]
[2118.54,1,"214Bi"]
[2204.21,4.9130000000000003,"214Bi"]
[2224.5700000000002,0.01,"2*H activation of hydrogen"]
[2614.5100000000002,35.85,"208Tl"]